BEGIN:VCALENDAR
VERSION:2.0
PRODID:-//Synergy Healthworks - ECPv6.15.20//NONSGML v1.0//EN
CALSCALE:GREGORIAN
METHOD:PUBLISH
X-ORIGINAL-URL:https://synergyhealthworks.com
X-WR-CALDESC:Events for Synergy Healthworks
REFRESH-INTERVAL;VALUE=DURATION:PT1H
X-Robots-Tag:noindex
X-PUBLISHED-TTL:PT1H
BEGIN:VTIMEZONE
TZID:Australia/Sydney
BEGIN:STANDARD
TZOFFSETFROM:+1100
TZOFFSETTO:+1000
TZNAME:AEST
DTSTART:20260404T160000
END:STANDARD
BEGIN:DAYLIGHT
TZOFFSETFROM:+1000
TZOFFSETTO:+1100
TZNAME:AEDT
DTSTART:20261003T160000
END:DAYLIGHT
BEGIN:STANDARD
TZOFFSETFROM:+1100
TZOFFSETTO:+1000
TZNAME:AEST
DTSTART:20270403T160000
END:STANDARD
BEGIN:DAYLIGHT
TZOFFSETFROM:+1000
TZOFFSETTO:+1100
TZNAME:AEDT
DTSTART:20271002T160000
END:DAYLIGHT
BEGIN:STANDARD
TZOFFSETFROM:+1100
TZOFFSETTO:+1000
TZNAME:AEST
DTSTART:20280401T160000
END:STANDARD
BEGIN:DAYLIGHT
TZOFFSETFROM:+1000
TZOFFSETTO:+1100
TZNAME:AEDT
DTSTART:20280930T160000
END:DAYLIGHT
END:VTIMEZONE
BEGIN:VEVENT
DTSTART;TZID=Australia/Sydney:20270330T080000
DTEND;TZID=Australia/Sydney:20270330T084500
DTSTAMP:20260423T221317
CREATED:20240621T045607Z
LAST-MODIFIED:20240909T235044Z
UID:10058330-1806393600-1806396300@synergyhealthworks.com
SUMMARY:Men's Reformer Class
DESCRIPTION:
URL:https://synergyhealthworks.com/event/mens-reformer-class/2027-03-30/
LOCATION:Wagga Wagga | Reformer Studio (Draft)\, 221 Kincaid Street\, Wagga Wagga\, NSW\, 2650\, Australia
CATEGORIES:Mens Reformer Class
END:VEVENT
BEGIN:VEVENT
DTSTART;TZID=Australia/Sydney:20270401T083000
DTEND;TZID=Australia/Sydney:20270401T091500
DTSTAMP:20260423T221317
CREATED:20240621T045822Z
LAST-MODIFIED:20240909T235129Z
UID:10058591-1806568200-1806570900@synergyhealthworks.com
SUMMARY:Men's Reformer Class
DESCRIPTION:
URL:https://synergyhealthworks.com/event/mens-reformer-class-2/2027-04-01/
LOCATION:Wagga Wagga | Reformer Studio (Draft)\, 221 Kincaid Street\, Wagga Wagga\, NSW\, 2650\, Australia
CATEGORIES:Mens Reformer Class
END:VEVENT
BEGIN:VEVENT
DTSTART;TZID=Australia/Sydney:20270406T080000
DTEND;TZID=Australia/Sydney:20270406T084500
DTSTAMP:20260423T221317
CREATED:20240621T045607Z
LAST-MODIFIED:20240909T235044Z
UID:10058331-1806998400-1807001100@synergyhealthworks.com
SUMMARY:Men's Reformer Class
DESCRIPTION:
URL:https://synergyhealthworks.com/event/mens-reformer-class/2027-04-06/
LOCATION:Wagga Wagga | Reformer Studio (Draft)\, 221 Kincaid Street\, Wagga Wagga\, NSW\, 2650\, Australia
CATEGORIES:Mens Reformer Class
END:VEVENT
BEGIN:VEVENT
DTSTART;TZID=Australia/Sydney:20270408T083000
DTEND;TZID=Australia/Sydney:20270408T091500
DTSTAMP:20260423T221317
CREATED:20240621T045822Z
LAST-MODIFIED:20240909T235129Z
UID:10058592-1807173000-1807175700@synergyhealthworks.com
SUMMARY:Men's Reformer Class
DESCRIPTION:
URL:https://synergyhealthworks.com/event/mens-reformer-class-2/2027-04-08/
LOCATION:Wagga Wagga | Reformer Studio (Draft)\, 221 Kincaid Street\, Wagga Wagga\, NSW\, 2650\, Australia
CATEGORIES:Mens Reformer Class
END:VEVENT
BEGIN:VEVENT
DTSTART;TZID=Australia/Sydney:20270413T080000
DTEND;TZID=Australia/Sydney:20270413T084500
DTSTAMP:20260423T221317
CREATED:20240621T045607Z
LAST-MODIFIED:20240909T235044Z
UID:10058332-1807603200-1807605900@synergyhealthworks.com
SUMMARY:Men's Reformer Class
DESCRIPTION:
URL:https://synergyhealthworks.com/event/mens-reformer-class/2027-04-13/
LOCATION:Wagga Wagga | Reformer Studio (Draft)\, 221 Kincaid Street\, Wagga Wagga\, NSW\, 2650\, Australia
CATEGORIES:Mens Reformer Class
END:VEVENT
BEGIN:VEVENT
DTSTART;TZID=Australia/Sydney:20270415T083000
DTEND;TZID=Australia/Sydney:20270415T091500
DTSTAMP:20260423T221317
CREATED:20240621T045822Z
LAST-MODIFIED:20240909T235129Z
UID:10058593-1807777800-1807780500@synergyhealthworks.com
SUMMARY:Men's Reformer Class
DESCRIPTION:
URL:https://synergyhealthworks.com/event/mens-reformer-class-2/2027-04-15/
LOCATION:Wagga Wagga | Reformer Studio (Draft)\, 221 Kincaid Street\, Wagga Wagga\, NSW\, 2650\, Australia
CATEGORIES:Mens Reformer Class
END:VEVENT
BEGIN:VEVENT
DTSTART;TZID=Australia/Sydney:20270420T080000
DTEND;TZID=Australia/Sydney:20270420T084500
DTSTAMP:20260423T221317
CREATED:20240621T045607Z
LAST-MODIFIED:20240909T235044Z
UID:10058333-1808208000-1808210700@synergyhealthworks.com
SUMMARY:Men's Reformer Class
DESCRIPTION:
URL:https://synergyhealthworks.com/event/mens-reformer-class/2027-04-20/
LOCATION:Wagga Wagga | Reformer Studio (Draft)\, 221 Kincaid Street\, Wagga Wagga\, NSW\, 2650\, Australia
CATEGORIES:Mens Reformer Class
END:VEVENT
BEGIN:VEVENT
DTSTART;TZID=Australia/Sydney:20270422T083000
DTEND;TZID=Australia/Sydney:20270422T091500
DTSTAMP:20260423T221317
CREATED:20240621T045822Z
LAST-MODIFIED:20240909T235129Z
UID:10058594-1808382600-1808385300@synergyhealthworks.com
SUMMARY:Men's Reformer Class
DESCRIPTION:
URL:https://synergyhealthworks.com/event/mens-reformer-class-2/2027-04-22/
LOCATION:Wagga Wagga | Reformer Studio (Draft)\, 221 Kincaid Street\, Wagga Wagga\, NSW\, 2650\, Australia
CATEGORIES:Mens Reformer Class
END:VEVENT
BEGIN:VEVENT
DTSTART;TZID=Australia/Sydney:20270427T080000
DTEND;TZID=Australia/Sydney:20270427T084500
DTSTAMP:20260423T221317
CREATED:20240621T045607Z
LAST-MODIFIED:20240909T235044Z
UID:10058334-1808812800-1808815500@synergyhealthworks.com
SUMMARY:Men's Reformer Class
DESCRIPTION:
URL:https://synergyhealthworks.com/event/mens-reformer-class/2027-04-27/
LOCATION:Wagga Wagga | Reformer Studio (Draft)\, 221 Kincaid Street\, Wagga Wagga\, NSW\, 2650\, Australia
CATEGORIES:Mens Reformer Class
END:VEVENT
BEGIN:VEVENT
DTSTART;TZID=Australia/Sydney:20270429T083000
DTEND;TZID=Australia/Sydney:20270429T091500
DTSTAMP:20260423T221317
CREATED:20240621T045822Z
LAST-MODIFIED:20240909T235129Z
UID:10058595-1808987400-1808990100@synergyhealthworks.com
SUMMARY:Men's Reformer Class
DESCRIPTION:
URL:https://synergyhealthworks.com/event/mens-reformer-class-2/2027-04-29/
LOCATION:Wagga Wagga | Reformer Studio (Draft)\, 221 Kincaid Street\, Wagga Wagga\, NSW\, 2650\, Australia
CATEGORIES:Mens Reformer Class
END:VEVENT
BEGIN:VEVENT
DTSTART;TZID=Australia/Sydney:20270504T080000
DTEND;TZID=Australia/Sydney:20270504T084500
DTSTAMP:20260423T221317
CREATED:20240621T045607Z
LAST-MODIFIED:20240909T235044Z
UID:10058335-1809417600-1809420300@synergyhealthworks.com
SUMMARY:Men's Reformer Class
DESCRIPTION:
URL:https://synergyhealthworks.com/event/mens-reformer-class/2027-05-04/
LOCATION:Wagga Wagga | Reformer Studio (Draft)\, 221 Kincaid Street\, Wagga Wagga\, NSW\, 2650\, Australia
CATEGORIES:Mens Reformer Class
END:VEVENT
BEGIN:VEVENT
DTSTART;TZID=Australia/Sydney:20270506T083000
DTEND;TZID=Australia/Sydney:20270506T091500
DTSTAMP:20260423T221317
CREATED:20240621T045822Z
LAST-MODIFIED:20240909T235129Z
UID:10058596-1809592200-1809594900@synergyhealthworks.com
SUMMARY:Men's Reformer Class
DESCRIPTION:
URL:https://synergyhealthworks.com/event/mens-reformer-class-2/2027-05-06/
LOCATION:Wagga Wagga | Reformer Studio (Draft)\, 221 Kincaid Street\, Wagga Wagga\, NSW\, 2650\, Australia
CATEGORIES:Mens Reformer Class
END:VEVENT
BEGIN:VEVENT
DTSTART;TZID=Australia/Sydney:20270511T080000
DTEND;TZID=Australia/Sydney:20270511T084500
DTSTAMP:20260423T221317
CREATED:20240621T045607Z
LAST-MODIFIED:20240909T235044Z
UID:10058336-1810022400-1810025100@synergyhealthworks.com
SUMMARY:Men's Reformer Class
DESCRIPTION:
URL:https://synergyhealthworks.com/event/mens-reformer-class/2027-05-11/
LOCATION:Wagga Wagga | Reformer Studio (Draft)\, 221 Kincaid Street\, Wagga Wagga\, NSW\, 2650\, Australia
CATEGORIES:Mens Reformer Class
END:VEVENT
BEGIN:VEVENT
DTSTART;TZID=Australia/Sydney:20270513T083000
DTEND;TZID=Australia/Sydney:20270513T091500
DTSTAMP:20260423T221317
CREATED:20240621T045822Z
LAST-MODIFIED:20240909T235129Z
UID:10058597-1810197000-1810199700@synergyhealthworks.com
SUMMARY:Men's Reformer Class
DESCRIPTION:
URL:https://synergyhealthworks.com/event/mens-reformer-class-2/2027-05-13/
LOCATION:Wagga Wagga | Reformer Studio (Draft)\, 221 Kincaid Street\, Wagga Wagga\, NSW\, 2650\, Australia
CATEGORIES:Mens Reformer Class
END:VEVENT
BEGIN:VEVENT
DTSTART;TZID=Australia/Sydney:20270518T080000
DTEND;TZID=Australia/Sydney:20270518T084500
DTSTAMP:20260423T221317
CREATED:20240621T045607Z
LAST-MODIFIED:20240909T235044Z
UID:10058337-1810627200-1810629900@synergyhealthworks.com
SUMMARY:Men's Reformer Class
DESCRIPTION:
URL:https://synergyhealthworks.com/event/mens-reformer-class/2027-05-18/
LOCATION:Wagga Wagga | Reformer Studio (Draft)\, 221 Kincaid Street\, Wagga Wagga\, NSW\, 2650\, Australia
CATEGORIES:Mens Reformer Class
END:VEVENT
BEGIN:VEVENT
DTSTART;TZID=Australia/Sydney:20270520T083000
DTEND;TZID=Australia/Sydney:20270520T091500
DTSTAMP:20260423T221317
CREATED:20240621T045822Z
LAST-MODIFIED:20240909T235129Z
UID:10058598-1810801800-1810804500@synergyhealthworks.com
SUMMARY:Men's Reformer Class
DESCRIPTION:
URL:https://synergyhealthworks.com/event/mens-reformer-class-2/2027-05-20/
LOCATION:Wagga Wagga | Reformer Studio (Draft)\, 221 Kincaid Street\, Wagga Wagga\, NSW\, 2650\, Australia
CATEGORIES:Mens Reformer Class
END:VEVENT
BEGIN:VEVENT
DTSTART;TZID=Australia/Sydney:20270525T080000
DTEND;TZID=Australia/Sydney:20270525T084500
DTSTAMP:20260423T221317
CREATED:20240621T045607Z
LAST-MODIFIED:20240909T235044Z
UID:10058338-1811232000-1811234700@synergyhealthworks.com
SUMMARY:Men's Reformer Class
DESCRIPTION:
URL:https://synergyhealthworks.com/event/mens-reformer-class/2027-05-25/
LOCATION:Wagga Wagga | Reformer Studio (Draft)\, 221 Kincaid Street\, Wagga Wagga\, NSW\, 2650\, Australia
CATEGORIES:Mens Reformer Class
END:VEVENT
BEGIN:VEVENT
DTSTART;TZID=Australia/Sydney:20270527T083000
DTEND;TZID=Australia/Sydney:20270527T091500
DTSTAMP:20260423T221317
CREATED:20240621T045822Z
LAST-MODIFIED:20240909T235129Z
UID:10058599-1811406600-1811409300@synergyhealthworks.com
SUMMARY:Men's Reformer Class
DESCRIPTION:
URL:https://synergyhealthworks.com/event/mens-reformer-class-2/2027-05-27/
LOCATION:Wagga Wagga | Reformer Studio (Draft)\, 221 Kincaid Street\, Wagga Wagga\, NSW\, 2650\, Australia
CATEGORIES:Mens Reformer Class
END:VEVENT
BEGIN:VEVENT
DTSTART;TZID=Australia/Sydney:20270601T080000
DTEND;TZID=Australia/Sydney:20270601T084500
DTSTAMP:20260423T221317
CREATED:20240621T045607Z
LAST-MODIFIED:20240909T235044Z
UID:10058339-1811836800-1811839500@synergyhealthworks.com
SUMMARY:Men's Reformer Class
DESCRIPTION:
URL:https://synergyhealthworks.com/event/mens-reformer-class/2027-06-01/
LOCATION:Wagga Wagga | Reformer Studio (Draft)\, 221 Kincaid Street\, Wagga Wagga\, NSW\, 2650\, Australia
CATEGORIES:Mens Reformer Class
END:VEVENT
BEGIN:VEVENT
DTSTART;TZID=Australia/Sydney:20270603T083000
DTEND;TZID=Australia/Sydney:20270603T091500
DTSTAMP:20260423T221317
CREATED:20240621T045822Z
LAST-MODIFIED:20240909T235129Z
UID:10058600-1812011400-1812014100@synergyhealthworks.com
SUMMARY:Men's Reformer Class
DESCRIPTION:
URL:https://synergyhealthworks.com/event/mens-reformer-class-2/2027-06-03/
LOCATION:Wagga Wagga | Reformer Studio (Draft)\, 221 Kincaid Street\, Wagga Wagga\, NSW\, 2650\, Australia
CATEGORIES:Mens Reformer Class
END:VEVENT
BEGIN:VEVENT
DTSTART;TZID=Australia/Sydney:20270608T080000
DTEND;TZID=Australia/Sydney:20270608T084500
DTSTAMP:20260423T221317
CREATED:20240621T045607Z
LAST-MODIFIED:20240909T235044Z
UID:10058340-1812441600-1812444300@synergyhealthworks.com
SUMMARY:Men's Reformer Class
DESCRIPTION:
URL:https://synergyhealthworks.com/event/mens-reformer-class/2027-06-08/
LOCATION:Wagga Wagga | Reformer Studio (Draft)\, 221 Kincaid Street\, Wagga Wagga\, NSW\, 2650\, Australia
CATEGORIES:Mens Reformer Class
END:VEVENT
BEGIN:VEVENT
DTSTART;TZID=Australia/Sydney:20270610T083000
DTEND;TZID=Australia/Sydney:20270610T091500
DTSTAMP:20260423T221317
CREATED:20240621T045822Z
LAST-MODIFIED:20240909T235129Z
UID:10058601-1812616200-1812618900@synergyhealthworks.com
SUMMARY:Men's Reformer Class
DESCRIPTION:
URL:https://synergyhealthworks.com/event/mens-reformer-class-2/2027-06-10/
LOCATION:Wagga Wagga | Reformer Studio (Draft)\, 221 Kincaid Street\, Wagga Wagga\, NSW\, 2650\, Australia
CATEGORIES:Mens Reformer Class
END:VEVENT
BEGIN:VEVENT
DTSTART;TZID=Australia/Sydney:20270615T080000
DTEND;TZID=Australia/Sydney:20270615T084500
DTSTAMP:20260423T221317
CREATED:20240621T045607Z
LAST-MODIFIED:20240909T235044Z
UID:10058341-1813046400-1813049100@synergyhealthworks.com
SUMMARY:Men's Reformer Class
DESCRIPTION:
URL:https://synergyhealthworks.com/event/mens-reformer-class/2027-06-15/
LOCATION:Wagga Wagga | Reformer Studio (Draft)\, 221 Kincaid Street\, Wagga Wagga\, NSW\, 2650\, Australia
CATEGORIES:Mens Reformer Class
END:VEVENT
BEGIN:VEVENT
DTSTART;TZID=Australia/Sydney:20270617T083000
DTEND;TZID=Australia/Sydney:20270617T091500
DTSTAMP:20260423T221317
CREATED:20240621T045822Z
LAST-MODIFIED:20240909T235129Z
UID:10058602-1813221000-1813223700@synergyhealthworks.com
SUMMARY:Men's Reformer Class
DESCRIPTION:
URL:https://synergyhealthworks.com/event/mens-reformer-class-2/2027-06-17/
LOCATION:Wagga Wagga | Reformer Studio (Draft)\, 221 Kincaid Street\, Wagga Wagga\, NSW\, 2650\, Australia
CATEGORIES:Mens Reformer Class
END:VEVENT
BEGIN:VEVENT
DTSTART;TZID=Australia/Sydney:20270622T080000
DTEND;TZID=Australia/Sydney:20270622T084500
DTSTAMP:20260423T221317
CREATED:20240621T045607Z
LAST-MODIFIED:20240909T235044Z
UID:10058342-1813651200-1813653900@synergyhealthworks.com
SUMMARY:Men's Reformer Class
DESCRIPTION:
URL:https://synergyhealthworks.com/event/mens-reformer-class/2027-06-22/
LOCATION:Wagga Wagga | Reformer Studio (Draft)\, 221 Kincaid Street\, Wagga Wagga\, NSW\, 2650\, Australia
CATEGORIES:Mens Reformer Class
END:VEVENT
BEGIN:VEVENT
DTSTART;TZID=Australia/Sydney:20270624T083000
DTEND;TZID=Australia/Sydney:20270624T091500
DTSTAMP:20260423T221317
CREATED:20240621T045822Z
LAST-MODIFIED:20240909T235129Z
UID:10058603-1813825800-1813828500@synergyhealthworks.com
SUMMARY:Men's Reformer Class
DESCRIPTION:
URL:https://synergyhealthworks.com/event/mens-reformer-class-2/2027-06-24/
LOCATION:Wagga Wagga | Reformer Studio (Draft)\, 221 Kincaid Street\, Wagga Wagga\, NSW\, 2650\, Australia
CATEGORIES:Mens Reformer Class
END:VEVENT
BEGIN:VEVENT
DTSTART;TZID=Australia/Sydney:20270629T080000
DTEND;TZID=Australia/Sydney:20270629T084500
DTSTAMP:20260423T221317
CREATED:20240621T045607Z
LAST-MODIFIED:20240909T235044Z
UID:10058343-1814256000-1814258700@synergyhealthworks.com
SUMMARY:Men's Reformer Class
DESCRIPTION:
URL:https://synergyhealthworks.com/event/mens-reformer-class/2027-06-29/
LOCATION:Wagga Wagga | Reformer Studio (Draft)\, 221 Kincaid Street\, Wagga Wagga\, NSW\, 2650\, Australia
CATEGORIES:Mens Reformer Class
END:VEVENT
BEGIN:VEVENT
DTSTART;TZID=Australia/Sydney:20270701T083000
DTEND;TZID=Australia/Sydney:20270701T091500
DTSTAMP:20260423T221317
CREATED:20240621T045822Z
LAST-MODIFIED:20240909T235129Z
UID:10058604-1814430600-1814433300@synergyhealthworks.com
SUMMARY:Men's Reformer Class
DESCRIPTION:
URL:https://synergyhealthworks.com/event/mens-reformer-class-2/2027-07-01/
LOCATION:Wagga Wagga | Reformer Studio (Draft)\, 221 Kincaid Street\, Wagga Wagga\, NSW\, 2650\, Australia
CATEGORIES:Mens Reformer Class
END:VEVENT
BEGIN:VEVENT
DTSTART;TZID=Australia/Sydney:20270706T080000
DTEND;TZID=Australia/Sydney:20270706T084500
DTSTAMP:20260423T221317
CREATED:20240621T045607Z
LAST-MODIFIED:20240909T235044Z
UID:10058344-1814860800-1814863500@synergyhealthworks.com
SUMMARY:Men's Reformer Class
DESCRIPTION:
URL:https://synergyhealthworks.com/event/mens-reformer-class/2027-07-06/
LOCATION:Wagga Wagga | Reformer Studio (Draft)\, 221 Kincaid Street\, Wagga Wagga\, NSW\, 2650\, Australia
CATEGORIES:Mens Reformer Class
END:VEVENT
BEGIN:VEVENT
DTSTART;TZID=Australia/Sydney:20270708T083000
DTEND;TZID=Australia/Sydney:20270708T091500
DTSTAMP:20260423T221317
CREATED:20240621T045822Z
LAST-MODIFIED:20240909T235129Z
UID:10058605-1815035400-1815038100@synergyhealthworks.com
SUMMARY:Men's Reformer Class
DESCRIPTION:
URL:https://synergyhealthworks.com/event/mens-reformer-class-2/2027-07-08/
LOCATION:Wagga Wagga | Reformer Studio (Draft)\, 221 Kincaid Street\, Wagga Wagga\, NSW\, 2650\, Australia
CATEGORIES:Mens Reformer Class
END:VEVENT
END:VCALENDAR