BEGIN:VCALENDAR
VERSION:2.0
PRODID:-//Synergy Healthworks - ECPv6.15.20//NONSGML v1.0//EN
CALSCALE:GREGORIAN
METHOD:PUBLISH
X-ORIGINAL-URL:https://synergyhealthworks.com
X-WR-CALDESC:Events for Synergy Healthworks
REFRESH-INTERVAL;VALUE=DURATION:PT1H
X-Robots-Tag:noindex
X-PUBLISHED-TTL:PT1H
BEGIN:VTIMEZONE
TZID:Australia/Sydney
BEGIN:STANDARD
TZOFFSETFROM:+1100
TZOFFSETTO:+1000
TZNAME:AEST
DTSTART:20260404T160000
END:STANDARD
BEGIN:DAYLIGHT
TZOFFSETFROM:+1000
TZOFFSETTO:+1100
TZNAME:AEDT
DTSTART:20261003T160000
END:DAYLIGHT
BEGIN:STANDARD
TZOFFSETFROM:+1100
TZOFFSETTO:+1000
TZNAME:AEST
DTSTART:20270403T160000
END:STANDARD
BEGIN:DAYLIGHT
TZOFFSETFROM:+1000
TZOFFSETTO:+1100
TZNAME:AEDT
DTSTART:20271002T160000
END:DAYLIGHT
BEGIN:STANDARD
TZOFFSETFROM:+1100
TZOFFSETTO:+1000
TZNAME:AEST
DTSTART:20280401T160000
END:STANDARD
BEGIN:DAYLIGHT
TZOFFSETFROM:+1000
TZOFFSETTO:+1100
TZNAME:AEDT
DTSTART:20280930T160000
END:DAYLIGHT
END:VTIMEZONE
BEGIN:VEVENT
DTSTART;TZID=Australia/Sydney:20270105T080000
DTEND;TZID=Australia/Sydney:20270105T084500
DTSTAMP:20260423T190450
CREATED:20240621T045607Z
LAST-MODIFIED:20240909T235044Z
UID:10058318-1799136000-1799138700@synergyhealthworks.com
SUMMARY:Men's Reformer Class
DESCRIPTION:
URL:https://synergyhealthworks.com/event/mens-reformer-class/2027-01-05/
LOCATION:Wagga Wagga | Reformer Studio (Draft)\, 221 Kincaid Street\, Wagga Wagga\, NSW\, 2650\, Australia
CATEGORIES:Mens Reformer Class
END:VEVENT
BEGIN:VEVENT
DTSTART;TZID=Australia/Sydney:20270107T083000
DTEND;TZID=Australia/Sydney:20270107T091500
DTSTAMP:20260423T190450
CREATED:20240621T045822Z
LAST-MODIFIED:20240909T235129Z
UID:10058579-1799310600-1799313300@synergyhealthworks.com
SUMMARY:Men's Reformer Class
DESCRIPTION:
URL:https://synergyhealthworks.com/event/mens-reformer-class-2/2027-01-07/
LOCATION:Wagga Wagga | Reformer Studio (Draft)\, 221 Kincaid Street\, Wagga Wagga\, NSW\, 2650\, Australia
CATEGORIES:Mens Reformer Class
END:VEVENT
BEGIN:VEVENT
DTSTART;TZID=Australia/Sydney:20270112T080000
DTEND;TZID=Australia/Sydney:20270112T084500
DTSTAMP:20260423T190450
CREATED:20240621T045607Z
LAST-MODIFIED:20240909T235044Z
UID:10058319-1799740800-1799743500@synergyhealthworks.com
SUMMARY:Men's Reformer Class
DESCRIPTION:
URL:https://synergyhealthworks.com/event/mens-reformer-class/2027-01-12/
LOCATION:Wagga Wagga | Reformer Studio (Draft)\, 221 Kincaid Street\, Wagga Wagga\, NSW\, 2650\, Australia
CATEGORIES:Mens Reformer Class
END:VEVENT
BEGIN:VEVENT
DTSTART;TZID=Australia/Sydney:20270114T083000
DTEND;TZID=Australia/Sydney:20270114T091500
DTSTAMP:20260423T190450
CREATED:20240621T045822Z
LAST-MODIFIED:20240909T235129Z
UID:10058580-1799915400-1799918100@synergyhealthworks.com
SUMMARY:Men's Reformer Class
DESCRIPTION:
URL:https://synergyhealthworks.com/event/mens-reformer-class-2/2027-01-14/
LOCATION:Wagga Wagga | Reformer Studio (Draft)\, 221 Kincaid Street\, Wagga Wagga\, NSW\, 2650\, Australia
CATEGORIES:Mens Reformer Class
END:VEVENT
BEGIN:VEVENT
DTSTART;TZID=Australia/Sydney:20270119T080000
DTEND;TZID=Australia/Sydney:20270119T084500
DTSTAMP:20260423T190450
CREATED:20240621T045607Z
LAST-MODIFIED:20240909T235044Z
UID:10058320-1800345600-1800348300@synergyhealthworks.com
SUMMARY:Men's Reformer Class
DESCRIPTION:
URL:https://synergyhealthworks.com/event/mens-reformer-class/2027-01-19/
LOCATION:Wagga Wagga | Reformer Studio (Draft)\, 221 Kincaid Street\, Wagga Wagga\, NSW\, 2650\, Australia
CATEGORIES:Mens Reformer Class
END:VEVENT
BEGIN:VEVENT
DTSTART;TZID=Australia/Sydney:20270121T083000
DTEND;TZID=Australia/Sydney:20270121T091500
DTSTAMP:20260423T190450
CREATED:20240621T045822Z
LAST-MODIFIED:20240909T235129Z
UID:10058581-1800520200-1800522900@synergyhealthworks.com
SUMMARY:Men's Reformer Class
DESCRIPTION:
URL:https://synergyhealthworks.com/event/mens-reformer-class-2/2027-01-21/
LOCATION:Wagga Wagga | Reformer Studio (Draft)\, 221 Kincaid Street\, Wagga Wagga\, NSW\, 2650\, Australia
CATEGORIES:Mens Reformer Class
END:VEVENT
BEGIN:VEVENT
DTSTART;TZID=Australia/Sydney:20270126T080000
DTEND;TZID=Australia/Sydney:20270126T084500
DTSTAMP:20260423T190450
CREATED:20240621T045607Z
LAST-MODIFIED:20240909T235044Z
UID:10058321-1800950400-1800953100@synergyhealthworks.com
SUMMARY:Men's Reformer Class
DESCRIPTION:
URL:https://synergyhealthworks.com/event/mens-reformer-class/2027-01-26/
LOCATION:Wagga Wagga | Reformer Studio (Draft)\, 221 Kincaid Street\, Wagga Wagga\, NSW\, 2650\, Australia
CATEGORIES:Mens Reformer Class
END:VEVENT
BEGIN:VEVENT
DTSTART;TZID=Australia/Sydney:20270128T083000
DTEND;TZID=Australia/Sydney:20270128T091500
DTSTAMP:20260423T190450
CREATED:20240621T045822Z
LAST-MODIFIED:20240909T235129Z
UID:10058582-1801125000-1801127700@synergyhealthworks.com
SUMMARY:Men's Reformer Class
DESCRIPTION:
URL:https://synergyhealthworks.com/event/mens-reformer-class-2/2027-01-28/
LOCATION:Wagga Wagga | Reformer Studio (Draft)\, 221 Kincaid Street\, Wagga Wagga\, NSW\, 2650\, Australia
CATEGORIES:Mens Reformer Class
END:VEVENT
BEGIN:VEVENT
DTSTART;TZID=Australia/Sydney:20270202T080000
DTEND;TZID=Australia/Sydney:20270202T084500
DTSTAMP:20260423T190450
CREATED:20240621T045607Z
LAST-MODIFIED:20240909T235044Z
UID:10058322-1801555200-1801557900@synergyhealthworks.com
SUMMARY:Men's Reformer Class
DESCRIPTION:
URL:https://synergyhealthworks.com/event/mens-reformer-class/2027-02-02/
LOCATION:Wagga Wagga | Reformer Studio (Draft)\, 221 Kincaid Street\, Wagga Wagga\, NSW\, 2650\, Australia
CATEGORIES:Mens Reformer Class
END:VEVENT
BEGIN:VEVENT
DTSTART;TZID=Australia/Sydney:20270204T083000
DTEND;TZID=Australia/Sydney:20270204T091500
DTSTAMP:20260423T190450
CREATED:20240621T045822Z
LAST-MODIFIED:20240909T235129Z
UID:10058583-1801729800-1801732500@synergyhealthworks.com
SUMMARY:Men's Reformer Class
DESCRIPTION:
URL:https://synergyhealthworks.com/event/mens-reformer-class-2/2027-02-04/
LOCATION:Wagga Wagga | Reformer Studio (Draft)\, 221 Kincaid Street\, Wagga Wagga\, NSW\, 2650\, Australia
CATEGORIES:Mens Reformer Class
END:VEVENT
BEGIN:VEVENT
DTSTART;TZID=Australia/Sydney:20270209T080000
DTEND;TZID=Australia/Sydney:20270209T084500
DTSTAMP:20260423T190450
CREATED:20240621T045607Z
LAST-MODIFIED:20240909T235044Z
UID:10058323-1802160000-1802162700@synergyhealthworks.com
SUMMARY:Men's Reformer Class
DESCRIPTION:
URL:https://synergyhealthworks.com/event/mens-reformer-class/2027-02-09/
LOCATION:Wagga Wagga | Reformer Studio (Draft)\, 221 Kincaid Street\, Wagga Wagga\, NSW\, 2650\, Australia
CATEGORIES:Mens Reformer Class
END:VEVENT
BEGIN:VEVENT
DTSTART;TZID=Australia/Sydney:20270211T083000
DTEND;TZID=Australia/Sydney:20270211T091500
DTSTAMP:20260423T190450
CREATED:20240621T045822Z
LAST-MODIFIED:20240909T235129Z
UID:10058584-1802334600-1802337300@synergyhealthworks.com
SUMMARY:Men's Reformer Class
DESCRIPTION:
URL:https://synergyhealthworks.com/event/mens-reformer-class-2/2027-02-11/
LOCATION:Wagga Wagga | Reformer Studio (Draft)\, 221 Kincaid Street\, Wagga Wagga\, NSW\, 2650\, Australia
CATEGORIES:Mens Reformer Class
END:VEVENT
BEGIN:VEVENT
DTSTART;TZID=Australia/Sydney:20270216T080000
DTEND;TZID=Australia/Sydney:20270216T084500
DTSTAMP:20260423T190450
CREATED:20240621T045607Z
LAST-MODIFIED:20240909T235044Z
UID:10058324-1802764800-1802767500@synergyhealthworks.com
SUMMARY:Men's Reformer Class
DESCRIPTION:
URL:https://synergyhealthworks.com/event/mens-reformer-class/2027-02-16/
LOCATION:Wagga Wagga | Reformer Studio (Draft)\, 221 Kincaid Street\, Wagga Wagga\, NSW\, 2650\, Australia
CATEGORIES:Mens Reformer Class
END:VEVENT
BEGIN:VEVENT
DTSTART;TZID=Australia/Sydney:20270218T083000
DTEND;TZID=Australia/Sydney:20270218T091500
DTSTAMP:20260423T190451
CREATED:20240621T045822Z
LAST-MODIFIED:20240909T235129Z
UID:10058585-1802939400-1802942100@synergyhealthworks.com
SUMMARY:Men's Reformer Class
DESCRIPTION:
URL:https://synergyhealthworks.com/event/mens-reformer-class-2/2027-02-18/
LOCATION:Wagga Wagga | Reformer Studio (Draft)\, 221 Kincaid Street\, Wagga Wagga\, NSW\, 2650\, Australia
CATEGORIES:Mens Reformer Class
END:VEVENT
BEGIN:VEVENT
DTSTART;TZID=Australia/Sydney:20270223T080000
DTEND;TZID=Australia/Sydney:20270223T084500
DTSTAMP:20260423T190451
CREATED:20240621T045607Z
LAST-MODIFIED:20240909T235044Z
UID:10058325-1803369600-1803372300@synergyhealthworks.com
SUMMARY:Men's Reformer Class
DESCRIPTION:
URL:https://synergyhealthworks.com/event/mens-reformer-class/2027-02-23/
LOCATION:Wagga Wagga | Reformer Studio (Draft)\, 221 Kincaid Street\, Wagga Wagga\, NSW\, 2650\, Australia
CATEGORIES:Mens Reformer Class
END:VEVENT
BEGIN:VEVENT
DTSTART;TZID=Australia/Sydney:20270225T083000
DTEND;TZID=Australia/Sydney:20270225T091500
DTSTAMP:20260423T190451
CREATED:20240621T045822Z
LAST-MODIFIED:20240909T235129Z
UID:10058586-1803544200-1803546900@synergyhealthworks.com
SUMMARY:Men's Reformer Class
DESCRIPTION:
URL:https://synergyhealthworks.com/event/mens-reformer-class-2/2027-02-25/
LOCATION:Wagga Wagga | Reformer Studio (Draft)\, 221 Kincaid Street\, Wagga Wagga\, NSW\, 2650\, Australia
CATEGORIES:Mens Reformer Class
END:VEVENT
BEGIN:VEVENT
DTSTART;TZID=Australia/Sydney:20270302T080000
DTEND;TZID=Australia/Sydney:20270302T084500
DTSTAMP:20260423T190451
CREATED:20240621T045607Z
LAST-MODIFIED:20240909T235044Z
UID:10058326-1803974400-1803977100@synergyhealthworks.com
SUMMARY:Men's Reformer Class
DESCRIPTION:
URL:https://synergyhealthworks.com/event/mens-reformer-class/2027-03-02/
LOCATION:Wagga Wagga | Reformer Studio (Draft)\, 221 Kincaid Street\, Wagga Wagga\, NSW\, 2650\, Australia
CATEGORIES:Mens Reformer Class
END:VEVENT
BEGIN:VEVENT
DTSTART;TZID=Australia/Sydney:20270304T083000
DTEND;TZID=Australia/Sydney:20270304T091500
DTSTAMP:20260423T190451
CREATED:20240621T045822Z
LAST-MODIFIED:20240909T235129Z
UID:10058587-1804149000-1804151700@synergyhealthworks.com
SUMMARY:Men's Reformer Class
DESCRIPTION:
URL:https://synergyhealthworks.com/event/mens-reformer-class-2/2027-03-04/
LOCATION:Wagga Wagga | Reformer Studio (Draft)\, 221 Kincaid Street\, Wagga Wagga\, NSW\, 2650\, Australia
CATEGORIES:Mens Reformer Class
END:VEVENT
BEGIN:VEVENT
DTSTART;TZID=Australia/Sydney:20270309T080000
DTEND;TZID=Australia/Sydney:20270309T084500
DTSTAMP:20260423T190451
CREATED:20240621T045607Z
LAST-MODIFIED:20240909T235044Z
UID:10058327-1804579200-1804581900@synergyhealthworks.com
SUMMARY:Men's Reformer Class
DESCRIPTION:
URL:https://synergyhealthworks.com/event/mens-reformer-class/2027-03-09/
LOCATION:Wagga Wagga | Reformer Studio (Draft)\, 221 Kincaid Street\, Wagga Wagga\, NSW\, 2650\, Australia
CATEGORIES:Mens Reformer Class
END:VEVENT
BEGIN:VEVENT
DTSTART;TZID=Australia/Sydney:20270311T083000
DTEND;TZID=Australia/Sydney:20270311T091500
DTSTAMP:20260423T190451
CREATED:20240621T045822Z
LAST-MODIFIED:20240909T235129Z
UID:10058588-1804753800-1804756500@synergyhealthworks.com
SUMMARY:Men's Reformer Class
DESCRIPTION:
URL:https://synergyhealthworks.com/event/mens-reformer-class-2/2027-03-11/
LOCATION:Wagga Wagga | Reformer Studio (Draft)\, 221 Kincaid Street\, Wagga Wagga\, NSW\, 2650\, Australia
CATEGORIES:Mens Reformer Class
END:VEVENT
BEGIN:VEVENT
DTSTART;TZID=Australia/Sydney:20270316T080000
DTEND;TZID=Australia/Sydney:20270316T084500
DTSTAMP:20260423T190451
CREATED:20240621T045607Z
LAST-MODIFIED:20240909T235044Z
UID:10058328-1805184000-1805186700@synergyhealthworks.com
SUMMARY:Men's Reformer Class
DESCRIPTION:
URL:https://synergyhealthworks.com/event/mens-reformer-class/2027-03-16/
LOCATION:Wagga Wagga | Reformer Studio (Draft)\, 221 Kincaid Street\, Wagga Wagga\, NSW\, 2650\, Australia
CATEGORIES:Mens Reformer Class
END:VEVENT
BEGIN:VEVENT
DTSTART;TZID=Australia/Sydney:20270318T083000
DTEND;TZID=Australia/Sydney:20270318T091500
DTSTAMP:20260423T190451
CREATED:20240621T045822Z
LAST-MODIFIED:20240909T235129Z
UID:10058589-1805358600-1805361300@synergyhealthworks.com
SUMMARY:Men's Reformer Class
DESCRIPTION:
URL:https://synergyhealthworks.com/event/mens-reformer-class-2/2027-03-18/
LOCATION:Wagga Wagga | Reformer Studio (Draft)\, 221 Kincaid Street\, Wagga Wagga\, NSW\, 2650\, Australia
CATEGORIES:Mens Reformer Class
END:VEVENT
BEGIN:VEVENT
DTSTART;TZID=Australia/Sydney:20270323T080000
DTEND;TZID=Australia/Sydney:20270323T084500
DTSTAMP:20260423T190451
CREATED:20240621T045607Z
LAST-MODIFIED:20240909T235044Z
UID:10058329-1805788800-1805791500@synergyhealthworks.com
SUMMARY:Men's Reformer Class
DESCRIPTION:
URL:https://synergyhealthworks.com/event/mens-reformer-class/2027-03-23/
LOCATION:Wagga Wagga | Reformer Studio (Draft)\, 221 Kincaid Street\, Wagga Wagga\, NSW\, 2650\, Australia
CATEGORIES:Mens Reformer Class
END:VEVENT
BEGIN:VEVENT
DTSTART;TZID=Australia/Sydney:20270325T083000
DTEND;TZID=Australia/Sydney:20270325T091500
DTSTAMP:20260423T190451
CREATED:20240621T045822Z
LAST-MODIFIED:20240909T235129Z
UID:10058590-1805963400-1805966100@synergyhealthworks.com
SUMMARY:Men's Reformer Class
DESCRIPTION:
URL:https://synergyhealthworks.com/event/mens-reformer-class-2/2027-03-25/
LOCATION:Wagga Wagga | Reformer Studio (Draft)\, 221 Kincaid Street\, Wagga Wagga\, NSW\, 2650\, Australia
CATEGORIES:Mens Reformer Class
END:VEVENT
BEGIN:VEVENT
DTSTART;TZID=Australia/Sydney:20270330T080000
DTEND;TZID=Australia/Sydney:20270330T084500
DTSTAMP:20260423T190451
CREATED:20240621T045607Z
LAST-MODIFIED:20240909T235044Z
UID:10058330-1806393600-1806396300@synergyhealthworks.com
SUMMARY:Men's Reformer Class
DESCRIPTION:
URL:https://synergyhealthworks.com/event/mens-reformer-class/2027-03-30/
LOCATION:Wagga Wagga | Reformer Studio (Draft)\, 221 Kincaid Street\, Wagga Wagga\, NSW\, 2650\, Australia
CATEGORIES:Mens Reformer Class
END:VEVENT
BEGIN:VEVENT
DTSTART;TZID=Australia/Sydney:20270401T083000
DTEND;TZID=Australia/Sydney:20270401T091500
DTSTAMP:20260423T190451
CREATED:20240621T045822Z
LAST-MODIFIED:20240909T235129Z
UID:10058591-1806568200-1806570900@synergyhealthworks.com
SUMMARY:Men's Reformer Class
DESCRIPTION:
URL:https://synergyhealthworks.com/event/mens-reformer-class-2/2027-04-01/
LOCATION:Wagga Wagga | Reformer Studio (Draft)\, 221 Kincaid Street\, Wagga Wagga\, NSW\, 2650\, Australia
CATEGORIES:Mens Reformer Class
END:VEVENT
BEGIN:VEVENT
DTSTART;TZID=Australia/Sydney:20270406T080000
DTEND;TZID=Australia/Sydney:20270406T084500
DTSTAMP:20260423T190451
CREATED:20240621T045607Z
LAST-MODIFIED:20240909T235044Z
UID:10058331-1806998400-1807001100@synergyhealthworks.com
SUMMARY:Men's Reformer Class
DESCRIPTION:
URL:https://synergyhealthworks.com/event/mens-reformer-class/2027-04-06/
LOCATION:Wagga Wagga | Reformer Studio (Draft)\, 221 Kincaid Street\, Wagga Wagga\, NSW\, 2650\, Australia
CATEGORIES:Mens Reformer Class
END:VEVENT
BEGIN:VEVENT
DTSTART;TZID=Australia/Sydney:20270408T083000
DTEND;TZID=Australia/Sydney:20270408T091500
DTSTAMP:20260423T190451
CREATED:20240621T045822Z
LAST-MODIFIED:20240909T235129Z
UID:10058592-1807173000-1807175700@synergyhealthworks.com
SUMMARY:Men's Reformer Class
DESCRIPTION:
URL:https://synergyhealthworks.com/event/mens-reformer-class-2/2027-04-08/
LOCATION:Wagga Wagga | Reformer Studio (Draft)\, 221 Kincaid Street\, Wagga Wagga\, NSW\, 2650\, Australia
CATEGORIES:Mens Reformer Class
END:VEVENT
BEGIN:VEVENT
DTSTART;TZID=Australia/Sydney:20270413T080000
DTEND;TZID=Australia/Sydney:20270413T084500
DTSTAMP:20260423T190451
CREATED:20240621T045607Z
LAST-MODIFIED:20240909T235044Z
UID:10058332-1807603200-1807605900@synergyhealthworks.com
SUMMARY:Men's Reformer Class
DESCRIPTION:
URL:https://synergyhealthworks.com/event/mens-reformer-class/2027-04-13/
LOCATION:Wagga Wagga | Reformer Studio (Draft)\, 221 Kincaid Street\, Wagga Wagga\, NSW\, 2650\, Australia
CATEGORIES:Mens Reformer Class
END:VEVENT
BEGIN:VEVENT
DTSTART;TZID=Australia/Sydney:20270415T083000
DTEND;TZID=Australia/Sydney:20270415T091500
DTSTAMP:20260423T190451
CREATED:20240621T045822Z
LAST-MODIFIED:20240909T235129Z
UID:10058593-1807777800-1807780500@synergyhealthworks.com
SUMMARY:Men's Reformer Class
DESCRIPTION:
URL:https://synergyhealthworks.com/event/mens-reformer-class-2/2027-04-15/
LOCATION:Wagga Wagga | Reformer Studio (Draft)\, 221 Kincaid Street\, Wagga Wagga\, NSW\, 2650\, Australia
CATEGORIES:Mens Reformer Class
END:VEVENT
END:VCALENDAR