BEGIN:VCALENDAR
VERSION:2.0
PRODID:-//Synergy Healthworks - ECPv6.15.20//NONSGML v1.0//EN
CALSCALE:GREGORIAN
METHOD:PUBLISH
X-WR-CALNAME:Synergy Healthworks
X-ORIGINAL-URL:https://synergyhealthworks.com
X-WR-CALDESC:Events for Synergy Healthworks
REFRESH-INTERVAL;VALUE=DURATION:PT1H
X-Robots-Tag:noindex
X-PUBLISHED-TTL:PT1H
BEGIN:VTIMEZONE
TZID:Australia/Sydney
BEGIN:STANDARD
TZOFFSETFROM:+1100
TZOFFSETTO:+1000
TZNAME:AEST
DTSTART:20280401T160000
END:STANDARD
BEGIN:DAYLIGHT
TZOFFSETFROM:+1000
TZOFFSETTO:+1100
TZNAME:AEDT
DTSTART:20280930T160000
END:DAYLIGHT
BEGIN:STANDARD
TZOFFSETFROM:+1100
TZOFFSETTO:+1000
TZNAME:AEST
DTSTART:20290331T160000
END:STANDARD
BEGIN:DAYLIGHT
TZOFFSETFROM:+1000
TZOFFSETTO:+1100
TZNAME:AEDT
DTSTART:20291006T160000
END:DAYLIGHT
BEGIN:STANDARD
TZOFFSETFROM:+1100
TZOFFSETTO:+1000
TZNAME:AEST
DTSTART:20300406T160000
END:STANDARD
BEGIN:DAYLIGHT
TZOFFSETFROM:+1000
TZOFFSETTO:+1100
TZNAME:AEDT
DTSTART:20301005T160000
END:DAYLIGHT
END:VTIMEZONE
BEGIN:VEVENT
DTSTART;TZID=Australia/Sydney:20290717T080000
DTEND;TZID=Australia/Sydney:20290717T084500
DTSTAMP:20260425T090339
CREATED:20240621T045607Z
LAST-MODIFIED:20240909T235044Z
UID:10058450-1878969600-1878972300@synergyhealthworks.com
SUMMARY:Men's Reformer Class
DESCRIPTION:
URL:https://synergyhealthworks.com/event/mens-reformer-class/2029-07-17/
LOCATION:Wagga Wagga | Reformer Studio (Draft)\, 221 Kincaid Street\, Wagga Wagga\, NSW\, 2650\, Australia
CATEGORIES:Mens Reformer Class
END:VEVENT
BEGIN:VEVENT
DTSTART;TZID=Australia/Sydney:20290719T083000
DTEND;TZID=Australia/Sydney:20290719T091500
DTSTAMP:20260425T090339
CREATED:20240621T045822Z
LAST-MODIFIED:20240909T235129Z
UID:10058711-1879144200-1879146900@synergyhealthworks.com
SUMMARY:Men's Reformer Class
DESCRIPTION:
URL:https://synergyhealthworks.com/event/mens-reformer-class-2/2029-07-19/
LOCATION:Wagga Wagga | Reformer Studio (Draft)\, 221 Kincaid Street\, Wagga Wagga\, NSW\, 2650\, Australia
CATEGORIES:Mens Reformer Class
END:VEVENT
BEGIN:VEVENT
DTSTART;TZID=Australia/Sydney:20290724T080000
DTEND;TZID=Australia/Sydney:20290724T084500
DTSTAMP:20260425T090339
CREATED:20240621T045607Z
LAST-MODIFIED:20240909T235044Z
UID:10058451-1879574400-1879577100@synergyhealthworks.com
SUMMARY:Men's Reformer Class
DESCRIPTION:
URL:https://synergyhealthworks.com/event/mens-reformer-class/2029-07-24/
LOCATION:Wagga Wagga | Reformer Studio (Draft)\, 221 Kincaid Street\, Wagga Wagga\, NSW\, 2650\, Australia
CATEGORIES:Mens Reformer Class
END:VEVENT
BEGIN:VEVENT
DTSTART;TZID=Australia/Sydney:20290726T083000
DTEND;TZID=Australia/Sydney:20290726T091500
DTSTAMP:20260425T090339
CREATED:20240621T045822Z
LAST-MODIFIED:20240909T235129Z
UID:10058712-1879749000-1879751700@synergyhealthworks.com
SUMMARY:Men's Reformer Class
DESCRIPTION:
URL:https://synergyhealthworks.com/event/mens-reformer-class-2/2029-07-26/
LOCATION:Wagga Wagga | Reformer Studio (Draft)\, 221 Kincaid Street\, Wagga Wagga\, NSW\, 2650\, Australia
CATEGORIES:Mens Reformer Class
END:VEVENT
BEGIN:VEVENT
DTSTART;TZID=Australia/Sydney:20290731T080000
DTEND;TZID=Australia/Sydney:20290731T084500
DTSTAMP:20260425T090339
CREATED:20240621T045607Z
LAST-MODIFIED:20240909T235044Z
UID:10058452-1880179200-1880181900@synergyhealthworks.com
SUMMARY:Men's Reformer Class
DESCRIPTION:
URL:https://synergyhealthworks.com/event/mens-reformer-class/2029-07-31/
LOCATION:Wagga Wagga | Reformer Studio (Draft)\, 221 Kincaid Street\, Wagga Wagga\, NSW\, 2650\, Australia
CATEGORIES:Mens Reformer Class
END:VEVENT
BEGIN:VEVENT
DTSTART;TZID=Australia/Sydney:20290802T083000
DTEND;TZID=Australia/Sydney:20290802T091500
DTSTAMP:20260425T090339
CREATED:20240621T045822Z
LAST-MODIFIED:20240909T235129Z
UID:10058713-1880353800-1880356500@synergyhealthworks.com
SUMMARY:Men's Reformer Class
DESCRIPTION:
URL:https://synergyhealthworks.com/event/mens-reformer-class-2/2029-08-02/
LOCATION:Wagga Wagga | Reformer Studio (Draft)\, 221 Kincaid Street\, Wagga Wagga\, NSW\, 2650\, Australia
CATEGORIES:Mens Reformer Class
END:VEVENT
BEGIN:VEVENT
DTSTART;TZID=Australia/Sydney:20290807T080000
DTEND;TZID=Australia/Sydney:20290807T084500
DTSTAMP:20260425T090339
CREATED:20240621T045607Z
LAST-MODIFIED:20240909T235044Z
UID:10058453-1880784000-1880786700@synergyhealthworks.com
SUMMARY:Men's Reformer Class
DESCRIPTION:
URL:https://synergyhealthworks.com/event/mens-reformer-class/2029-08-07/
LOCATION:Wagga Wagga | Reformer Studio (Draft)\, 221 Kincaid Street\, Wagga Wagga\, NSW\, 2650\, Australia
CATEGORIES:Mens Reformer Class
END:VEVENT
BEGIN:VEVENT
DTSTART;TZID=Australia/Sydney:20290809T083000
DTEND;TZID=Australia/Sydney:20290809T091500
DTSTAMP:20260425T090339
CREATED:20240621T045822Z
LAST-MODIFIED:20240909T235129Z
UID:10058714-1880958600-1880961300@synergyhealthworks.com
SUMMARY:Men's Reformer Class
DESCRIPTION:
URL:https://synergyhealthworks.com/event/mens-reformer-class-2/2029-08-09/
LOCATION:Wagga Wagga | Reformer Studio (Draft)\, 221 Kincaid Street\, Wagga Wagga\, NSW\, 2650\, Australia
CATEGORIES:Mens Reformer Class
END:VEVENT
BEGIN:VEVENT
DTSTART;TZID=Australia/Sydney:20290814T080000
DTEND;TZID=Australia/Sydney:20290814T084500
DTSTAMP:20260425T090339
CREATED:20240621T045607Z
LAST-MODIFIED:20240909T235044Z
UID:10058454-1881388800-1881391500@synergyhealthworks.com
SUMMARY:Men's Reformer Class
DESCRIPTION:
URL:https://synergyhealthworks.com/event/mens-reformer-class/2029-08-14/
LOCATION:Wagga Wagga | Reformer Studio (Draft)\, 221 Kincaid Street\, Wagga Wagga\, NSW\, 2650\, Australia
CATEGORIES:Mens Reformer Class
END:VEVENT
BEGIN:VEVENT
DTSTART;TZID=Australia/Sydney:20290816T083000
DTEND;TZID=Australia/Sydney:20290816T091500
DTSTAMP:20260425T090339
CREATED:20240621T045822Z
LAST-MODIFIED:20240909T235129Z
UID:10058715-1881563400-1881566100@synergyhealthworks.com
SUMMARY:Men's Reformer Class
DESCRIPTION:
URL:https://synergyhealthworks.com/event/mens-reformer-class-2/2029-08-16/
LOCATION:Wagga Wagga | Reformer Studio (Draft)\, 221 Kincaid Street\, Wagga Wagga\, NSW\, 2650\, Australia
CATEGORIES:Mens Reformer Class
END:VEVENT
BEGIN:VEVENT
DTSTART;TZID=Australia/Sydney:20290821T080000
DTEND;TZID=Australia/Sydney:20290821T084500
DTSTAMP:20260425T090339
CREATED:20240621T045607Z
LAST-MODIFIED:20240909T235044Z
UID:10058455-1881993600-1881996300@synergyhealthworks.com
SUMMARY:Men's Reformer Class
DESCRIPTION:
URL:https://synergyhealthworks.com/event/mens-reformer-class/2029-08-21/
LOCATION:Wagga Wagga | Reformer Studio (Draft)\, 221 Kincaid Street\, Wagga Wagga\, NSW\, 2650\, Australia
CATEGORIES:Mens Reformer Class
END:VEVENT
BEGIN:VEVENT
DTSTART;TZID=Australia/Sydney:20290823T083000
DTEND;TZID=Australia/Sydney:20290823T091500
DTSTAMP:20260425T090339
CREATED:20240621T045822Z
LAST-MODIFIED:20240909T235129Z
UID:10058716-1882168200-1882170900@synergyhealthworks.com
SUMMARY:Men's Reformer Class
DESCRIPTION:
URL:https://synergyhealthworks.com/event/mens-reformer-class-2/2029-08-23/
LOCATION:Wagga Wagga | Reformer Studio (Draft)\, 221 Kincaid Street\, Wagga Wagga\, NSW\, 2650\, Australia
CATEGORIES:Mens Reformer Class
END:VEVENT
BEGIN:VEVENT
DTSTART;TZID=Australia/Sydney:20290828T080000
DTEND;TZID=Australia/Sydney:20290828T084500
DTSTAMP:20260425T090339
CREATED:20240621T045607Z
LAST-MODIFIED:20240909T235044Z
UID:10058456-1882598400-1882601100@synergyhealthworks.com
SUMMARY:Men's Reformer Class
DESCRIPTION:
URL:https://synergyhealthworks.com/event/mens-reformer-class/2029-08-28/
LOCATION:Wagga Wagga | Reformer Studio (Draft)\, 221 Kincaid Street\, Wagga Wagga\, NSW\, 2650\, Australia
CATEGORIES:Mens Reformer Class
END:VEVENT
BEGIN:VEVENT
DTSTART;TZID=Australia/Sydney:20290830T083000
DTEND;TZID=Australia/Sydney:20290830T091500
DTSTAMP:20260425T090339
CREATED:20240621T045822Z
LAST-MODIFIED:20240909T235129Z
UID:10058717-1882773000-1882775700@synergyhealthworks.com
SUMMARY:Men's Reformer Class
DESCRIPTION:
URL:https://synergyhealthworks.com/event/mens-reformer-class-2/2029-08-30/
LOCATION:Wagga Wagga | Reformer Studio (Draft)\, 221 Kincaid Street\, Wagga Wagga\, NSW\, 2650\, Australia
CATEGORIES:Mens Reformer Class
END:VEVENT
BEGIN:VEVENT
DTSTART;TZID=Australia/Sydney:20290904T080000
DTEND;TZID=Australia/Sydney:20290904T084500
DTSTAMP:20260425T090339
CREATED:20240621T045607Z
LAST-MODIFIED:20240909T235044Z
UID:10058457-1883203200-1883205900@synergyhealthworks.com
SUMMARY:Men's Reformer Class
DESCRIPTION:
URL:https://synergyhealthworks.com/event/mens-reformer-class/2029-09-04/
LOCATION:Wagga Wagga | Reformer Studio (Draft)\, 221 Kincaid Street\, Wagga Wagga\, NSW\, 2650\, Australia
CATEGORIES:Mens Reformer Class
END:VEVENT
BEGIN:VEVENT
DTSTART;TZID=Australia/Sydney:20290906T083000
DTEND;TZID=Australia/Sydney:20290906T091500
DTSTAMP:20260425T090339
CREATED:20240621T045822Z
LAST-MODIFIED:20240909T235129Z
UID:10058718-1883377800-1883380500@synergyhealthworks.com
SUMMARY:Men's Reformer Class
DESCRIPTION:
URL:https://synergyhealthworks.com/event/mens-reformer-class-2/2029-09-06/
LOCATION:Wagga Wagga | Reformer Studio (Draft)\, 221 Kincaid Street\, Wagga Wagga\, NSW\, 2650\, Australia
CATEGORIES:Mens Reformer Class
END:VEVENT
END:VCALENDAR