BEGIN:VCALENDAR
VERSION:2.0
PRODID:-//Synergy Healthworks - ECPv6.15.20//NONSGML v1.0//EN
CALSCALE:GREGORIAN
METHOD:PUBLISH
X-ORIGINAL-URL:https://synergyhealthworks.com
X-WR-CALDESC:Events for Synergy Healthworks
REFRESH-INTERVAL;VALUE=DURATION:PT1H
X-Robots-Tag:noindex
X-PUBLISHED-TTL:PT1H
BEGIN:VTIMEZONE
TZID:Australia/Sydney
BEGIN:STANDARD
TZOFFSETFROM:+1100
TZOFFSETTO:+1000
TZNAME:AEST
DTSTART:20270403T160000
END:STANDARD
BEGIN:DAYLIGHT
TZOFFSETFROM:+1000
TZOFFSETTO:+1100
TZNAME:AEDT
DTSTART:20271002T160000
END:DAYLIGHT
BEGIN:STANDARD
TZOFFSETFROM:+1100
TZOFFSETTO:+1000
TZNAME:AEST
DTSTART:20280401T160000
END:STANDARD
BEGIN:DAYLIGHT
TZOFFSETFROM:+1000
TZOFFSETTO:+1100
TZNAME:AEDT
DTSTART:20280930T160000
END:DAYLIGHT
BEGIN:STANDARD
TZOFFSETFROM:+1100
TZOFFSETTO:+1000
TZNAME:AEST
DTSTART:20290331T160000
END:STANDARD
BEGIN:DAYLIGHT
TZOFFSETFROM:+1000
TZOFFSETTO:+1100
TZNAME:AEDT
DTSTART:20291006T160000
END:DAYLIGHT
BEGIN:STANDARD
TZOFFSETFROM:+1100
TZOFFSETTO:+1000
TZNAME:AEST
DTSTART:20300406T160000
END:STANDARD
BEGIN:DAYLIGHT
TZOFFSETFROM:+1000
TZOFFSETTO:+1100
TZNAME:AEDT
DTSTART:20301005T160000
END:DAYLIGHT
END:VTIMEZONE
BEGIN:VEVENT
DTSTART;TZID=Australia/Sydney:20281107T080000
DTEND;TZID=Australia/Sydney:20281107T084500
DTSTAMP:20260424T223255
CREATED:20240621T045607Z
LAST-MODIFIED:20240909T235044Z
UID:10058414-1857196800-1857199500@synergyhealthworks.com
SUMMARY:Men's Reformer Class
DESCRIPTION:
URL:https://synergyhealthworks.com/event/mens-reformer-class/2028-11-07/
LOCATION:Wagga Wagga | Reformer Studio (Draft)\, 221 Kincaid Street\, Wagga Wagga\, NSW\, 2650\, Australia
CATEGORIES:Mens Reformer Class
END:VEVENT
BEGIN:VEVENT
DTSTART;TZID=Australia/Sydney:20281109T083000
DTEND;TZID=Australia/Sydney:20281109T091500
DTSTAMP:20260424T223255
CREATED:20240621T045822Z
LAST-MODIFIED:20240909T235129Z
UID:10058675-1857371400-1857374100@synergyhealthworks.com
SUMMARY:Men's Reformer Class
DESCRIPTION:
URL:https://synergyhealthworks.com/event/mens-reformer-class-2/2028-11-09/
LOCATION:Wagga Wagga | Reformer Studio (Draft)\, 221 Kincaid Street\, Wagga Wagga\, NSW\, 2650\, Australia
CATEGORIES:Mens Reformer Class
END:VEVENT
BEGIN:VEVENT
DTSTART;TZID=Australia/Sydney:20281114T080000
DTEND;TZID=Australia/Sydney:20281114T084500
DTSTAMP:20260424T223255
CREATED:20240621T045607Z
LAST-MODIFIED:20240909T235044Z
UID:10058415-1857801600-1857804300@synergyhealthworks.com
SUMMARY:Men's Reformer Class
DESCRIPTION:
URL:https://synergyhealthworks.com/event/mens-reformer-class/2028-11-14/
LOCATION:Wagga Wagga | Reformer Studio (Draft)\, 221 Kincaid Street\, Wagga Wagga\, NSW\, 2650\, Australia
CATEGORIES:Mens Reformer Class
END:VEVENT
BEGIN:VEVENT
DTSTART;TZID=Australia/Sydney:20281116T083000
DTEND;TZID=Australia/Sydney:20281116T091500
DTSTAMP:20260424T223255
CREATED:20240621T045822Z
LAST-MODIFIED:20240909T235129Z
UID:10058676-1857976200-1857978900@synergyhealthworks.com
SUMMARY:Men's Reformer Class
DESCRIPTION:
URL:https://synergyhealthworks.com/event/mens-reformer-class-2/2028-11-16/
LOCATION:Wagga Wagga | Reformer Studio (Draft)\, 221 Kincaid Street\, Wagga Wagga\, NSW\, 2650\, Australia
CATEGORIES:Mens Reformer Class
END:VEVENT
BEGIN:VEVENT
DTSTART;TZID=Australia/Sydney:20281121T080000
DTEND;TZID=Australia/Sydney:20281121T084500
DTSTAMP:20260424T223255
CREATED:20240621T045607Z
LAST-MODIFIED:20240909T235044Z
UID:10058416-1858406400-1858409100@synergyhealthworks.com
SUMMARY:Men's Reformer Class
DESCRIPTION:
URL:https://synergyhealthworks.com/event/mens-reformer-class/2028-11-21/
LOCATION:Wagga Wagga | Reformer Studio (Draft)\, 221 Kincaid Street\, Wagga Wagga\, NSW\, 2650\, Australia
CATEGORIES:Mens Reformer Class
END:VEVENT
BEGIN:VEVENT
DTSTART;TZID=Australia/Sydney:20281123T083000
DTEND;TZID=Australia/Sydney:20281123T091500
DTSTAMP:20260424T223255
CREATED:20240621T045822Z
LAST-MODIFIED:20240909T235129Z
UID:10058677-1858581000-1858583700@synergyhealthworks.com
SUMMARY:Men's Reformer Class
DESCRIPTION:
URL:https://synergyhealthworks.com/event/mens-reformer-class-2/2028-11-23/
LOCATION:Wagga Wagga | Reformer Studio (Draft)\, 221 Kincaid Street\, Wagga Wagga\, NSW\, 2650\, Australia
CATEGORIES:Mens Reformer Class
END:VEVENT
BEGIN:VEVENT
DTSTART;TZID=Australia/Sydney:20281128T080000
DTEND;TZID=Australia/Sydney:20281128T084500
DTSTAMP:20260424T223255
CREATED:20240621T045607Z
LAST-MODIFIED:20240909T235044Z
UID:10058417-1859011200-1859013900@synergyhealthworks.com
SUMMARY:Men's Reformer Class
DESCRIPTION:
URL:https://synergyhealthworks.com/event/mens-reformer-class/2028-11-28/
LOCATION:Wagga Wagga | Reformer Studio (Draft)\, 221 Kincaid Street\, Wagga Wagga\, NSW\, 2650\, Australia
CATEGORIES:Mens Reformer Class
END:VEVENT
BEGIN:VEVENT
DTSTART;TZID=Australia/Sydney:20281130T083000
DTEND;TZID=Australia/Sydney:20281130T091500
DTSTAMP:20260424T223255
CREATED:20240621T045822Z
LAST-MODIFIED:20240909T235129Z
UID:10058678-1859185800-1859188500@synergyhealthworks.com
SUMMARY:Men's Reformer Class
DESCRIPTION:
URL:https://synergyhealthworks.com/event/mens-reformer-class-2/2028-11-30/
LOCATION:Wagga Wagga | Reformer Studio (Draft)\, 221 Kincaid Street\, Wagga Wagga\, NSW\, 2650\, Australia
CATEGORIES:Mens Reformer Class
END:VEVENT
BEGIN:VEVENT
DTSTART;TZID=Australia/Sydney:20281205T080000
DTEND;TZID=Australia/Sydney:20281205T084500
DTSTAMP:20260424T223255
CREATED:20240621T045607Z
LAST-MODIFIED:20240909T235044Z
UID:10058418-1859616000-1859618700@synergyhealthworks.com
SUMMARY:Men's Reformer Class
DESCRIPTION:
URL:https://synergyhealthworks.com/event/mens-reformer-class/2028-12-05/
LOCATION:Wagga Wagga | Reformer Studio (Draft)\, 221 Kincaid Street\, Wagga Wagga\, NSW\, 2650\, Australia
CATEGORIES:Mens Reformer Class
END:VEVENT
BEGIN:VEVENT
DTSTART;TZID=Australia/Sydney:20281207T083000
DTEND;TZID=Australia/Sydney:20281207T091500
DTSTAMP:20260424T223255
CREATED:20240621T045822Z
LAST-MODIFIED:20240909T235129Z
UID:10058679-1859790600-1859793300@synergyhealthworks.com
SUMMARY:Men's Reformer Class
DESCRIPTION:
URL:https://synergyhealthworks.com/event/mens-reformer-class-2/2028-12-07/
LOCATION:Wagga Wagga | Reformer Studio (Draft)\, 221 Kincaid Street\, Wagga Wagga\, NSW\, 2650\, Australia
CATEGORIES:Mens Reformer Class
END:VEVENT
BEGIN:VEVENT
DTSTART;TZID=Australia/Sydney:20281212T080000
DTEND;TZID=Australia/Sydney:20281212T084500
DTSTAMP:20260424T223255
CREATED:20240621T045607Z
LAST-MODIFIED:20240909T235044Z
UID:10058419-1860220800-1860223500@synergyhealthworks.com
SUMMARY:Men's Reformer Class
DESCRIPTION:
URL:https://synergyhealthworks.com/event/mens-reformer-class/2028-12-12/
LOCATION:Wagga Wagga | Reformer Studio (Draft)\, 221 Kincaid Street\, Wagga Wagga\, NSW\, 2650\, Australia
CATEGORIES:Mens Reformer Class
END:VEVENT
BEGIN:VEVENT
DTSTART;TZID=Australia/Sydney:20281214T083000
DTEND;TZID=Australia/Sydney:20281214T091500
DTSTAMP:20260424T223255
CREATED:20240621T045822Z
LAST-MODIFIED:20240909T235129Z
UID:10058680-1860395400-1860398100@synergyhealthworks.com
SUMMARY:Men's Reformer Class
DESCRIPTION:
URL:https://synergyhealthworks.com/event/mens-reformer-class-2/2028-12-14/
LOCATION:Wagga Wagga | Reformer Studio (Draft)\, 221 Kincaid Street\, Wagga Wagga\, NSW\, 2650\, Australia
CATEGORIES:Mens Reformer Class
END:VEVENT
BEGIN:VEVENT
DTSTART;TZID=Australia/Sydney:20281219T080000
DTEND;TZID=Australia/Sydney:20281219T084500
DTSTAMP:20260424T223255
CREATED:20240621T045607Z
LAST-MODIFIED:20240909T235044Z
UID:10058420-1860825600-1860828300@synergyhealthworks.com
SUMMARY:Men's Reformer Class
DESCRIPTION:
URL:https://synergyhealthworks.com/event/mens-reformer-class/2028-12-19/
LOCATION:Wagga Wagga | Reformer Studio (Draft)\, 221 Kincaid Street\, Wagga Wagga\, NSW\, 2650\, Australia
CATEGORIES:Mens Reformer Class
END:VEVENT
BEGIN:VEVENT
DTSTART;TZID=Australia/Sydney:20281221T083000
DTEND;TZID=Australia/Sydney:20281221T091500
DTSTAMP:20260424T223255
CREATED:20240621T045822Z
LAST-MODIFIED:20240909T235129Z
UID:10058681-1861000200-1861002900@synergyhealthworks.com
SUMMARY:Men's Reformer Class
DESCRIPTION:
URL:https://synergyhealthworks.com/event/mens-reformer-class-2/2028-12-21/
LOCATION:Wagga Wagga | Reformer Studio (Draft)\, 221 Kincaid Street\, Wagga Wagga\, NSW\, 2650\, Australia
CATEGORIES:Mens Reformer Class
END:VEVENT
BEGIN:VEVENT
DTSTART;TZID=Australia/Sydney:20281226T080000
DTEND;TZID=Australia/Sydney:20281226T084500
DTSTAMP:20260424T223255
CREATED:20240621T045607Z
LAST-MODIFIED:20240909T235044Z
UID:10058421-1861430400-1861433100@synergyhealthworks.com
SUMMARY:Men's Reformer Class
DESCRIPTION:
URL:https://synergyhealthworks.com/event/mens-reformer-class/2028-12-26/
LOCATION:Wagga Wagga | Reformer Studio (Draft)\, 221 Kincaid Street\, Wagga Wagga\, NSW\, 2650\, Australia
CATEGORIES:Mens Reformer Class
END:VEVENT
BEGIN:VEVENT
DTSTART;TZID=Australia/Sydney:20281228T083000
DTEND;TZID=Australia/Sydney:20281228T091500
DTSTAMP:20260424T223255
CREATED:20240621T045822Z
LAST-MODIFIED:20240909T235129Z
UID:10058682-1861605000-1861607700@synergyhealthworks.com
SUMMARY:Men's Reformer Class
DESCRIPTION:
URL:https://synergyhealthworks.com/event/mens-reformer-class-2/2028-12-28/
LOCATION:Wagga Wagga | Reformer Studio (Draft)\, 221 Kincaid Street\, Wagga Wagga\, NSW\, 2650\, Australia
CATEGORIES:Mens Reformer Class
END:VEVENT
BEGIN:VEVENT
DTSTART;TZID=Australia/Sydney:20290102T080000
DTEND;TZID=Australia/Sydney:20290102T084500
DTSTAMP:20260424T223255
CREATED:20240621T045607Z
LAST-MODIFIED:20240909T235044Z
UID:10058422-1862035200-1862037900@synergyhealthworks.com
SUMMARY:Men's Reformer Class
DESCRIPTION:
URL:https://synergyhealthworks.com/event/mens-reformer-class/2029-01-02/
LOCATION:Wagga Wagga | Reformer Studio (Draft)\, 221 Kincaid Street\, Wagga Wagga\, NSW\, 2650\, Australia
CATEGORIES:Mens Reformer Class
END:VEVENT
BEGIN:VEVENT
DTSTART;TZID=Australia/Sydney:20290104T083000
DTEND;TZID=Australia/Sydney:20290104T091500
DTSTAMP:20260424T223255
CREATED:20240621T045822Z
LAST-MODIFIED:20240909T235129Z
UID:10058683-1862209800-1862212500@synergyhealthworks.com
SUMMARY:Men's Reformer Class
DESCRIPTION:
URL:https://synergyhealthworks.com/event/mens-reformer-class-2/2029-01-04/
LOCATION:Wagga Wagga | Reformer Studio (Draft)\, 221 Kincaid Street\, Wagga Wagga\, NSW\, 2650\, Australia
CATEGORIES:Mens Reformer Class
END:VEVENT
BEGIN:VEVENT
DTSTART;TZID=Australia/Sydney:20290109T080000
DTEND;TZID=Australia/Sydney:20290109T084500
DTSTAMP:20260424T223255
CREATED:20240621T045607Z
LAST-MODIFIED:20240909T235044Z
UID:10058423-1862640000-1862642700@synergyhealthworks.com
SUMMARY:Men's Reformer Class
DESCRIPTION:
URL:https://synergyhealthworks.com/event/mens-reformer-class/2029-01-09/
LOCATION:Wagga Wagga | Reformer Studio (Draft)\, 221 Kincaid Street\, Wagga Wagga\, NSW\, 2650\, Australia
CATEGORIES:Mens Reformer Class
END:VEVENT
BEGIN:VEVENT
DTSTART;TZID=Australia/Sydney:20290111T083000
DTEND;TZID=Australia/Sydney:20290111T091500
DTSTAMP:20260424T223255
CREATED:20240621T045822Z
LAST-MODIFIED:20240909T235129Z
UID:10058684-1862814600-1862817300@synergyhealthworks.com
SUMMARY:Men's Reformer Class
DESCRIPTION:
URL:https://synergyhealthworks.com/event/mens-reformer-class-2/2029-01-11/
LOCATION:Wagga Wagga | Reformer Studio (Draft)\, 221 Kincaid Street\, Wagga Wagga\, NSW\, 2650\, Australia
CATEGORIES:Mens Reformer Class
END:VEVENT
BEGIN:VEVENT
DTSTART;TZID=Australia/Sydney:20290116T080000
DTEND;TZID=Australia/Sydney:20290116T084500
DTSTAMP:20260424T223255
CREATED:20240621T045607Z
LAST-MODIFIED:20240909T235044Z
UID:10058424-1863244800-1863247500@synergyhealthworks.com
SUMMARY:Men's Reformer Class
DESCRIPTION:
URL:https://synergyhealthworks.com/event/mens-reformer-class/2029-01-16/
LOCATION:Wagga Wagga | Reformer Studio (Draft)\, 221 Kincaid Street\, Wagga Wagga\, NSW\, 2650\, Australia
CATEGORIES:Mens Reformer Class
END:VEVENT
BEGIN:VEVENT
DTSTART;TZID=Australia/Sydney:20290118T083000
DTEND;TZID=Australia/Sydney:20290118T091500
DTSTAMP:20260424T223255
CREATED:20240621T045822Z
LAST-MODIFIED:20240909T235129Z
UID:10058685-1863419400-1863422100@synergyhealthworks.com
SUMMARY:Men's Reformer Class
DESCRIPTION:
URL:https://synergyhealthworks.com/event/mens-reformer-class-2/2029-01-18/
LOCATION:Wagga Wagga | Reformer Studio (Draft)\, 221 Kincaid Street\, Wagga Wagga\, NSW\, 2650\, Australia
CATEGORIES:Mens Reformer Class
END:VEVENT
BEGIN:VEVENT
DTSTART;TZID=Australia/Sydney:20290123T080000
DTEND;TZID=Australia/Sydney:20290123T084500
DTSTAMP:20260424T223255
CREATED:20240621T045607Z
LAST-MODIFIED:20240909T235044Z
UID:10058425-1863849600-1863852300@synergyhealthworks.com
SUMMARY:Men's Reformer Class
DESCRIPTION:
URL:https://synergyhealthworks.com/event/mens-reformer-class/2029-01-23/
LOCATION:Wagga Wagga | Reformer Studio (Draft)\, 221 Kincaid Street\, Wagga Wagga\, NSW\, 2650\, Australia
CATEGORIES:Mens Reformer Class
END:VEVENT
BEGIN:VEVENT
DTSTART;TZID=Australia/Sydney:20290125T083000
DTEND;TZID=Australia/Sydney:20290125T091500
DTSTAMP:20260424T223255
CREATED:20240621T045822Z
LAST-MODIFIED:20240909T235129Z
UID:10058686-1864024200-1864026900@synergyhealthworks.com
SUMMARY:Men's Reformer Class
DESCRIPTION:
URL:https://synergyhealthworks.com/event/mens-reformer-class-2/2029-01-25/
LOCATION:Wagga Wagga | Reformer Studio (Draft)\, 221 Kincaid Street\, Wagga Wagga\, NSW\, 2650\, Australia
CATEGORIES:Mens Reformer Class
END:VEVENT
BEGIN:VEVENT
DTSTART;TZID=Australia/Sydney:20290130T080000
DTEND;TZID=Australia/Sydney:20290130T084500
DTSTAMP:20260424T223255
CREATED:20240621T045607Z
LAST-MODIFIED:20240909T235044Z
UID:10058426-1864454400-1864457100@synergyhealthworks.com
SUMMARY:Men's Reformer Class
DESCRIPTION:
URL:https://synergyhealthworks.com/event/mens-reformer-class/2029-01-30/
LOCATION:Wagga Wagga | Reformer Studio (Draft)\, 221 Kincaid Street\, Wagga Wagga\, NSW\, 2650\, Australia
CATEGORIES:Mens Reformer Class
END:VEVENT
BEGIN:VEVENT
DTSTART;TZID=Australia/Sydney:20290201T083000
DTEND;TZID=Australia/Sydney:20290201T091500
DTSTAMP:20260424T223255
CREATED:20240621T045822Z
LAST-MODIFIED:20240909T235129Z
UID:10058687-1864629000-1864631700@synergyhealthworks.com
SUMMARY:Men's Reformer Class
DESCRIPTION:
URL:https://synergyhealthworks.com/event/mens-reformer-class-2/2029-02-01/
LOCATION:Wagga Wagga | Reformer Studio (Draft)\, 221 Kincaid Street\, Wagga Wagga\, NSW\, 2650\, Australia
CATEGORIES:Mens Reformer Class
END:VEVENT
BEGIN:VEVENT
DTSTART;TZID=Australia/Sydney:20290206T080000
DTEND;TZID=Australia/Sydney:20290206T084500
DTSTAMP:20260424T223255
CREATED:20240621T045607Z
LAST-MODIFIED:20240909T235044Z
UID:10058427-1865059200-1865061900@synergyhealthworks.com
SUMMARY:Men's Reformer Class
DESCRIPTION:
URL:https://synergyhealthworks.com/event/mens-reformer-class/2029-02-06/
LOCATION:Wagga Wagga | Reformer Studio (Draft)\, 221 Kincaid Street\, Wagga Wagga\, NSW\, 2650\, Australia
CATEGORIES:Mens Reformer Class
END:VEVENT
BEGIN:VEVENT
DTSTART;TZID=Australia/Sydney:20290208T083000
DTEND;TZID=Australia/Sydney:20290208T091500
DTSTAMP:20260424T223255
CREATED:20240621T045822Z
LAST-MODIFIED:20240909T235129Z
UID:10058688-1865233800-1865236500@synergyhealthworks.com
SUMMARY:Men's Reformer Class
DESCRIPTION:
URL:https://synergyhealthworks.com/event/mens-reformer-class-2/2029-02-08/
LOCATION:Wagga Wagga | Reformer Studio (Draft)\, 221 Kincaid Street\, Wagga Wagga\, NSW\, 2650\, Australia
CATEGORIES:Mens Reformer Class
END:VEVENT
BEGIN:VEVENT
DTSTART;TZID=Australia/Sydney:20290213T080000
DTEND;TZID=Australia/Sydney:20290213T084500
DTSTAMP:20260424T223255
CREATED:20240621T045607Z
LAST-MODIFIED:20240909T235044Z
UID:10058428-1865664000-1865666700@synergyhealthworks.com
SUMMARY:Men's Reformer Class
DESCRIPTION:
URL:https://synergyhealthworks.com/event/mens-reformer-class/2029-02-13/
LOCATION:Wagga Wagga | Reformer Studio (Draft)\, 221 Kincaid Street\, Wagga Wagga\, NSW\, 2650\, Australia
CATEGORIES:Mens Reformer Class
END:VEVENT
BEGIN:VEVENT
DTSTART;TZID=Australia/Sydney:20290215T083000
DTEND;TZID=Australia/Sydney:20290215T091500
DTSTAMP:20260424T223255
CREATED:20240621T045822Z
LAST-MODIFIED:20240909T235129Z
UID:10058689-1865838600-1865841300@synergyhealthworks.com
SUMMARY:Men's Reformer Class
DESCRIPTION:
URL:https://synergyhealthworks.com/event/mens-reformer-class-2/2029-02-15/
LOCATION:Wagga Wagga | Reformer Studio (Draft)\, 221 Kincaid Street\, Wagga Wagga\, NSW\, 2650\, Australia
CATEGORIES:Mens Reformer Class
END:VEVENT
END:VCALENDAR