BEGIN:VCALENDAR
VERSION:2.0
PRODID:-//Synergy Healthworks - ECPv6.15.20//NONSGML v1.0//EN
CALSCALE:GREGORIAN
METHOD:PUBLISH
X-WR-CALNAME:Synergy Healthworks
X-ORIGINAL-URL:https://synergyhealthworks.com
X-WR-CALDESC:Events for Synergy Healthworks
REFRESH-INTERVAL;VALUE=DURATION:PT1H
X-Robots-Tag:noindex
X-PUBLISHED-TTL:PT1H
BEGIN:VTIMEZONE
TZID:Australia/Sydney
BEGIN:STANDARD
TZOFFSETFROM:+1100
TZOFFSETTO:+1000
TZNAME:AEST
DTSTART:20270403T160000
END:STANDARD
BEGIN:DAYLIGHT
TZOFFSETFROM:+1000
TZOFFSETTO:+1100
TZNAME:AEDT
DTSTART:20271002T160000
END:DAYLIGHT
BEGIN:STANDARD
TZOFFSETFROM:+1100
TZOFFSETTO:+1000
TZNAME:AEST
DTSTART:20280401T160000
END:STANDARD
BEGIN:DAYLIGHT
TZOFFSETFROM:+1000
TZOFFSETTO:+1100
TZNAME:AEDT
DTSTART:20280930T160000
END:DAYLIGHT
BEGIN:STANDARD
TZOFFSETFROM:+1100
TZOFFSETTO:+1000
TZNAME:AEST
DTSTART:20290331T160000
END:STANDARD
BEGIN:DAYLIGHT
TZOFFSETFROM:+1000
TZOFFSETTO:+1100
TZNAME:AEDT
DTSTART:20291006T160000
END:DAYLIGHT
END:VTIMEZONE
BEGIN:VEVENT
DTSTART;TZID=Australia/Sydney:20280815T080000
DTEND;TZID=Australia/Sydney:20280815T084500
DTSTAMP:20260424T191701
CREATED:20240621T045607Z
LAST-MODIFIED:20240909T235044Z
UID:10058402-1849939200-1849941900@synergyhealthworks.com
SUMMARY:Men's Reformer Class
DESCRIPTION:
URL:https://synergyhealthworks.com/event/mens-reformer-class/2028-08-15/
LOCATION:Wagga Wagga | Reformer Studio (Draft)\, 221 Kincaid Street\, Wagga Wagga\, NSW\, 2650\, Australia
CATEGORIES:Mens Reformer Class
END:VEVENT
BEGIN:VEVENT
DTSTART;TZID=Australia/Sydney:20280817T083000
DTEND;TZID=Australia/Sydney:20280817T091500
DTSTAMP:20260424T191701
CREATED:20240621T045822Z
LAST-MODIFIED:20240909T235129Z
UID:10058663-1850113800-1850116500@synergyhealthworks.com
SUMMARY:Men's Reformer Class
DESCRIPTION:
URL:https://synergyhealthworks.com/event/mens-reformer-class-2/2028-08-17/
LOCATION:Wagga Wagga | Reformer Studio (Draft)\, 221 Kincaid Street\, Wagga Wagga\, NSW\, 2650\, Australia
CATEGORIES:Mens Reformer Class
END:VEVENT
BEGIN:VEVENT
DTSTART;TZID=Australia/Sydney:20280822T080000
DTEND;TZID=Australia/Sydney:20280822T084500
DTSTAMP:20260424T191701
CREATED:20240621T045607Z
LAST-MODIFIED:20240909T235044Z
UID:10058403-1850544000-1850546700@synergyhealthworks.com
SUMMARY:Men's Reformer Class
DESCRIPTION:
URL:https://synergyhealthworks.com/event/mens-reformer-class/2028-08-22/
LOCATION:Wagga Wagga | Reformer Studio (Draft)\, 221 Kincaid Street\, Wagga Wagga\, NSW\, 2650\, Australia
CATEGORIES:Mens Reformer Class
END:VEVENT
BEGIN:VEVENT
DTSTART;TZID=Australia/Sydney:20280824T083000
DTEND;TZID=Australia/Sydney:20280824T091500
DTSTAMP:20260424T191701
CREATED:20240621T045822Z
LAST-MODIFIED:20240909T235129Z
UID:10058664-1850718600-1850721300@synergyhealthworks.com
SUMMARY:Men's Reformer Class
DESCRIPTION:
URL:https://synergyhealthworks.com/event/mens-reformer-class-2/2028-08-24/
LOCATION:Wagga Wagga | Reformer Studio (Draft)\, 221 Kincaid Street\, Wagga Wagga\, NSW\, 2650\, Australia
CATEGORIES:Mens Reformer Class
END:VEVENT
BEGIN:VEVENT
DTSTART;TZID=Australia/Sydney:20280829T080000
DTEND;TZID=Australia/Sydney:20280829T084500
DTSTAMP:20260424T191701
CREATED:20240621T045607Z
LAST-MODIFIED:20240909T235044Z
UID:10058404-1851148800-1851151500@synergyhealthworks.com
SUMMARY:Men's Reformer Class
DESCRIPTION:
URL:https://synergyhealthworks.com/event/mens-reformer-class/2028-08-29/
LOCATION:Wagga Wagga | Reformer Studio (Draft)\, 221 Kincaid Street\, Wagga Wagga\, NSW\, 2650\, Australia
CATEGORIES:Mens Reformer Class
END:VEVENT
BEGIN:VEVENT
DTSTART;TZID=Australia/Sydney:20280831T083000
DTEND;TZID=Australia/Sydney:20280831T091500
DTSTAMP:20260424T191701
CREATED:20240621T045822Z
LAST-MODIFIED:20240909T235129Z
UID:10058665-1851323400-1851326100@synergyhealthworks.com
SUMMARY:Men's Reformer Class
DESCRIPTION:
URL:https://synergyhealthworks.com/event/mens-reformer-class-2/2028-08-31/
LOCATION:Wagga Wagga | Reformer Studio (Draft)\, 221 Kincaid Street\, Wagga Wagga\, NSW\, 2650\, Australia
CATEGORIES:Mens Reformer Class
END:VEVENT
BEGIN:VEVENT
DTSTART;TZID=Australia/Sydney:20280905T080000
DTEND;TZID=Australia/Sydney:20280905T084500
DTSTAMP:20260424T191701
CREATED:20240621T045607Z
LAST-MODIFIED:20240909T235044Z
UID:10058405-1851753600-1851756300@synergyhealthworks.com
SUMMARY:Men's Reformer Class
DESCRIPTION:
URL:https://synergyhealthworks.com/event/mens-reformer-class/2028-09-05/
LOCATION:Wagga Wagga | Reformer Studio (Draft)\, 221 Kincaid Street\, Wagga Wagga\, NSW\, 2650\, Australia
CATEGORIES:Mens Reformer Class
END:VEVENT
BEGIN:VEVENT
DTSTART;TZID=Australia/Sydney:20280907T083000
DTEND;TZID=Australia/Sydney:20280907T091500
DTSTAMP:20260424T191701
CREATED:20240621T045822Z
LAST-MODIFIED:20240909T235129Z
UID:10058666-1851928200-1851930900@synergyhealthworks.com
SUMMARY:Men's Reformer Class
DESCRIPTION:
URL:https://synergyhealthworks.com/event/mens-reformer-class-2/2028-09-07/
LOCATION:Wagga Wagga | Reformer Studio (Draft)\, 221 Kincaid Street\, Wagga Wagga\, NSW\, 2650\, Australia
CATEGORIES:Mens Reformer Class
END:VEVENT
BEGIN:VEVENT
DTSTART;TZID=Australia/Sydney:20280912T080000
DTEND;TZID=Australia/Sydney:20280912T084500
DTSTAMP:20260424T191701
CREATED:20240621T045607Z
LAST-MODIFIED:20240909T235044Z
UID:10058406-1852358400-1852361100@synergyhealthworks.com
SUMMARY:Men's Reformer Class
DESCRIPTION:
URL:https://synergyhealthworks.com/event/mens-reformer-class/2028-09-12/
LOCATION:Wagga Wagga | Reformer Studio (Draft)\, 221 Kincaid Street\, Wagga Wagga\, NSW\, 2650\, Australia
CATEGORIES:Mens Reformer Class
END:VEVENT
BEGIN:VEVENT
DTSTART;TZID=Australia/Sydney:20280914T083000
DTEND;TZID=Australia/Sydney:20280914T091500
DTSTAMP:20260424T191701
CREATED:20240621T045822Z
LAST-MODIFIED:20240909T235129Z
UID:10058667-1852533000-1852535700@synergyhealthworks.com
SUMMARY:Men's Reformer Class
DESCRIPTION:
URL:https://synergyhealthworks.com/event/mens-reformer-class-2/2028-09-14/
LOCATION:Wagga Wagga | Reformer Studio (Draft)\, 221 Kincaid Street\, Wagga Wagga\, NSW\, 2650\, Australia
CATEGORIES:Mens Reformer Class
END:VEVENT
BEGIN:VEVENT
DTSTART;TZID=Australia/Sydney:20280919T080000
DTEND;TZID=Australia/Sydney:20280919T084500
DTSTAMP:20260424T191701
CREATED:20240621T045607Z
LAST-MODIFIED:20240909T235044Z
UID:10058407-1852963200-1852965900@synergyhealthworks.com
SUMMARY:Men's Reformer Class
DESCRIPTION:
URL:https://synergyhealthworks.com/event/mens-reformer-class/2028-09-19/
LOCATION:Wagga Wagga | Reformer Studio (Draft)\, 221 Kincaid Street\, Wagga Wagga\, NSW\, 2650\, Australia
CATEGORIES:Mens Reformer Class
END:VEVENT
BEGIN:VEVENT
DTSTART;TZID=Australia/Sydney:20280921T083000
DTEND;TZID=Australia/Sydney:20280921T091500
DTSTAMP:20260424T191701
CREATED:20240621T045822Z
LAST-MODIFIED:20240909T235129Z
UID:10058668-1853137800-1853140500@synergyhealthworks.com
SUMMARY:Men's Reformer Class
DESCRIPTION:
URL:https://synergyhealthworks.com/event/mens-reformer-class-2/2028-09-21/
LOCATION:Wagga Wagga | Reformer Studio (Draft)\, 221 Kincaid Street\, Wagga Wagga\, NSW\, 2650\, Australia
CATEGORIES:Mens Reformer Class
END:VEVENT
BEGIN:VEVENT
DTSTART;TZID=Australia/Sydney:20280926T080000
DTEND;TZID=Australia/Sydney:20280926T084500
DTSTAMP:20260424T191701
CREATED:20240621T045607Z
LAST-MODIFIED:20240909T235044Z
UID:10058408-1853568000-1853570700@synergyhealthworks.com
SUMMARY:Men's Reformer Class
DESCRIPTION:
URL:https://synergyhealthworks.com/event/mens-reformer-class/2028-09-26/
LOCATION:Wagga Wagga | Reformer Studio (Draft)\, 221 Kincaid Street\, Wagga Wagga\, NSW\, 2650\, Australia
CATEGORIES:Mens Reformer Class
END:VEVENT
BEGIN:VEVENT
DTSTART;TZID=Australia/Sydney:20280928T083000
DTEND;TZID=Australia/Sydney:20280928T091500
DTSTAMP:20260424T191701
CREATED:20240621T045822Z
LAST-MODIFIED:20240909T235129Z
UID:10058669-1853742600-1853745300@synergyhealthworks.com
SUMMARY:Men's Reformer Class
DESCRIPTION:
URL:https://synergyhealthworks.com/event/mens-reformer-class-2/2028-09-28/
LOCATION:Wagga Wagga | Reformer Studio (Draft)\, 221 Kincaid Street\, Wagga Wagga\, NSW\, 2650\, Australia
CATEGORIES:Mens Reformer Class
END:VEVENT
BEGIN:VEVENT
DTSTART;TZID=Australia/Sydney:20281003T080000
DTEND;TZID=Australia/Sydney:20281003T084500
DTSTAMP:20260424T191701
CREATED:20240621T045607Z
LAST-MODIFIED:20240909T235044Z
UID:10058409-1854172800-1854175500@synergyhealthworks.com
SUMMARY:Men's Reformer Class
DESCRIPTION:
URL:https://synergyhealthworks.com/event/mens-reformer-class/2028-10-03/
LOCATION:Wagga Wagga | Reformer Studio (Draft)\, 221 Kincaid Street\, Wagga Wagga\, NSW\, 2650\, Australia
CATEGORIES:Mens Reformer Class
END:VEVENT
BEGIN:VEVENT
DTSTART;TZID=Australia/Sydney:20281005T083000
DTEND;TZID=Australia/Sydney:20281005T091500
DTSTAMP:20260424T191701
CREATED:20240621T045822Z
LAST-MODIFIED:20240909T235129Z
UID:10058670-1854347400-1854350100@synergyhealthworks.com
SUMMARY:Men's Reformer Class
DESCRIPTION:
URL:https://synergyhealthworks.com/event/mens-reformer-class-2/2028-10-05/
LOCATION:Wagga Wagga | Reformer Studio (Draft)\, 221 Kincaid Street\, Wagga Wagga\, NSW\, 2650\, Australia
CATEGORIES:Mens Reformer Class
END:VEVENT
BEGIN:VEVENT
DTSTART;TZID=Australia/Sydney:20281010T080000
DTEND;TZID=Australia/Sydney:20281010T084500
DTSTAMP:20260424T191701
CREATED:20240621T045607Z
LAST-MODIFIED:20240909T235044Z
UID:10058410-1854777600-1854780300@synergyhealthworks.com
SUMMARY:Men's Reformer Class
DESCRIPTION:
URL:https://synergyhealthworks.com/event/mens-reformer-class/2028-10-10/
LOCATION:Wagga Wagga | Reformer Studio (Draft)\, 221 Kincaid Street\, Wagga Wagga\, NSW\, 2650\, Australia
CATEGORIES:Mens Reformer Class
END:VEVENT
BEGIN:VEVENT
DTSTART;TZID=Australia/Sydney:20281012T083000
DTEND;TZID=Australia/Sydney:20281012T091500
DTSTAMP:20260424T191701
CREATED:20240621T045822Z
LAST-MODIFIED:20240909T235129Z
UID:10058671-1854952200-1854954900@synergyhealthworks.com
SUMMARY:Men's Reformer Class
DESCRIPTION:
URL:https://synergyhealthworks.com/event/mens-reformer-class-2/2028-10-12/
LOCATION:Wagga Wagga | Reformer Studio (Draft)\, 221 Kincaid Street\, Wagga Wagga\, NSW\, 2650\, Australia
CATEGORIES:Mens Reformer Class
END:VEVENT
BEGIN:VEVENT
DTSTART;TZID=Australia/Sydney:20281017T080000
DTEND;TZID=Australia/Sydney:20281017T084500
DTSTAMP:20260424T191701
CREATED:20240621T045607Z
LAST-MODIFIED:20240909T235044Z
UID:10058411-1855382400-1855385100@synergyhealthworks.com
SUMMARY:Men's Reformer Class
DESCRIPTION:
URL:https://synergyhealthworks.com/event/mens-reformer-class/2028-10-17/
LOCATION:Wagga Wagga | Reformer Studio (Draft)\, 221 Kincaid Street\, Wagga Wagga\, NSW\, 2650\, Australia
CATEGORIES:Mens Reformer Class
END:VEVENT
BEGIN:VEVENT
DTSTART;TZID=Australia/Sydney:20281019T083000
DTEND;TZID=Australia/Sydney:20281019T091500
DTSTAMP:20260424T191701
CREATED:20240621T045822Z
LAST-MODIFIED:20240909T235129Z
UID:10058672-1855557000-1855559700@synergyhealthworks.com
SUMMARY:Men's Reformer Class
DESCRIPTION:
URL:https://synergyhealthworks.com/event/mens-reformer-class-2/2028-10-19/
LOCATION:Wagga Wagga | Reformer Studio (Draft)\, 221 Kincaid Street\, Wagga Wagga\, NSW\, 2650\, Australia
CATEGORIES:Mens Reformer Class
END:VEVENT
BEGIN:VEVENT
DTSTART;TZID=Australia/Sydney:20281024T080000
DTEND;TZID=Australia/Sydney:20281024T084500
DTSTAMP:20260424T191701
CREATED:20240621T045607Z
LAST-MODIFIED:20240909T235044Z
UID:10058412-1855987200-1855989900@synergyhealthworks.com
SUMMARY:Men's Reformer Class
DESCRIPTION:
URL:https://synergyhealthworks.com/event/mens-reformer-class/2028-10-24/
LOCATION:Wagga Wagga | Reformer Studio (Draft)\, 221 Kincaid Street\, Wagga Wagga\, NSW\, 2650\, Australia
CATEGORIES:Mens Reformer Class
END:VEVENT
BEGIN:VEVENT
DTSTART;TZID=Australia/Sydney:20281026T083000
DTEND;TZID=Australia/Sydney:20281026T091500
DTSTAMP:20260424T191701
CREATED:20240621T045822Z
LAST-MODIFIED:20240909T235129Z
UID:10058673-1856161800-1856164500@synergyhealthworks.com
SUMMARY:Men's Reformer Class
DESCRIPTION:
URL:https://synergyhealthworks.com/event/mens-reformer-class-2/2028-10-26/
LOCATION:Wagga Wagga | Reformer Studio (Draft)\, 221 Kincaid Street\, Wagga Wagga\, NSW\, 2650\, Australia
CATEGORIES:Mens Reformer Class
END:VEVENT
BEGIN:VEVENT
DTSTART;TZID=Australia/Sydney:20281031T080000
DTEND;TZID=Australia/Sydney:20281031T084500
DTSTAMP:20260424T191701
CREATED:20240621T045607Z
LAST-MODIFIED:20240909T235044Z
UID:10058413-1856592000-1856594700@synergyhealthworks.com
SUMMARY:Men's Reformer Class
DESCRIPTION:
URL:https://synergyhealthworks.com/event/mens-reformer-class/2028-10-31/
LOCATION:Wagga Wagga | Reformer Studio (Draft)\, 221 Kincaid Street\, Wagga Wagga\, NSW\, 2650\, Australia
CATEGORIES:Mens Reformer Class
END:VEVENT
BEGIN:VEVENT
DTSTART;TZID=Australia/Sydney:20281102T083000
DTEND;TZID=Australia/Sydney:20281102T091500
DTSTAMP:20260424T191701
CREATED:20240621T045822Z
LAST-MODIFIED:20240909T235129Z
UID:10058674-1856766600-1856769300@synergyhealthworks.com
SUMMARY:Men's Reformer Class
DESCRIPTION:
URL:https://synergyhealthworks.com/event/mens-reformer-class-2/2028-11-02/
LOCATION:Wagga Wagga | Reformer Studio (Draft)\, 221 Kincaid Street\, Wagga Wagga\, NSW\, 2650\, Australia
CATEGORIES:Mens Reformer Class
END:VEVENT
BEGIN:VEVENT
DTSTART;TZID=Australia/Sydney:20281107T080000
DTEND;TZID=Australia/Sydney:20281107T084500
DTSTAMP:20260424T191701
CREATED:20240621T045607Z
LAST-MODIFIED:20240909T235044Z
UID:10058414-1857196800-1857199500@synergyhealthworks.com
SUMMARY:Men's Reformer Class
DESCRIPTION:
URL:https://synergyhealthworks.com/event/mens-reformer-class/2028-11-07/
LOCATION:Wagga Wagga | Reformer Studio (Draft)\, 221 Kincaid Street\, Wagga Wagga\, NSW\, 2650\, Australia
CATEGORIES:Mens Reformer Class
END:VEVENT
BEGIN:VEVENT
DTSTART;TZID=Australia/Sydney:20281109T083000
DTEND;TZID=Australia/Sydney:20281109T091500
DTSTAMP:20260424T191701
CREATED:20240621T045822Z
LAST-MODIFIED:20240909T235129Z
UID:10058675-1857371400-1857374100@synergyhealthworks.com
SUMMARY:Men's Reformer Class
DESCRIPTION:
URL:https://synergyhealthworks.com/event/mens-reformer-class-2/2028-11-09/
LOCATION:Wagga Wagga | Reformer Studio (Draft)\, 221 Kincaid Street\, Wagga Wagga\, NSW\, 2650\, Australia
CATEGORIES:Mens Reformer Class
END:VEVENT
BEGIN:VEVENT
DTSTART;TZID=Australia/Sydney:20281114T080000
DTEND;TZID=Australia/Sydney:20281114T084500
DTSTAMP:20260424T191701
CREATED:20240621T045607Z
LAST-MODIFIED:20240909T235044Z
UID:10058415-1857801600-1857804300@synergyhealthworks.com
SUMMARY:Men's Reformer Class
DESCRIPTION:
URL:https://synergyhealthworks.com/event/mens-reformer-class/2028-11-14/
LOCATION:Wagga Wagga | Reformer Studio (Draft)\, 221 Kincaid Street\, Wagga Wagga\, NSW\, 2650\, Australia
CATEGORIES:Mens Reformer Class
END:VEVENT
BEGIN:VEVENT
DTSTART;TZID=Australia/Sydney:20281116T083000
DTEND;TZID=Australia/Sydney:20281116T091500
DTSTAMP:20260424T191701
CREATED:20240621T045822Z
LAST-MODIFIED:20240909T235129Z
UID:10058676-1857976200-1857978900@synergyhealthworks.com
SUMMARY:Men's Reformer Class
DESCRIPTION:
URL:https://synergyhealthworks.com/event/mens-reformer-class-2/2028-11-16/
LOCATION:Wagga Wagga | Reformer Studio (Draft)\, 221 Kincaid Street\, Wagga Wagga\, NSW\, 2650\, Australia
CATEGORIES:Mens Reformer Class
END:VEVENT
BEGIN:VEVENT
DTSTART;TZID=Australia/Sydney:20281121T080000
DTEND;TZID=Australia/Sydney:20281121T084500
DTSTAMP:20260424T191701
CREATED:20240621T045607Z
LAST-MODIFIED:20240909T235044Z
UID:10058416-1858406400-1858409100@synergyhealthworks.com
SUMMARY:Men's Reformer Class
DESCRIPTION:
URL:https://synergyhealthworks.com/event/mens-reformer-class/2028-11-21/
LOCATION:Wagga Wagga | Reformer Studio (Draft)\, 221 Kincaid Street\, Wagga Wagga\, NSW\, 2650\, Australia
CATEGORIES:Mens Reformer Class
END:VEVENT
BEGIN:VEVENT
DTSTART;TZID=Australia/Sydney:20281123T083000
DTEND;TZID=Australia/Sydney:20281123T091500
DTSTAMP:20260424T191701
CREATED:20240621T045822Z
LAST-MODIFIED:20240909T235129Z
UID:10058677-1858581000-1858583700@synergyhealthworks.com
SUMMARY:Men's Reformer Class
DESCRIPTION:
URL:https://synergyhealthworks.com/event/mens-reformer-class-2/2028-11-23/
LOCATION:Wagga Wagga | Reformer Studio (Draft)\, 221 Kincaid Street\, Wagga Wagga\, NSW\, 2650\, Australia
CATEGORIES:Mens Reformer Class
END:VEVENT
END:VCALENDAR