BEGIN:VCALENDAR
VERSION:2.0
PRODID:-//Synergy Healthworks - ECPv6.15.20//NONSGML v1.0//EN
CALSCALE:GREGORIAN
METHOD:PUBLISH
X-WR-CALNAME:Synergy Healthworks
X-ORIGINAL-URL:https://synergyhealthworks.com
X-WR-CALDESC:Events for Synergy Healthworks
REFRESH-INTERVAL;VALUE=DURATION:PT1H
X-Robots-Tag:noindex
X-PUBLISHED-TTL:PT1H
BEGIN:VTIMEZONE
TZID:Australia/Sydney
BEGIN:STANDARD
TZOFFSETFROM:+1100
TZOFFSETTO:+1000
TZNAME:AEST
DTSTART:20270403T160000
END:STANDARD
BEGIN:DAYLIGHT
TZOFFSETFROM:+1000
TZOFFSETTO:+1100
TZNAME:AEDT
DTSTART:20271002T160000
END:DAYLIGHT
BEGIN:STANDARD
TZOFFSETFROM:+1100
TZOFFSETTO:+1000
TZNAME:AEST
DTSTART:20280401T160000
END:STANDARD
BEGIN:DAYLIGHT
TZOFFSETFROM:+1000
TZOFFSETTO:+1100
TZNAME:AEDT
DTSTART:20280930T160000
END:DAYLIGHT
BEGIN:STANDARD
TZOFFSETFROM:+1100
TZOFFSETTO:+1000
TZNAME:AEST
DTSTART:20290331T160000
END:STANDARD
BEGIN:DAYLIGHT
TZOFFSETFROM:+1000
TZOFFSETTO:+1100
TZNAME:AEDT
DTSTART:20291006T160000
END:DAYLIGHT
END:VTIMEZONE
BEGIN:VEVENT
DTSTART;TZID=Australia/Sydney:20280118T080000
DTEND;TZID=Australia/Sydney:20280118T084500
DTSTAMP:20260424T104743
CREATED:20240621T045607Z
LAST-MODIFIED:20240909T235044Z
UID:10058372-1831795200-1831797900@synergyhealthworks.com
SUMMARY:Men's Reformer Class
DESCRIPTION:
URL:https://synergyhealthworks.com/event/mens-reformer-class/2028-01-18/
LOCATION:Wagga Wagga | Reformer Studio (Draft)\, 221 Kincaid Street\, Wagga Wagga\, NSW\, 2650\, Australia
CATEGORIES:Mens Reformer Class
END:VEVENT
BEGIN:VEVENT
DTSTART;TZID=Australia/Sydney:20280120T083000
DTEND;TZID=Australia/Sydney:20280120T091500
DTSTAMP:20260424T104743
CREATED:20240621T045822Z
LAST-MODIFIED:20240909T235129Z
UID:10058633-1831969800-1831972500@synergyhealthworks.com
SUMMARY:Men's Reformer Class
DESCRIPTION:
URL:https://synergyhealthworks.com/event/mens-reformer-class-2/2028-01-20/
LOCATION:Wagga Wagga | Reformer Studio (Draft)\, 221 Kincaid Street\, Wagga Wagga\, NSW\, 2650\, Australia
CATEGORIES:Mens Reformer Class
END:VEVENT
BEGIN:VEVENT
DTSTART;TZID=Australia/Sydney:20280125T080000
DTEND;TZID=Australia/Sydney:20280125T084500
DTSTAMP:20260424T104743
CREATED:20240621T045607Z
LAST-MODIFIED:20240909T235044Z
UID:10058373-1832400000-1832402700@synergyhealthworks.com
SUMMARY:Men's Reformer Class
DESCRIPTION:
URL:https://synergyhealthworks.com/event/mens-reformer-class/2028-01-25/
LOCATION:Wagga Wagga | Reformer Studio (Draft)\, 221 Kincaid Street\, Wagga Wagga\, NSW\, 2650\, Australia
CATEGORIES:Mens Reformer Class
END:VEVENT
BEGIN:VEVENT
DTSTART;TZID=Australia/Sydney:20280127T083000
DTEND;TZID=Australia/Sydney:20280127T091500
DTSTAMP:20260424T104743
CREATED:20240621T045822Z
LAST-MODIFIED:20240909T235129Z
UID:10058634-1832574600-1832577300@synergyhealthworks.com
SUMMARY:Men's Reformer Class
DESCRIPTION:
URL:https://synergyhealthworks.com/event/mens-reformer-class-2/2028-01-27/
LOCATION:Wagga Wagga | Reformer Studio (Draft)\, 221 Kincaid Street\, Wagga Wagga\, NSW\, 2650\, Australia
CATEGORIES:Mens Reformer Class
END:VEVENT
BEGIN:VEVENT
DTSTART;TZID=Australia/Sydney:20280201T080000
DTEND;TZID=Australia/Sydney:20280201T084500
DTSTAMP:20260424T104743
CREATED:20240621T045607Z
LAST-MODIFIED:20240909T235044Z
UID:10058374-1833004800-1833007500@synergyhealthworks.com
SUMMARY:Men's Reformer Class
DESCRIPTION:
URL:https://synergyhealthworks.com/event/mens-reformer-class/2028-02-01/
LOCATION:Wagga Wagga | Reformer Studio (Draft)\, 221 Kincaid Street\, Wagga Wagga\, NSW\, 2650\, Australia
CATEGORIES:Mens Reformer Class
END:VEVENT
BEGIN:VEVENT
DTSTART;TZID=Australia/Sydney:20280203T083000
DTEND;TZID=Australia/Sydney:20280203T091500
DTSTAMP:20260424T104743
CREATED:20240621T045822Z
LAST-MODIFIED:20240909T235129Z
UID:10058635-1833179400-1833182100@synergyhealthworks.com
SUMMARY:Men's Reformer Class
DESCRIPTION:
URL:https://synergyhealthworks.com/event/mens-reformer-class-2/2028-02-03/
LOCATION:Wagga Wagga | Reformer Studio (Draft)\, 221 Kincaid Street\, Wagga Wagga\, NSW\, 2650\, Australia
CATEGORIES:Mens Reformer Class
END:VEVENT
BEGIN:VEVENT
DTSTART;TZID=Australia/Sydney:20280208T080000
DTEND;TZID=Australia/Sydney:20280208T084500
DTSTAMP:20260424T104743
CREATED:20240621T045607Z
LAST-MODIFIED:20240909T235044Z
UID:10058375-1833609600-1833612300@synergyhealthworks.com
SUMMARY:Men's Reformer Class
DESCRIPTION:
URL:https://synergyhealthworks.com/event/mens-reformer-class/2028-02-08/
LOCATION:Wagga Wagga | Reformer Studio (Draft)\, 221 Kincaid Street\, Wagga Wagga\, NSW\, 2650\, Australia
CATEGORIES:Mens Reformer Class
END:VEVENT
BEGIN:VEVENT
DTSTART;TZID=Australia/Sydney:20280210T083000
DTEND;TZID=Australia/Sydney:20280210T091500
DTSTAMP:20260424T104743
CREATED:20240621T045822Z
LAST-MODIFIED:20240909T235129Z
UID:10058636-1833784200-1833786900@synergyhealthworks.com
SUMMARY:Men's Reformer Class
DESCRIPTION:
URL:https://synergyhealthworks.com/event/mens-reformer-class-2/2028-02-10/
LOCATION:Wagga Wagga | Reformer Studio (Draft)\, 221 Kincaid Street\, Wagga Wagga\, NSW\, 2650\, Australia
CATEGORIES:Mens Reformer Class
END:VEVENT
BEGIN:VEVENT
DTSTART;TZID=Australia/Sydney:20280215T080000
DTEND;TZID=Australia/Sydney:20280215T084500
DTSTAMP:20260424T104743
CREATED:20240621T045607Z
LAST-MODIFIED:20240909T235044Z
UID:10058376-1834214400-1834217100@synergyhealthworks.com
SUMMARY:Men's Reformer Class
DESCRIPTION:
URL:https://synergyhealthworks.com/event/mens-reformer-class/2028-02-15/
LOCATION:Wagga Wagga | Reformer Studio (Draft)\, 221 Kincaid Street\, Wagga Wagga\, NSW\, 2650\, Australia
CATEGORIES:Mens Reformer Class
END:VEVENT
BEGIN:VEVENT
DTSTART;TZID=Australia/Sydney:20280217T083000
DTEND;TZID=Australia/Sydney:20280217T091500
DTSTAMP:20260424T104743
CREATED:20240621T045822Z
LAST-MODIFIED:20240909T235129Z
UID:10058637-1834389000-1834391700@synergyhealthworks.com
SUMMARY:Men's Reformer Class
DESCRIPTION:
URL:https://synergyhealthworks.com/event/mens-reformer-class-2/2028-02-17/
LOCATION:Wagga Wagga | Reformer Studio (Draft)\, 221 Kincaid Street\, Wagga Wagga\, NSW\, 2650\, Australia
CATEGORIES:Mens Reformer Class
END:VEVENT
BEGIN:VEVENT
DTSTART;TZID=Australia/Sydney:20280222T080000
DTEND;TZID=Australia/Sydney:20280222T084500
DTSTAMP:20260424T104743
CREATED:20240621T045607Z
LAST-MODIFIED:20240909T235044Z
UID:10058377-1834819200-1834821900@synergyhealthworks.com
SUMMARY:Men's Reformer Class
DESCRIPTION:
URL:https://synergyhealthworks.com/event/mens-reformer-class/2028-02-22/
LOCATION:Wagga Wagga | Reformer Studio (Draft)\, 221 Kincaid Street\, Wagga Wagga\, NSW\, 2650\, Australia
CATEGORIES:Mens Reformer Class
END:VEVENT
BEGIN:VEVENT
DTSTART;TZID=Australia/Sydney:20280224T083000
DTEND;TZID=Australia/Sydney:20280224T091500
DTSTAMP:20260424T104743
CREATED:20240621T045822Z
LAST-MODIFIED:20240909T235129Z
UID:10058638-1834993800-1834996500@synergyhealthworks.com
SUMMARY:Men's Reformer Class
DESCRIPTION:
URL:https://synergyhealthworks.com/event/mens-reformer-class-2/2028-02-24/
LOCATION:Wagga Wagga | Reformer Studio (Draft)\, 221 Kincaid Street\, Wagga Wagga\, NSW\, 2650\, Australia
CATEGORIES:Mens Reformer Class
END:VEVENT
BEGIN:VEVENT
DTSTART;TZID=Australia/Sydney:20280229T080000
DTEND;TZID=Australia/Sydney:20280229T084500
DTSTAMP:20260424T104743
CREATED:20240621T045607Z
LAST-MODIFIED:20240909T235044Z
UID:10058378-1835424000-1835426700@synergyhealthworks.com
SUMMARY:Men's Reformer Class
DESCRIPTION:
URL:https://synergyhealthworks.com/event/mens-reformer-class/2028-02-29/
LOCATION:Wagga Wagga | Reformer Studio (Draft)\, 221 Kincaid Street\, Wagga Wagga\, NSW\, 2650\, Australia
CATEGORIES:Mens Reformer Class
END:VEVENT
BEGIN:VEVENT
DTSTART;TZID=Australia/Sydney:20280302T083000
DTEND;TZID=Australia/Sydney:20280302T091500
DTSTAMP:20260424T104743
CREATED:20240621T045822Z
LAST-MODIFIED:20240909T235129Z
UID:10058639-1835598600-1835601300@synergyhealthworks.com
SUMMARY:Men's Reformer Class
DESCRIPTION:
URL:https://synergyhealthworks.com/event/mens-reformer-class-2/2028-03-02/
LOCATION:Wagga Wagga | Reformer Studio (Draft)\, 221 Kincaid Street\, Wagga Wagga\, NSW\, 2650\, Australia
CATEGORIES:Mens Reformer Class
END:VEVENT
BEGIN:VEVENT
DTSTART;TZID=Australia/Sydney:20280307T080000
DTEND;TZID=Australia/Sydney:20280307T084500
DTSTAMP:20260424T104743
CREATED:20240621T045607Z
LAST-MODIFIED:20240909T235044Z
UID:10058379-1836028800-1836031500@synergyhealthworks.com
SUMMARY:Men's Reformer Class
DESCRIPTION:
URL:https://synergyhealthworks.com/event/mens-reformer-class/2028-03-07/
LOCATION:Wagga Wagga | Reformer Studio (Draft)\, 221 Kincaid Street\, Wagga Wagga\, NSW\, 2650\, Australia
CATEGORIES:Mens Reformer Class
END:VEVENT
BEGIN:VEVENT
DTSTART;TZID=Australia/Sydney:20280309T083000
DTEND;TZID=Australia/Sydney:20280309T091500
DTSTAMP:20260424T104743
CREATED:20240621T045822Z
LAST-MODIFIED:20240909T235129Z
UID:10058640-1836203400-1836206100@synergyhealthworks.com
SUMMARY:Men's Reformer Class
DESCRIPTION:
URL:https://synergyhealthworks.com/event/mens-reformer-class-2/2028-03-09/
LOCATION:Wagga Wagga | Reformer Studio (Draft)\, 221 Kincaid Street\, Wagga Wagga\, NSW\, 2650\, Australia
CATEGORIES:Mens Reformer Class
END:VEVENT
BEGIN:VEVENT
DTSTART;TZID=Australia/Sydney:20280314T080000
DTEND;TZID=Australia/Sydney:20280314T084500
DTSTAMP:20260424T104743
CREATED:20240621T045607Z
LAST-MODIFIED:20240909T235044Z
UID:10058380-1836633600-1836636300@synergyhealthworks.com
SUMMARY:Men's Reformer Class
DESCRIPTION:
URL:https://synergyhealthworks.com/event/mens-reformer-class/2028-03-14/
LOCATION:Wagga Wagga | Reformer Studio (Draft)\, 221 Kincaid Street\, Wagga Wagga\, NSW\, 2650\, Australia
CATEGORIES:Mens Reformer Class
END:VEVENT
BEGIN:VEVENT
DTSTART;TZID=Australia/Sydney:20280316T083000
DTEND;TZID=Australia/Sydney:20280316T091500
DTSTAMP:20260424T104743
CREATED:20240621T045822Z
LAST-MODIFIED:20240909T235129Z
UID:10058641-1836808200-1836810900@synergyhealthworks.com
SUMMARY:Men's Reformer Class
DESCRIPTION:
URL:https://synergyhealthworks.com/event/mens-reformer-class-2/2028-03-16/
LOCATION:Wagga Wagga | Reformer Studio (Draft)\, 221 Kincaid Street\, Wagga Wagga\, NSW\, 2650\, Australia
CATEGORIES:Mens Reformer Class
END:VEVENT
BEGIN:VEVENT
DTSTART;TZID=Australia/Sydney:20280321T080000
DTEND;TZID=Australia/Sydney:20280321T084500
DTSTAMP:20260424T104743
CREATED:20240621T045607Z
LAST-MODIFIED:20240909T235044Z
UID:10058381-1837238400-1837241100@synergyhealthworks.com
SUMMARY:Men's Reformer Class
DESCRIPTION:
URL:https://synergyhealthworks.com/event/mens-reformer-class/2028-03-21/
LOCATION:Wagga Wagga | Reformer Studio (Draft)\, 221 Kincaid Street\, Wagga Wagga\, NSW\, 2650\, Australia
CATEGORIES:Mens Reformer Class
END:VEVENT
BEGIN:VEVENT
DTSTART;TZID=Australia/Sydney:20280323T083000
DTEND;TZID=Australia/Sydney:20280323T091500
DTSTAMP:20260424T104743
CREATED:20240621T045822Z
LAST-MODIFIED:20240909T235129Z
UID:10058642-1837413000-1837415700@synergyhealthworks.com
SUMMARY:Men's Reformer Class
DESCRIPTION:
URL:https://synergyhealthworks.com/event/mens-reformer-class-2/2028-03-23/
LOCATION:Wagga Wagga | Reformer Studio (Draft)\, 221 Kincaid Street\, Wagga Wagga\, NSW\, 2650\, Australia
CATEGORIES:Mens Reformer Class
END:VEVENT
BEGIN:VEVENT
DTSTART;TZID=Australia/Sydney:20280328T080000
DTEND;TZID=Australia/Sydney:20280328T084500
DTSTAMP:20260424T104743
CREATED:20240621T045607Z
LAST-MODIFIED:20240909T235044Z
UID:10058382-1837843200-1837845900@synergyhealthworks.com
SUMMARY:Men's Reformer Class
DESCRIPTION:
URL:https://synergyhealthworks.com/event/mens-reformer-class/2028-03-28/
LOCATION:Wagga Wagga | Reformer Studio (Draft)\, 221 Kincaid Street\, Wagga Wagga\, NSW\, 2650\, Australia
CATEGORIES:Mens Reformer Class
END:VEVENT
BEGIN:VEVENT
DTSTART;TZID=Australia/Sydney:20280330T083000
DTEND;TZID=Australia/Sydney:20280330T091500
DTSTAMP:20260424T104743
CREATED:20240621T045822Z
LAST-MODIFIED:20240909T235129Z
UID:10058643-1838017800-1838020500@synergyhealthworks.com
SUMMARY:Men's Reformer Class
DESCRIPTION:
URL:https://synergyhealthworks.com/event/mens-reformer-class-2/2028-03-30/
LOCATION:Wagga Wagga | Reformer Studio (Draft)\, 221 Kincaid Street\, Wagga Wagga\, NSW\, 2650\, Australia
CATEGORIES:Mens Reformer Class
END:VEVENT
BEGIN:VEVENT
DTSTART;TZID=Australia/Sydney:20280404T080000
DTEND;TZID=Australia/Sydney:20280404T084500
DTSTAMP:20260424T104743
CREATED:20240621T045607Z
LAST-MODIFIED:20240909T235044Z
UID:10058383-1838448000-1838450700@synergyhealthworks.com
SUMMARY:Men's Reformer Class
DESCRIPTION:
URL:https://synergyhealthworks.com/event/mens-reformer-class/2028-04-04/
LOCATION:Wagga Wagga | Reformer Studio (Draft)\, 221 Kincaid Street\, Wagga Wagga\, NSW\, 2650\, Australia
CATEGORIES:Mens Reformer Class
END:VEVENT
BEGIN:VEVENT
DTSTART;TZID=Australia/Sydney:20280406T083000
DTEND;TZID=Australia/Sydney:20280406T091500
DTSTAMP:20260424T104743
CREATED:20240621T045822Z
LAST-MODIFIED:20240909T235129Z
UID:10058644-1838622600-1838625300@synergyhealthworks.com
SUMMARY:Men's Reformer Class
DESCRIPTION:
URL:https://synergyhealthworks.com/event/mens-reformer-class-2/2028-04-06/
LOCATION:Wagga Wagga | Reformer Studio (Draft)\, 221 Kincaid Street\, Wagga Wagga\, NSW\, 2650\, Australia
CATEGORIES:Mens Reformer Class
END:VEVENT
BEGIN:VEVENT
DTSTART;TZID=Australia/Sydney:20280411T080000
DTEND;TZID=Australia/Sydney:20280411T084500
DTSTAMP:20260424T104743
CREATED:20240621T045607Z
LAST-MODIFIED:20240909T235044Z
UID:10058384-1839052800-1839055500@synergyhealthworks.com
SUMMARY:Men's Reformer Class
DESCRIPTION:
URL:https://synergyhealthworks.com/event/mens-reformer-class/2028-04-11/
LOCATION:Wagga Wagga | Reformer Studio (Draft)\, 221 Kincaid Street\, Wagga Wagga\, NSW\, 2650\, Australia
CATEGORIES:Mens Reformer Class
END:VEVENT
BEGIN:VEVENT
DTSTART;TZID=Australia/Sydney:20280413T083000
DTEND;TZID=Australia/Sydney:20280413T091500
DTSTAMP:20260424T104743
CREATED:20240621T045822Z
LAST-MODIFIED:20240909T235129Z
UID:10058645-1839227400-1839230100@synergyhealthworks.com
SUMMARY:Men's Reformer Class
DESCRIPTION:
URL:https://synergyhealthworks.com/event/mens-reformer-class-2/2028-04-13/
LOCATION:Wagga Wagga | Reformer Studio (Draft)\, 221 Kincaid Street\, Wagga Wagga\, NSW\, 2650\, Australia
CATEGORIES:Mens Reformer Class
END:VEVENT
BEGIN:VEVENT
DTSTART;TZID=Australia/Sydney:20280418T080000
DTEND;TZID=Australia/Sydney:20280418T084500
DTSTAMP:20260424T104743
CREATED:20240621T045607Z
LAST-MODIFIED:20240909T235044Z
UID:10058385-1839657600-1839660300@synergyhealthworks.com
SUMMARY:Men's Reformer Class
DESCRIPTION:
URL:https://synergyhealthworks.com/event/mens-reformer-class/2028-04-18/
LOCATION:Wagga Wagga | Reformer Studio (Draft)\, 221 Kincaid Street\, Wagga Wagga\, NSW\, 2650\, Australia
CATEGORIES:Mens Reformer Class
END:VEVENT
BEGIN:VEVENT
DTSTART;TZID=Australia/Sydney:20280420T083000
DTEND;TZID=Australia/Sydney:20280420T091500
DTSTAMP:20260424T104743
CREATED:20240621T045822Z
LAST-MODIFIED:20240909T235129Z
UID:10058646-1839832200-1839834900@synergyhealthworks.com
SUMMARY:Men's Reformer Class
DESCRIPTION:
URL:https://synergyhealthworks.com/event/mens-reformer-class-2/2028-04-20/
LOCATION:Wagga Wagga | Reformer Studio (Draft)\, 221 Kincaid Street\, Wagga Wagga\, NSW\, 2650\, Australia
CATEGORIES:Mens Reformer Class
END:VEVENT
BEGIN:VEVENT
DTSTART;TZID=Australia/Sydney:20280425T080000
DTEND;TZID=Australia/Sydney:20280425T084500
DTSTAMP:20260424T104743
CREATED:20240621T045607Z
LAST-MODIFIED:20240909T235044Z
UID:10058386-1840262400-1840265100@synergyhealthworks.com
SUMMARY:Men's Reformer Class
DESCRIPTION:
URL:https://synergyhealthworks.com/event/mens-reformer-class/2028-04-25/
LOCATION:Wagga Wagga | Reformer Studio (Draft)\, 221 Kincaid Street\, Wagga Wagga\, NSW\, 2650\, Australia
CATEGORIES:Mens Reformer Class
END:VEVENT
BEGIN:VEVENT
DTSTART;TZID=Australia/Sydney:20280427T083000
DTEND;TZID=Australia/Sydney:20280427T091500
DTSTAMP:20260424T104743
CREATED:20240621T045822Z
LAST-MODIFIED:20240909T235129Z
UID:10058647-1840437000-1840439700@synergyhealthworks.com
SUMMARY:Men's Reformer Class
DESCRIPTION:
URL:https://synergyhealthworks.com/event/mens-reformer-class-2/2028-04-27/
LOCATION:Wagga Wagga | Reformer Studio (Draft)\, 221 Kincaid Street\, Wagga Wagga\, NSW\, 2650\, Australia
CATEGORIES:Mens Reformer Class
END:VEVENT
END:VCALENDAR