BEGIN:VCALENDAR
VERSION:2.0
PRODID:-//Synergy Healthworks - ECPv6.15.20//NONSGML v1.0//EN
CALSCALE:GREGORIAN
METHOD:PUBLISH
X-WR-CALNAME:Synergy Healthworks
X-ORIGINAL-URL:https://synergyhealthworks.com
X-WR-CALDESC:Events for Synergy Healthworks
REFRESH-INTERVAL;VALUE=DURATION:PT1H
X-Robots-Tag:noindex
X-PUBLISHED-TTL:PT1H
BEGIN:VTIMEZONE
TZID:Australia/Sydney
BEGIN:STANDARD
TZOFFSETFROM:+1100
TZOFFSETTO:+1000
TZNAME:AEST
DTSTART:20260404T160000
END:STANDARD
BEGIN:DAYLIGHT
TZOFFSETFROM:+1000
TZOFFSETTO:+1100
TZNAME:AEDT
DTSTART:20261003T160000
END:DAYLIGHT
BEGIN:STANDARD
TZOFFSETFROM:+1100
TZOFFSETTO:+1000
TZNAME:AEST
DTSTART:20270403T160000
END:STANDARD
BEGIN:DAYLIGHT
TZOFFSETFROM:+1000
TZOFFSETTO:+1100
TZNAME:AEDT
DTSTART:20271002T160000
END:DAYLIGHT
BEGIN:STANDARD
TZOFFSETFROM:+1100
TZOFFSETTO:+1000
TZNAME:AEST
DTSTART:20280401T160000
END:STANDARD
BEGIN:DAYLIGHT
TZOFFSETFROM:+1000
TZOFFSETTO:+1100
TZNAME:AEDT
DTSTART:20280930T160000
END:DAYLIGHT
BEGIN:STANDARD
TZOFFSETFROM:+1100
TZOFFSETTO:+1000
TZNAME:AEST
DTSTART:20290331T160000
END:STANDARD
BEGIN:DAYLIGHT
TZOFFSETFROM:+1000
TZOFFSETTO:+1100
TZNAME:AEDT
DTSTART:20291006T160000
END:DAYLIGHT
END:VTIMEZONE
BEGIN:VEVENT
DTSTART;TZID=Australia/Sydney:20271026T080000
DTEND;TZID=Australia/Sydney:20271026T084500
DTSTAMP:20260424T071211
CREATED:20240621T045607Z
LAST-MODIFIED:20240909T235044Z
UID:10058360-1824537600-1824540300@synergyhealthworks.com
SUMMARY:Men's Reformer Class
DESCRIPTION:
URL:https://synergyhealthworks.com/event/mens-reformer-class/2027-10-26/
LOCATION:Wagga Wagga | Reformer Studio (Draft)\, 221 Kincaid Street\, Wagga Wagga\, NSW\, 2650\, Australia
CATEGORIES:Mens Reformer Class
END:VEVENT
BEGIN:VEVENT
DTSTART;TZID=Australia/Sydney:20271028T083000
DTEND;TZID=Australia/Sydney:20271028T091500
DTSTAMP:20260424T071211
CREATED:20240621T045822Z
LAST-MODIFIED:20240909T235129Z
UID:10058621-1824712200-1824714900@synergyhealthworks.com
SUMMARY:Men's Reformer Class
DESCRIPTION:
URL:https://synergyhealthworks.com/event/mens-reformer-class-2/2027-10-28/
LOCATION:Wagga Wagga | Reformer Studio (Draft)\, 221 Kincaid Street\, Wagga Wagga\, NSW\, 2650\, Australia
CATEGORIES:Mens Reformer Class
END:VEVENT
BEGIN:VEVENT
DTSTART;TZID=Australia/Sydney:20271102T080000
DTEND;TZID=Australia/Sydney:20271102T084500
DTSTAMP:20260424T071211
CREATED:20240621T045607Z
LAST-MODIFIED:20240909T235044Z
UID:10058361-1825142400-1825145100@synergyhealthworks.com
SUMMARY:Men's Reformer Class
DESCRIPTION:
URL:https://synergyhealthworks.com/event/mens-reformer-class/2027-11-02/
LOCATION:Wagga Wagga | Reformer Studio (Draft)\, 221 Kincaid Street\, Wagga Wagga\, NSW\, 2650\, Australia
CATEGORIES:Mens Reformer Class
END:VEVENT
BEGIN:VEVENT
DTSTART;TZID=Australia/Sydney:20271104T083000
DTEND;TZID=Australia/Sydney:20271104T091500
DTSTAMP:20260424T071211
CREATED:20240621T045822Z
LAST-MODIFIED:20240909T235129Z
UID:10058622-1825317000-1825319700@synergyhealthworks.com
SUMMARY:Men's Reformer Class
DESCRIPTION:
URL:https://synergyhealthworks.com/event/mens-reformer-class-2/2027-11-04/
LOCATION:Wagga Wagga | Reformer Studio (Draft)\, 221 Kincaid Street\, Wagga Wagga\, NSW\, 2650\, Australia
CATEGORIES:Mens Reformer Class
END:VEVENT
BEGIN:VEVENT
DTSTART;TZID=Australia/Sydney:20271109T080000
DTEND;TZID=Australia/Sydney:20271109T084500
DTSTAMP:20260424T071211
CREATED:20240621T045607Z
LAST-MODIFIED:20240909T235044Z
UID:10058362-1825747200-1825749900@synergyhealthworks.com
SUMMARY:Men's Reformer Class
DESCRIPTION:
URL:https://synergyhealthworks.com/event/mens-reformer-class/2027-11-09/
LOCATION:Wagga Wagga | Reformer Studio (Draft)\, 221 Kincaid Street\, Wagga Wagga\, NSW\, 2650\, Australia
CATEGORIES:Mens Reformer Class
END:VEVENT
BEGIN:VEVENT
DTSTART;TZID=Australia/Sydney:20271111T083000
DTEND;TZID=Australia/Sydney:20271111T091500
DTSTAMP:20260424T071211
CREATED:20240621T045822Z
LAST-MODIFIED:20240909T235129Z
UID:10058623-1825921800-1825924500@synergyhealthworks.com
SUMMARY:Men's Reformer Class
DESCRIPTION:
URL:https://synergyhealthworks.com/event/mens-reformer-class-2/2027-11-11/
LOCATION:Wagga Wagga | Reformer Studio (Draft)\, 221 Kincaid Street\, Wagga Wagga\, NSW\, 2650\, Australia
CATEGORIES:Mens Reformer Class
END:VEVENT
BEGIN:VEVENT
DTSTART;TZID=Australia/Sydney:20271116T080000
DTEND;TZID=Australia/Sydney:20271116T084500
DTSTAMP:20260424T071211
CREATED:20240621T045607Z
LAST-MODIFIED:20240909T235044Z
UID:10058363-1826352000-1826354700@synergyhealthworks.com
SUMMARY:Men's Reformer Class
DESCRIPTION:
URL:https://synergyhealthworks.com/event/mens-reformer-class/2027-11-16/
LOCATION:Wagga Wagga | Reformer Studio (Draft)\, 221 Kincaid Street\, Wagga Wagga\, NSW\, 2650\, Australia
CATEGORIES:Mens Reformer Class
END:VEVENT
BEGIN:VEVENT
DTSTART;TZID=Australia/Sydney:20271118T083000
DTEND;TZID=Australia/Sydney:20271118T091500
DTSTAMP:20260424T071211
CREATED:20240621T045822Z
LAST-MODIFIED:20240909T235129Z
UID:10058624-1826526600-1826529300@synergyhealthworks.com
SUMMARY:Men's Reformer Class
DESCRIPTION:
URL:https://synergyhealthworks.com/event/mens-reformer-class-2/2027-11-18/
LOCATION:Wagga Wagga | Reformer Studio (Draft)\, 221 Kincaid Street\, Wagga Wagga\, NSW\, 2650\, Australia
CATEGORIES:Mens Reformer Class
END:VEVENT
BEGIN:VEVENT
DTSTART;TZID=Australia/Sydney:20271123T080000
DTEND;TZID=Australia/Sydney:20271123T084500
DTSTAMP:20260424T071211
CREATED:20240621T045607Z
LAST-MODIFIED:20240909T235044Z
UID:10058364-1826956800-1826959500@synergyhealthworks.com
SUMMARY:Men's Reformer Class
DESCRIPTION:
URL:https://synergyhealthworks.com/event/mens-reformer-class/2027-11-23/
LOCATION:Wagga Wagga | Reformer Studio (Draft)\, 221 Kincaid Street\, Wagga Wagga\, NSW\, 2650\, Australia
CATEGORIES:Mens Reformer Class
END:VEVENT
BEGIN:VEVENT
DTSTART;TZID=Australia/Sydney:20271125T083000
DTEND;TZID=Australia/Sydney:20271125T091500
DTSTAMP:20260424T071211
CREATED:20240621T045822Z
LAST-MODIFIED:20240909T235129Z
UID:10058625-1827131400-1827134100@synergyhealthworks.com
SUMMARY:Men's Reformer Class
DESCRIPTION:
URL:https://synergyhealthworks.com/event/mens-reformer-class-2/2027-11-25/
LOCATION:Wagga Wagga | Reformer Studio (Draft)\, 221 Kincaid Street\, Wagga Wagga\, NSW\, 2650\, Australia
CATEGORIES:Mens Reformer Class
END:VEVENT
BEGIN:VEVENT
DTSTART;TZID=Australia/Sydney:20271130T080000
DTEND;TZID=Australia/Sydney:20271130T084500
DTSTAMP:20260424T071211
CREATED:20240621T045607Z
LAST-MODIFIED:20240909T235044Z
UID:10058365-1827561600-1827564300@synergyhealthworks.com
SUMMARY:Men's Reformer Class
DESCRIPTION:
URL:https://synergyhealthworks.com/event/mens-reformer-class/2027-11-30/
LOCATION:Wagga Wagga | Reformer Studio (Draft)\, 221 Kincaid Street\, Wagga Wagga\, NSW\, 2650\, Australia
CATEGORIES:Mens Reformer Class
END:VEVENT
BEGIN:VEVENT
DTSTART;TZID=Australia/Sydney:20271202T083000
DTEND;TZID=Australia/Sydney:20271202T091500
DTSTAMP:20260424T071211
CREATED:20240621T045822Z
LAST-MODIFIED:20240909T235129Z
UID:10058626-1827736200-1827738900@synergyhealthworks.com
SUMMARY:Men's Reformer Class
DESCRIPTION:
URL:https://synergyhealthworks.com/event/mens-reformer-class-2/2027-12-02/
LOCATION:Wagga Wagga | Reformer Studio (Draft)\, 221 Kincaid Street\, Wagga Wagga\, NSW\, 2650\, Australia
CATEGORIES:Mens Reformer Class
END:VEVENT
BEGIN:VEVENT
DTSTART;TZID=Australia/Sydney:20271207T080000
DTEND;TZID=Australia/Sydney:20271207T084500
DTSTAMP:20260424T071211
CREATED:20240621T045607Z
LAST-MODIFIED:20240909T235044Z
UID:10058366-1828166400-1828169100@synergyhealthworks.com
SUMMARY:Men's Reformer Class
DESCRIPTION:
URL:https://synergyhealthworks.com/event/mens-reformer-class/2027-12-07/
LOCATION:Wagga Wagga | Reformer Studio (Draft)\, 221 Kincaid Street\, Wagga Wagga\, NSW\, 2650\, Australia
CATEGORIES:Mens Reformer Class
END:VEVENT
BEGIN:VEVENT
DTSTART;TZID=Australia/Sydney:20271209T083000
DTEND;TZID=Australia/Sydney:20271209T091500
DTSTAMP:20260424T071211
CREATED:20240621T045822Z
LAST-MODIFIED:20240909T235129Z
UID:10058627-1828341000-1828343700@synergyhealthworks.com
SUMMARY:Men's Reformer Class
DESCRIPTION:
URL:https://synergyhealthworks.com/event/mens-reformer-class-2/2027-12-09/
LOCATION:Wagga Wagga | Reformer Studio (Draft)\, 221 Kincaid Street\, Wagga Wagga\, NSW\, 2650\, Australia
CATEGORIES:Mens Reformer Class
END:VEVENT
BEGIN:VEVENT
DTSTART;TZID=Australia/Sydney:20271214T080000
DTEND;TZID=Australia/Sydney:20271214T084500
DTSTAMP:20260424T071211
CREATED:20240621T045607Z
LAST-MODIFIED:20240909T235044Z
UID:10058367-1828771200-1828773900@synergyhealthworks.com
SUMMARY:Men's Reformer Class
DESCRIPTION:
URL:https://synergyhealthworks.com/event/mens-reformer-class/2027-12-14/
LOCATION:Wagga Wagga | Reformer Studio (Draft)\, 221 Kincaid Street\, Wagga Wagga\, NSW\, 2650\, Australia
CATEGORIES:Mens Reformer Class
END:VEVENT
BEGIN:VEVENT
DTSTART;TZID=Australia/Sydney:20271216T083000
DTEND;TZID=Australia/Sydney:20271216T091500
DTSTAMP:20260424T071211
CREATED:20240621T045822Z
LAST-MODIFIED:20240909T235129Z
UID:10058628-1828945800-1828948500@synergyhealthworks.com
SUMMARY:Men's Reformer Class
DESCRIPTION:
URL:https://synergyhealthworks.com/event/mens-reformer-class-2/2027-12-16/
LOCATION:Wagga Wagga | Reformer Studio (Draft)\, 221 Kincaid Street\, Wagga Wagga\, NSW\, 2650\, Australia
CATEGORIES:Mens Reformer Class
END:VEVENT
BEGIN:VEVENT
DTSTART;TZID=Australia/Sydney:20271221T080000
DTEND;TZID=Australia/Sydney:20271221T084500
DTSTAMP:20260424T071211
CREATED:20240621T045607Z
LAST-MODIFIED:20240909T235044Z
UID:10058368-1829376000-1829378700@synergyhealthworks.com
SUMMARY:Men's Reformer Class
DESCRIPTION:
URL:https://synergyhealthworks.com/event/mens-reformer-class/2027-12-21/
LOCATION:Wagga Wagga | Reformer Studio (Draft)\, 221 Kincaid Street\, Wagga Wagga\, NSW\, 2650\, Australia
CATEGORIES:Mens Reformer Class
END:VEVENT
BEGIN:VEVENT
DTSTART;TZID=Australia/Sydney:20271223T083000
DTEND;TZID=Australia/Sydney:20271223T091500
DTSTAMP:20260424T071211
CREATED:20240621T045822Z
LAST-MODIFIED:20240909T235129Z
UID:10058629-1829550600-1829553300@synergyhealthworks.com
SUMMARY:Men's Reformer Class
DESCRIPTION:
URL:https://synergyhealthworks.com/event/mens-reformer-class-2/2027-12-23/
LOCATION:Wagga Wagga | Reformer Studio (Draft)\, 221 Kincaid Street\, Wagga Wagga\, NSW\, 2650\, Australia
CATEGORIES:Mens Reformer Class
END:VEVENT
BEGIN:VEVENT
DTSTART;TZID=Australia/Sydney:20271228T080000
DTEND;TZID=Australia/Sydney:20271228T084500
DTSTAMP:20260424T071211
CREATED:20240621T045607Z
LAST-MODIFIED:20240909T235044Z
UID:10058369-1829980800-1829983500@synergyhealthworks.com
SUMMARY:Men's Reformer Class
DESCRIPTION:
URL:https://synergyhealthworks.com/event/mens-reformer-class/2027-12-28/
LOCATION:Wagga Wagga | Reformer Studio (Draft)\, 221 Kincaid Street\, Wagga Wagga\, NSW\, 2650\, Australia
CATEGORIES:Mens Reformer Class
END:VEVENT
BEGIN:VEVENT
DTSTART;TZID=Australia/Sydney:20271230T083000
DTEND;TZID=Australia/Sydney:20271230T091500
DTSTAMP:20260424T071211
CREATED:20240621T045822Z
LAST-MODIFIED:20240909T235129Z
UID:10058630-1830155400-1830158100@synergyhealthworks.com
SUMMARY:Men's Reformer Class
DESCRIPTION:
URL:https://synergyhealthworks.com/event/mens-reformer-class-2/2027-12-30/
LOCATION:Wagga Wagga | Reformer Studio (Draft)\, 221 Kincaid Street\, Wagga Wagga\, NSW\, 2650\, Australia
CATEGORIES:Mens Reformer Class
END:VEVENT
BEGIN:VEVENT
DTSTART;TZID=Australia/Sydney:20280104T080000
DTEND;TZID=Australia/Sydney:20280104T084500
DTSTAMP:20260424T071211
CREATED:20240621T045607Z
LAST-MODIFIED:20240909T235044Z
UID:10058370-1830585600-1830588300@synergyhealthworks.com
SUMMARY:Men's Reformer Class
DESCRIPTION:
URL:https://synergyhealthworks.com/event/mens-reformer-class/2028-01-04/
LOCATION:Wagga Wagga | Reformer Studio (Draft)\, 221 Kincaid Street\, Wagga Wagga\, NSW\, 2650\, Australia
CATEGORIES:Mens Reformer Class
END:VEVENT
BEGIN:VEVENT
DTSTART;TZID=Australia/Sydney:20280106T083000
DTEND;TZID=Australia/Sydney:20280106T091500
DTSTAMP:20260424T071211
CREATED:20240621T045822Z
LAST-MODIFIED:20240909T235129Z
UID:10058631-1830760200-1830762900@synergyhealthworks.com
SUMMARY:Men's Reformer Class
DESCRIPTION:
URL:https://synergyhealthworks.com/event/mens-reformer-class-2/2028-01-06/
LOCATION:Wagga Wagga | Reformer Studio (Draft)\, 221 Kincaid Street\, Wagga Wagga\, NSW\, 2650\, Australia
CATEGORIES:Mens Reformer Class
END:VEVENT
BEGIN:VEVENT
DTSTART;TZID=Australia/Sydney:20280111T080000
DTEND;TZID=Australia/Sydney:20280111T084500
DTSTAMP:20260424T071211
CREATED:20240621T045607Z
LAST-MODIFIED:20240909T235044Z
UID:10058371-1831190400-1831193100@synergyhealthworks.com
SUMMARY:Men's Reformer Class
DESCRIPTION:
URL:https://synergyhealthworks.com/event/mens-reformer-class/2028-01-11/
LOCATION:Wagga Wagga | Reformer Studio (Draft)\, 221 Kincaid Street\, Wagga Wagga\, NSW\, 2650\, Australia
CATEGORIES:Mens Reformer Class
END:VEVENT
BEGIN:VEVENT
DTSTART;TZID=Australia/Sydney:20280113T083000
DTEND;TZID=Australia/Sydney:20280113T091500
DTSTAMP:20260424T071211
CREATED:20240621T045822Z
LAST-MODIFIED:20240909T235129Z
UID:10058632-1831365000-1831367700@synergyhealthworks.com
SUMMARY:Men's Reformer Class
DESCRIPTION:
URL:https://synergyhealthworks.com/event/mens-reformer-class-2/2028-01-13/
LOCATION:Wagga Wagga | Reformer Studio (Draft)\, 221 Kincaid Street\, Wagga Wagga\, NSW\, 2650\, Australia
CATEGORIES:Mens Reformer Class
END:VEVENT
BEGIN:VEVENT
DTSTART;TZID=Australia/Sydney:20280118T080000
DTEND;TZID=Australia/Sydney:20280118T084500
DTSTAMP:20260424T071211
CREATED:20240621T045607Z
LAST-MODIFIED:20240909T235044Z
UID:10058372-1831795200-1831797900@synergyhealthworks.com
SUMMARY:Men's Reformer Class
DESCRIPTION:
URL:https://synergyhealthworks.com/event/mens-reformer-class/2028-01-18/
LOCATION:Wagga Wagga | Reformer Studio (Draft)\, 221 Kincaid Street\, Wagga Wagga\, NSW\, 2650\, Australia
CATEGORIES:Mens Reformer Class
END:VEVENT
BEGIN:VEVENT
DTSTART;TZID=Australia/Sydney:20280120T083000
DTEND;TZID=Australia/Sydney:20280120T091500
DTSTAMP:20260424T071211
CREATED:20240621T045822Z
LAST-MODIFIED:20240909T235129Z
UID:10058633-1831969800-1831972500@synergyhealthworks.com
SUMMARY:Men's Reformer Class
DESCRIPTION:
URL:https://synergyhealthworks.com/event/mens-reformer-class-2/2028-01-20/
LOCATION:Wagga Wagga | Reformer Studio (Draft)\, 221 Kincaid Street\, Wagga Wagga\, NSW\, 2650\, Australia
CATEGORIES:Mens Reformer Class
END:VEVENT
BEGIN:VEVENT
DTSTART;TZID=Australia/Sydney:20280125T080000
DTEND;TZID=Australia/Sydney:20280125T084500
DTSTAMP:20260424T071211
CREATED:20240621T045607Z
LAST-MODIFIED:20240909T235044Z
UID:10058373-1832400000-1832402700@synergyhealthworks.com
SUMMARY:Men's Reformer Class
DESCRIPTION:
URL:https://synergyhealthworks.com/event/mens-reformer-class/2028-01-25/
LOCATION:Wagga Wagga | Reformer Studio (Draft)\, 221 Kincaid Street\, Wagga Wagga\, NSW\, 2650\, Australia
CATEGORIES:Mens Reformer Class
END:VEVENT
BEGIN:VEVENT
DTSTART;TZID=Australia/Sydney:20280127T083000
DTEND;TZID=Australia/Sydney:20280127T091500
DTSTAMP:20260424T071211
CREATED:20240621T045822Z
LAST-MODIFIED:20240909T235129Z
UID:10058634-1832574600-1832577300@synergyhealthworks.com
SUMMARY:Men's Reformer Class
DESCRIPTION:
URL:https://synergyhealthworks.com/event/mens-reformer-class-2/2028-01-27/
LOCATION:Wagga Wagga | Reformer Studio (Draft)\, 221 Kincaid Street\, Wagga Wagga\, NSW\, 2650\, Australia
CATEGORIES:Mens Reformer Class
END:VEVENT
BEGIN:VEVENT
DTSTART;TZID=Australia/Sydney:20280201T080000
DTEND;TZID=Australia/Sydney:20280201T084500
DTSTAMP:20260424T071211
CREATED:20240621T045607Z
LAST-MODIFIED:20240909T235044Z
UID:10058374-1833004800-1833007500@synergyhealthworks.com
SUMMARY:Men's Reformer Class
DESCRIPTION:
URL:https://synergyhealthworks.com/event/mens-reformer-class/2028-02-01/
LOCATION:Wagga Wagga | Reformer Studio (Draft)\, 221 Kincaid Street\, Wagga Wagga\, NSW\, 2650\, Australia
CATEGORIES:Mens Reformer Class
END:VEVENT
BEGIN:VEVENT
DTSTART;TZID=Australia/Sydney:20280203T083000
DTEND;TZID=Australia/Sydney:20280203T091500
DTSTAMP:20260424T071211
CREATED:20240621T045822Z
LAST-MODIFIED:20240909T235129Z
UID:10058635-1833179400-1833182100@synergyhealthworks.com
SUMMARY:Men's Reformer Class
DESCRIPTION:
URL:https://synergyhealthworks.com/event/mens-reformer-class-2/2028-02-03/
LOCATION:Wagga Wagga | Reformer Studio (Draft)\, 221 Kincaid Street\, Wagga Wagga\, NSW\, 2650\, Australia
CATEGORIES:Mens Reformer Class
END:VEVENT
END:VCALENDAR