BEGIN:VCALENDAR
VERSION:2.0
PRODID:-//Synergy Healthworks - ECPv6.15.20//NONSGML v1.0//EN
CALSCALE:GREGORIAN
METHOD:PUBLISH
X-WR-CALNAME:Synergy Healthworks
X-ORIGINAL-URL:https://synergyhealthworks.com
X-WR-CALDESC:Events for Synergy Healthworks
REFRESH-INTERVAL;VALUE=DURATION:PT1H
X-Robots-Tag:noindex
X-PUBLISHED-TTL:PT1H
BEGIN:VTIMEZONE
TZID:Australia/Sydney
BEGIN:STANDARD
TZOFFSETFROM:+1100
TZOFFSETTO:+1000
TZNAME:AEST
DTSTART:20260404T160000
END:STANDARD
BEGIN:DAYLIGHT
TZOFFSETFROM:+1000
TZOFFSETTO:+1100
TZNAME:AEDT
DTSTART:20261003T160000
END:DAYLIGHT
BEGIN:STANDARD
TZOFFSETFROM:+1100
TZOFFSETTO:+1000
TZNAME:AEST
DTSTART:20270403T160000
END:STANDARD
BEGIN:DAYLIGHT
TZOFFSETFROM:+1000
TZOFFSETTO:+1100
TZNAME:AEDT
DTSTART:20271002T160000
END:DAYLIGHT
BEGIN:STANDARD
TZOFFSETFROM:+1100
TZOFFSETTO:+1000
TZNAME:AEST
DTSTART:20280401T160000
END:STANDARD
BEGIN:DAYLIGHT
TZOFFSETFROM:+1000
TZOFFSETTO:+1100
TZNAME:AEDT
DTSTART:20280930T160000
END:DAYLIGHT
END:VTIMEZONE
BEGIN:VEVENT
DTSTART;TZID=Australia/Sydney:20270803T080000
DTEND;TZID=Australia/Sydney:20270803T084500
DTSTAMP:20260424T034518
CREATED:20240621T045607Z
LAST-MODIFIED:20240909T235044Z
UID:10058348-1817280000-1817282700@synergyhealthworks.com
SUMMARY:Men's Reformer Class
DESCRIPTION:
URL:https://synergyhealthworks.com/event/mens-reformer-class/2027-08-03/
LOCATION:Wagga Wagga | Reformer Studio (Draft)\, 221 Kincaid Street\, Wagga Wagga\, NSW\, 2650\, Australia
CATEGORIES:Mens Reformer Class
END:VEVENT
BEGIN:VEVENT
DTSTART;TZID=Australia/Sydney:20270805T083000
DTEND;TZID=Australia/Sydney:20270805T091500
DTSTAMP:20260424T034518
CREATED:20240621T045822Z
LAST-MODIFIED:20240909T235129Z
UID:10058609-1817454600-1817457300@synergyhealthworks.com
SUMMARY:Men's Reformer Class
DESCRIPTION:
URL:https://synergyhealthworks.com/event/mens-reformer-class-2/2027-08-05/
LOCATION:Wagga Wagga | Reformer Studio (Draft)\, 221 Kincaid Street\, Wagga Wagga\, NSW\, 2650\, Australia
CATEGORIES:Mens Reformer Class
END:VEVENT
BEGIN:VEVENT
DTSTART;TZID=Australia/Sydney:20270810T080000
DTEND;TZID=Australia/Sydney:20270810T084500
DTSTAMP:20260424T034518
CREATED:20240621T045607Z
LAST-MODIFIED:20240909T235044Z
UID:10058349-1817884800-1817887500@synergyhealthworks.com
SUMMARY:Men's Reformer Class
DESCRIPTION:
URL:https://synergyhealthworks.com/event/mens-reformer-class/2027-08-10/
LOCATION:Wagga Wagga | Reformer Studio (Draft)\, 221 Kincaid Street\, Wagga Wagga\, NSW\, 2650\, Australia
CATEGORIES:Mens Reformer Class
END:VEVENT
BEGIN:VEVENT
DTSTART;TZID=Australia/Sydney:20270812T083000
DTEND;TZID=Australia/Sydney:20270812T091500
DTSTAMP:20260424T034518
CREATED:20240621T045822Z
LAST-MODIFIED:20240909T235129Z
UID:10058610-1818059400-1818062100@synergyhealthworks.com
SUMMARY:Men's Reformer Class
DESCRIPTION:
URL:https://synergyhealthworks.com/event/mens-reformer-class-2/2027-08-12/
LOCATION:Wagga Wagga | Reformer Studio (Draft)\, 221 Kincaid Street\, Wagga Wagga\, NSW\, 2650\, Australia
CATEGORIES:Mens Reformer Class
END:VEVENT
BEGIN:VEVENT
DTSTART;TZID=Australia/Sydney:20270817T080000
DTEND;TZID=Australia/Sydney:20270817T084500
DTSTAMP:20260424T034518
CREATED:20240621T045607Z
LAST-MODIFIED:20240909T235044Z
UID:10058350-1818489600-1818492300@synergyhealthworks.com
SUMMARY:Men's Reformer Class
DESCRIPTION:
URL:https://synergyhealthworks.com/event/mens-reformer-class/2027-08-17/
LOCATION:Wagga Wagga | Reformer Studio (Draft)\, 221 Kincaid Street\, Wagga Wagga\, NSW\, 2650\, Australia
CATEGORIES:Mens Reformer Class
END:VEVENT
BEGIN:VEVENT
DTSTART;TZID=Australia/Sydney:20270819T083000
DTEND;TZID=Australia/Sydney:20270819T091500
DTSTAMP:20260424T034518
CREATED:20240621T045822Z
LAST-MODIFIED:20240909T235129Z
UID:10058611-1818664200-1818666900@synergyhealthworks.com
SUMMARY:Men's Reformer Class
DESCRIPTION:
URL:https://synergyhealthworks.com/event/mens-reformer-class-2/2027-08-19/
LOCATION:Wagga Wagga | Reformer Studio (Draft)\, 221 Kincaid Street\, Wagga Wagga\, NSW\, 2650\, Australia
CATEGORIES:Mens Reformer Class
END:VEVENT
BEGIN:VEVENT
DTSTART;TZID=Australia/Sydney:20270824T080000
DTEND;TZID=Australia/Sydney:20270824T084500
DTSTAMP:20260424T034518
CREATED:20240621T045607Z
LAST-MODIFIED:20240909T235044Z
UID:10058351-1819094400-1819097100@synergyhealthworks.com
SUMMARY:Men's Reformer Class
DESCRIPTION:
URL:https://synergyhealthworks.com/event/mens-reformer-class/2027-08-24/
LOCATION:Wagga Wagga | Reformer Studio (Draft)\, 221 Kincaid Street\, Wagga Wagga\, NSW\, 2650\, Australia
CATEGORIES:Mens Reformer Class
END:VEVENT
BEGIN:VEVENT
DTSTART;TZID=Australia/Sydney:20270826T083000
DTEND;TZID=Australia/Sydney:20270826T091500
DTSTAMP:20260424T034518
CREATED:20240621T045822Z
LAST-MODIFIED:20240909T235129Z
UID:10058612-1819269000-1819271700@synergyhealthworks.com
SUMMARY:Men's Reformer Class
DESCRIPTION:
URL:https://synergyhealthworks.com/event/mens-reformer-class-2/2027-08-26/
LOCATION:Wagga Wagga | Reformer Studio (Draft)\, 221 Kincaid Street\, Wagga Wagga\, NSW\, 2650\, Australia
CATEGORIES:Mens Reformer Class
END:VEVENT
BEGIN:VEVENT
DTSTART;TZID=Australia/Sydney:20270831T080000
DTEND;TZID=Australia/Sydney:20270831T084500
DTSTAMP:20260424T034518
CREATED:20240621T045607Z
LAST-MODIFIED:20240909T235044Z
UID:10058352-1819699200-1819701900@synergyhealthworks.com
SUMMARY:Men's Reformer Class
DESCRIPTION:
URL:https://synergyhealthworks.com/event/mens-reformer-class/2027-08-31/
LOCATION:Wagga Wagga | Reformer Studio (Draft)\, 221 Kincaid Street\, Wagga Wagga\, NSW\, 2650\, Australia
CATEGORIES:Mens Reformer Class
END:VEVENT
BEGIN:VEVENT
DTSTART;TZID=Australia/Sydney:20270902T083000
DTEND;TZID=Australia/Sydney:20270902T091500
DTSTAMP:20260424T034518
CREATED:20240621T045822Z
LAST-MODIFIED:20240909T235129Z
UID:10058613-1819873800-1819876500@synergyhealthworks.com
SUMMARY:Men's Reformer Class
DESCRIPTION:
URL:https://synergyhealthworks.com/event/mens-reformer-class-2/2027-09-02/
LOCATION:Wagga Wagga | Reformer Studio (Draft)\, 221 Kincaid Street\, Wagga Wagga\, NSW\, 2650\, Australia
CATEGORIES:Mens Reformer Class
END:VEVENT
BEGIN:VEVENT
DTSTART;TZID=Australia/Sydney:20270907T080000
DTEND;TZID=Australia/Sydney:20270907T084500
DTSTAMP:20260424T034518
CREATED:20240621T045607Z
LAST-MODIFIED:20240909T235044Z
UID:10058353-1820304000-1820306700@synergyhealthworks.com
SUMMARY:Men's Reformer Class
DESCRIPTION:
URL:https://synergyhealthworks.com/event/mens-reformer-class/2027-09-07/
LOCATION:Wagga Wagga | Reformer Studio (Draft)\, 221 Kincaid Street\, Wagga Wagga\, NSW\, 2650\, Australia
CATEGORIES:Mens Reformer Class
END:VEVENT
BEGIN:VEVENT
DTSTART;TZID=Australia/Sydney:20270909T083000
DTEND;TZID=Australia/Sydney:20270909T091500
DTSTAMP:20260424T034518
CREATED:20240621T045822Z
LAST-MODIFIED:20240909T235129Z
UID:10058614-1820478600-1820481300@synergyhealthworks.com
SUMMARY:Men's Reformer Class
DESCRIPTION:
URL:https://synergyhealthworks.com/event/mens-reformer-class-2/2027-09-09/
LOCATION:Wagga Wagga | Reformer Studio (Draft)\, 221 Kincaid Street\, Wagga Wagga\, NSW\, 2650\, Australia
CATEGORIES:Mens Reformer Class
END:VEVENT
BEGIN:VEVENT
DTSTART;TZID=Australia/Sydney:20270914T080000
DTEND;TZID=Australia/Sydney:20270914T084500
DTSTAMP:20260424T034518
CREATED:20240621T045607Z
LAST-MODIFIED:20240909T235044Z
UID:10058354-1820908800-1820911500@synergyhealthworks.com
SUMMARY:Men's Reformer Class
DESCRIPTION:
URL:https://synergyhealthworks.com/event/mens-reformer-class/2027-09-14/
LOCATION:Wagga Wagga | Reformer Studio (Draft)\, 221 Kincaid Street\, Wagga Wagga\, NSW\, 2650\, Australia
CATEGORIES:Mens Reformer Class
END:VEVENT
BEGIN:VEVENT
DTSTART;TZID=Australia/Sydney:20270916T083000
DTEND;TZID=Australia/Sydney:20270916T091500
DTSTAMP:20260424T034518
CREATED:20240621T045822Z
LAST-MODIFIED:20240909T235129Z
UID:10058615-1821083400-1821086100@synergyhealthworks.com
SUMMARY:Men's Reformer Class
DESCRIPTION:
URL:https://synergyhealthworks.com/event/mens-reformer-class-2/2027-09-16/
LOCATION:Wagga Wagga | Reformer Studio (Draft)\, 221 Kincaid Street\, Wagga Wagga\, NSW\, 2650\, Australia
CATEGORIES:Mens Reformer Class
END:VEVENT
BEGIN:VEVENT
DTSTART;TZID=Australia/Sydney:20270921T080000
DTEND;TZID=Australia/Sydney:20270921T084500
DTSTAMP:20260424T034518
CREATED:20240621T045607Z
LAST-MODIFIED:20240909T235044Z
UID:10058355-1821513600-1821516300@synergyhealthworks.com
SUMMARY:Men's Reformer Class
DESCRIPTION:
URL:https://synergyhealthworks.com/event/mens-reformer-class/2027-09-21/
LOCATION:Wagga Wagga | Reformer Studio (Draft)\, 221 Kincaid Street\, Wagga Wagga\, NSW\, 2650\, Australia
CATEGORIES:Mens Reformer Class
END:VEVENT
BEGIN:VEVENT
DTSTART;TZID=Australia/Sydney:20270923T083000
DTEND;TZID=Australia/Sydney:20270923T091500
DTSTAMP:20260424T034518
CREATED:20240621T045822Z
LAST-MODIFIED:20240909T235129Z
UID:10058616-1821688200-1821690900@synergyhealthworks.com
SUMMARY:Men's Reformer Class
DESCRIPTION:
URL:https://synergyhealthworks.com/event/mens-reformer-class-2/2027-09-23/
LOCATION:Wagga Wagga | Reformer Studio (Draft)\, 221 Kincaid Street\, Wagga Wagga\, NSW\, 2650\, Australia
CATEGORIES:Mens Reformer Class
END:VEVENT
BEGIN:VEVENT
DTSTART;TZID=Australia/Sydney:20270928T080000
DTEND;TZID=Australia/Sydney:20270928T084500
DTSTAMP:20260424T034518
CREATED:20240621T045607Z
LAST-MODIFIED:20240909T235044Z
UID:10058356-1822118400-1822121100@synergyhealthworks.com
SUMMARY:Men's Reformer Class
DESCRIPTION:
URL:https://synergyhealthworks.com/event/mens-reformer-class/2027-09-28/
LOCATION:Wagga Wagga | Reformer Studio (Draft)\, 221 Kincaid Street\, Wagga Wagga\, NSW\, 2650\, Australia
CATEGORIES:Mens Reformer Class
END:VEVENT
BEGIN:VEVENT
DTSTART;TZID=Australia/Sydney:20270930T083000
DTEND;TZID=Australia/Sydney:20270930T091500
DTSTAMP:20260424T034518
CREATED:20240621T045822Z
LAST-MODIFIED:20240909T235129Z
UID:10058617-1822293000-1822295700@synergyhealthworks.com
SUMMARY:Men's Reformer Class
DESCRIPTION:
URL:https://synergyhealthworks.com/event/mens-reformer-class-2/2027-09-30/
LOCATION:Wagga Wagga | Reformer Studio (Draft)\, 221 Kincaid Street\, Wagga Wagga\, NSW\, 2650\, Australia
CATEGORIES:Mens Reformer Class
END:VEVENT
BEGIN:VEVENT
DTSTART;TZID=Australia/Sydney:20271005T080000
DTEND;TZID=Australia/Sydney:20271005T084500
DTSTAMP:20260424T034518
CREATED:20240621T045607Z
LAST-MODIFIED:20240909T235044Z
UID:10058357-1822723200-1822725900@synergyhealthworks.com
SUMMARY:Men's Reformer Class
DESCRIPTION:
URL:https://synergyhealthworks.com/event/mens-reformer-class/2027-10-05/
LOCATION:Wagga Wagga | Reformer Studio (Draft)\, 221 Kincaid Street\, Wagga Wagga\, NSW\, 2650\, Australia
CATEGORIES:Mens Reformer Class
END:VEVENT
BEGIN:VEVENT
DTSTART;TZID=Australia/Sydney:20271007T083000
DTEND;TZID=Australia/Sydney:20271007T091500
DTSTAMP:20260424T034518
CREATED:20240621T045822Z
LAST-MODIFIED:20240909T235129Z
UID:10058618-1822897800-1822900500@synergyhealthworks.com
SUMMARY:Men's Reformer Class
DESCRIPTION:
URL:https://synergyhealthworks.com/event/mens-reformer-class-2/2027-10-07/
LOCATION:Wagga Wagga | Reformer Studio (Draft)\, 221 Kincaid Street\, Wagga Wagga\, NSW\, 2650\, Australia
CATEGORIES:Mens Reformer Class
END:VEVENT
BEGIN:VEVENT
DTSTART;TZID=Australia/Sydney:20271012T080000
DTEND;TZID=Australia/Sydney:20271012T084500
DTSTAMP:20260424T034518
CREATED:20240621T045607Z
LAST-MODIFIED:20240909T235044Z
UID:10058358-1823328000-1823330700@synergyhealthworks.com
SUMMARY:Men's Reformer Class
DESCRIPTION:
URL:https://synergyhealthworks.com/event/mens-reformer-class/2027-10-12/
LOCATION:Wagga Wagga | Reformer Studio (Draft)\, 221 Kincaid Street\, Wagga Wagga\, NSW\, 2650\, Australia
CATEGORIES:Mens Reformer Class
END:VEVENT
BEGIN:VEVENT
DTSTART;TZID=Australia/Sydney:20271014T083000
DTEND;TZID=Australia/Sydney:20271014T091500
DTSTAMP:20260424T034518
CREATED:20240621T045822Z
LAST-MODIFIED:20240909T235129Z
UID:10058619-1823502600-1823505300@synergyhealthworks.com
SUMMARY:Men's Reformer Class
DESCRIPTION:
URL:https://synergyhealthworks.com/event/mens-reformer-class-2/2027-10-14/
LOCATION:Wagga Wagga | Reformer Studio (Draft)\, 221 Kincaid Street\, Wagga Wagga\, NSW\, 2650\, Australia
CATEGORIES:Mens Reformer Class
END:VEVENT
BEGIN:VEVENT
DTSTART;TZID=Australia/Sydney:20271019T080000
DTEND;TZID=Australia/Sydney:20271019T084500
DTSTAMP:20260424T034518
CREATED:20240621T045607Z
LAST-MODIFIED:20240909T235044Z
UID:10058359-1823932800-1823935500@synergyhealthworks.com
SUMMARY:Men's Reformer Class
DESCRIPTION:
URL:https://synergyhealthworks.com/event/mens-reformer-class/2027-10-19/
LOCATION:Wagga Wagga | Reformer Studio (Draft)\, 221 Kincaid Street\, Wagga Wagga\, NSW\, 2650\, Australia
CATEGORIES:Mens Reformer Class
END:VEVENT
BEGIN:VEVENT
DTSTART;TZID=Australia/Sydney:20271021T083000
DTEND;TZID=Australia/Sydney:20271021T091500
DTSTAMP:20260424T034518
CREATED:20240621T045822Z
LAST-MODIFIED:20240909T235129Z
UID:10058620-1824107400-1824110100@synergyhealthworks.com
SUMMARY:Men's Reformer Class
DESCRIPTION:
URL:https://synergyhealthworks.com/event/mens-reformer-class-2/2027-10-21/
LOCATION:Wagga Wagga | Reformer Studio (Draft)\, 221 Kincaid Street\, Wagga Wagga\, NSW\, 2650\, Australia
CATEGORIES:Mens Reformer Class
END:VEVENT
BEGIN:VEVENT
DTSTART;TZID=Australia/Sydney:20271026T080000
DTEND;TZID=Australia/Sydney:20271026T084500
DTSTAMP:20260424T034518
CREATED:20240621T045607Z
LAST-MODIFIED:20240909T235044Z
UID:10058360-1824537600-1824540300@synergyhealthworks.com
SUMMARY:Men's Reformer Class
DESCRIPTION:
URL:https://synergyhealthworks.com/event/mens-reformer-class/2027-10-26/
LOCATION:Wagga Wagga | Reformer Studio (Draft)\, 221 Kincaid Street\, Wagga Wagga\, NSW\, 2650\, Australia
CATEGORIES:Mens Reformer Class
END:VEVENT
BEGIN:VEVENT
DTSTART;TZID=Australia/Sydney:20271028T083000
DTEND;TZID=Australia/Sydney:20271028T091500
DTSTAMP:20260424T034518
CREATED:20240621T045822Z
LAST-MODIFIED:20240909T235129Z
UID:10058621-1824712200-1824714900@synergyhealthworks.com
SUMMARY:Men's Reformer Class
DESCRIPTION:
URL:https://synergyhealthworks.com/event/mens-reformer-class-2/2027-10-28/
LOCATION:Wagga Wagga | Reformer Studio (Draft)\, 221 Kincaid Street\, Wagga Wagga\, NSW\, 2650\, Australia
CATEGORIES:Mens Reformer Class
END:VEVENT
BEGIN:VEVENT
DTSTART;TZID=Australia/Sydney:20271102T080000
DTEND;TZID=Australia/Sydney:20271102T084500
DTSTAMP:20260424T034518
CREATED:20240621T045607Z
LAST-MODIFIED:20240909T235044Z
UID:10058361-1825142400-1825145100@synergyhealthworks.com
SUMMARY:Men's Reformer Class
DESCRIPTION:
URL:https://synergyhealthworks.com/event/mens-reformer-class/2027-11-02/
LOCATION:Wagga Wagga | Reformer Studio (Draft)\, 221 Kincaid Street\, Wagga Wagga\, NSW\, 2650\, Australia
CATEGORIES:Mens Reformer Class
END:VEVENT
BEGIN:VEVENT
DTSTART;TZID=Australia/Sydney:20271104T083000
DTEND;TZID=Australia/Sydney:20271104T091500
DTSTAMP:20260424T034518
CREATED:20240621T045822Z
LAST-MODIFIED:20240909T235129Z
UID:10058622-1825317000-1825319700@synergyhealthworks.com
SUMMARY:Men's Reformer Class
DESCRIPTION:
URL:https://synergyhealthworks.com/event/mens-reformer-class-2/2027-11-04/
LOCATION:Wagga Wagga | Reformer Studio (Draft)\, 221 Kincaid Street\, Wagga Wagga\, NSW\, 2650\, Australia
CATEGORIES:Mens Reformer Class
END:VEVENT
BEGIN:VEVENT
DTSTART;TZID=Australia/Sydney:20271109T080000
DTEND;TZID=Australia/Sydney:20271109T084500
DTSTAMP:20260424T034518
CREATED:20240621T045607Z
LAST-MODIFIED:20240909T235044Z
UID:10058362-1825747200-1825749900@synergyhealthworks.com
SUMMARY:Men's Reformer Class
DESCRIPTION:
URL:https://synergyhealthworks.com/event/mens-reformer-class/2027-11-09/
LOCATION:Wagga Wagga | Reformer Studio (Draft)\, 221 Kincaid Street\, Wagga Wagga\, NSW\, 2650\, Australia
CATEGORIES:Mens Reformer Class
END:VEVENT
BEGIN:VEVENT
DTSTART;TZID=Australia/Sydney:20271111T083000
DTEND;TZID=Australia/Sydney:20271111T091500
DTSTAMP:20260424T034518
CREATED:20240621T045822Z
LAST-MODIFIED:20240909T235129Z
UID:10058623-1825921800-1825924500@synergyhealthworks.com
SUMMARY:Men's Reformer Class
DESCRIPTION:
URL:https://synergyhealthworks.com/event/mens-reformer-class-2/2027-11-11/
LOCATION:Wagga Wagga | Reformer Studio (Draft)\, 221 Kincaid Street\, Wagga Wagga\, NSW\, 2650\, Australia
CATEGORIES:Mens Reformer Class
END:VEVENT
END:VCALENDAR