BEGIN:VCALENDAR
VERSION:2.0
PRODID:-//Synergy Healthworks - ECPv6.15.20//NONSGML v1.0//EN
CALSCALE:GREGORIAN
METHOD:PUBLISH
X-ORIGINAL-URL:https://synergyhealthworks.com
X-WR-CALDESC:Events for Synergy Healthworks
REFRESH-INTERVAL;VALUE=DURATION:PT1H
X-Robots-Tag:noindex
X-PUBLISHED-TTL:PT1H
BEGIN:VTIMEZONE
TZID:Australia/Sydney
BEGIN:STANDARD
TZOFFSETFROM:+1100
TZOFFSETTO:+1000
TZNAME:AEST
DTSTART:20260404T160000
END:STANDARD
BEGIN:DAYLIGHT
TZOFFSETFROM:+1000
TZOFFSETTO:+1100
TZNAME:AEDT
DTSTART:20261003T160000
END:DAYLIGHT
BEGIN:STANDARD
TZOFFSETFROM:+1100
TZOFFSETTO:+1000
TZNAME:AEST
DTSTART:20270403T160000
END:STANDARD
BEGIN:DAYLIGHT
TZOFFSETFROM:+1000
TZOFFSETTO:+1100
TZNAME:AEDT
DTSTART:20271002T160000
END:DAYLIGHT
BEGIN:STANDARD
TZOFFSETFROM:+1100
TZOFFSETTO:+1000
TZNAME:AEST
DTSTART:20280401T160000
END:STANDARD
BEGIN:DAYLIGHT
TZOFFSETFROM:+1000
TZOFFSETTO:+1100
TZNAME:AEDT
DTSTART:20280930T160000
END:DAYLIGHT
END:VTIMEZONE
BEGIN:VEVENT
DTSTART;TZID=Australia/Sydney:20270505T063000
DTEND;TZID=Australia/Sydney:20270505T071500
DTSTAMP:20260426T020059
CREATED:20241112T045128Z
LAST-MODIFIED:20250129T032952Z
UID:10083882-1809498600-1809501300@synergyhealthworks.com
SUMMARY:Women's Strength Class for over 45s
DESCRIPTION:
URL:https://synergyhealthworks.com/event/womens-strength-class-for-over-45s-7/2027-05-05/
LOCATION:Wagga Wagga | Fitness Hub\, 1/21-25 Forsyth Street\, Wagga Wagga\, NSW\, 2650\, Australia
CATEGORIES:Women's Strength Class for over 45s
END:VEVENT
BEGIN:VEVENT
DTSTART;TZID=Australia/Sydney:20270505T073000
DTEND;TZID=Australia/Sydney:20270505T081500
DTSTAMP:20260426T020059
CREATED:20241112T045308Z
LAST-MODIFIED:20250129T032958Z
UID:10075125-1809502200-1809504900@synergyhealthworks.com
SUMMARY:Functional Fitness
DESCRIPTION:
URL:https://synergyhealthworks.com/event/cardio-combo-circuit-3/2027-05-05/
LOCATION:Wagga Wagga | Fitness Hub\, 1/21-25 Forsyth Street\, Wagga Wagga\, NSW\, 2650\, Australia
CATEGORIES:Functional Fitness
END:VEVENT
BEGIN:VEVENT
DTSTART;TZID=Australia/Sydney:20270505T120000
DTEND;TZID=Australia/Sydney:20270505T124500
DTSTAMP:20260426T020059
CREATED:20241112T220255Z
LAST-MODIFIED:20250129T033004Z
UID:10076185-1809518400-1809521100@synergyhealthworks.com
SUMMARY:Women's Strength Class for over 45s
DESCRIPTION:
URL:https://synergyhealthworks.com/event/womens-strength-class-for-over-45s-9/2027-05-05/
LOCATION:Wagga Wagga | Fitness Hub\, 1/21-25 Forsyth Street\, Wagga Wagga\, NSW\, 2650\, Australia
CATEGORIES:Women's Strength Class for over 45s
END:VEVENT
BEGIN:VEVENT
DTSTART;TZID=Australia/Sydney:20270505T173000
DTEND;TZID=Australia/Sydney:20270505T181500
DTSTAMP:20260426T020059
CREATED:20241112T220941Z
LAST-MODIFIED:20250129T033025Z
UID:10077245-1809538200-1809540900@synergyhealthworks.com
SUMMARY:Strength and Conditioning Class
DESCRIPTION:
URL:https://synergyhealthworks.com/event/functional-conditioning/2027-05-05/
LOCATION:Wagga Wagga | Fitness Hub\, 1/21-25 Forsyth Street\, Wagga Wagga\, NSW\, 2650\, Australia
CATEGORIES:Strength and Conditioning
END:VEVENT
BEGIN:VEVENT
DTSTART;TZID=Australia/Sydney:20270506T063000
DTEND;TZID=Australia/Sydney:20270506T071500
DTSTAMP:20260426T020059
CREATED:20251128T024235Z
LAST-MODIFIED:20251128T024235Z
UID:10131354-1809585000-1809587700@synergyhealthworks.com
SUMMARY:Women's Strength Class for over 45s
DESCRIPTION:
URL:https://synergyhealthworks.com/event/womens-strength-class-for-over-45s-5/2027-05-06/
LOCATION:Wagga Wagga | Fitness Hub\, 1/21-25 Forsyth Street\, Wagga Wagga\, NSW\, 2650\, Australia
CATEGORIES:Women's Strength Class for over 45s
END:VEVENT
BEGIN:VEVENT
DTSTART;TZID=Australia/Sydney:20270506T073000
DTEND;TZID=Australia/Sydney:20270506T081500
DTSTAMP:20260426T020059
CREATED:20241112T221101Z
LAST-MODIFIED:20250129T033150Z
UID:10077510-1809588600-1809591300@synergyhealthworks.com
SUMMARY:Women's Strength Class for over 45s
DESCRIPTION:
URL:https://synergyhealthworks.com/event/womens-strength-class-for-over-45s-11/2027-05-06/
LOCATION:Wagga Wagga | Fitness Hub\, 1/21-25 Forsyth Street\, Wagga Wagga\, NSW\, 2650\, Australia
CATEGORIES:Women's Strength Class for over 45s
END:VEVENT
BEGIN:VEVENT
DTSTART;TZID=Australia/Sydney:20270506T090000
DTEND;TZID=Australia/Sydney:20270506T094500
DTSTAMP:20260426T020059
CREATED:20241112T221649Z
LAST-MODIFIED:20250722T032123Z
UID:10120791-1809594000-1809596700@synergyhealthworks.com
SUMMARY:Golfer's Strengthen & Stretch
DESCRIPTION:
URL:https://synergyhealthworks.com/event/golfers-strengthen-stretch-2/2027-05-06/
LOCATION:Wagga Wagga | Fitness Hub\, 1/21-25 Forsyth Street\, Wagga Wagga\, NSW\, 2650\, Australia
CATEGORIES:Golfer's Strengthen & Stretch
END:VEVENT
BEGIN:VEVENT
DTSTART;TZID=Australia/Sydney:20270506T100000
DTEND;TZID=Australia/Sydney:20270506T104500
DTSTAMP:20260426T020059
CREATED:20241112T221214Z
LAST-MODIFIED:20250722T032235Z
UID:10121092-1809597600-1809600300@synergyhealthworks.com
SUMMARY:Strength Circuit
DESCRIPTION:
URL:https://synergyhealthworks.com/event/mens-strength-class-3/2027-05-06/
LOCATION:Wagga Wagga | Fitness Hub\, 1/21-25 Forsyth Street\, Wagga Wagga\, NSW\, 2650\, Australia
CATEGORIES:Strength Circuit
END:VEVENT
BEGIN:VEVENT
DTSTART;TZID=Australia/Sydney:20270506T120000
DTEND;TZID=Australia/Sydney:20270506T124500
DTSTAMP:20260426T020059
CREATED:20241124T212036Z
LAST-MODIFIED:20250516T043505Z
UID:10086003-1809604800-1809607500@synergyhealthworks.com
SUMMARY:Women's Strength for over 45s
DESCRIPTION:
URL:https://synergyhealthworks.com/event/womens-fat-burn-2/2027-05-06/
LOCATION:Wagga Wagga | Fitness Hub\, 1/21-25 Forsyth Street\, Wagga Wagga\, NSW\, 2650\, Australia
CATEGORIES:Women's Strength Class for over 45s
END:VEVENT
BEGIN:VEVENT
DTSTART;TZID=Australia/Sydney:20270507T071500
DTEND;TZID=Australia/Sydney:20270507T080000
DTSTAMP:20260426T020059
CREATED:20250618T000503Z
LAST-MODIFIED:20250618T000657Z
UID:10118886-1809674100-1809676800@synergyhealthworks.com
SUMMARY:Bike & Box
DESCRIPTION:
URL:https://synergyhealthworks.com/event/bike-and-box/2027-05-07/
LOCATION:Wagga Wagga | Fitness Hub\, 1/21-25 Forsyth Street\, Wagga Wagga\, NSW\, 2650\, Australia
CATEGORIES:Bike & Box,Women's Strength Class for over 45s
END:VEVENT
BEGIN:VEVENT
DTSTART;TZID=Australia/Sydney:20270507T073000
DTEND;TZID=Australia/Sydney:20270507T081500
DTSTAMP:20260426T020059
CREATED:20241202T231716Z
LAST-MODIFIED:20250403T044134Z
UID:10116054-1809675000-1809677700@synergyhealthworks.com
SUMMARY:Strength Circuit
DESCRIPTION:
URL:https://synergyhealthworks.com/event/strength-circuit-2/2027-05-07/
LOCATION:Wagga Wagga | Fitness Hub\, 1/21-25 Forsyth Street\, Wagga Wagga\, NSW\, 2650\, Australia
CATEGORIES:Strength Circuit
END:VEVENT
BEGIN:VEVENT
DTSTART;TZID=Australia/Sydney:20270507T083000
DTEND;TZID=Australia/Sydney:20270507T091500
DTSTAMP:20260426T020059
CREATED:20241112T224821Z
LAST-MODIFIED:20250403T043412Z
UID:10115776-1809678600-1809681300@synergyhealthworks.com
SUMMARY:Women's Strength Class for over 45s
DESCRIPTION:
URL:https://synergyhealthworks.com/event/bike-box-2/2027-05-07/
LOCATION:Wagga Wagga | Fitness Hub\, 1/21-25 Forsyth Street\, Wagga Wagga\, NSW\, 2650\, Australia
CATEGORIES:Women's Strength Class for over 45s
END:VEVENT
BEGIN:VEVENT
DTSTART;TZID=Australia/Sydney:20270510T083000
DTEND;TZID=Australia/Sydney:20270510T091500
DTSTAMP:20260426T020059
CREATED:20241112T035630Z
LAST-MODIFIED:20250129T032622Z
UID:10082287-1809937800-1809940500@synergyhealthworks.com
SUMMARY:Strength Circuit
DESCRIPTION:
URL:https://synergyhealthworks.com/event/strength-circuit/2027-05-10/
LOCATION:Wagga Wagga | Fitness Hub\, 1/21-25 Forsyth Street\, Wagga Wagga\, NSW\, 2650\, Australia
CATEGORIES:Strength Circuit
END:VEVENT
BEGIN:VEVENT
DTSTART;TZID=Australia/Sydney:20270510T120000
DTEND;TZID=Australia/Sydney:20270510T124500
DTSTAMP:20260426T020059
CREATED:20250829T044037Z
LAST-MODIFIED:20250829T044037Z
UID:10122320-1809950400-1809953100@synergyhealthworks.com
SUMMARY:Strength and Conditioning Class
DESCRIPTION:
URL:https://synergyhealthworks.com/event/strength-and-conditioning-class-3/2027-05-10/
LOCATION:Wagga Wagga | Fitness Hub\, 1/21-25 Forsyth Street\, Wagga Wagga\, NSW\, 2650\, Australia
CATEGORIES:Strength and Conditioning
END:VEVENT
BEGIN:VEVENT
DTSTART;TZID=Australia/Sydney:20270510T130000
DTEND;TZID=Australia/Sydney:20270510T134500
DTSTAMP:20260426T020059
CREATED:20251112T001650Z
LAST-MODIFIED:20251112T001650Z
UID:10127452-1809954000-1809956700@synergyhealthworks.com
SUMMARY:Strength and Conditioning Class
DESCRIPTION:
URL:https://synergyhealthworks.com/event/strength-and-conditioning-class-5/2027-05-10/
LOCATION:Wagga Wagga | Fitness Hub\, 1/21-25 Forsyth Street\, Wagga Wagga\, NSW\, 2650\, Australia
CATEGORIES:Strength and Conditioning
END:VEVENT
BEGIN:VEVENT
DTSTART;TZID=Australia/Sydney:20270510T163000
DTEND;TZID=Australia/Sydney:20270510T171500
DTSTAMP:20260426T020059
CREATED:20250502T051402Z
LAST-MODIFIED:20250502T051402Z
UID:10116589-1809966600-1809969300@synergyhealthworks.com
SUMMARY:Women’s Pregnancy Strength Class
DESCRIPTION:
URL:https://synergyhealthworks.com/event/womens-pregnancy-strength-class/2027-05-10/
LOCATION:Wagga Wagga | Fitness Hub\, 1/21-25 Forsyth Street\, Wagga Wagga\, NSW\, 2650\, Australia
CATEGORIES:Women’s Pregnancy Strength Class
END:VEVENT
BEGIN:VEVENT
DTSTART;TZID=Australia/Sydney:20270510T173000
DTEND;TZID=Australia/Sydney:20270510T181500
DTSTAMP:20260426T020059
CREATED:20241112T041557Z
LAST-MODIFIED:20250129T032656Z
UID:10072210-1809970200-1809972900@synergyhealthworks.com
SUMMARY:Strength and Conditioning Class
DESCRIPTION:
URL:https://synergyhealthworks.com/event/strength-and-conditioning-class-4/2027-05-10/
LOCATION:Wagga Wagga | Fitness Hub\, 1/21-25 Forsyth Street\, Wagga Wagga\, NSW\, 2650\, Australia
CATEGORIES:Strength and Conditioning
END:VEVENT
BEGIN:VEVENT
DTSTART;TZID=Australia/Sydney:20270511T063000
DTEND;TZID=Australia/Sydney:20270511T071500
DTSTAMP:20260426T020059
CREATED:20241124T211846Z
LAST-MODIFIED:20250516T043543Z
UID:10085743-1810017000-1810019700@synergyhealthworks.com
SUMMARY:Women's Strength for over 45s
DESCRIPTION:
URL:https://synergyhealthworks.com/event/womens-fat-burn/2027-05-11/
LOCATION:Wagga Wagga | Fitness Hub\, 1/21-25 Forsyth Street\, Wagga Wagga\, NSW\, 2650\, Australia
CATEGORIES:Women's Strength Class for over 45s
END:VEVENT
BEGIN:VEVENT
DTSTART;TZID=Australia/Sydney:20270511T073000
DTEND;TZID=Australia/Sydney:20270511T081500
DTSTAMP:20260426T020059
CREATED:20241112T041932Z
LAST-MODIFIED:20250129T032814Z
UID:10072741-1810020600-1810023300@synergyhealthworks.com
SUMMARY:Women’s Strength Class for over 45s
DESCRIPTION:
URL:https://synergyhealthworks.com/event/womens-strength-class-for-over-45s-4/2027-05-11/
LOCATION:Wagga Wagga | Fitness Hub\, 1/21-25 Forsyth Street\, Wagga Wagga\, NSW\, 2650\, Australia
CATEGORIES:Women's Strength Class for over 45s
END:VEVENT
BEGIN:VEVENT
DTSTART;TZID=Australia/Sydney:20270511T103000
DTEND;TZID=Australia/Sydney:20270511T111500
DTSTAMP:20260426T020100
CREATED:20250502T051536Z
LAST-MODIFIED:20251203T032954Z
UID:10116850-1810031400-1810034100@synergyhealthworks.com
SUMMARY:Women’s Pelvic and Strength Class
DESCRIPTION:
URL:https://synergyhealthworks.com/event/womens-pelvic-and-strength-class/2027-05-11/
LOCATION:Wagga Wagga | Fitness Hub\, 1/21-25 Forsyth Street\, Wagga Wagga\, NSW\, 2650\, Australia
CATEGORIES:Women’s Pelvic and Strength Class
END:VEVENT
BEGIN:VEVENT
DTSTART;TZID=Australia/Sydney:20270511T120000
DTEND;TZID=Australia/Sydney:20270511T124500
DTSTAMP:20260426T020100
CREATED:20241112T044419Z
LAST-MODIFIED:20250129T032834Z
UID:10073536-1810036800-1810039500@synergyhealthworks.com
SUMMARY:Women's Strength Class for over 45s
DESCRIPTION:
URL:https://synergyhealthworks.com/event/womens-strength-class-for-over-45s-6/2027-05-11/
LOCATION:Wagga Wagga | Fitness Hub\, 1/21-25 Forsyth Street\, Wagga Wagga\, NSW\, 2650\, Australia
CATEGORIES:Women's Strength Class for over 45s
END:VEVENT
BEGIN:VEVENT
DTSTART;TZID=Australia/Sydney:20270511T163000
DTEND;TZID=Australia/Sydney:20270511T171500
DTSTAMP:20260426T020100
CREATED:20241112T044834Z
LAST-MODIFIED:20250129T032845Z
UID:10074331-1810053000-1810055700@synergyhealthworks.com
SUMMARY:Strength Circuit
DESCRIPTION:
URL:https://synergyhealthworks.com/event/strength-circuit-5/2027-05-11/
LOCATION:Wagga Wagga | Fitness Hub\, 1/21-25 Forsyth Street\, Wagga Wagga\, NSW\, 2650\, Australia
CATEGORIES:Strength Circuit
END:VEVENT
BEGIN:VEVENT
DTSTART;TZID=Australia/Sydney:20270512T063000
DTEND;TZID=Australia/Sydney:20270512T071500
DTSTAMP:20260426T020100
CREATED:20241112T045128Z
LAST-MODIFIED:20250129T032952Z
UID:10083883-1810103400-1810106100@synergyhealthworks.com
SUMMARY:Women's Strength Class for over 45s
DESCRIPTION:
URL:https://synergyhealthworks.com/event/womens-strength-class-for-over-45s-7/2027-05-12/
LOCATION:Wagga Wagga | Fitness Hub\, 1/21-25 Forsyth Street\, Wagga Wagga\, NSW\, 2650\, Australia
CATEGORIES:Women's Strength Class for over 45s
END:VEVENT
BEGIN:VEVENT
DTSTART;TZID=Australia/Sydney:20270512T073000
DTEND;TZID=Australia/Sydney:20270512T081500
DTSTAMP:20260426T020100
CREATED:20241112T045308Z
LAST-MODIFIED:20250129T032958Z
UID:10075126-1810107000-1810109700@synergyhealthworks.com
SUMMARY:Functional Fitness
DESCRIPTION:
URL:https://synergyhealthworks.com/event/cardio-combo-circuit-3/2027-05-12/
LOCATION:Wagga Wagga | Fitness Hub\, 1/21-25 Forsyth Street\, Wagga Wagga\, NSW\, 2650\, Australia
CATEGORIES:Functional Fitness
END:VEVENT
BEGIN:VEVENT
DTSTART;TZID=Australia/Sydney:20270512T120000
DTEND;TZID=Australia/Sydney:20270512T124500
DTSTAMP:20260426T020100
CREATED:20241112T220255Z
LAST-MODIFIED:20250129T033004Z
UID:10076186-1810123200-1810125900@synergyhealthworks.com
SUMMARY:Women's Strength Class for over 45s
DESCRIPTION:
URL:https://synergyhealthworks.com/event/womens-strength-class-for-over-45s-9/2027-05-12/
LOCATION:Wagga Wagga | Fitness Hub\, 1/21-25 Forsyth Street\, Wagga Wagga\, NSW\, 2650\, Australia
CATEGORIES:Women's Strength Class for over 45s
END:VEVENT
BEGIN:VEVENT
DTSTART;TZID=Australia/Sydney:20270512T173000
DTEND;TZID=Australia/Sydney:20270512T181500
DTSTAMP:20260426T020100
CREATED:20241112T220941Z
LAST-MODIFIED:20250129T033025Z
UID:10077246-1810143000-1810145700@synergyhealthworks.com
SUMMARY:Strength and Conditioning Class
DESCRIPTION:
URL:https://synergyhealthworks.com/event/functional-conditioning/2027-05-12/
LOCATION:Wagga Wagga | Fitness Hub\, 1/21-25 Forsyth Street\, Wagga Wagga\, NSW\, 2650\, Australia
CATEGORIES:Strength and Conditioning
END:VEVENT
BEGIN:VEVENT
DTSTART;TZID=Australia/Sydney:20270513T063000
DTEND;TZID=Australia/Sydney:20270513T071500
DTSTAMP:20260426T020100
CREATED:20251128T024235Z
LAST-MODIFIED:20251128T024235Z
UID:10131355-1810189800-1810192500@synergyhealthworks.com
SUMMARY:Women's Strength Class for over 45s
DESCRIPTION:
URL:https://synergyhealthworks.com/event/womens-strength-class-for-over-45s-5/2027-05-13/
LOCATION:Wagga Wagga | Fitness Hub\, 1/21-25 Forsyth Street\, Wagga Wagga\, NSW\, 2650\, Australia
CATEGORIES:Women's Strength Class for over 45s
END:VEVENT
BEGIN:VEVENT
DTSTART;TZID=Australia/Sydney:20270513T073000
DTEND;TZID=Australia/Sydney:20270513T081500
DTSTAMP:20260426T020100
CREATED:20241112T221101Z
LAST-MODIFIED:20250129T033150Z
UID:10077511-1810193400-1810196100@synergyhealthworks.com
SUMMARY:Women's Strength Class for over 45s
DESCRIPTION:
URL:https://synergyhealthworks.com/event/womens-strength-class-for-over-45s-11/2027-05-13/
LOCATION:Wagga Wagga | Fitness Hub\, 1/21-25 Forsyth Street\, Wagga Wagga\, NSW\, 2650\, Australia
CATEGORIES:Women's Strength Class for over 45s
END:VEVENT
BEGIN:VEVENT
DTSTART;TZID=Australia/Sydney:20270513T090000
DTEND;TZID=Australia/Sydney:20270513T094500
DTSTAMP:20260426T020100
CREATED:20241112T221649Z
LAST-MODIFIED:20250722T032123Z
UID:10120792-1810198800-1810201500@synergyhealthworks.com
SUMMARY:Golfer's Strengthen & Stretch
DESCRIPTION:
URL:https://synergyhealthworks.com/event/golfers-strengthen-stretch-2/2027-05-13/
LOCATION:Wagga Wagga | Fitness Hub\, 1/21-25 Forsyth Street\, Wagga Wagga\, NSW\, 2650\, Australia
CATEGORIES:Golfer's Strengthen & Stretch
END:VEVENT
BEGIN:VEVENT
DTSTART;TZID=Australia/Sydney:20270513T100000
DTEND;TZID=Australia/Sydney:20270513T104500
DTSTAMP:20260426T020100
CREATED:20241112T221214Z
LAST-MODIFIED:20250722T032235Z
UID:10121093-1810202400-1810205100@synergyhealthworks.com
SUMMARY:Strength Circuit
DESCRIPTION:
URL:https://synergyhealthworks.com/event/mens-strength-class-3/2027-05-13/
LOCATION:Wagga Wagga | Fitness Hub\, 1/21-25 Forsyth Street\, Wagga Wagga\, NSW\, 2650\, Australia
CATEGORIES:Strength Circuit
END:VEVENT
END:VCALENDAR