BEGIN:VCALENDAR
VERSION:2.0
PRODID:-//Synergy Healthworks - ECPv6.15.20//NONSGML v1.0//EN
CALSCALE:GREGORIAN
METHOD:PUBLISH
X-ORIGINAL-URL:https://synergyhealthworks.com
X-WR-CALDESC:Events for Synergy Healthworks
REFRESH-INTERVAL;VALUE=DURATION:PT1H
X-Robots-Tag:noindex
X-PUBLISHED-TTL:PT1H
BEGIN:VTIMEZONE
TZID:Australia/Sydney
BEGIN:STANDARD
TZOFFSETFROM:+1100
TZOFFSETTO:+1000
TZNAME:AEST
DTSTART:20240406T160000
END:STANDARD
BEGIN:DAYLIGHT
TZOFFSETFROM:+1000
TZOFFSETTO:+1100
TZNAME:AEDT
DTSTART:20241005T160000
END:DAYLIGHT
BEGIN:STANDARD
TZOFFSETFROM:+1100
TZOFFSETTO:+1000
TZNAME:AEST
DTSTART:20250405T160000
END:STANDARD
BEGIN:DAYLIGHT
TZOFFSETFROM:+1000
TZOFFSETTO:+1100
TZNAME:AEDT
DTSTART:20251004T160000
END:DAYLIGHT
BEGIN:STANDARD
TZOFFSETFROM:+1100
TZOFFSETTO:+1000
TZNAME:AEST
DTSTART:20260404T160000
END:STANDARD
BEGIN:DAYLIGHT
TZOFFSETFROM:+1000
TZOFFSETTO:+1100
TZNAME:AEDT
DTSTART:20261003T160000
END:DAYLIGHT
END:VTIMEZONE
BEGIN:VEVENT
DTSTART;TZID=Australia/Sydney:20250528T073000
DTEND;TZID=Australia/Sydney:20250528T081500
DTSTAMP:20260425T135134
CREATED:20241112T045308Z
LAST-MODIFIED:20250129T032958Z
UID:10075024-1748417400-1748420100@synergyhealthworks.com
SUMMARY:Functional Fitness
DESCRIPTION:
URL:https://synergyhealthworks.com/event/cardio-combo-circuit-3/2025-05-28/
LOCATION:Wagga Wagga | Fitness Hub\, 1/21-25 Forsyth Street\, Wagga Wagga\, NSW\, 2650\, Australia
CATEGORIES:Functional Fitness
END:VEVENT
BEGIN:VEVENT
DTSTART;TZID=Australia/Sydney:20250528T063000
DTEND;TZID=Australia/Sydney:20250528T071500
DTSTAMP:20260425T135134
CREATED:20241112T045128Z
LAST-MODIFIED:20250129T032952Z
UID:10083781-1748413800-1748416500@synergyhealthworks.com
SUMMARY:Women's Strength Class for over 45s
DESCRIPTION:
URL:https://synergyhealthworks.com/event/womens-strength-class-for-over-45s-7/2025-05-28/
LOCATION:Wagga Wagga | Fitness Hub\, 1/21-25 Forsyth Street\, Wagga Wagga\, NSW\, 2650\, Australia
CATEGORIES:Women's Strength Class for over 45s
END:VEVENT
BEGIN:VEVENT
DTSTART;TZID=Australia/Sydney:20250527T163000
DTEND;TZID=Australia/Sydney:20250527T171500
DTSTAMP:20260425T135134
CREATED:20241112T044834Z
LAST-MODIFIED:20250129T032845Z
UID:10074229-1748363400-1748366100@synergyhealthworks.com
SUMMARY:Strength Circuit
DESCRIPTION:
URL:https://synergyhealthworks.com/event/strength-circuit-5/2025-05-27/
LOCATION:Wagga Wagga | Fitness Hub\, 1/21-25 Forsyth Street\, Wagga Wagga\, NSW\, 2650\, Australia
CATEGORIES:Strength Circuit
END:VEVENT
BEGIN:VEVENT
DTSTART;TZID=Australia/Sydney:20250527T120000
DTEND;TZID=Australia/Sydney:20250527T124500
DTSTAMP:20260425T135134
CREATED:20241112T044419Z
LAST-MODIFIED:20250129T032834Z
UID:10073434-1748347200-1748349900@synergyhealthworks.com
SUMMARY:Women's Strength Class for over 45s
DESCRIPTION:
URL:https://synergyhealthworks.com/event/womens-strength-class-for-over-45s-6/2025-05-27/
LOCATION:Wagga Wagga | Fitness Hub\, 1/21-25 Forsyth Street\, Wagga Wagga\, NSW\, 2650\, Australia
CATEGORIES:Women's Strength Class for over 45s
END:VEVENT
BEGIN:VEVENT
DTSTART;TZID=Australia/Sydney:20250527T103000
DTEND;TZID=Australia/Sydney:20250527T111500
DTSTAMP:20260425T135134
CREATED:20250502T051536Z
LAST-MODIFIED:20251203T032954Z
UID:10116748-1748341800-1748344500@synergyhealthworks.com
SUMMARY:Women’s Pelvic and Strength Class
DESCRIPTION:
URL:https://synergyhealthworks.com/event/womens-pelvic-and-strength-class/2025-05-27/
LOCATION:Wagga Wagga | Fitness Hub\, 1/21-25 Forsyth Street\, Wagga Wagga\, NSW\, 2650\, Australia
CATEGORIES:Women’s Pelvic and Strength Class
END:VEVENT
BEGIN:VEVENT
DTSTART;TZID=Australia/Sydney:20250527T073000
DTEND;TZID=Australia/Sydney:20250527T081500
DTSTAMP:20260425T135134
CREATED:20241112T041932Z
LAST-MODIFIED:20250129T032814Z
UID:10072639-1748331000-1748333700@synergyhealthworks.com
SUMMARY:Women’s Strength Class for over 45s
DESCRIPTION:
URL:https://synergyhealthworks.com/event/womens-strength-class-for-over-45s-4/2025-05-27/
LOCATION:Wagga Wagga | Fitness Hub\, 1/21-25 Forsyth Street\, Wagga Wagga\, NSW\, 2650\, Australia
CATEGORIES:Women's Strength Class for over 45s
END:VEVENT
BEGIN:VEVENT
DTSTART;TZID=Australia/Sydney:20250527T063000
DTEND;TZID=Australia/Sydney:20250527T071500
DTSTAMP:20260425T135134
CREATED:20241124T211846Z
LAST-MODIFIED:20250516T043543Z
UID:10085641-1748327400-1748330100@synergyhealthworks.com
SUMMARY:Women's Strength for over 45s
DESCRIPTION:
URL:https://synergyhealthworks.com/event/womens-fat-burn/2025-05-27/
LOCATION:Wagga Wagga | Fitness Hub\, 1/21-25 Forsyth Street\, Wagga Wagga\, NSW\, 2650\, Australia
CATEGORIES:Women's Strength Class for over 45s
END:VEVENT
BEGIN:VEVENT
DTSTART;TZID=Australia/Sydney:20250526T173000
DTEND;TZID=Australia/Sydney:20250526T181500
DTSTAMP:20260425T135134
CREATED:20241112T041557Z
LAST-MODIFIED:20250129T032656Z
UID:10072108-1748280600-1748283300@synergyhealthworks.com
SUMMARY:Strength and Conditioning Class
DESCRIPTION:
URL:https://synergyhealthworks.com/event/strength-and-conditioning-class-4/2025-05-26/
LOCATION:Wagga Wagga | Fitness Hub\, 1/21-25 Forsyth Street\, Wagga Wagga\, NSW\, 2650\, Australia
CATEGORIES:Strength and Conditioning
END:VEVENT
BEGIN:VEVENT
DTSTART;TZID=Australia/Sydney:20250526T163000
DTEND;TZID=Australia/Sydney:20250526T171500
DTSTAMP:20260425T135134
CREATED:20250502T051402Z
LAST-MODIFIED:20250502T051402Z
UID:10116487-1748277000-1748279700@synergyhealthworks.com
SUMMARY:Women’s Pregnancy Strength Class
DESCRIPTION:
URL:https://synergyhealthworks.com/event/womens-pregnancy-strength-class/2025-05-26/
LOCATION:Wagga Wagga | Fitness Hub\, 1/21-25 Forsyth Street\, Wagga Wagga\, NSW\, 2650\, Australia
CATEGORIES:Women’s Pregnancy Strength Class
END:VEVENT
BEGIN:VEVENT
DTSTART;TZID=Australia/Sydney:20250526T130000
DTEND;TZID=Australia/Sydney:20250526T134500
DTSTAMP:20260425T135134
CREATED:20251112T001650Z
LAST-MODIFIED:20251112T001650Z
UID:10127350-1748264400-1748267100@synergyhealthworks.com
SUMMARY:Strength and Conditioning Class
DESCRIPTION:
URL:https://synergyhealthworks.com/event/strength-and-conditioning-class-5/2025-05-26/
LOCATION:Wagga Wagga | Fitness Hub\, 1/21-25 Forsyth Street\, Wagga Wagga\, NSW\, 2650\, Australia
CATEGORIES:Strength and Conditioning
END:VEVENT
BEGIN:VEVENT
DTSTART;TZID=Australia/Sydney:20250526T120000
DTEND;TZID=Australia/Sydney:20250526T124500
DTSTAMP:20260425T135134
CREATED:20250829T044037Z
LAST-MODIFIED:20250829T044037Z
UID:10122218-1748260800-1748263500@synergyhealthworks.com
SUMMARY:Strength and Conditioning Class
DESCRIPTION:
URL:https://synergyhealthworks.com/event/strength-and-conditioning-class-3/2025-05-26/
LOCATION:Wagga Wagga | Fitness Hub\, 1/21-25 Forsyth Street\, Wagga Wagga\, NSW\, 2650\, Australia
CATEGORIES:Strength and Conditioning
END:VEVENT
BEGIN:VEVENT
DTSTART;TZID=Australia/Sydney:20250526T083000
DTEND;TZID=Australia/Sydney:20250526T091500
DTSTAMP:20260425T135134
CREATED:20241112T035630Z
LAST-MODIFIED:20250129T032622Z
UID:10082185-1748248200-1748250900@synergyhealthworks.com
SUMMARY:Strength Circuit
DESCRIPTION:
URL:https://synergyhealthworks.com/event/strength-circuit/2025-05-26/
LOCATION:Wagga Wagga | Fitness Hub\, 1/21-25 Forsyth Street\, Wagga Wagga\, NSW\, 2650\, Australia
CATEGORIES:Strength Circuit
END:VEVENT
BEGIN:VEVENT
DTSTART;TZID=Australia/Sydney:20250523T083000
DTEND;TZID=Australia/Sydney:20250523T091500
DTSTAMP:20260425T135134
CREATED:20241112T224821Z
LAST-MODIFIED:20250403T043412Z
UID:10115674-1747989000-1747991700@synergyhealthworks.com
SUMMARY:Women's Strength Class for over 45s
DESCRIPTION:
URL:https://synergyhealthworks.com/event/bike-box-2/2025-05-23/
LOCATION:Wagga Wagga | Fitness Hub\, 1/21-25 Forsyth Street\, Wagga Wagga\, NSW\, 2650\, Australia
CATEGORIES:Women's Strength Class for over 45s
END:VEVENT
BEGIN:VEVENT
DTSTART;TZID=Australia/Sydney:20250523T073000
DTEND;TZID=Australia/Sydney:20250523T081500
DTSTAMP:20260425T135134
CREATED:20241202T231716Z
LAST-MODIFIED:20250403T044134Z
UID:10115952-1747985400-1747988100@synergyhealthworks.com
SUMMARY:Strength Circuit
DESCRIPTION:
URL:https://synergyhealthworks.com/event/strength-circuit-2/2025-05-23/
LOCATION:Wagga Wagga | Fitness Hub\, 1/21-25 Forsyth Street\, Wagga Wagga\, NSW\, 2650\, Australia
CATEGORIES:Strength Circuit
END:VEVENT
BEGIN:VEVENT
DTSTART;TZID=Australia/Sydney:20250523T071500
DTEND;TZID=Australia/Sydney:20250523T080000
DTSTAMP:20260425T135134
CREATED:20250618T000503Z
LAST-MODIFIED:20250618T000657Z
UID:10118784-1747984500-1747987200@synergyhealthworks.com
SUMMARY:Bike & Box
DESCRIPTION:
URL:https://synergyhealthworks.com/event/bike-and-box/2025-05-23/
LOCATION:Wagga Wagga | Fitness Hub\, 1/21-25 Forsyth Street\, Wagga Wagga\, NSW\, 2650\, Australia
CATEGORIES:Bike & Box,Women's Strength Class for over 45s
END:VEVENT
BEGIN:VEVENT
DTSTART;TZID=Australia/Sydney:20250522T120000
DTEND;TZID=Australia/Sydney:20250522T124500
DTSTAMP:20260425T135134
CREATED:20241124T212036Z
LAST-MODIFIED:20250516T043505Z
UID:10085901-1747915200-1747917900@synergyhealthworks.com
SUMMARY:Women's Strength for over 45s
DESCRIPTION:
URL:https://synergyhealthworks.com/event/womens-fat-burn-2/2025-05-22/
LOCATION:Wagga Wagga | Fitness Hub\, 1/21-25 Forsyth Street\, Wagga Wagga\, NSW\, 2650\, Australia
CATEGORIES:Women's Strength Class for over 45s
END:VEVENT
BEGIN:VEVENT
DTSTART;TZID=Australia/Sydney:20250522T100000
DTEND;TZID=Australia/Sydney:20250522T104500
DTSTAMP:20260425T135134
CREATED:20241112T221214Z
LAST-MODIFIED:20250722T032235Z
UID:10120990-1747908000-1747910700@synergyhealthworks.com
SUMMARY:Strength Circuit
DESCRIPTION:
URL:https://synergyhealthworks.com/event/mens-strength-class-3/2025-05-22/
LOCATION:Wagga Wagga | Fitness Hub\, 1/21-25 Forsyth Street\, Wagga Wagga\, NSW\, 2650\, Australia
CATEGORIES:Strength Circuit
END:VEVENT
BEGIN:VEVENT
DTSTART;TZID=Australia/Sydney:20250522T090000
DTEND;TZID=Australia/Sydney:20250522T094500
DTSTAMP:20260425T135134
CREATED:20241112T221649Z
LAST-MODIFIED:20250722T032123Z
UID:10120689-1747904400-1747907100@synergyhealthworks.com
SUMMARY:Golfer's Strengthen & Stretch
DESCRIPTION:
URL:https://synergyhealthworks.com/event/golfers-strengthen-stretch-2/2025-05-22/
LOCATION:Wagga Wagga | Fitness Hub\, 1/21-25 Forsyth Street\, Wagga Wagga\, NSW\, 2650\, Australia
CATEGORIES:Golfer's Strengthen & Stretch
END:VEVENT
BEGIN:VEVENT
DTSTART;TZID=Australia/Sydney:20250522T073000
DTEND;TZID=Australia/Sydney:20250522T081500
DTSTAMP:20260425T135134
CREATED:20241112T221101Z
LAST-MODIFIED:20250129T033150Z
UID:10077408-1747899000-1747901700@synergyhealthworks.com
SUMMARY:Women's Strength Class for over 45s
DESCRIPTION:
URL:https://synergyhealthworks.com/event/womens-strength-class-for-over-45s-11/2025-05-22/
LOCATION:Wagga Wagga | Fitness Hub\, 1/21-25 Forsyth Street\, Wagga Wagga\, NSW\, 2650\, Australia
CATEGORIES:Women's Strength Class for over 45s
END:VEVENT
BEGIN:VEVENT
DTSTART;TZID=Australia/Sydney:20250522T063000
DTEND;TZID=Australia/Sydney:20250522T071500
DTSTAMP:20260425T135134
CREATED:20251128T024235Z
LAST-MODIFIED:20251128T024235Z
UID:10131252-1747895400-1747898100@synergyhealthworks.com
SUMMARY:Women's Strength Class for over 45s
DESCRIPTION:
URL:https://synergyhealthworks.com/event/womens-strength-class-for-over-45s-5/2025-05-22/
LOCATION:Wagga Wagga | Fitness Hub\, 1/21-25 Forsyth Street\, Wagga Wagga\, NSW\, 2650\, Australia
CATEGORIES:Women's Strength Class for over 45s
END:VEVENT
BEGIN:VEVENT
DTSTART;TZID=Australia/Sydney:20250521T173000
DTEND;TZID=Australia/Sydney:20250521T181500
DTSTAMP:20260425T135134
CREATED:20241112T220941Z
LAST-MODIFIED:20250129T033025Z
UID:10077143-1747848600-1747851300@synergyhealthworks.com
SUMMARY:Strength and Conditioning Class
DESCRIPTION:
URL:https://synergyhealthworks.com/event/functional-conditioning/2025-05-21/
LOCATION:Wagga Wagga | Fitness Hub\, 1/21-25 Forsyth Street\, Wagga Wagga\, NSW\, 2650\, Australia
CATEGORIES:Strength and Conditioning
END:VEVENT
BEGIN:VEVENT
DTSTART;TZID=Australia/Sydney:20250521T120000
DTEND;TZID=Australia/Sydney:20250521T124500
DTSTAMP:20260425T135134
CREATED:20241112T220255Z
LAST-MODIFIED:20250129T033004Z
UID:10076083-1747828800-1747831500@synergyhealthworks.com
SUMMARY:Women's Strength Class for over 45s
DESCRIPTION:
URL:https://synergyhealthworks.com/event/womens-strength-class-for-over-45s-9/2025-05-21/
LOCATION:Wagga Wagga | Fitness Hub\, 1/21-25 Forsyth Street\, Wagga Wagga\, NSW\, 2650\, Australia
CATEGORIES:Women's Strength Class for over 45s
END:VEVENT
BEGIN:VEVENT
DTSTART;TZID=Australia/Sydney:20250521T073000
DTEND;TZID=Australia/Sydney:20250521T081500
DTSTAMP:20260425T135134
CREATED:20241112T045308Z
LAST-MODIFIED:20250129T032958Z
UID:10075023-1747812600-1747815300@synergyhealthworks.com
SUMMARY:Functional Fitness
DESCRIPTION:
URL:https://synergyhealthworks.com/event/cardio-combo-circuit-3/2025-05-21/
LOCATION:Wagga Wagga | Fitness Hub\, 1/21-25 Forsyth Street\, Wagga Wagga\, NSW\, 2650\, Australia
CATEGORIES:Functional Fitness
END:VEVENT
BEGIN:VEVENT
DTSTART;TZID=Australia/Sydney:20250521T063000
DTEND;TZID=Australia/Sydney:20250521T071500
DTSTAMP:20260425T135134
CREATED:20241112T045128Z
LAST-MODIFIED:20250129T032952Z
UID:10083780-1747809000-1747811700@synergyhealthworks.com
SUMMARY:Women's Strength Class for over 45s
DESCRIPTION:
URL:https://synergyhealthworks.com/event/womens-strength-class-for-over-45s-7/2025-05-21/
LOCATION:Wagga Wagga | Fitness Hub\, 1/21-25 Forsyth Street\, Wagga Wagga\, NSW\, 2650\, Australia
CATEGORIES:Women's Strength Class for over 45s
END:VEVENT
BEGIN:VEVENT
DTSTART;TZID=Australia/Sydney:20250520T163000
DTEND;TZID=Australia/Sydney:20250520T171500
DTSTAMP:20260425T135134
CREATED:20241112T044834Z
LAST-MODIFIED:20250129T032845Z
UID:10074228-1747758600-1747761300@synergyhealthworks.com
SUMMARY:Strength Circuit
DESCRIPTION:
URL:https://synergyhealthworks.com/event/strength-circuit-5/2025-05-20/
LOCATION:Wagga Wagga | Fitness Hub\, 1/21-25 Forsyth Street\, Wagga Wagga\, NSW\, 2650\, Australia
CATEGORIES:Strength Circuit
END:VEVENT
BEGIN:VEVENT
DTSTART;TZID=Australia/Sydney:20250520T120000
DTEND;TZID=Australia/Sydney:20250520T124500
DTSTAMP:20260425T135134
CREATED:20241112T044419Z
LAST-MODIFIED:20250129T032834Z
UID:10073433-1747742400-1747745100@synergyhealthworks.com
SUMMARY:Women's Strength Class for over 45s
DESCRIPTION:
URL:https://synergyhealthworks.com/event/womens-strength-class-for-over-45s-6/2025-05-20/
LOCATION:Wagga Wagga | Fitness Hub\, 1/21-25 Forsyth Street\, Wagga Wagga\, NSW\, 2650\, Australia
CATEGORIES:Women's Strength Class for over 45s
END:VEVENT
BEGIN:VEVENT
DTSTART;TZID=Australia/Sydney:20250520T103000
DTEND;TZID=Australia/Sydney:20250520T111500
DTSTAMP:20260425T135134
CREATED:20250502T051536Z
LAST-MODIFIED:20251203T032954Z
UID:10116747-1747737000-1747739700@synergyhealthworks.com
SUMMARY:Women’s Pelvic and Strength Class
DESCRIPTION:
URL:https://synergyhealthworks.com/event/womens-pelvic-and-strength-class/2025-05-20/
LOCATION:Wagga Wagga | Fitness Hub\, 1/21-25 Forsyth Street\, Wagga Wagga\, NSW\, 2650\, Australia
CATEGORIES:Women’s Pelvic and Strength Class
END:VEVENT
BEGIN:VEVENT
DTSTART;TZID=Australia/Sydney:20250520T073000
DTEND;TZID=Australia/Sydney:20250520T081500
DTSTAMP:20260425T135134
CREATED:20241112T041932Z
LAST-MODIFIED:20250129T032814Z
UID:10072638-1747726200-1747728900@synergyhealthworks.com
SUMMARY:Women’s Strength Class for over 45s
DESCRIPTION:
URL:https://synergyhealthworks.com/event/womens-strength-class-for-over-45s-4/2025-05-20/
LOCATION:Wagga Wagga | Fitness Hub\, 1/21-25 Forsyth Street\, Wagga Wagga\, NSW\, 2650\, Australia
CATEGORIES:Women's Strength Class for over 45s
END:VEVENT
BEGIN:VEVENT
DTSTART;TZID=Australia/Sydney:20250520T063000
DTEND;TZID=Australia/Sydney:20250520T071500
DTSTAMP:20260425T135134
CREATED:20241124T211846Z
LAST-MODIFIED:20250516T043543Z
UID:10085640-1747722600-1747725300@synergyhealthworks.com
SUMMARY:Women's Strength for over 45s
DESCRIPTION:
URL:https://synergyhealthworks.com/event/womens-fat-burn/2025-05-20/
LOCATION:Wagga Wagga | Fitness Hub\, 1/21-25 Forsyth Street\, Wagga Wagga\, NSW\, 2650\, Australia
CATEGORIES:Women's Strength Class for over 45s
END:VEVENT
BEGIN:VEVENT
DTSTART;TZID=Australia/Sydney:20250519T173000
DTEND;TZID=Australia/Sydney:20250519T181500
DTSTAMP:20260425T135134
CREATED:20241112T041557Z
LAST-MODIFIED:20250129T032656Z
UID:10072107-1747675800-1747678500@synergyhealthworks.com
SUMMARY:Strength and Conditioning Class
DESCRIPTION:
URL:https://synergyhealthworks.com/event/strength-and-conditioning-class-4/2025-05-19/
LOCATION:Wagga Wagga | Fitness Hub\, 1/21-25 Forsyth Street\, Wagga Wagga\, NSW\, 2650\, Australia
CATEGORIES:Strength and Conditioning
END:VEVENT
END:VCALENDAR