BEGIN:VCALENDAR
VERSION:2.0
PRODID:-//Synergy Healthworks - ECPv6.15.20//NONSGML v1.0//EN
CALSCALE:GREGORIAN
METHOD:PUBLISH
X-WR-CALNAME:Synergy Healthworks
X-ORIGINAL-URL:https://synergyhealthworks.com
X-WR-CALDESC:Events for Synergy Healthworks
REFRESH-INTERVAL;VALUE=DURATION:PT1H
X-Robots-Tag:noindex
X-PUBLISHED-TTL:PT1H
BEGIN:VTIMEZONE
TZID:Australia/Sydney
BEGIN:STANDARD
TZOFFSETFROM:+1100
TZOFFSETTO:+1000
TZNAME:AEST
DTSTART:20240406T160000
END:STANDARD
BEGIN:DAYLIGHT
TZOFFSETFROM:+1000
TZOFFSETTO:+1100
TZNAME:AEDT
DTSTART:20241005T160000
END:DAYLIGHT
BEGIN:STANDARD
TZOFFSETFROM:+1100
TZOFFSETTO:+1000
TZNAME:AEST
DTSTART:20250405T160000
END:STANDARD
BEGIN:DAYLIGHT
TZOFFSETFROM:+1000
TZOFFSETTO:+1100
TZNAME:AEDT
DTSTART:20251004T160000
END:DAYLIGHT
BEGIN:STANDARD
TZOFFSETFROM:+1100
TZOFFSETTO:+1000
TZNAME:AEST
DTSTART:20260404T160000
END:STANDARD
BEGIN:DAYLIGHT
TZOFFSETFROM:+1000
TZOFFSETTO:+1100
TZNAME:AEDT
DTSTART:20261003T160000
END:DAYLIGHT
END:VTIMEZONE
BEGIN:VEVENT
DTSTART;TZID=Australia/Sydney:20250704T083000
DTEND;TZID=Australia/Sydney:20250704T091500
DTSTAMP:20260424T195910
CREATED:20241112T224821Z
LAST-MODIFIED:20250403T043412Z
UID:10115680-1751617800-1751620500@synergyhealthworks.com
SUMMARY:Women's Strength Class for over 45s
DESCRIPTION:
URL:https://synergyhealthworks.com/event/bike-box-2/2025-07-04/
LOCATION:Wagga Wagga | Fitness Hub\, 1/21-25 Forsyth Street\, Wagga Wagga\, NSW\, 2650\, Australia
CATEGORIES:Women's Strength Class for over 45s
END:VEVENT
BEGIN:VEVENT
DTSTART;TZID=Australia/Sydney:20250704T073000
DTEND;TZID=Australia/Sydney:20250704T081500
DTSTAMP:20260424T195910
CREATED:20241202T231716Z
LAST-MODIFIED:20250403T044134Z
UID:10115958-1751614200-1751616900@synergyhealthworks.com
SUMMARY:Strength Circuit
DESCRIPTION:
URL:https://synergyhealthworks.com/event/strength-circuit-2/2025-07-04/
LOCATION:Wagga Wagga | Fitness Hub\, 1/21-25 Forsyth Street\, Wagga Wagga\, NSW\, 2650\, Australia
CATEGORIES:Strength Circuit
END:VEVENT
BEGIN:VEVENT
DTSTART;TZID=Australia/Sydney:20250704T071500
DTEND;TZID=Australia/Sydney:20250704T080000
DTSTAMP:20260424T195910
CREATED:20250618T000503Z
LAST-MODIFIED:20250618T000657Z
UID:10118790-1751613300-1751616000@synergyhealthworks.com
SUMMARY:Bike & Box
DESCRIPTION:
URL:https://synergyhealthworks.com/event/bike-and-box/2025-07-04/
LOCATION:Wagga Wagga | Fitness Hub\, 1/21-25 Forsyth Street\, Wagga Wagga\, NSW\, 2650\, Australia
CATEGORIES:Bike & Box,Women's Strength Class for over 45s
END:VEVENT
BEGIN:VEVENT
DTSTART;TZID=Australia/Sydney:20250703T120000
DTEND;TZID=Australia/Sydney:20250703T124500
DTSTAMP:20260424T195910
CREATED:20241124T212036Z
LAST-MODIFIED:20250516T043505Z
UID:10085907-1751544000-1751546700@synergyhealthworks.com
SUMMARY:Women's Strength for over 45s
DESCRIPTION:
URL:https://synergyhealthworks.com/event/womens-fat-burn-2/2025-07-03/
LOCATION:Wagga Wagga | Fitness Hub\, 1/21-25 Forsyth Street\, Wagga Wagga\, NSW\, 2650\, Australia
CATEGORIES:Women's Strength Class for over 45s
END:VEVENT
BEGIN:VEVENT
DTSTART;TZID=Australia/Sydney:20250703T100000
DTEND;TZID=Australia/Sydney:20250703T104500
DTSTAMP:20260424T195910
CREATED:20241112T221214Z
LAST-MODIFIED:20250722T032235Z
UID:10120996-1751536800-1751539500@synergyhealthworks.com
SUMMARY:Strength Circuit
DESCRIPTION:
URL:https://synergyhealthworks.com/event/mens-strength-class-3/2025-07-03/
LOCATION:Wagga Wagga | Fitness Hub\, 1/21-25 Forsyth Street\, Wagga Wagga\, NSW\, 2650\, Australia
CATEGORIES:Strength Circuit
END:VEVENT
BEGIN:VEVENT
DTSTART;TZID=Australia/Sydney:20250703T090000
DTEND;TZID=Australia/Sydney:20250703T094500
DTSTAMP:20260424T195910
CREATED:20241112T221649Z
LAST-MODIFIED:20250722T032123Z
UID:10120695-1751533200-1751535900@synergyhealthworks.com
SUMMARY:Golfer's Strengthen & Stretch
DESCRIPTION:
URL:https://synergyhealthworks.com/event/golfers-strengthen-stretch-2/2025-07-03/
LOCATION:Wagga Wagga | Fitness Hub\, 1/21-25 Forsyth Street\, Wagga Wagga\, NSW\, 2650\, Australia
CATEGORIES:Golfer's Strengthen & Stretch
END:VEVENT
BEGIN:VEVENT
DTSTART;TZID=Australia/Sydney:20250703T073000
DTEND;TZID=Australia/Sydney:20250703T081500
DTSTAMP:20260424T195910
CREATED:20241112T221101Z
LAST-MODIFIED:20250129T033150Z
UID:10077414-1751527800-1751530500@synergyhealthworks.com
SUMMARY:Women's Strength Class for over 45s
DESCRIPTION:
URL:https://synergyhealthworks.com/event/womens-strength-class-for-over-45s-11/2025-07-03/
LOCATION:Wagga Wagga | Fitness Hub\, 1/21-25 Forsyth Street\, Wagga Wagga\, NSW\, 2650\, Australia
CATEGORIES:Women's Strength Class for over 45s
END:VEVENT
BEGIN:VEVENT
DTSTART;TZID=Australia/Sydney:20250703T063000
DTEND;TZID=Australia/Sydney:20250703T071500
DTSTAMP:20260424T195910
CREATED:20251128T024235Z
LAST-MODIFIED:20251128T024235Z
UID:10131258-1751524200-1751526900@synergyhealthworks.com
SUMMARY:Women's Strength Class for over 45s
DESCRIPTION:
URL:https://synergyhealthworks.com/event/womens-strength-class-for-over-45s-5/2025-07-03/
LOCATION:Wagga Wagga | Fitness Hub\, 1/21-25 Forsyth Street\, Wagga Wagga\, NSW\, 2650\, Australia
CATEGORIES:Women's Strength Class for over 45s
END:VEVENT
BEGIN:VEVENT
DTSTART;TZID=Australia/Sydney:20250702T173000
DTEND;TZID=Australia/Sydney:20250702T181500
DTSTAMP:20260424T195910
CREATED:20241112T220941Z
LAST-MODIFIED:20250129T033025Z
UID:10077149-1751477400-1751480100@synergyhealthworks.com
SUMMARY:Strength and Conditioning Class
DESCRIPTION:
URL:https://synergyhealthworks.com/event/functional-conditioning/2025-07-02/
LOCATION:Wagga Wagga | Fitness Hub\, 1/21-25 Forsyth Street\, Wagga Wagga\, NSW\, 2650\, Australia
CATEGORIES:Strength and Conditioning
END:VEVENT
BEGIN:VEVENT
DTSTART;TZID=Australia/Sydney:20250702T120000
DTEND;TZID=Australia/Sydney:20250702T124500
DTSTAMP:20260424T195910
CREATED:20241112T220255Z
LAST-MODIFIED:20250129T033004Z
UID:10076089-1751457600-1751460300@synergyhealthworks.com
SUMMARY:Women's Strength Class for over 45s
DESCRIPTION:
URL:https://synergyhealthworks.com/event/womens-strength-class-for-over-45s-9/2025-07-02/
LOCATION:Wagga Wagga | Fitness Hub\, 1/21-25 Forsyth Street\, Wagga Wagga\, NSW\, 2650\, Australia
CATEGORIES:Women's Strength Class for over 45s
END:VEVENT
BEGIN:VEVENT
DTSTART;TZID=Australia/Sydney:20250702T073000
DTEND;TZID=Australia/Sydney:20250702T081500
DTSTAMP:20260424T195910
CREATED:20241112T045308Z
LAST-MODIFIED:20250129T032958Z
UID:10075029-1751441400-1751444100@synergyhealthworks.com
SUMMARY:Functional Fitness
DESCRIPTION:
URL:https://synergyhealthworks.com/event/cardio-combo-circuit-3/2025-07-02/
LOCATION:Wagga Wagga | Fitness Hub\, 1/21-25 Forsyth Street\, Wagga Wagga\, NSW\, 2650\, Australia
CATEGORIES:Functional Fitness
END:VEVENT
BEGIN:VEVENT
DTSTART;TZID=Australia/Sydney:20250702T063000
DTEND;TZID=Australia/Sydney:20250702T071500
DTSTAMP:20260424T195910
CREATED:20241112T045128Z
LAST-MODIFIED:20250129T032952Z
UID:10083786-1751437800-1751440500@synergyhealthworks.com
SUMMARY:Women's Strength Class for over 45s
DESCRIPTION:
URL:https://synergyhealthworks.com/event/womens-strength-class-for-over-45s-7/2025-07-02/
LOCATION:Wagga Wagga | Fitness Hub\, 1/21-25 Forsyth Street\, Wagga Wagga\, NSW\, 2650\, Australia
CATEGORIES:Women's Strength Class for over 45s
END:VEVENT
BEGIN:VEVENT
DTSTART;TZID=Australia/Sydney:20250701T163000
DTEND;TZID=Australia/Sydney:20250701T171500
DTSTAMP:20260424T195910
CREATED:20241112T044834Z
LAST-MODIFIED:20250129T032845Z
UID:10074234-1751387400-1751390100@synergyhealthworks.com
SUMMARY:Strength Circuit
DESCRIPTION:
URL:https://synergyhealthworks.com/event/strength-circuit-5/2025-07-01/
LOCATION:Wagga Wagga | Fitness Hub\, 1/21-25 Forsyth Street\, Wagga Wagga\, NSW\, 2650\, Australia
CATEGORIES:Strength Circuit
END:VEVENT
BEGIN:VEVENT
DTSTART;TZID=Australia/Sydney:20250701T120000
DTEND;TZID=Australia/Sydney:20250701T124500
DTSTAMP:20260424T195910
CREATED:20241112T044419Z
LAST-MODIFIED:20250129T032834Z
UID:10073439-1751371200-1751373900@synergyhealthworks.com
SUMMARY:Women's Strength Class for over 45s
DESCRIPTION:
URL:https://synergyhealthworks.com/event/womens-strength-class-for-over-45s-6/2025-07-01/
LOCATION:Wagga Wagga | Fitness Hub\, 1/21-25 Forsyth Street\, Wagga Wagga\, NSW\, 2650\, Australia
CATEGORIES:Women's Strength Class for over 45s
END:VEVENT
BEGIN:VEVENT
DTSTART;TZID=Australia/Sydney:20250701T103000
DTEND;TZID=Australia/Sydney:20250701T111500
DTSTAMP:20260424T195910
CREATED:20250502T051536Z
LAST-MODIFIED:20251203T032954Z
UID:10116753-1751365800-1751368500@synergyhealthworks.com
SUMMARY:Women’s Pelvic and Strength Class
DESCRIPTION:
URL:https://synergyhealthworks.com/event/womens-pelvic-and-strength-class/2025-07-01/
LOCATION:Wagga Wagga | Fitness Hub\, 1/21-25 Forsyth Street\, Wagga Wagga\, NSW\, 2650\, Australia
CATEGORIES:Women’s Pelvic and Strength Class
END:VEVENT
BEGIN:VEVENT
DTSTART;TZID=Australia/Sydney:20250701T073000
DTEND;TZID=Australia/Sydney:20250701T081500
DTSTAMP:20260424T195910
CREATED:20241112T041932Z
LAST-MODIFIED:20250129T032814Z
UID:10072644-1751355000-1751357700@synergyhealthworks.com
SUMMARY:Women’s Strength Class for over 45s
DESCRIPTION:
URL:https://synergyhealthworks.com/event/womens-strength-class-for-over-45s-4/2025-07-01/
LOCATION:Wagga Wagga | Fitness Hub\, 1/21-25 Forsyth Street\, Wagga Wagga\, NSW\, 2650\, Australia
CATEGORIES:Women's Strength Class for over 45s
END:VEVENT
BEGIN:VEVENT
DTSTART;TZID=Australia/Sydney:20250701T063000
DTEND;TZID=Australia/Sydney:20250701T071500
DTSTAMP:20260424T195910
CREATED:20241124T211846Z
LAST-MODIFIED:20250516T043543Z
UID:10085646-1751351400-1751354100@synergyhealthworks.com
SUMMARY:Women's Strength for over 45s
DESCRIPTION:
URL:https://synergyhealthworks.com/event/womens-fat-burn/2025-07-01/
LOCATION:Wagga Wagga | Fitness Hub\, 1/21-25 Forsyth Street\, Wagga Wagga\, NSW\, 2650\, Australia
CATEGORIES:Women's Strength Class for over 45s
END:VEVENT
BEGIN:VEVENT
DTSTART;TZID=Australia/Sydney:20250630T173000
DTEND;TZID=Australia/Sydney:20250630T181500
DTSTAMP:20260424T195910
CREATED:20241112T041557Z
LAST-MODIFIED:20250129T032656Z
UID:10072113-1751304600-1751307300@synergyhealthworks.com
SUMMARY:Strength and Conditioning Class
DESCRIPTION:
URL:https://synergyhealthworks.com/event/strength-and-conditioning-class-4/2025-06-30/
LOCATION:Wagga Wagga | Fitness Hub\, 1/21-25 Forsyth Street\, Wagga Wagga\, NSW\, 2650\, Australia
CATEGORIES:Strength and Conditioning
END:VEVENT
BEGIN:VEVENT
DTSTART;TZID=Australia/Sydney:20250630T163000
DTEND;TZID=Australia/Sydney:20250630T171500
DTSTAMP:20260424T195910
CREATED:20250502T051402Z
LAST-MODIFIED:20250502T051402Z
UID:10116492-1751301000-1751303700@synergyhealthworks.com
SUMMARY:Women’s Pregnancy Strength Class
DESCRIPTION:
URL:https://synergyhealthworks.com/event/womens-pregnancy-strength-class/2025-06-30/
LOCATION:Wagga Wagga | Fitness Hub\, 1/21-25 Forsyth Street\, Wagga Wagga\, NSW\, 2650\, Australia
CATEGORIES:Women’s Pregnancy Strength Class
END:VEVENT
BEGIN:VEVENT
DTSTART;TZID=Australia/Sydney:20250630T130000
DTEND;TZID=Australia/Sydney:20250630T134500
DTSTAMP:20260424T195910
CREATED:20251112T001650Z
LAST-MODIFIED:20251112T001650Z
UID:10127355-1751288400-1751291100@synergyhealthworks.com
SUMMARY:Strength and Conditioning Class
DESCRIPTION:
URL:https://synergyhealthworks.com/event/strength-and-conditioning-class-5/2025-06-30/
LOCATION:Wagga Wagga | Fitness Hub\, 1/21-25 Forsyth Street\, Wagga Wagga\, NSW\, 2650\, Australia
CATEGORIES:Strength and Conditioning
END:VEVENT
BEGIN:VEVENT
DTSTART;TZID=Australia/Sydney:20250630T120000
DTEND;TZID=Australia/Sydney:20250630T124500
DTSTAMP:20260424T195910
CREATED:20250829T044037Z
LAST-MODIFIED:20250829T044037Z
UID:10122223-1751284800-1751287500@synergyhealthworks.com
SUMMARY:Strength and Conditioning Class
DESCRIPTION:
URL:https://synergyhealthworks.com/event/strength-and-conditioning-class-3/2025-06-30/
LOCATION:Wagga Wagga | Fitness Hub\, 1/21-25 Forsyth Street\, Wagga Wagga\, NSW\, 2650\, Australia
CATEGORIES:Strength and Conditioning
END:VEVENT
BEGIN:VEVENT
DTSTART;TZID=Australia/Sydney:20250630T083000
DTEND;TZID=Australia/Sydney:20250630T091500
DTSTAMP:20260424T195910
CREATED:20241112T035630Z
LAST-MODIFIED:20250129T032622Z
UID:10082190-1751272200-1751274900@synergyhealthworks.com
SUMMARY:Strength Circuit
DESCRIPTION:
URL:https://synergyhealthworks.com/event/strength-circuit/2025-06-30/
LOCATION:Wagga Wagga | Fitness Hub\, 1/21-25 Forsyth Street\, Wagga Wagga\, NSW\, 2650\, Australia
CATEGORIES:Strength Circuit
END:VEVENT
BEGIN:VEVENT
DTSTART;TZID=Australia/Sydney:20250627T083000
DTEND;TZID=Australia/Sydney:20250627T091500
DTSTAMP:20260424T195910
CREATED:20241112T224821Z
LAST-MODIFIED:20250403T043412Z
UID:10115679-1751013000-1751015700@synergyhealthworks.com
SUMMARY:Women's Strength Class for over 45s
DESCRIPTION:
URL:https://synergyhealthworks.com/event/bike-box-2/2025-06-27/
LOCATION:Wagga Wagga | Fitness Hub\, 1/21-25 Forsyth Street\, Wagga Wagga\, NSW\, 2650\, Australia
CATEGORIES:Women's Strength Class for over 45s
END:VEVENT
BEGIN:VEVENT
DTSTART;TZID=Australia/Sydney:20250627T073000
DTEND;TZID=Australia/Sydney:20250627T081500
DTSTAMP:20260424T195910
CREATED:20241202T231716Z
LAST-MODIFIED:20250403T044134Z
UID:10115957-1751009400-1751012100@synergyhealthworks.com
SUMMARY:Strength Circuit
DESCRIPTION:
URL:https://synergyhealthworks.com/event/strength-circuit-2/2025-06-27/
LOCATION:Wagga Wagga | Fitness Hub\, 1/21-25 Forsyth Street\, Wagga Wagga\, NSW\, 2650\, Australia
CATEGORIES:Strength Circuit
END:VEVENT
BEGIN:VEVENT
DTSTART;TZID=Australia/Sydney:20250627T071500
DTEND;TZID=Australia/Sydney:20250627T080000
DTSTAMP:20260424T195910
CREATED:20250618T000503Z
LAST-MODIFIED:20250618T000657Z
UID:10118789-1751008500-1751011200@synergyhealthworks.com
SUMMARY:Bike & Box
DESCRIPTION:
URL:https://synergyhealthworks.com/event/bike-and-box/2025-06-27/
LOCATION:Wagga Wagga | Fitness Hub\, 1/21-25 Forsyth Street\, Wagga Wagga\, NSW\, 2650\, Australia
CATEGORIES:Bike & Box,Women's Strength Class for over 45s
END:VEVENT
BEGIN:VEVENT
DTSTART;TZID=Australia/Sydney:20250626T120000
DTEND;TZID=Australia/Sydney:20250626T124500
DTSTAMP:20260424T195910
CREATED:20241124T212036Z
LAST-MODIFIED:20250516T043505Z
UID:10085906-1750939200-1750941900@synergyhealthworks.com
SUMMARY:Women's Strength for over 45s
DESCRIPTION:
URL:https://synergyhealthworks.com/event/womens-fat-burn-2/2025-06-26/
LOCATION:Wagga Wagga | Fitness Hub\, 1/21-25 Forsyth Street\, Wagga Wagga\, NSW\, 2650\, Australia
CATEGORIES:Women's Strength Class for over 45s
END:VEVENT
BEGIN:VEVENT
DTSTART;TZID=Australia/Sydney:20250626T100000
DTEND;TZID=Australia/Sydney:20250626T104500
DTSTAMP:20260424T195910
CREATED:20241112T221214Z
LAST-MODIFIED:20250722T032235Z
UID:10120995-1750932000-1750934700@synergyhealthworks.com
SUMMARY:Strength Circuit
DESCRIPTION:
URL:https://synergyhealthworks.com/event/mens-strength-class-3/2025-06-26/
LOCATION:Wagga Wagga | Fitness Hub\, 1/21-25 Forsyth Street\, Wagga Wagga\, NSW\, 2650\, Australia
CATEGORIES:Strength Circuit
END:VEVENT
BEGIN:VEVENT
DTSTART;TZID=Australia/Sydney:20250626T090000
DTEND;TZID=Australia/Sydney:20250626T094500
DTSTAMP:20260424T195910
CREATED:20241112T221649Z
LAST-MODIFIED:20250722T032123Z
UID:10120694-1750928400-1750931100@synergyhealthworks.com
SUMMARY:Golfer's Strengthen & Stretch
DESCRIPTION:
URL:https://synergyhealthworks.com/event/golfers-strengthen-stretch-2/2025-06-26/
LOCATION:Wagga Wagga | Fitness Hub\, 1/21-25 Forsyth Street\, Wagga Wagga\, NSW\, 2650\, Australia
CATEGORIES:Golfer's Strengthen & Stretch
END:VEVENT
BEGIN:VEVENT
DTSTART;TZID=Australia/Sydney:20250626T073000
DTEND;TZID=Australia/Sydney:20250626T081500
DTSTAMP:20260424T195910
CREATED:20241112T221101Z
LAST-MODIFIED:20250129T033150Z
UID:10077413-1750923000-1750925700@synergyhealthworks.com
SUMMARY:Women's Strength Class for over 45s
DESCRIPTION:
URL:https://synergyhealthworks.com/event/womens-strength-class-for-over-45s-11/2025-06-26/
LOCATION:Wagga Wagga | Fitness Hub\, 1/21-25 Forsyth Street\, Wagga Wagga\, NSW\, 2650\, Australia
CATEGORIES:Women's Strength Class for over 45s
END:VEVENT
BEGIN:VEVENT
DTSTART;TZID=Australia/Sydney:20250626T063000
DTEND;TZID=Australia/Sydney:20250626T071500
DTSTAMP:20260424T195910
CREATED:20251128T024235Z
LAST-MODIFIED:20251128T024235Z
UID:10131257-1750919400-1750922100@synergyhealthworks.com
SUMMARY:Women's Strength Class for over 45s
DESCRIPTION:
URL:https://synergyhealthworks.com/event/womens-strength-class-for-over-45s-5/2025-06-26/
LOCATION:Wagga Wagga | Fitness Hub\, 1/21-25 Forsyth Street\, Wagga Wagga\, NSW\, 2650\, Australia
CATEGORIES:Women's Strength Class for over 45s
END:VEVENT
END:VCALENDAR