BEGIN:VCALENDAR
VERSION:2.0
PRODID:-//Synergy Healthworks - ECPv6.15.20//NONSGML v1.0//EN
CALSCALE:GREGORIAN
METHOD:PUBLISH
X-WR-CALNAME:Synergy Healthworks
X-ORIGINAL-URL:https://synergyhealthworks.com
X-WR-CALDESC:Events for Synergy Healthworks
REFRESH-INTERVAL;VALUE=DURATION:PT1H
X-Robots-Tag:noindex
X-PUBLISHED-TTL:PT1H
BEGIN:VTIMEZONE
TZID:Australia/Sydney
BEGIN:STANDARD
TZOFFSETFROM:+1100
TZOFFSETTO:+1000
TZNAME:AEST
DTSTART:20260404T160000
END:STANDARD
BEGIN:DAYLIGHT
TZOFFSETFROM:+1000
TZOFFSETTO:+1100
TZNAME:AEDT
DTSTART:20261003T160000
END:DAYLIGHT
BEGIN:STANDARD
TZOFFSETFROM:+1100
TZOFFSETTO:+1000
TZNAME:AEST
DTSTART:20270403T160000
END:STANDARD
BEGIN:DAYLIGHT
TZOFFSETFROM:+1000
TZOFFSETTO:+1100
TZNAME:AEDT
DTSTART:20271002T160000
END:DAYLIGHT
BEGIN:STANDARD
TZOFFSETFROM:+1100
TZOFFSETTO:+1000
TZNAME:AEST
DTSTART:20280401T160000
END:STANDARD
BEGIN:DAYLIGHT
TZOFFSETFROM:+1000
TZOFFSETTO:+1100
TZNAME:AEDT
DTSTART:20280930T160000
END:DAYLIGHT
END:VTIMEZONE
BEGIN:VEVENT
DTSTART;TZID=Australia/Sydney:20270205T073000
DTEND;TZID=Australia/Sydney:20270205T081500
DTSTAMP:20260424T091704
CREATED:20241202T231716Z
LAST-MODIFIED:20250403T044134Z
UID:10116041-1801812600-1801815300@synergyhealthworks.com
SUMMARY:Strength Circuit
DESCRIPTION:
URL:https://synergyhealthworks.com/event/strength-circuit-2/2027-02-05/
LOCATION:Wagga Wagga | Fitness Hub\, 1/21-25 Forsyth Street\, Wagga Wagga\, NSW\, 2650\, Australia
CATEGORIES:Strength Circuit
END:VEVENT
BEGIN:VEVENT
DTSTART;TZID=Australia/Sydney:20270205T083000
DTEND;TZID=Australia/Sydney:20270205T091500
DTSTAMP:20260424T091704
CREATED:20241112T224821Z
LAST-MODIFIED:20250403T043412Z
UID:10115763-1801816200-1801818900@synergyhealthworks.com
SUMMARY:Women's Strength Class for over 45s
DESCRIPTION:
URL:https://synergyhealthworks.com/event/bike-box-2/2027-02-05/
LOCATION:Wagga Wagga | Fitness Hub\, 1/21-25 Forsyth Street\, Wagga Wagga\, NSW\, 2650\, Australia
CATEGORIES:Women's Strength Class for over 45s
END:VEVENT
BEGIN:VEVENT
DTSTART;TZID=Australia/Sydney:20270208T083000
DTEND;TZID=Australia/Sydney:20270208T091500
DTSTAMP:20260424T091704
CREATED:20241112T035630Z
LAST-MODIFIED:20250129T032622Z
UID:10082274-1802075400-1802078100@synergyhealthworks.com
SUMMARY:Strength Circuit
DESCRIPTION:
URL:https://synergyhealthworks.com/event/strength-circuit/2027-02-08/
LOCATION:Wagga Wagga | Fitness Hub\, 1/21-25 Forsyth Street\, Wagga Wagga\, NSW\, 2650\, Australia
CATEGORIES:Strength Circuit
END:VEVENT
BEGIN:VEVENT
DTSTART;TZID=Australia/Sydney:20270208T120000
DTEND;TZID=Australia/Sydney:20270208T124500
DTSTAMP:20260424T091704
CREATED:20250829T044037Z
LAST-MODIFIED:20250829T044037Z
UID:10122307-1802088000-1802090700@synergyhealthworks.com
SUMMARY:Strength and Conditioning Class
DESCRIPTION:
URL:https://synergyhealthworks.com/event/strength-and-conditioning-class-3/2027-02-08/
LOCATION:Wagga Wagga | Fitness Hub\, 1/21-25 Forsyth Street\, Wagga Wagga\, NSW\, 2650\, Australia
CATEGORIES:Strength and Conditioning
END:VEVENT
BEGIN:VEVENT
DTSTART;TZID=Australia/Sydney:20270208T130000
DTEND;TZID=Australia/Sydney:20270208T134500
DTSTAMP:20260424T091704
CREATED:20251112T001650Z
LAST-MODIFIED:20251112T001650Z
UID:10127439-1802091600-1802094300@synergyhealthworks.com
SUMMARY:Strength and Conditioning Class
DESCRIPTION:
URL:https://synergyhealthworks.com/event/strength-and-conditioning-class-5/2027-02-08/
LOCATION:Wagga Wagga | Fitness Hub\, 1/21-25 Forsyth Street\, Wagga Wagga\, NSW\, 2650\, Australia
CATEGORIES:Strength and Conditioning
END:VEVENT
BEGIN:VEVENT
DTSTART;TZID=Australia/Sydney:20270208T163000
DTEND;TZID=Australia/Sydney:20270208T171500
DTSTAMP:20260424T091704
CREATED:20250502T051402Z
LAST-MODIFIED:20250502T051402Z
UID:10116576-1802104200-1802106900@synergyhealthworks.com
SUMMARY:Women’s Pregnancy Strength Class
DESCRIPTION:
URL:https://synergyhealthworks.com/event/womens-pregnancy-strength-class/2027-02-08/
LOCATION:Wagga Wagga | Fitness Hub\, 1/21-25 Forsyth Street\, Wagga Wagga\, NSW\, 2650\, Australia
CATEGORIES:Women’s Pregnancy Strength Class
END:VEVENT
BEGIN:VEVENT
DTSTART;TZID=Australia/Sydney:20270208T173000
DTEND;TZID=Australia/Sydney:20270208T181500
DTSTAMP:20260424T091704
CREATED:20241112T041557Z
LAST-MODIFIED:20250129T032656Z
UID:10072197-1802107800-1802110500@synergyhealthworks.com
SUMMARY:Strength and Conditioning Class
DESCRIPTION:
URL:https://synergyhealthworks.com/event/strength-and-conditioning-class-4/2027-02-08/
LOCATION:Wagga Wagga | Fitness Hub\, 1/21-25 Forsyth Street\, Wagga Wagga\, NSW\, 2650\, Australia
CATEGORIES:Strength and Conditioning
END:VEVENT
BEGIN:VEVENT
DTSTART;TZID=Australia/Sydney:20270209T063000
DTEND;TZID=Australia/Sydney:20270209T071500
DTSTAMP:20260424T091704
CREATED:20241124T211846Z
LAST-MODIFIED:20250516T043543Z
UID:10085730-1802154600-1802157300@synergyhealthworks.com
SUMMARY:Women's Strength for over 45s
DESCRIPTION:
URL:https://synergyhealthworks.com/event/womens-fat-burn/2027-02-09/
LOCATION:Wagga Wagga | Fitness Hub\, 1/21-25 Forsyth Street\, Wagga Wagga\, NSW\, 2650\, Australia
CATEGORIES:Women's Strength Class for over 45s
END:VEVENT
BEGIN:VEVENT
DTSTART;TZID=Australia/Sydney:20270209T073000
DTEND;TZID=Australia/Sydney:20270209T081500
DTSTAMP:20260424T091704
CREATED:20241112T041932Z
LAST-MODIFIED:20250129T032814Z
UID:10072728-1802158200-1802160900@synergyhealthworks.com
SUMMARY:Women’s Strength Class for over 45s
DESCRIPTION:
URL:https://synergyhealthworks.com/event/womens-strength-class-for-over-45s-4/2027-02-09/
LOCATION:Wagga Wagga | Fitness Hub\, 1/21-25 Forsyth Street\, Wagga Wagga\, NSW\, 2650\, Australia
CATEGORIES:Women's Strength Class for over 45s
END:VEVENT
BEGIN:VEVENT
DTSTART;TZID=Australia/Sydney:20270209T103000
DTEND;TZID=Australia/Sydney:20270209T111500
DTSTAMP:20260424T091704
CREATED:20250502T051536Z
LAST-MODIFIED:20251203T032954Z
UID:10116837-1802169000-1802171700@synergyhealthworks.com
SUMMARY:Women’s Pelvic and Strength Class
DESCRIPTION:
URL:https://synergyhealthworks.com/event/womens-pelvic-and-strength-class/2027-02-09/
LOCATION:Wagga Wagga | Fitness Hub\, 1/21-25 Forsyth Street\, Wagga Wagga\, NSW\, 2650\, Australia
CATEGORIES:Women’s Pelvic and Strength Class
END:VEVENT
BEGIN:VEVENT
DTSTART;TZID=Australia/Sydney:20270209T120000
DTEND;TZID=Australia/Sydney:20270209T124500
DTSTAMP:20260424T091704
CREATED:20241112T044419Z
LAST-MODIFIED:20250129T032834Z
UID:10073523-1802174400-1802177100@synergyhealthworks.com
SUMMARY:Women's Strength Class for over 45s
DESCRIPTION:
URL:https://synergyhealthworks.com/event/womens-strength-class-for-over-45s-6/2027-02-09/
LOCATION:Wagga Wagga | Fitness Hub\, 1/21-25 Forsyth Street\, Wagga Wagga\, NSW\, 2650\, Australia
CATEGORIES:Women's Strength Class for over 45s
END:VEVENT
BEGIN:VEVENT
DTSTART;TZID=Australia/Sydney:20270209T163000
DTEND;TZID=Australia/Sydney:20270209T171500
DTSTAMP:20260424T091704
CREATED:20241112T044834Z
LAST-MODIFIED:20250129T032845Z
UID:10074318-1802190600-1802193300@synergyhealthworks.com
SUMMARY:Strength Circuit
DESCRIPTION:
URL:https://synergyhealthworks.com/event/strength-circuit-5/2027-02-09/
LOCATION:Wagga Wagga | Fitness Hub\, 1/21-25 Forsyth Street\, Wagga Wagga\, NSW\, 2650\, Australia
CATEGORIES:Strength Circuit
END:VEVENT
BEGIN:VEVENT
DTSTART;TZID=Australia/Sydney:20270210T063000
DTEND;TZID=Australia/Sydney:20270210T071500
DTSTAMP:20260424T091704
CREATED:20241112T045128Z
LAST-MODIFIED:20250129T032952Z
UID:10083870-1802241000-1802243700@synergyhealthworks.com
SUMMARY:Women's Strength Class for over 45s
DESCRIPTION:
URL:https://synergyhealthworks.com/event/womens-strength-class-for-over-45s-7/2027-02-10/
LOCATION:Wagga Wagga | Fitness Hub\, 1/21-25 Forsyth Street\, Wagga Wagga\, NSW\, 2650\, Australia
CATEGORIES:Women's Strength Class for over 45s
END:VEVENT
BEGIN:VEVENT
DTSTART;TZID=Australia/Sydney:20270210T073000
DTEND;TZID=Australia/Sydney:20270210T081500
DTSTAMP:20260424T091704
CREATED:20241112T045308Z
LAST-MODIFIED:20250129T032958Z
UID:10075113-1802244600-1802247300@synergyhealthworks.com
SUMMARY:Functional Fitness
DESCRIPTION:
URL:https://synergyhealthworks.com/event/cardio-combo-circuit-3/2027-02-10/
LOCATION:Wagga Wagga | Fitness Hub\, 1/21-25 Forsyth Street\, Wagga Wagga\, NSW\, 2650\, Australia
CATEGORIES:Functional Fitness
END:VEVENT
BEGIN:VEVENT
DTSTART;TZID=Australia/Sydney:20270210T120000
DTEND;TZID=Australia/Sydney:20270210T124500
DTSTAMP:20260424T091704
CREATED:20241112T220255Z
LAST-MODIFIED:20250129T033004Z
UID:10076173-1802260800-1802263500@synergyhealthworks.com
SUMMARY:Women's Strength Class for over 45s
DESCRIPTION:
URL:https://synergyhealthworks.com/event/womens-strength-class-for-over-45s-9/2027-02-10/
LOCATION:Wagga Wagga | Fitness Hub\, 1/21-25 Forsyth Street\, Wagga Wagga\, NSW\, 2650\, Australia
CATEGORIES:Women's Strength Class for over 45s
END:VEVENT
BEGIN:VEVENT
DTSTART;TZID=Australia/Sydney:20270210T173000
DTEND;TZID=Australia/Sydney:20270210T181500
DTSTAMP:20260424T091704
CREATED:20241112T220941Z
LAST-MODIFIED:20250129T033025Z
UID:10077233-1802280600-1802283300@synergyhealthworks.com
SUMMARY:Strength and Conditioning Class
DESCRIPTION:
URL:https://synergyhealthworks.com/event/functional-conditioning/2027-02-10/
LOCATION:Wagga Wagga | Fitness Hub\, 1/21-25 Forsyth Street\, Wagga Wagga\, NSW\, 2650\, Australia
CATEGORIES:Strength and Conditioning
END:VEVENT
BEGIN:VEVENT
DTSTART;TZID=Australia/Sydney:20270211T063000
DTEND;TZID=Australia/Sydney:20270211T071500
DTSTAMP:20260424T091704
CREATED:20251128T024235Z
LAST-MODIFIED:20251128T024235Z
UID:10131342-1802327400-1802330100@synergyhealthworks.com
SUMMARY:Women's Strength Class for over 45s
DESCRIPTION:
URL:https://synergyhealthworks.com/event/womens-strength-class-for-over-45s-5/2027-02-11/
LOCATION:Wagga Wagga | Fitness Hub\, 1/21-25 Forsyth Street\, Wagga Wagga\, NSW\, 2650\, Australia
CATEGORIES:Women's Strength Class for over 45s
END:VEVENT
BEGIN:VEVENT
DTSTART;TZID=Australia/Sydney:20270211T073000
DTEND;TZID=Australia/Sydney:20270211T081500
DTSTAMP:20260424T091704
CREATED:20241112T221101Z
LAST-MODIFIED:20250129T033150Z
UID:10077498-1802331000-1802333700@synergyhealthworks.com
SUMMARY:Women's Strength Class for over 45s
DESCRIPTION:
URL:https://synergyhealthworks.com/event/womens-strength-class-for-over-45s-11/2027-02-11/
LOCATION:Wagga Wagga | Fitness Hub\, 1/21-25 Forsyth Street\, Wagga Wagga\, NSW\, 2650\, Australia
CATEGORIES:Women's Strength Class for over 45s
END:VEVENT
BEGIN:VEVENT
DTSTART;TZID=Australia/Sydney:20270211T090000
DTEND;TZID=Australia/Sydney:20270211T094500
DTSTAMP:20260424T091704
CREATED:20241112T221649Z
LAST-MODIFIED:20250722T032123Z
UID:10120779-1802336400-1802339100@synergyhealthworks.com
SUMMARY:Golfer's Strengthen & Stretch
DESCRIPTION:
URL:https://synergyhealthworks.com/event/golfers-strengthen-stretch-2/2027-02-11/
LOCATION:Wagga Wagga | Fitness Hub\, 1/21-25 Forsyth Street\, Wagga Wagga\, NSW\, 2650\, Australia
CATEGORIES:Golfer's Strengthen & Stretch
END:VEVENT
BEGIN:VEVENT
DTSTART;TZID=Australia/Sydney:20270211T100000
DTEND;TZID=Australia/Sydney:20270211T104500
DTSTAMP:20260424T091704
CREATED:20241112T221214Z
LAST-MODIFIED:20250722T032235Z
UID:10121080-1802340000-1802342700@synergyhealthworks.com
SUMMARY:Strength Circuit
DESCRIPTION:
URL:https://synergyhealthworks.com/event/mens-strength-class-3/2027-02-11/
LOCATION:Wagga Wagga | Fitness Hub\, 1/21-25 Forsyth Street\, Wagga Wagga\, NSW\, 2650\, Australia
CATEGORIES:Strength Circuit
END:VEVENT
BEGIN:VEVENT
DTSTART;TZID=Australia/Sydney:20270211T120000
DTEND;TZID=Australia/Sydney:20270211T124500
DTSTAMP:20260424T091704
CREATED:20241124T212036Z
LAST-MODIFIED:20250516T043505Z
UID:10085991-1802347200-1802349900@synergyhealthworks.com
SUMMARY:Women's Strength for over 45s
DESCRIPTION:
URL:https://synergyhealthworks.com/event/womens-fat-burn-2/2027-02-11/
LOCATION:Wagga Wagga | Fitness Hub\, 1/21-25 Forsyth Street\, Wagga Wagga\, NSW\, 2650\, Australia
CATEGORIES:Women's Strength Class for over 45s
END:VEVENT
BEGIN:VEVENT
DTSTART;TZID=Australia/Sydney:20270212T071500
DTEND;TZID=Australia/Sydney:20270212T080000
DTSTAMP:20260424T091704
CREATED:20250618T000503Z
LAST-MODIFIED:20250618T000657Z
UID:10118874-1802416500-1802419200@synergyhealthworks.com
SUMMARY:Bike & Box
DESCRIPTION:
URL:https://synergyhealthworks.com/event/bike-and-box/2027-02-12/
LOCATION:Wagga Wagga | Fitness Hub\, 1/21-25 Forsyth Street\, Wagga Wagga\, NSW\, 2650\, Australia
CATEGORIES:Bike & Box,Women's Strength Class for over 45s
END:VEVENT
BEGIN:VEVENT
DTSTART;TZID=Australia/Sydney:20270212T073000
DTEND;TZID=Australia/Sydney:20270212T081500
DTSTAMP:20260424T091704
CREATED:20241202T231716Z
LAST-MODIFIED:20250403T044134Z
UID:10116042-1802417400-1802420100@synergyhealthworks.com
SUMMARY:Strength Circuit
DESCRIPTION:
URL:https://synergyhealthworks.com/event/strength-circuit-2/2027-02-12/
LOCATION:Wagga Wagga | Fitness Hub\, 1/21-25 Forsyth Street\, Wagga Wagga\, NSW\, 2650\, Australia
CATEGORIES:Strength Circuit
END:VEVENT
BEGIN:VEVENT
DTSTART;TZID=Australia/Sydney:20270212T083000
DTEND;TZID=Australia/Sydney:20270212T091500
DTSTAMP:20260424T091704
CREATED:20241112T224821Z
LAST-MODIFIED:20250403T043412Z
UID:10115764-1802421000-1802423700@synergyhealthworks.com
SUMMARY:Women's Strength Class for over 45s
DESCRIPTION:
URL:https://synergyhealthworks.com/event/bike-box-2/2027-02-12/
LOCATION:Wagga Wagga | Fitness Hub\, 1/21-25 Forsyth Street\, Wagga Wagga\, NSW\, 2650\, Australia
CATEGORIES:Women's Strength Class for over 45s
END:VEVENT
BEGIN:VEVENT
DTSTART;TZID=Australia/Sydney:20270215T083000
DTEND;TZID=Australia/Sydney:20270215T091500
DTSTAMP:20260424T091704
CREATED:20241112T035630Z
LAST-MODIFIED:20250129T032622Z
UID:10082275-1802680200-1802682900@synergyhealthworks.com
SUMMARY:Strength Circuit
DESCRIPTION:
URL:https://synergyhealthworks.com/event/strength-circuit/2027-02-15/
LOCATION:Wagga Wagga | Fitness Hub\, 1/21-25 Forsyth Street\, Wagga Wagga\, NSW\, 2650\, Australia
CATEGORIES:Strength Circuit
END:VEVENT
BEGIN:VEVENT
DTSTART;TZID=Australia/Sydney:20270215T120000
DTEND;TZID=Australia/Sydney:20270215T124500
DTSTAMP:20260424T091704
CREATED:20250829T044037Z
LAST-MODIFIED:20250829T044037Z
UID:10122308-1802692800-1802695500@synergyhealthworks.com
SUMMARY:Strength and Conditioning Class
DESCRIPTION:
URL:https://synergyhealthworks.com/event/strength-and-conditioning-class-3/2027-02-15/
LOCATION:Wagga Wagga | Fitness Hub\, 1/21-25 Forsyth Street\, Wagga Wagga\, NSW\, 2650\, Australia
CATEGORIES:Strength and Conditioning
END:VEVENT
BEGIN:VEVENT
DTSTART;TZID=Australia/Sydney:20270215T130000
DTEND;TZID=Australia/Sydney:20270215T134500
DTSTAMP:20260424T091704
CREATED:20251112T001650Z
LAST-MODIFIED:20251112T001650Z
UID:10127440-1802696400-1802699100@synergyhealthworks.com
SUMMARY:Strength and Conditioning Class
DESCRIPTION:
URL:https://synergyhealthworks.com/event/strength-and-conditioning-class-5/2027-02-15/
LOCATION:Wagga Wagga | Fitness Hub\, 1/21-25 Forsyth Street\, Wagga Wagga\, NSW\, 2650\, Australia
CATEGORIES:Strength and Conditioning
END:VEVENT
BEGIN:VEVENT
DTSTART;TZID=Australia/Sydney:20270215T163000
DTEND;TZID=Australia/Sydney:20270215T171500
DTSTAMP:20260424T091704
CREATED:20250502T051402Z
LAST-MODIFIED:20250502T051402Z
UID:10116577-1802709000-1802711700@synergyhealthworks.com
SUMMARY:Women’s Pregnancy Strength Class
DESCRIPTION:
URL:https://synergyhealthworks.com/event/womens-pregnancy-strength-class/2027-02-15/
LOCATION:Wagga Wagga | Fitness Hub\, 1/21-25 Forsyth Street\, Wagga Wagga\, NSW\, 2650\, Australia
CATEGORIES:Women’s Pregnancy Strength Class
END:VEVENT
BEGIN:VEVENT
DTSTART;TZID=Australia/Sydney:20270215T173000
DTEND;TZID=Australia/Sydney:20270215T181500
DTSTAMP:20260424T091704
CREATED:20241112T041557Z
LAST-MODIFIED:20250129T032656Z
UID:10072198-1802712600-1802715300@synergyhealthworks.com
SUMMARY:Strength and Conditioning Class
DESCRIPTION:
URL:https://synergyhealthworks.com/event/strength-and-conditioning-class-4/2027-02-15/
LOCATION:Wagga Wagga | Fitness Hub\, 1/21-25 Forsyth Street\, Wagga Wagga\, NSW\, 2650\, Australia
CATEGORIES:Strength and Conditioning
END:VEVENT
BEGIN:VEVENT
DTSTART;TZID=Australia/Sydney:20270216T063000
DTEND;TZID=Australia/Sydney:20270216T071500
DTSTAMP:20260424T091704
CREATED:20241124T211846Z
LAST-MODIFIED:20250516T043543Z
UID:10085731-1802759400-1802762100@synergyhealthworks.com
SUMMARY:Women's Strength for over 45s
DESCRIPTION:
URL:https://synergyhealthworks.com/event/womens-fat-burn/2027-02-16/
LOCATION:Wagga Wagga | Fitness Hub\, 1/21-25 Forsyth Street\, Wagga Wagga\, NSW\, 2650\, Australia
CATEGORIES:Women's Strength Class for over 45s
END:VEVENT
END:VCALENDAR