BEGIN:VCALENDAR
VERSION:2.0
PRODID:-//Synergy Healthworks - ECPv6.15.20//NONSGML v1.0//EN
CALSCALE:GREGORIAN
METHOD:PUBLISH
X-WR-CALNAME:Synergy Healthworks
X-ORIGINAL-URL:https://synergyhealthworks.com
X-WR-CALDESC:Events for Synergy Healthworks
REFRESH-INTERVAL;VALUE=DURATION:PT1H
X-Robots-Tag:noindex
X-PUBLISHED-TTL:PT1H
BEGIN:VTIMEZONE
TZID:Australia/Sydney
BEGIN:STANDARD
TZOFFSETFROM:+1100
TZOFFSETTO:+1000
TZNAME:AEST
DTSTART:20260404T160000
END:STANDARD
BEGIN:DAYLIGHT
TZOFFSETFROM:+1000
TZOFFSETTO:+1100
TZNAME:AEDT
DTSTART:20261003T160000
END:DAYLIGHT
BEGIN:STANDARD
TZOFFSETFROM:+1100
TZOFFSETTO:+1000
TZNAME:AEST
DTSTART:20270403T160000
END:STANDARD
BEGIN:DAYLIGHT
TZOFFSETFROM:+1000
TZOFFSETTO:+1100
TZNAME:AEDT
DTSTART:20271002T160000
END:DAYLIGHT
BEGIN:STANDARD
TZOFFSETFROM:+1100
TZOFFSETTO:+1000
TZNAME:AEST
DTSTART:20280401T160000
END:STANDARD
BEGIN:DAYLIGHT
TZOFFSETFROM:+1000
TZOFFSETTO:+1100
TZNAME:AEDT
DTSTART:20280930T160000
END:DAYLIGHT
END:VTIMEZONE
BEGIN:VEVENT
DTSTART;TZID=Australia/Sydney:20270125T163000
DTEND;TZID=Australia/Sydney:20270125T171500
DTSTAMP:20260424T034622
CREATED:20250502T051402Z
LAST-MODIFIED:20250502T051402Z
UID:10116574-1800894600-1800897300@synergyhealthworks.com
SUMMARY:Women’s Pregnancy Strength Class
DESCRIPTION:
URL:https://synergyhealthworks.com/event/womens-pregnancy-strength-class/2027-01-25/
LOCATION:Wagga Wagga | Fitness Hub\, 1/21-25 Forsyth Street\, Wagga Wagga\, NSW\, 2650\, Australia
CATEGORIES:Women’s Pregnancy Strength Class
END:VEVENT
BEGIN:VEVENT
DTSTART;TZID=Australia/Sydney:20270125T173000
DTEND;TZID=Australia/Sydney:20270125T181500
DTSTAMP:20260424T034622
CREATED:20241112T041557Z
LAST-MODIFIED:20250129T032656Z
UID:10072195-1800898200-1800900900@synergyhealthworks.com
SUMMARY:Strength and Conditioning Class
DESCRIPTION:
URL:https://synergyhealthworks.com/event/strength-and-conditioning-class-4/2027-01-25/
LOCATION:Wagga Wagga | Fitness Hub\, 1/21-25 Forsyth Street\, Wagga Wagga\, NSW\, 2650\, Australia
CATEGORIES:Strength and Conditioning
END:VEVENT
BEGIN:VEVENT
DTSTART;TZID=Australia/Sydney:20270126T063000
DTEND;TZID=Australia/Sydney:20270126T071500
DTSTAMP:20260424T034622
CREATED:20241124T211846Z
LAST-MODIFIED:20250516T043543Z
UID:10085728-1800945000-1800947700@synergyhealthworks.com
SUMMARY:Women's Strength for over 45s
DESCRIPTION:
URL:https://synergyhealthworks.com/event/womens-fat-burn/2027-01-26/
LOCATION:Wagga Wagga | Fitness Hub\, 1/21-25 Forsyth Street\, Wagga Wagga\, NSW\, 2650\, Australia
CATEGORIES:Women's Strength Class for over 45s
END:VEVENT
BEGIN:VEVENT
DTSTART;TZID=Australia/Sydney:20270126T073000
DTEND;TZID=Australia/Sydney:20270126T081500
DTSTAMP:20260424T034622
CREATED:20241112T041932Z
LAST-MODIFIED:20250129T032814Z
UID:10072726-1800948600-1800951300@synergyhealthworks.com
SUMMARY:Women’s Strength Class for over 45s
DESCRIPTION:
URL:https://synergyhealthworks.com/event/womens-strength-class-for-over-45s-4/2027-01-26/
LOCATION:Wagga Wagga | Fitness Hub\, 1/21-25 Forsyth Street\, Wagga Wagga\, NSW\, 2650\, Australia
CATEGORIES:Women's Strength Class for over 45s
END:VEVENT
BEGIN:VEVENT
DTSTART;TZID=Australia/Sydney:20270126T103000
DTEND;TZID=Australia/Sydney:20270126T111500
DTSTAMP:20260424T034622
CREATED:20250502T051536Z
LAST-MODIFIED:20251203T032954Z
UID:10116835-1800959400-1800962100@synergyhealthworks.com
SUMMARY:Women’s Pelvic and Strength Class
DESCRIPTION:
URL:https://synergyhealthworks.com/event/womens-pelvic-and-strength-class/2027-01-26/
LOCATION:Wagga Wagga | Fitness Hub\, 1/21-25 Forsyth Street\, Wagga Wagga\, NSW\, 2650\, Australia
CATEGORIES:Women’s Pelvic and Strength Class
END:VEVENT
BEGIN:VEVENT
DTSTART;TZID=Australia/Sydney:20270126T120000
DTEND;TZID=Australia/Sydney:20270126T124500
DTSTAMP:20260424T034622
CREATED:20241112T044419Z
LAST-MODIFIED:20250129T032834Z
UID:10073521-1800964800-1800967500@synergyhealthworks.com
SUMMARY:Women's Strength Class for over 45s
DESCRIPTION:
URL:https://synergyhealthworks.com/event/womens-strength-class-for-over-45s-6/2027-01-26/
LOCATION:Wagga Wagga | Fitness Hub\, 1/21-25 Forsyth Street\, Wagga Wagga\, NSW\, 2650\, Australia
CATEGORIES:Women's Strength Class for over 45s
END:VEVENT
BEGIN:VEVENT
DTSTART;TZID=Australia/Sydney:20270126T163000
DTEND;TZID=Australia/Sydney:20270126T171500
DTSTAMP:20260424T034622
CREATED:20241112T044834Z
LAST-MODIFIED:20250129T032845Z
UID:10074316-1800981000-1800983700@synergyhealthworks.com
SUMMARY:Strength Circuit
DESCRIPTION:
URL:https://synergyhealthworks.com/event/strength-circuit-5/2027-01-26/
LOCATION:Wagga Wagga | Fitness Hub\, 1/21-25 Forsyth Street\, Wagga Wagga\, NSW\, 2650\, Australia
CATEGORIES:Strength Circuit
END:VEVENT
BEGIN:VEVENT
DTSTART;TZID=Australia/Sydney:20270127T063000
DTEND;TZID=Australia/Sydney:20270127T071500
DTSTAMP:20260424T034622
CREATED:20241112T045128Z
LAST-MODIFIED:20250129T032952Z
UID:10083868-1801031400-1801034100@synergyhealthworks.com
SUMMARY:Women's Strength Class for over 45s
DESCRIPTION:
URL:https://synergyhealthworks.com/event/womens-strength-class-for-over-45s-7/2027-01-27/
LOCATION:Wagga Wagga | Fitness Hub\, 1/21-25 Forsyth Street\, Wagga Wagga\, NSW\, 2650\, Australia
CATEGORIES:Women's Strength Class for over 45s
END:VEVENT
BEGIN:VEVENT
DTSTART;TZID=Australia/Sydney:20270127T073000
DTEND;TZID=Australia/Sydney:20270127T081500
DTSTAMP:20260424T034622
CREATED:20241112T045308Z
LAST-MODIFIED:20250129T032958Z
UID:10075111-1801035000-1801037700@synergyhealthworks.com
SUMMARY:Functional Fitness
DESCRIPTION:
URL:https://synergyhealthworks.com/event/cardio-combo-circuit-3/2027-01-27/
LOCATION:Wagga Wagga | Fitness Hub\, 1/21-25 Forsyth Street\, Wagga Wagga\, NSW\, 2650\, Australia
CATEGORIES:Functional Fitness
END:VEVENT
BEGIN:VEVENT
DTSTART;TZID=Australia/Sydney:20270127T120000
DTEND;TZID=Australia/Sydney:20270127T124500
DTSTAMP:20260424T034622
CREATED:20241112T220255Z
LAST-MODIFIED:20250129T033004Z
UID:10076171-1801051200-1801053900@synergyhealthworks.com
SUMMARY:Women's Strength Class for over 45s
DESCRIPTION:
URL:https://synergyhealthworks.com/event/womens-strength-class-for-over-45s-9/2027-01-27/
LOCATION:Wagga Wagga | Fitness Hub\, 1/21-25 Forsyth Street\, Wagga Wagga\, NSW\, 2650\, Australia
CATEGORIES:Women's Strength Class for over 45s
END:VEVENT
BEGIN:VEVENT
DTSTART;TZID=Australia/Sydney:20270127T173000
DTEND;TZID=Australia/Sydney:20270127T181500
DTSTAMP:20260424T034622
CREATED:20241112T220941Z
LAST-MODIFIED:20250129T033025Z
UID:10077231-1801071000-1801073700@synergyhealthworks.com
SUMMARY:Strength and Conditioning Class
DESCRIPTION:
URL:https://synergyhealthworks.com/event/functional-conditioning/2027-01-27/
LOCATION:Wagga Wagga | Fitness Hub\, 1/21-25 Forsyth Street\, Wagga Wagga\, NSW\, 2650\, Australia
CATEGORIES:Strength and Conditioning
END:VEVENT
BEGIN:VEVENT
DTSTART;TZID=Australia/Sydney:20270128T063000
DTEND;TZID=Australia/Sydney:20270128T071500
DTSTAMP:20260424T034622
CREATED:20251128T024235Z
LAST-MODIFIED:20251128T024235Z
UID:10131340-1801117800-1801120500@synergyhealthworks.com
SUMMARY:Women's Strength Class for over 45s
DESCRIPTION:
URL:https://synergyhealthworks.com/event/womens-strength-class-for-over-45s-5/2027-01-28/
LOCATION:Wagga Wagga | Fitness Hub\, 1/21-25 Forsyth Street\, Wagga Wagga\, NSW\, 2650\, Australia
CATEGORIES:Women's Strength Class for over 45s
END:VEVENT
BEGIN:VEVENT
DTSTART;TZID=Australia/Sydney:20270128T073000
DTEND;TZID=Australia/Sydney:20270128T081500
DTSTAMP:20260424T034622
CREATED:20241112T221101Z
LAST-MODIFIED:20250129T033150Z
UID:10077496-1801121400-1801124100@synergyhealthworks.com
SUMMARY:Women's Strength Class for over 45s
DESCRIPTION:
URL:https://synergyhealthworks.com/event/womens-strength-class-for-over-45s-11/2027-01-28/
LOCATION:Wagga Wagga | Fitness Hub\, 1/21-25 Forsyth Street\, Wagga Wagga\, NSW\, 2650\, Australia
CATEGORIES:Women's Strength Class for over 45s
END:VEVENT
BEGIN:VEVENT
DTSTART;TZID=Australia/Sydney:20270128T090000
DTEND;TZID=Australia/Sydney:20270128T094500
DTSTAMP:20260424T034622
CREATED:20241112T221649Z
LAST-MODIFIED:20250722T032123Z
UID:10120777-1801126800-1801129500@synergyhealthworks.com
SUMMARY:Golfer's Strengthen & Stretch
DESCRIPTION:
URL:https://synergyhealthworks.com/event/golfers-strengthen-stretch-2/2027-01-28/
LOCATION:Wagga Wagga | Fitness Hub\, 1/21-25 Forsyth Street\, Wagga Wagga\, NSW\, 2650\, Australia
CATEGORIES:Golfer's Strengthen & Stretch
END:VEVENT
BEGIN:VEVENT
DTSTART;TZID=Australia/Sydney:20270128T100000
DTEND;TZID=Australia/Sydney:20270128T104500
DTSTAMP:20260424T034622
CREATED:20241112T221214Z
LAST-MODIFIED:20250722T032235Z
UID:10121078-1801130400-1801133100@synergyhealthworks.com
SUMMARY:Strength Circuit
DESCRIPTION:
URL:https://synergyhealthworks.com/event/mens-strength-class-3/2027-01-28/
LOCATION:Wagga Wagga | Fitness Hub\, 1/21-25 Forsyth Street\, Wagga Wagga\, NSW\, 2650\, Australia
CATEGORIES:Strength Circuit
END:VEVENT
BEGIN:VEVENT
DTSTART;TZID=Australia/Sydney:20270128T120000
DTEND;TZID=Australia/Sydney:20270128T124500
DTSTAMP:20260424T034622
CREATED:20241124T212036Z
LAST-MODIFIED:20250516T043505Z
UID:10085989-1801137600-1801140300@synergyhealthworks.com
SUMMARY:Women's Strength for over 45s
DESCRIPTION:
URL:https://synergyhealthworks.com/event/womens-fat-burn-2/2027-01-28/
LOCATION:Wagga Wagga | Fitness Hub\, 1/21-25 Forsyth Street\, Wagga Wagga\, NSW\, 2650\, Australia
CATEGORIES:Women's Strength Class for over 45s
END:VEVENT
BEGIN:VEVENT
DTSTART;TZID=Australia/Sydney:20270129T071500
DTEND;TZID=Australia/Sydney:20270129T080000
DTSTAMP:20260424T034622
CREATED:20250618T000503Z
LAST-MODIFIED:20250618T000657Z
UID:10118872-1801206900-1801209600@synergyhealthworks.com
SUMMARY:Bike & Box
DESCRIPTION:
URL:https://synergyhealthworks.com/event/bike-and-box/2027-01-29/
LOCATION:Wagga Wagga | Fitness Hub\, 1/21-25 Forsyth Street\, Wagga Wagga\, NSW\, 2650\, Australia
CATEGORIES:Bike & Box,Women's Strength Class for over 45s
END:VEVENT
BEGIN:VEVENT
DTSTART;TZID=Australia/Sydney:20270129T073000
DTEND;TZID=Australia/Sydney:20270129T081500
DTSTAMP:20260424T034622
CREATED:20241202T231716Z
LAST-MODIFIED:20250403T044134Z
UID:10116040-1801207800-1801210500@synergyhealthworks.com
SUMMARY:Strength Circuit
DESCRIPTION:
URL:https://synergyhealthworks.com/event/strength-circuit-2/2027-01-29/
LOCATION:Wagga Wagga | Fitness Hub\, 1/21-25 Forsyth Street\, Wagga Wagga\, NSW\, 2650\, Australia
CATEGORIES:Strength Circuit
END:VEVENT
BEGIN:VEVENT
DTSTART;TZID=Australia/Sydney:20270129T083000
DTEND;TZID=Australia/Sydney:20270129T091500
DTSTAMP:20260424T034622
CREATED:20241112T224821Z
LAST-MODIFIED:20250403T043412Z
UID:10115762-1801211400-1801214100@synergyhealthworks.com
SUMMARY:Women's Strength Class for over 45s
DESCRIPTION:
URL:https://synergyhealthworks.com/event/bike-box-2/2027-01-29/
LOCATION:Wagga Wagga | Fitness Hub\, 1/21-25 Forsyth Street\, Wagga Wagga\, NSW\, 2650\, Australia
CATEGORIES:Women's Strength Class for over 45s
END:VEVENT
BEGIN:VEVENT
DTSTART;TZID=Australia/Sydney:20270201T083000
DTEND;TZID=Australia/Sydney:20270201T091500
DTSTAMP:20260424T034622
CREATED:20241112T035630Z
LAST-MODIFIED:20250129T032622Z
UID:10082273-1801470600-1801473300@synergyhealthworks.com
SUMMARY:Strength Circuit
DESCRIPTION:
URL:https://synergyhealthworks.com/event/strength-circuit/2027-02-01/
LOCATION:Wagga Wagga | Fitness Hub\, 1/21-25 Forsyth Street\, Wagga Wagga\, NSW\, 2650\, Australia
CATEGORIES:Strength Circuit
END:VEVENT
BEGIN:VEVENT
DTSTART;TZID=Australia/Sydney:20270201T120000
DTEND;TZID=Australia/Sydney:20270201T124500
DTSTAMP:20260424T034622
CREATED:20250829T044037Z
LAST-MODIFIED:20250829T044037Z
UID:10122306-1801483200-1801485900@synergyhealthworks.com
SUMMARY:Strength and Conditioning Class
DESCRIPTION:
URL:https://synergyhealthworks.com/event/strength-and-conditioning-class-3/2027-02-01/
LOCATION:Wagga Wagga | Fitness Hub\, 1/21-25 Forsyth Street\, Wagga Wagga\, NSW\, 2650\, Australia
CATEGORIES:Strength and Conditioning
END:VEVENT
BEGIN:VEVENT
DTSTART;TZID=Australia/Sydney:20270201T130000
DTEND;TZID=Australia/Sydney:20270201T134500
DTSTAMP:20260424T034622
CREATED:20251112T001650Z
LAST-MODIFIED:20251112T001650Z
UID:10127438-1801486800-1801489500@synergyhealthworks.com
SUMMARY:Strength and Conditioning Class
DESCRIPTION:
URL:https://synergyhealthworks.com/event/strength-and-conditioning-class-5/2027-02-01/
LOCATION:Wagga Wagga | Fitness Hub\, 1/21-25 Forsyth Street\, Wagga Wagga\, NSW\, 2650\, Australia
CATEGORIES:Strength and Conditioning
END:VEVENT
BEGIN:VEVENT
DTSTART;TZID=Australia/Sydney:20270201T163000
DTEND;TZID=Australia/Sydney:20270201T171500
DTSTAMP:20260424T034622
CREATED:20250502T051402Z
LAST-MODIFIED:20250502T051402Z
UID:10116575-1801499400-1801502100@synergyhealthworks.com
SUMMARY:Women’s Pregnancy Strength Class
DESCRIPTION:
URL:https://synergyhealthworks.com/event/womens-pregnancy-strength-class/2027-02-01/
LOCATION:Wagga Wagga | Fitness Hub\, 1/21-25 Forsyth Street\, Wagga Wagga\, NSW\, 2650\, Australia
CATEGORIES:Women’s Pregnancy Strength Class
END:VEVENT
BEGIN:VEVENT
DTSTART;TZID=Australia/Sydney:20270201T173000
DTEND;TZID=Australia/Sydney:20270201T181500
DTSTAMP:20260424T034622
CREATED:20241112T041557Z
LAST-MODIFIED:20250129T032656Z
UID:10072196-1801503000-1801505700@synergyhealthworks.com
SUMMARY:Strength and Conditioning Class
DESCRIPTION:
URL:https://synergyhealthworks.com/event/strength-and-conditioning-class-4/2027-02-01/
LOCATION:Wagga Wagga | Fitness Hub\, 1/21-25 Forsyth Street\, Wagga Wagga\, NSW\, 2650\, Australia
CATEGORIES:Strength and Conditioning
END:VEVENT
BEGIN:VEVENT
DTSTART;TZID=Australia/Sydney:20270202T063000
DTEND;TZID=Australia/Sydney:20270202T071500
DTSTAMP:20260424T034622
CREATED:20241124T211846Z
LAST-MODIFIED:20250516T043543Z
UID:10085729-1801549800-1801552500@synergyhealthworks.com
SUMMARY:Women's Strength for over 45s
DESCRIPTION:
URL:https://synergyhealthworks.com/event/womens-fat-burn/2027-02-02/
LOCATION:Wagga Wagga | Fitness Hub\, 1/21-25 Forsyth Street\, Wagga Wagga\, NSW\, 2650\, Australia
CATEGORIES:Women's Strength Class for over 45s
END:VEVENT
BEGIN:VEVENT
DTSTART;TZID=Australia/Sydney:20270202T073000
DTEND;TZID=Australia/Sydney:20270202T081500
DTSTAMP:20260424T034622
CREATED:20241112T041932Z
LAST-MODIFIED:20250129T032814Z
UID:10072727-1801553400-1801556100@synergyhealthworks.com
SUMMARY:Women’s Strength Class for over 45s
DESCRIPTION:
URL:https://synergyhealthworks.com/event/womens-strength-class-for-over-45s-4/2027-02-02/
LOCATION:Wagga Wagga | Fitness Hub\, 1/21-25 Forsyth Street\, Wagga Wagga\, NSW\, 2650\, Australia
CATEGORIES:Women's Strength Class for over 45s
END:VEVENT
BEGIN:VEVENT
DTSTART;TZID=Australia/Sydney:20270202T103000
DTEND;TZID=Australia/Sydney:20270202T111500
DTSTAMP:20260424T034622
CREATED:20250502T051536Z
LAST-MODIFIED:20251203T032954Z
UID:10116836-1801564200-1801566900@synergyhealthworks.com
SUMMARY:Women’s Pelvic and Strength Class
DESCRIPTION:
URL:https://synergyhealthworks.com/event/womens-pelvic-and-strength-class/2027-02-02/
LOCATION:Wagga Wagga | Fitness Hub\, 1/21-25 Forsyth Street\, Wagga Wagga\, NSW\, 2650\, Australia
CATEGORIES:Women’s Pelvic and Strength Class
END:VEVENT
BEGIN:VEVENT
DTSTART;TZID=Australia/Sydney:20270202T120000
DTEND;TZID=Australia/Sydney:20270202T124500
DTSTAMP:20260424T034622
CREATED:20241112T044419Z
LAST-MODIFIED:20250129T032834Z
UID:10073522-1801569600-1801572300@synergyhealthworks.com
SUMMARY:Women's Strength Class for over 45s
DESCRIPTION:
URL:https://synergyhealthworks.com/event/womens-strength-class-for-over-45s-6/2027-02-02/
LOCATION:Wagga Wagga | Fitness Hub\, 1/21-25 Forsyth Street\, Wagga Wagga\, NSW\, 2650\, Australia
CATEGORIES:Women's Strength Class for over 45s
END:VEVENT
BEGIN:VEVENT
DTSTART;TZID=Australia/Sydney:20270202T163000
DTEND;TZID=Australia/Sydney:20270202T171500
DTSTAMP:20260424T034622
CREATED:20241112T044834Z
LAST-MODIFIED:20250129T032845Z
UID:10074317-1801585800-1801588500@synergyhealthworks.com
SUMMARY:Strength Circuit
DESCRIPTION:
URL:https://synergyhealthworks.com/event/strength-circuit-5/2027-02-02/
LOCATION:Wagga Wagga | Fitness Hub\, 1/21-25 Forsyth Street\, Wagga Wagga\, NSW\, 2650\, Australia
CATEGORIES:Strength Circuit
END:VEVENT
BEGIN:VEVENT
DTSTART;TZID=Australia/Sydney:20270203T063000
DTEND;TZID=Australia/Sydney:20270203T071500
DTSTAMP:20260424T034622
CREATED:20241112T045128Z
LAST-MODIFIED:20250129T032952Z
UID:10083869-1801636200-1801638900@synergyhealthworks.com
SUMMARY:Women's Strength Class for over 45s
DESCRIPTION:
URL:https://synergyhealthworks.com/event/womens-strength-class-for-over-45s-7/2027-02-03/
LOCATION:Wagga Wagga | Fitness Hub\, 1/21-25 Forsyth Street\, Wagga Wagga\, NSW\, 2650\, Australia
CATEGORIES:Women's Strength Class for over 45s
END:VEVENT
END:VCALENDAR