BEGIN:VCALENDAR
VERSION:2.0
PRODID:-//Synergy Healthworks - ECPv6.15.20//NONSGML v1.0//EN
CALSCALE:GREGORIAN
METHOD:PUBLISH
X-ORIGINAL-URL:https://synergyhealthworks.com
X-WR-CALDESC:Events for Synergy Healthworks
REFRESH-INTERVAL;VALUE=DURATION:PT1H
X-Robots-Tag:noindex
X-PUBLISHED-TTL:PT1H
BEGIN:VTIMEZONE
TZID:Australia/Sydney
BEGIN:STANDARD
TZOFFSETFROM:+1100
TZOFFSETTO:+1000
TZNAME:AEST
DTSTART:20260404T160000
END:STANDARD
BEGIN:DAYLIGHT
TZOFFSETFROM:+1000
TZOFFSETTO:+1100
TZNAME:AEDT
DTSTART:20261003T160000
END:DAYLIGHT
BEGIN:STANDARD
TZOFFSETFROM:+1100
TZOFFSETTO:+1000
TZNAME:AEST
DTSTART:20270403T160000
END:STANDARD
BEGIN:DAYLIGHT
TZOFFSETFROM:+1000
TZOFFSETTO:+1100
TZNAME:AEDT
DTSTART:20271002T160000
END:DAYLIGHT
BEGIN:STANDARD
TZOFFSETFROM:+1100
TZOFFSETTO:+1000
TZNAME:AEST
DTSTART:20280401T160000
END:STANDARD
BEGIN:DAYLIGHT
TZOFFSETFROM:+1000
TZOFFSETTO:+1100
TZNAME:AEDT
DTSTART:20280930T160000
END:DAYLIGHT
END:VTIMEZONE
BEGIN:VEVENT
DTSTART;TZID=Australia/Sydney:20270118T120000
DTEND;TZID=Australia/Sydney:20270118T124500
DTSTAMP:20260424T002528
CREATED:20250829T044037Z
LAST-MODIFIED:20250829T044037Z
UID:10122304-1800273600-1800276300@synergyhealthworks.com
SUMMARY:Strength and Conditioning Class
DESCRIPTION:
URL:https://synergyhealthworks.com/event/strength-and-conditioning-class-3/2027-01-18/
LOCATION:Wagga Wagga | Fitness Hub\, 1/21-25 Forsyth Street\, Wagga Wagga\, NSW\, 2650\, Australia
CATEGORIES:Strength and Conditioning
END:VEVENT
BEGIN:VEVENT
DTSTART;TZID=Australia/Sydney:20270118T130000
DTEND;TZID=Australia/Sydney:20270118T134500
DTSTAMP:20260424T002528
CREATED:20251112T001650Z
LAST-MODIFIED:20251112T001650Z
UID:10127436-1800277200-1800279900@synergyhealthworks.com
SUMMARY:Strength and Conditioning Class
DESCRIPTION:
URL:https://synergyhealthworks.com/event/strength-and-conditioning-class-5/2027-01-18/
LOCATION:Wagga Wagga | Fitness Hub\, 1/21-25 Forsyth Street\, Wagga Wagga\, NSW\, 2650\, Australia
CATEGORIES:Strength and Conditioning
END:VEVENT
BEGIN:VEVENT
DTSTART;TZID=Australia/Sydney:20270118T163000
DTEND;TZID=Australia/Sydney:20270118T171500
DTSTAMP:20260424T002528
CREATED:20250502T051402Z
LAST-MODIFIED:20250502T051402Z
UID:10116573-1800289800-1800292500@synergyhealthworks.com
SUMMARY:Women’s Pregnancy Strength Class
DESCRIPTION:
URL:https://synergyhealthworks.com/event/womens-pregnancy-strength-class/2027-01-18/
LOCATION:Wagga Wagga | Fitness Hub\, 1/21-25 Forsyth Street\, Wagga Wagga\, NSW\, 2650\, Australia
CATEGORIES:Women’s Pregnancy Strength Class
END:VEVENT
BEGIN:VEVENT
DTSTART;TZID=Australia/Sydney:20270118T173000
DTEND;TZID=Australia/Sydney:20270118T181500
DTSTAMP:20260424T002528
CREATED:20241112T041557Z
LAST-MODIFIED:20250129T032656Z
UID:10072194-1800293400-1800296100@synergyhealthworks.com
SUMMARY:Strength and Conditioning Class
DESCRIPTION:
URL:https://synergyhealthworks.com/event/strength-and-conditioning-class-4/2027-01-18/
LOCATION:Wagga Wagga | Fitness Hub\, 1/21-25 Forsyth Street\, Wagga Wagga\, NSW\, 2650\, Australia
CATEGORIES:Strength and Conditioning
END:VEVENT
BEGIN:VEVENT
DTSTART;TZID=Australia/Sydney:20270119T063000
DTEND;TZID=Australia/Sydney:20270119T071500
DTSTAMP:20260424T002528
CREATED:20241124T211846Z
LAST-MODIFIED:20250516T043543Z
UID:10085727-1800340200-1800342900@synergyhealthworks.com
SUMMARY:Women's Strength for over 45s
DESCRIPTION:
URL:https://synergyhealthworks.com/event/womens-fat-burn/2027-01-19/
LOCATION:Wagga Wagga | Fitness Hub\, 1/21-25 Forsyth Street\, Wagga Wagga\, NSW\, 2650\, Australia
CATEGORIES:Women's Strength Class for over 45s
END:VEVENT
BEGIN:VEVENT
DTSTART;TZID=Australia/Sydney:20270119T073000
DTEND;TZID=Australia/Sydney:20270119T081500
DTSTAMP:20260424T002528
CREATED:20241112T041932Z
LAST-MODIFIED:20250129T032814Z
UID:10072725-1800343800-1800346500@synergyhealthworks.com
SUMMARY:Women’s Strength Class for over 45s
DESCRIPTION:
URL:https://synergyhealthworks.com/event/womens-strength-class-for-over-45s-4/2027-01-19/
LOCATION:Wagga Wagga | Fitness Hub\, 1/21-25 Forsyth Street\, Wagga Wagga\, NSW\, 2650\, Australia
CATEGORIES:Women's Strength Class for over 45s
END:VEVENT
BEGIN:VEVENT
DTSTART;TZID=Australia/Sydney:20270119T103000
DTEND;TZID=Australia/Sydney:20270119T111500
DTSTAMP:20260424T002528
CREATED:20250502T051536Z
LAST-MODIFIED:20251203T032954Z
UID:10116834-1800354600-1800357300@synergyhealthworks.com
SUMMARY:Women’s Pelvic and Strength Class
DESCRIPTION:
URL:https://synergyhealthworks.com/event/womens-pelvic-and-strength-class/2027-01-19/
LOCATION:Wagga Wagga | Fitness Hub\, 1/21-25 Forsyth Street\, Wagga Wagga\, NSW\, 2650\, Australia
CATEGORIES:Women’s Pelvic and Strength Class
END:VEVENT
BEGIN:VEVENT
DTSTART;TZID=Australia/Sydney:20270119T120000
DTEND;TZID=Australia/Sydney:20270119T124500
DTSTAMP:20260424T002528
CREATED:20241112T044419Z
LAST-MODIFIED:20250129T032834Z
UID:10073520-1800360000-1800362700@synergyhealthworks.com
SUMMARY:Women's Strength Class for over 45s
DESCRIPTION:
URL:https://synergyhealthworks.com/event/womens-strength-class-for-over-45s-6/2027-01-19/
LOCATION:Wagga Wagga | Fitness Hub\, 1/21-25 Forsyth Street\, Wagga Wagga\, NSW\, 2650\, Australia
CATEGORIES:Women's Strength Class for over 45s
END:VEVENT
BEGIN:VEVENT
DTSTART;TZID=Australia/Sydney:20270119T163000
DTEND;TZID=Australia/Sydney:20270119T171500
DTSTAMP:20260424T002528
CREATED:20241112T044834Z
LAST-MODIFIED:20250129T032845Z
UID:10074315-1800376200-1800378900@synergyhealthworks.com
SUMMARY:Strength Circuit
DESCRIPTION:
URL:https://synergyhealthworks.com/event/strength-circuit-5/2027-01-19/
LOCATION:Wagga Wagga | Fitness Hub\, 1/21-25 Forsyth Street\, Wagga Wagga\, NSW\, 2650\, Australia
CATEGORIES:Strength Circuit
END:VEVENT
BEGIN:VEVENT
DTSTART;TZID=Australia/Sydney:20270120T063000
DTEND;TZID=Australia/Sydney:20270120T071500
DTSTAMP:20260424T002528
CREATED:20241112T045128Z
LAST-MODIFIED:20250129T032952Z
UID:10083867-1800426600-1800429300@synergyhealthworks.com
SUMMARY:Women's Strength Class for over 45s
DESCRIPTION:
URL:https://synergyhealthworks.com/event/womens-strength-class-for-over-45s-7/2027-01-20/
LOCATION:Wagga Wagga | Fitness Hub\, 1/21-25 Forsyth Street\, Wagga Wagga\, NSW\, 2650\, Australia
CATEGORIES:Women's Strength Class for over 45s
END:VEVENT
BEGIN:VEVENT
DTSTART;TZID=Australia/Sydney:20270120T073000
DTEND;TZID=Australia/Sydney:20270120T081500
DTSTAMP:20260424T002528
CREATED:20241112T045308Z
LAST-MODIFIED:20250129T032958Z
UID:10075110-1800430200-1800432900@synergyhealthworks.com
SUMMARY:Functional Fitness
DESCRIPTION:
URL:https://synergyhealthworks.com/event/cardio-combo-circuit-3/2027-01-20/
LOCATION:Wagga Wagga | Fitness Hub\, 1/21-25 Forsyth Street\, Wagga Wagga\, NSW\, 2650\, Australia
CATEGORIES:Functional Fitness
END:VEVENT
BEGIN:VEVENT
DTSTART;TZID=Australia/Sydney:20270120T120000
DTEND;TZID=Australia/Sydney:20270120T124500
DTSTAMP:20260424T002528
CREATED:20241112T220255Z
LAST-MODIFIED:20250129T033004Z
UID:10076170-1800446400-1800449100@synergyhealthworks.com
SUMMARY:Women's Strength Class for over 45s
DESCRIPTION:
URL:https://synergyhealthworks.com/event/womens-strength-class-for-over-45s-9/2027-01-20/
LOCATION:Wagga Wagga | Fitness Hub\, 1/21-25 Forsyth Street\, Wagga Wagga\, NSW\, 2650\, Australia
CATEGORIES:Women's Strength Class for over 45s
END:VEVENT
BEGIN:VEVENT
DTSTART;TZID=Australia/Sydney:20270120T173000
DTEND;TZID=Australia/Sydney:20270120T181500
DTSTAMP:20260424T002528
CREATED:20241112T220941Z
LAST-MODIFIED:20250129T033025Z
UID:10077230-1800466200-1800468900@synergyhealthworks.com
SUMMARY:Strength and Conditioning Class
DESCRIPTION:
URL:https://synergyhealthworks.com/event/functional-conditioning/2027-01-20/
LOCATION:Wagga Wagga | Fitness Hub\, 1/21-25 Forsyth Street\, Wagga Wagga\, NSW\, 2650\, Australia
CATEGORIES:Strength and Conditioning
END:VEVENT
BEGIN:VEVENT
DTSTART;TZID=Australia/Sydney:20270121T063000
DTEND;TZID=Australia/Sydney:20270121T071500
DTSTAMP:20260424T002528
CREATED:20251128T024235Z
LAST-MODIFIED:20251128T024235Z
UID:10131339-1800513000-1800515700@synergyhealthworks.com
SUMMARY:Women's Strength Class for over 45s
DESCRIPTION:
URL:https://synergyhealthworks.com/event/womens-strength-class-for-over-45s-5/2027-01-21/
LOCATION:Wagga Wagga | Fitness Hub\, 1/21-25 Forsyth Street\, Wagga Wagga\, NSW\, 2650\, Australia
CATEGORIES:Women's Strength Class for over 45s
END:VEVENT
BEGIN:VEVENT
DTSTART;TZID=Australia/Sydney:20270121T073000
DTEND;TZID=Australia/Sydney:20270121T081500
DTSTAMP:20260424T002528
CREATED:20241112T221101Z
LAST-MODIFIED:20250129T033150Z
UID:10077495-1800516600-1800519300@synergyhealthworks.com
SUMMARY:Women's Strength Class for over 45s
DESCRIPTION:
URL:https://synergyhealthworks.com/event/womens-strength-class-for-over-45s-11/2027-01-21/
LOCATION:Wagga Wagga | Fitness Hub\, 1/21-25 Forsyth Street\, Wagga Wagga\, NSW\, 2650\, Australia
CATEGORIES:Women's Strength Class for over 45s
END:VEVENT
BEGIN:VEVENT
DTSTART;TZID=Australia/Sydney:20270121T090000
DTEND;TZID=Australia/Sydney:20270121T094500
DTSTAMP:20260424T002528
CREATED:20241112T221649Z
LAST-MODIFIED:20250722T032123Z
UID:10120776-1800522000-1800524700@synergyhealthworks.com
SUMMARY:Golfer's Strengthen & Stretch
DESCRIPTION:
URL:https://synergyhealthworks.com/event/golfers-strengthen-stretch-2/2027-01-21/
LOCATION:Wagga Wagga | Fitness Hub\, 1/21-25 Forsyth Street\, Wagga Wagga\, NSW\, 2650\, Australia
CATEGORIES:Golfer's Strengthen & Stretch
END:VEVENT
BEGIN:VEVENT
DTSTART;TZID=Australia/Sydney:20270121T100000
DTEND;TZID=Australia/Sydney:20270121T104500
DTSTAMP:20260424T002528
CREATED:20241112T221214Z
LAST-MODIFIED:20250722T032235Z
UID:10121077-1800525600-1800528300@synergyhealthworks.com
SUMMARY:Strength Circuit
DESCRIPTION:
URL:https://synergyhealthworks.com/event/mens-strength-class-3/2027-01-21/
LOCATION:Wagga Wagga | Fitness Hub\, 1/21-25 Forsyth Street\, Wagga Wagga\, NSW\, 2650\, Australia
CATEGORIES:Strength Circuit
END:VEVENT
BEGIN:VEVENT
DTSTART;TZID=Australia/Sydney:20270121T120000
DTEND;TZID=Australia/Sydney:20270121T124500
DTSTAMP:20260424T002528
CREATED:20241124T212036Z
LAST-MODIFIED:20250516T043505Z
UID:10085988-1800532800-1800535500@synergyhealthworks.com
SUMMARY:Women's Strength for over 45s
DESCRIPTION:
URL:https://synergyhealthworks.com/event/womens-fat-burn-2/2027-01-21/
LOCATION:Wagga Wagga | Fitness Hub\, 1/21-25 Forsyth Street\, Wagga Wagga\, NSW\, 2650\, Australia
CATEGORIES:Women's Strength Class for over 45s
END:VEVENT
BEGIN:VEVENT
DTSTART;TZID=Australia/Sydney:20270122T071500
DTEND;TZID=Australia/Sydney:20270122T080000
DTSTAMP:20260424T002528
CREATED:20250618T000503Z
LAST-MODIFIED:20250618T000657Z
UID:10118871-1800602100-1800604800@synergyhealthworks.com
SUMMARY:Bike & Box
DESCRIPTION:
URL:https://synergyhealthworks.com/event/bike-and-box/2027-01-22/
LOCATION:Wagga Wagga | Fitness Hub\, 1/21-25 Forsyth Street\, Wagga Wagga\, NSW\, 2650\, Australia
CATEGORIES:Bike & Box,Women's Strength Class for over 45s
END:VEVENT
BEGIN:VEVENT
DTSTART;TZID=Australia/Sydney:20270122T073000
DTEND;TZID=Australia/Sydney:20270122T081500
DTSTAMP:20260424T002528
CREATED:20241202T231716Z
LAST-MODIFIED:20250403T044134Z
UID:10116039-1800603000-1800605700@synergyhealthworks.com
SUMMARY:Strength Circuit
DESCRIPTION:
URL:https://synergyhealthworks.com/event/strength-circuit-2/2027-01-22/
LOCATION:Wagga Wagga | Fitness Hub\, 1/21-25 Forsyth Street\, Wagga Wagga\, NSW\, 2650\, Australia
CATEGORIES:Strength Circuit
END:VEVENT
BEGIN:VEVENT
DTSTART;TZID=Australia/Sydney:20270122T083000
DTEND;TZID=Australia/Sydney:20270122T091500
DTSTAMP:20260424T002528
CREATED:20241112T224821Z
LAST-MODIFIED:20250403T043412Z
UID:10115761-1800606600-1800609300@synergyhealthworks.com
SUMMARY:Women's Strength Class for over 45s
DESCRIPTION:
URL:https://synergyhealthworks.com/event/bike-box-2/2027-01-22/
LOCATION:Wagga Wagga | Fitness Hub\, 1/21-25 Forsyth Street\, Wagga Wagga\, NSW\, 2650\, Australia
CATEGORIES:Women's Strength Class for over 45s
END:VEVENT
BEGIN:VEVENT
DTSTART;TZID=Australia/Sydney:20270125T083000
DTEND;TZID=Australia/Sydney:20270125T091500
DTSTAMP:20260424T002528
CREATED:20241112T035630Z
LAST-MODIFIED:20250129T032622Z
UID:10082272-1800865800-1800868500@synergyhealthworks.com
SUMMARY:Strength Circuit
DESCRIPTION:
URL:https://synergyhealthworks.com/event/strength-circuit/2027-01-25/
LOCATION:Wagga Wagga | Fitness Hub\, 1/21-25 Forsyth Street\, Wagga Wagga\, NSW\, 2650\, Australia
CATEGORIES:Strength Circuit
END:VEVENT
BEGIN:VEVENT
DTSTART;TZID=Australia/Sydney:20270125T120000
DTEND;TZID=Australia/Sydney:20270125T124500
DTSTAMP:20260424T002528
CREATED:20250829T044037Z
LAST-MODIFIED:20250829T044037Z
UID:10122305-1800878400-1800881100@synergyhealthworks.com
SUMMARY:Strength and Conditioning Class
DESCRIPTION:
URL:https://synergyhealthworks.com/event/strength-and-conditioning-class-3/2027-01-25/
LOCATION:Wagga Wagga | Fitness Hub\, 1/21-25 Forsyth Street\, Wagga Wagga\, NSW\, 2650\, Australia
CATEGORIES:Strength and Conditioning
END:VEVENT
BEGIN:VEVENT
DTSTART;TZID=Australia/Sydney:20270125T130000
DTEND;TZID=Australia/Sydney:20270125T134500
DTSTAMP:20260424T002528
CREATED:20251112T001650Z
LAST-MODIFIED:20251112T001650Z
UID:10127437-1800882000-1800884700@synergyhealthworks.com
SUMMARY:Strength and Conditioning Class
DESCRIPTION:
URL:https://synergyhealthworks.com/event/strength-and-conditioning-class-5/2027-01-25/
LOCATION:Wagga Wagga | Fitness Hub\, 1/21-25 Forsyth Street\, Wagga Wagga\, NSW\, 2650\, Australia
CATEGORIES:Strength and Conditioning
END:VEVENT
BEGIN:VEVENT
DTSTART;TZID=Australia/Sydney:20270125T163000
DTEND;TZID=Australia/Sydney:20270125T171500
DTSTAMP:20260424T002528
CREATED:20250502T051402Z
LAST-MODIFIED:20250502T051402Z
UID:10116574-1800894600-1800897300@synergyhealthworks.com
SUMMARY:Women’s Pregnancy Strength Class
DESCRIPTION:
URL:https://synergyhealthworks.com/event/womens-pregnancy-strength-class/2027-01-25/
LOCATION:Wagga Wagga | Fitness Hub\, 1/21-25 Forsyth Street\, Wagga Wagga\, NSW\, 2650\, Australia
CATEGORIES:Women’s Pregnancy Strength Class
END:VEVENT
BEGIN:VEVENT
DTSTART;TZID=Australia/Sydney:20270125T173000
DTEND;TZID=Australia/Sydney:20270125T181500
DTSTAMP:20260424T002528
CREATED:20241112T041557Z
LAST-MODIFIED:20250129T032656Z
UID:10072195-1800898200-1800900900@synergyhealthworks.com
SUMMARY:Strength and Conditioning Class
DESCRIPTION:
URL:https://synergyhealthworks.com/event/strength-and-conditioning-class-4/2027-01-25/
LOCATION:Wagga Wagga | Fitness Hub\, 1/21-25 Forsyth Street\, Wagga Wagga\, NSW\, 2650\, Australia
CATEGORIES:Strength and Conditioning
END:VEVENT
BEGIN:VEVENT
DTSTART;TZID=Australia/Sydney:20270126T063000
DTEND;TZID=Australia/Sydney:20270126T071500
DTSTAMP:20260424T002528
CREATED:20241124T211846Z
LAST-MODIFIED:20250516T043543Z
UID:10085728-1800945000-1800947700@synergyhealthworks.com
SUMMARY:Women's Strength for over 45s
DESCRIPTION:
URL:https://synergyhealthworks.com/event/womens-fat-burn/2027-01-26/
LOCATION:Wagga Wagga | Fitness Hub\, 1/21-25 Forsyth Street\, Wagga Wagga\, NSW\, 2650\, Australia
CATEGORIES:Women's Strength Class for over 45s
END:VEVENT
BEGIN:VEVENT
DTSTART;TZID=Australia/Sydney:20270126T073000
DTEND;TZID=Australia/Sydney:20270126T081500
DTSTAMP:20260424T002528
CREATED:20241112T041932Z
LAST-MODIFIED:20250129T032814Z
UID:10072726-1800948600-1800951300@synergyhealthworks.com
SUMMARY:Women’s Strength Class for over 45s
DESCRIPTION:
URL:https://synergyhealthworks.com/event/womens-strength-class-for-over-45s-4/2027-01-26/
LOCATION:Wagga Wagga | Fitness Hub\, 1/21-25 Forsyth Street\, Wagga Wagga\, NSW\, 2650\, Australia
CATEGORIES:Women's Strength Class for over 45s
END:VEVENT
BEGIN:VEVENT
DTSTART;TZID=Australia/Sydney:20270126T103000
DTEND;TZID=Australia/Sydney:20270126T111500
DTSTAMP:20260424T002528
CREATED:20250502T051536Z
LAST-MODIFIED:20251203T032954Z
UID:10116835-1800959400-1800962100@synergyhealthworks.com
SUMMARY:Women’s Pelvic and Strength Class
DESCRIPTION:
URL:https://synergyhealthworks.com/event/womens-pelvic-and-strength-class/2027-01-26/
LOCATION:Wagga Wagga | Fitness Hub\, 1/21-25 Forsyth Street\, Wagga Wagga\, NSW\, 2650\, Australia
CATEGORIES:Women’s Pelvic and Strength Class
END:VEVENT
BEGIN:VEVENT
DTSTART;TZID=Australia/Sydney:20270126T120000
DTEND;TZID=Australia/Sydney:20270126T124500
DTSTAMP:20260424T002528
CREATED:20241112T044419Z
LAST-MODIFIED:20250129T032834Z
UID:10073521-1800964800-1800967500@synergyhealthworks.com
SUMMARY:Women's Strength Class for over 45s
DESCRIPTION:
URL:https://synergyhealthworks.com/event/womens-strength-class-for-over-45s-6/2027-01-26/
LOCATION:Wagga Wagga | Fitness Hub\, 1/21-25 Forsyth Street\, Wagga Wagga\, NSW\, 2650\, Australia
CATEGORIES:Women's Strength Class for over 45s
END:VEVENT
END:VCALENDAR