BEGIN:VCALENDAR
VERSION:2.0
PRODID:-//Synergy Healthworks - ECPv6.15.20//NONSGML v1.0//EN
CALSCALE:GREGORIAN
METHOD:PUBLISH
X-WR-CALNAME:Synergy Healthworks
X-ORIGINAL-URL:https://synergyhealthworks.com
X-WR-CALDESC:Events for Synergy Healthworks
REFRESH-INTERVAL;VALUE=DURATION:PT1H
X-Robots-Tag:noindex
X-PUBLISHED-TTL:PT1H
BEGIN:VTIMEZONE
TZID:Australia/Sydney
BEGIN:STANDARD
TZOFFSETFROM:+1100
TZOFFSETTO:+1000
TZNAME:AEST
DTSTART:20240406T160000
END:STANDARD
BEGIN:DAYLIGHT
TZOFFSETFROM:+1000
TZOFFSETTO:+1100
TZNAME:AEDT
DTSTART:20241005T160000
END:DAYLIGHT
BEGIN:STANDARD
TZOFFSETFROM:+1100
TZOFFSETTO:+1000
TZNAME:AEST
DTSTART:20250405T160000
END:STANDARD
BEGIN:DAYLIGHT
TZOFFSETFROM:+1000
TZOFFSETTO:+1100
TZNAME:AEDT
DTSTART:20251004T160000
END:DAYLIGHT
BEGIN:STANDARD
TZOFFSETFROM:+1100
TZOFFSETTO:+1000
TZNAME:AEST
DTSTART:20260404T160000
END:STANDARD
BEGIN:DAYLIGHT
TZOFFSETFROM:+1000
TZOFFSETTO:+1100
TZNAME:AEDT
DTSTART:20261003T160000
END:DAYLIGHT
END:VTIMEZONE
BEGIN:VEVENT
DTSTART;TZID=Australia/Sydney:20250819T120000
DTEND;TZID=Australia/Sydney:20250819T124500
DTSTAMP:20260423T223135
CREATED:20241112T044419Z
LAST-MODIFIED:20250129T032834Z
UID:10073446-1755604800-1755607500@synergyhealthworks.com
SUMMARY:Women's Strength Class for over 45s
DESCRIPTION:
URL:https://synergyhealthworks.com/event/womens-strength-class-for-over-45s-6/2025-08-19/
LOCATION:Wagga Wagga | Fitness Hub\, 1/21-25 Forsyth Street\, Wagga Wagga\, NSW\, 2650\, Australia
CATEGORIES:Women's Strength Class for over 45s
END:VEVENT
BEGIN:VEVENT
DTSTART;TZID=Australia/Sydney:20250819T103000
DTEND;TZID=Australia/Sydney:20250819T111500
DTSTAMP:20260423T223135
CREATED:20250502T051536Z
LAST-MODIFIED:20251203T032954Z
UID:10116760-1755599400-1755602100@synergyhealthworks.com
SUMMARY:Women’s Pelvic and Strength Class
DESCRIPTION:
URL:https://synergyhealthworks.com/event/womens-pelvic-and-strength-class/2025-08-19/
LOCATION:Wagga Wagga | Fitness Hub\, 1/21-25 Forsyth Street\, Wagga Wagga\, NSW\, 2650\, Australia
CATEGORIES:Women’s Pelvic and Strength Class
END:VEVENT
BEGIN:VEVENT
DTSTART;TZID=Australia/Sydney:20250819T073000
DTEND;TZID=Australia/Sydney:20250819T081500
DTSTAMP:20260423T223135
CREATED:20241112T041932Z
LAST-MODIFIED:20250129T032814Z
UID:10072651-1755588600-1755591300@synergyhealthworks.com
SUMMARY:Women’s Strength Class for over 45s
DESCRIPTION:
URL:https://synergyhealthworks.com/event/womens-strength-class-for-over-45s-4/2025-08-19/
LOCATION:Wagga Wagga | Fitness Hub\, 1/21-25 Forsyth Street\, Wagga Wagga\, NSW\, 2650\, Australia
CATEGORIES:Women's Strength Class for over 45s
END:VEVENT
BEGIN:VEVENT
DTSTART;TZID=Australia/Sydney:20250819T063000
DTEND;TZID=Australia/Sydney:20250819T071500
DTSTAMP:20260423T223135
CREATED:20241124T211846Z
LAST-MODIFIED:20250516T043543Z
UID:10085653-1755585000-1755587700@synergyhealthworks.com
SUMMARY:Women's Strength for over 45s
DESCRIPTION:
URL:https://synergyhealthworks.com/event/womens-fat-burn/2025-08-19/
LOCATION:Wagga Wagga | Fitness Hub\, 1/21-25 Forsyth Street\, Wagga Wagga\, NSW\, 2650\, Australia
CATEGORIES:Women's Strength Class for over 45s
END:VEVENT
BEGIN:VEVENT
DTSTART;TZID=Australia/Sydney:20250818T173000
DTEND;TZID=Australia/Sydney:20250818T181500
DTSTAMP:20260423T223135
CREATED:20241112T041557Z
LAST-MODIFIED:20250129T032656Z
UID:10072120-1755538200-1755540900@synergyhealthworks.com
SUMMARY:Strength and Conditioning Class
DESCRIPTION:
URL:https://synergyhealthworks.com/event/strength-and-conditioning-class-4/2025-08-18/
LOCATION:Wagga Wagga | Fitness Hub\, 1/21-25 Forsyth Street\, Wagga Wagga\, NSW\, 2650\, Australia
CATEGORIES:Strength and Conditioning
END:VEVENT
BEGIN:VEVENT
DTSTART;TZID=Australia/Sydney:20250818T163000
DTEND;TZID=Australia/Sydney:20250818T171500
DTSTAMP:20260423T223135
CREATED:20250502T051402Z
LAST-MODIFIED:20250502T051402Z
UID:10116499-1755534600-1755537300@synergyhealthworks.com
SUMMARY:Women’s Pregnancy Strength Class
DESCRIPTION:
URL:https://synergyhealthworks.com/event/womens-pregnancy-strength-class/2025-08-18/
LOCATION:Wagga Wagga | Fitness Hub\, 1/21-25 Forsyth Street\, Wagga Wagga\, NSW\, 2650\, Australia
CATEGORIES:Women’s Pregnancy Strength Class
END:VEVENT
BEGIN:VEVENT
DTSTART;TZID=Australia/Sydney:20250818T130000
DTEND;TZID=Australia/Sydney:20250818T134500
DTSTAMP:20260423T223135
CREATED:20251112T001650Z
LAST-MODIFIED:20251112T001650Z
UID:10127362-1755522000-1755524700@synergyhealthworks.com
SUMMARY:Strength and Conditioning Class
DESCRIPTION:
URL:https://synergyhealthworks.com/event/strength-and-conditioning-class-5/2025-08-18/
LOCATION:Wagga Wagga | Fitness Hub\, 1/21-25 Forsyth Street\, Wagga Wagga\, NSW\, 2650\, Australia
CATEGORIES:Strength and Conditioning
END:VEVENT
BEGIN:VEVENT
DTSTART;TZID=Australia/Sydney:20250818T120000
DTEND;TZID=Australia/Sydney:20250818T124500
DTSTAMP:20260423T223135
CREATED:20250829T044037Z
LAST-MODIFIED:20250829T044037Z
UID:10122230-1755518400-1755521100@synergyhealthworks.com
SUMMARY:Strength and Conditioning Class
DESCRIPTION:
URL:https://synergyhealthworks.com/event/strength-and-conditioning-class-3/2025-08-18/
LOCATION:Wagga Wagga | Fitness Hub\, 1/21-25 Forsyth Street\, Wagga Wagga\, NSW\, 2650\, Australia
CATEGORIES:Strength and Conditioning
END:VEVENT
BEGIN:VEVENT
DTSTART;TZID=Australia/Sydney:20250818T083000
DTEND;TZID=Australia/Sydney:20250818T091500
DTSTAMP:20260423T223135
CREATED:20241112T035630Z
LAST-MODIFIED:20250129T032622Z
UID:10082197-1755505800-1755508500@synergyhealthworks.com
SUMMARY:Strength Circuit
DESCRIPTION:
URL:https://synergyhealthworks.com/event/strength-circuit/2025-08-18/
LOCATION:Wagga Wagga | Fitness Hub\, 1/21-25 Forsyth Street\, Wagga Wagga\, NSW\, 2650\, Australia
CATEGORIES:Strength Circuit
END:VEVENT
BEGIN:VEVENT
DTSTART;TZID=Australia/Sydney:20250815T083000
DTEND;TZID=Australia/Sydney:20250815T091500
DTSTAMP:20260423T223135
CREATED:20241112T224821Z
LAST-MODIFIED:20250403T043412Z
UID:10115686-1755246600-1755249300@synergyhealthworks.com
SUMMARY:Women's Strength Class for over 45s
DESCRIPTION:
URL:https://synergyhealthworks.com/event/bike-box-2/2025-08-15/
LOCATION:Wagga Wagga | Fitness Hub\, 1/21-25 Forsyth Street\, Wagga Wagga\, NSW\, 2650\, Australia
CATEGORIES:Women's Strength Class for over 45s
END:VEVENT
BEGIN:VEVENT
DTSTART;TZID=Australia/Sydney:20250815T073000
DTEND;TZID=Australia/Sydney:20250815T081500
DTSTAMP:20260423T223135
CREATED:20241202T231716Z
LAST-MODIFIED:20250403T044134Z
UID:10115964-1755243000-1755245700@synergyhealthworks.com
SUMMARY:Strength Circuit
DESCRIPTION:
URL:https://synergyhealthworks.com/event/strength-circuit-2/2025-08-15/
LOCATION:Wagga Wagga | Fitness Hub\, 1/21-25 Forsyth Street\, Wagga Wagga\, NSW\, 2650\, Australia
CATEGORIES:Strength Circuit
END:VEVENT
BEGIN:VEVENT
DTSTART;TZID=Australia/Sydney:20250815T071500
DTEND;TZID=Australia/Sydney:20250815T080000
DTSTAMP:20260423T223135
CREATED:20250618T000503Z
LAST-MODIFIED:20250618T000657Z
UID:10118796-1755242100-1755244800@synergyhealthworks.com
SUMMARY:Bike & Box
DESCRIPTION:
URL:https://synergyhealthworks.com/event/bike-and-box/2025-08-15/
LOCATION:Wagga Wagga | Fitness Hub\, 1/21-25 Forsyth Street\, Wagga Wagga\, NSW\, 2650\, Australia
CATEGORIES:Bike & Box,Women's Strength Class for over 45s
END:VEVENT
BEGIN:VEVENT
DTSTART;TZID=Australia/Sydney:20250814T120000
DTEND;TZID=Australia/Sydney:20250814T124500
DTSTAMP:20260423T223135
CREATED:20241124T212036Z
LAST-MODIFIED:20250516T043505Z
UID:10085913-1755172800-1755175500@synergyhealthworks.com
SUMMARY:Women's Strength for over 45s
DESCRIPTION:
URL:https://synergyhealthworks.com/event/womens-fat-burn-2/2025-08-14/
LOCATION:Wagga Wagga | Fitness Hub\, 1/21-25 Forsyth Street\, Wagga Wagga\, NSW\, 2650\, Australia
CATEGORIES:Women's Strength Class for over 45s
END:VEVENT
BEGIN:VEVENT
DTSTART;TZID=Australia/Sydney:20250814T100000
DTEND;TZID=Australia/Sydney:20250814T104500
DTSTAMP:20260423T223135
CREATED:20241112T221214Z
LAST-MODIFIED:20250722T032235Z
UID:10121002-1755165600-1755168300@synergyhealthworks.com
SUMMARY:Strength Circuit
DESCRIPTION:
URL:https://synergyhealthworks.com/event/mens-strength-class-3/2025-08-14/
LOCATION:Wagga Wagga | Fitness Hub\, 1/21-25 Forsyth Street\, Wagga Wagga\, NSW\, 2650\, Australia
CATEGORIES:Strength Circuit
END:VEVENT
BEGIN:VEVENT
DTSTART;TZID=Australia/Sydney:20250814T090000
DTEND;TZID=Australia/Sydney:20250814T094500
DTSTAMP:20260423T223135
CREATED:20241112T221649Z
LAST-MODIFIED:20250722T032123Z
UID:10120701-1755162000-1755164700@synergyhealthworks.com
SUMMARY:Golfer's Strengthen & Stretch
DESCRIPTION:
URL:https://synergyhealthworks.com/event/golfers-strengthen-stretch-2/2025-08-14/
LOCATION:Wagga Wagga | Fitness Hub\, 1/21-25 Forsyth Street\, Wagga Wagga\, NSW\, 2650\, Australia
CATEGORIES:Golfer's Strengthen & Stretch
END:VEVENT
BEGIN:VEVENT
DTSTART;TZID=Australia/Sydney:20250814T073000
DTEND;TZID=Australia/Sydney:20250814T081500
DTSTAMP:20260423T223135
CREATED:20241112T221101Z
LAST-MODIFIED:20250129T033150Z
UID:10077420-1755156600-1755159300@synergyhealthworks.com
SUMMARY:Women's Strength Class for over 45s
DESCRIPTION:
URL:https://synergyhealthworks.com/event/womens-strength-class-for-over-45s-11/2025-08-14/
LOCATION:Wagga Wagga | Fitness Hub\, 1/21-25 Forsyth Street\, Wagga Wagga\, NSW\, 2650\, Australia
CATEGORIES:Women's Strength Class for over 45s
END:VEVENT
BEGIN:VEVENT
DTSTART;TZID=Australia/Sydney:20250814T063000
DTEND;TZID=Australia/Sydney:20250814T071500
DTSTAMP:20260423T223135
CREATED:20251128T024235Z
LAST-MODIFIED:20251128T024235Z
UID:10131264-1755153000-1755155700@synergyhealthworks.com
SUMMARY:Women's Strength Class for over 45s
DESCRIPTION:
URL:https://synergyhealthworks.com/event/womens-strength-class-for-over-45s-5/2025-08-14/
LOCATION:Wagga Wagga | Fitness Hub\, 1/21-25 Forsyth Street\, Wagga Wagga\, NSW\, 2650\, Australia
CATEGORIES:Women's Strength Class for over 45s
END:VEVENT
BEGIN:VEVENT
DTSTART;TZID=Australia/Sydney:20250813T173000
DTEND;TZID=Australia/Sydney:20250813T181500
DTSTAMP:20260423T223135
CREATED:20241112T220941Z
LAST-MODIFIED:20250129T033025Z
UID:10077155-1755106200-1755108900@synergyhealthworks.com
SUMMARY:Strength and Conditioning Class
DESCRIPTION:
URL:https://synergyhealthworks.com/event/functional-conditioning/2025-08-13/
LOCATION:Wagga Wagga | Fitness Hub\, 1/21-25 Forsyth Street\, Wagga Wagga\, NSW\, 2650\, Australia
CATEGORIES:Strength and Conditioning
END:VEVENT
BEGIN:VEVENT
DTSTART;TZID=Australia/Sydney:20250813T120000
DTEND;TZID=Australia/Sydney:20250813T124500
DTSTAMP:20260423T223135
CREATED:20241112T220255Z
LAST-MODIFIED:20250129T033004Z
UID:10076095-1755086400-1755089100@synergyhealthworks.com
SUMMARY:Women's Strength Class for over 45s
DESCRIPTION:
URL:https://synergyhealthworks.com/event/womens-strength-class-for-over-45s-9/2025-08-13/
LOCATION:Wagga Wagga | Fitness Hub\, 1/21-25 Forsyth Street\, Wagga Wagga\, NSW\, 2650\, Australia
CATEGORIES:Women's Strength Class for over 45s
END:VEVENT
BEGIN:VEVENT
DTSTART;TZID=Australia/Sydney:20250813T073000
DTEND;TZID=Australia/Sydney:20250813T081500
DTSTAMP:20260423T223135
CREATED:20241112T045308Z
LAST-MODIFIED:20250129T032958Z
UID:10075035-1755070200-1755072900@synergyhealthworks.com
SUMMARY:Functional Fitness
DESCRIPTION:
URL:https://synergyhealthworks.com/event/cardio-combo-circuit-3/2025-08-13/
LOCATION:Wagga Wagga | Fitness Hub\, 1/21-25 Forsyth Street\, Wagga Wagga\, NSW\, 2650\, Australia
CATEGORIES:Functional Fitness
END:VEVENT
BEGIN:VEVENT
DTSTART;TZID=Australia/Sydney:20250813T063000
DTEND;TZID=Australia/Sydney:20250813T071500
DTSTAMP:20260423T223135
CREATED:20241112T045128Z
LAST-MODIFIED:20250129T032952Z
UID:10083792-1755066600-1755069300@synergyhealthworks.com
SUMMARY:Women's Strength Class for over 45s
DESCRIPTION:
URL:https://synergyhealthworks.com/event/womens-strength-class-for-over-45s-7/2025-08-13/
LOCATION:Wagga Wagga | Fitness Hub\, 1/21-25 Forsyth Street\, Wagga Wagga\, NSW\, 2650\, Australia
CATEGORIES:Women's Strength Class for over 45s
END:VEVENT
BEGIN:VEVENT
DTSTART;TZID=Australia/Sydney:20250812T163000
DTEND;TZID=Australia/Sydney:20250812T171500
DTSTAMP:20260423T223135
CREATED:20241112T044834Z
LAST-MODIFIED:20250129T032845Z
UID:10074240-1755016200-1755018900@synergyhealthworks.com
SUMMARY:Strength Circuit
DESCRIPTION:
URL:https://synergyhealthworks.com/event/strength-circuit-5/2025-08-12/
LOCATION:Wagga Wagga | Fitness Hub\, 1/21-25 Forsyth Street\, Wagga Wagga\, NSW\, 2650\, Australia
CATEGORIES:Strength Circuit
END:VEVENT
BEGIN:VEVENT
DTSTART;TZID=Australia/Sydney:20250812T120000
DTEND;TZID=Australia/Sydney:20250812T124500
DTSTAMP:20260423T223135
CREATED:20241112T044419Z
LAST-MODIFIED:20250129T032834Z
UID:10073445-1755000000-1755002700@synergyhealthworks.com
SUMMARY:Women's Strength Class for over 45s
DESCRIPTION:
URL:https://synergyhealthworks.com/event/womens-strength-class-for-over-45s-6/2025-08-12/
LOCATION:Wagga Wagga | Fitness Hub\, 1/21-25 Forsyth Street\, Wagga Wagga\, NSW\, 2650\, Australia
CATEGORIES:Women's Strength Class for over 45s
END:VEVENT
BEGIN:VEVENT
DTSTART;TZID=Australia/Sydney:20250812T103000
DTEND;TZID=Australia/Sydney:20250812T111500
DTSTAMP:20260423T223135
CREATED:20250502T051536Z
LAST-MODIFIED:20251203T032954Z
UID:10116759-1754994600-1754997300@synergyhealthworks.com
SUMMARY:Women’s Pelvic and Strength Class
DESCRIPTION:
URL:https://synergyhealthworks.com/event/womens-pelvic-and-strength-class/2025-08-12/
LOCATION:Wagga Wagga | Fitness Hub\, 1/21-25 Forsyth Street\, Wagga Wagga\, NSW\, 2650\, Australia
CATEGORIES:Women’s Pelvic and Strength Class
END:VEVENT
BEGIN:VEVENT
DTSTART;TZID=Australia/Sydney:20250812T073000
DTEND;TZID=Australia/Sydney:20250812T081500
DTSTAMP:20260423T223135
CREATED:20241112T041932Z
LAST-MODIFIED:20250129T032814Z
UID:10072650-1754983800-1754986500@synergyhealthworks.com
SUMMARY:Women’s Strength Class for over 45s
DESCRIPTION:
URL:https://synergyhealthworks.com/event/womens-strength-class-for-over-45s-4/2025-08-12/
LOCATION:Wagga Wagga | Fitness Hub\, 1/21-25 Forsyth Street\, Wagga Wagga\, NSW\, 2650\, Australia
CATEGORIES:Women's Strength Class for over 45s
END:VEVENT
BEGIN:VEVENT
DTSTART;TZID=Australia/Sydney:20250812T063000
DTEND;TZID=Australia/Sydney:20250812T071500
DTSTAMP:20260423T223135
CREATED:20241124T211846Z
LAST-MODIFIED:20250516T043543Z
UID:10085652-1754980200-1754982900@synergyhealthworks.com
SUMMARY:Women's Strength for over 45s
DESCRIPTION:
URL:https://synergyhealthworks.com/event/womens-fat-burn/2025-08-12/
LOCATION:Wagga Wagga | Fitness Hub\, 1/21-25 Forsyth Street\, Wagga Wagga\, NSW\, 2650\, Australia
CATEGORIES:Women's Strength Class for over 45s
END:VEVENT
BEGIN:VEVENT
DTSTART;TZID=Australia/Sydney:20250811T173000
DTEND;TZID=Australia/Sydney:20250811T181500
DTSTAMP:20260423T223135
CREATED:20241112T041557Z
LAST-MODIFIED:20250129T032656Z
UID:10072119-1754933400-1754936100@synergyhealthworks.com
SUMMARY:Strength and Conditioning Class
DESCRIPTION:
URL:https://synergyhealthworks.com/event/strength-and-conditioning-class-4/2025-08-11/
LOCATION:Wagga Wagga | Fitness Hub\, 1/21-25 Forsyth Street\, Wagga Wagga\, NSW\, 2650\, Australia
CATEGORIES:Strength and Conditioning
END:VEVENT
BEGIN:VEVENT
DTSTART;TZID=Australia/Sydney:20250811T163000
DTEND;TZID=Australia/Sydney:20250811T171500
DTSTAMP:20260423T223135
CREATED:20250502T051402Z
LAST-MODIFIED:20250502T051402Z
UID:10116498-1754929800-1754932500@synergyhealthworks.com
SUMMARY:Women’s Pregnancy Strength Class
DESCRIPTION:
URL:https://synergyhealthworks.com/event/womens-pregnancy-strength-class/2025-08-11/
LOCATION:Wagga Wagga | Fitness Hub\, 1/21-25 Forsyth Street\, Wagga Wagga\, NSW\, 2650\, Australia
CATEGORIES:Women’s Pregnancy Strength Class
END:VEVENT
BEGIN:VEVENT
DTSTART;TZID=Australia/Sydney:20250811T130000
DTEND;TZID=Australia/Sydney:20250811T134500
DTSTAMP:20260423T223135
CREATED:20251112T001650Z
LAST-MODIFIED:20251112T001650Z
UID:10127361-1754917200-1754919900@synergyhealthworks.com
SUMMARY:Strength and Conditioning Class
DESCRIPTION:
URL:https://synergyhealthworks.com/event/strength-and-conditioning-class-5/2025-08-11/
LOCATION:Wagga Wagga | Fitness Hub\, 1/21-25 Forsyth Street\, Wagga Wagga\, NSW\, 2650\, Australia
CATEGORIES:Strength and Conditioning
END:VEVENT
BEGIN:VEVENT
DTSTART;TZID=Australia/Sydney:20250811T120000
DTEND;TZID=Australia/Sydney:20250811T124500
DTSTAMP:20260423T223135
CREATED:20250829T044037Z
LAST-MODIFIED:20250829T044037Z
UID:10122229-1754913600-1754916300@synergyhealthworks.com
SUMMARY:Strength and Conditioning Class
DESCRIPTION:
URL:https://synergyhealthworks.com/event/strength-and-conditioning-class-3/2025-08-11/
LOCATION:Wagga Wagga | Fitness Hub\, 1/21-25 Forsyth Street\, Wagga Wagga\, NSW\, 2650\, Australia
CATEGORIES:Strength and Conditioning
END:VEVENT
END:VCALENDAR