BEGIN:VCALENDAR
VERSION:2.0
PRODID:-//Synergy Healthworks - ECPv6.15.20//NONSGML v1.0//EN
CALSCALE:GREGORIAN
METHOD:PUBLISH
X-WR-CALNAME:Synergy Healthworks
X-ORIGINAL-URL:https://synergyhealthworks.com
X-WR-CALDESC:Events for Synergy Healthworks
REFRESH-INTERVAL;VALUE=DURATION:PT1H
X-Robots-Tag:noindex
X-PUBLISHED-TTL:PT1H
BEGIN:VTIMEZONE
TZID:Australia/Sydney
BEGIN:STANDARD
TZOFFSETFROM:+1100
TZOFFSETTO:+1000
TZNAME:AEST
DTSTART:20250405T160000
END:STANDARD
BEGIN:DAYLIGHT
TZOFFSETFROM:+1000
TZOFFSETTO:+1100
TZNAME:AEDT
DTSTART:20251004T160000
END:DAYLIGHT
BEGIN:STANDARD
TZOFFSETFROM:+1100
TZOFFSETTO:+1000
TZNAME:AEST
DTSTART:20260404T160000
END:STANDARD
BEGIN:DAYLIGHT
TZOFFSETFROM:+1000
TZOFFSETTO:+1100
TZNAME:AEDT
DTSTART:20261003T160000
END:DAYLIGHT
BEGIN:STANDARD
TZOFFSETFROM:+1100
TZOFFSETTO:+1000
TZNAME:AEST
DTSTART:20270403T160000
END:STANDARD
BEGIN:DAYLIGHT
TZOFFSETFROM:+1000
TZOFFSETTO:+1100
TZNAME:AEDT
DTSTART:20271002T160000
END:DAYLIGHT
END:VTIMEZONE
BEGIN:VEVENT
DTSTART;TZID=Australia/Sydney:20261214T163000
DTEND;TZID=Australia/Sydney:20261214T171500
DTSTAMP:20260421T090413
CREATED:20250502T051402Z
LAST-MODIFIED:20250502T051402Z
UID:10116568-1797265800-1797268500@synergyhealthworks.com
SUMMARY:Women’s Pregnancy Strength Class
DESCRIPTION:
URL:https://synergyhealthworks.com/event/womens-pregnancy-strength-class/2026-12-14/
LOCATION:Wagga Wagga | Fitness Hub\, 1/21-25 Forsyth Street\, Wagga Wagga\, NSW\, 2650\, Australia
CATEGORIES:Women’s Pregnancy Strength Class
END:VEVENT
BEGIN:VEVENT
DTSTART;TZID=Australia/Sydney:20261214T173000
DTEND;TZID=Australia/Sydney:20261214T181500
DTSTAMP:20260421T090413
CREATED:20241112T041557Z
LAST-MODIFIED:20250129T032656Z
UID:10072189-1797269400-1797272100@synergyhealthworks.com
SUMMARY:Strength and Conditioning Class
DESCRIPTION:
URL:https://synergyhealthworks.com/event/strength-and-conditioning-class-4/2026-12-14/
LOCATION:Wagga Wagga | Fitness Hub\, 1/21-25 Forsyth Street\, Wagga Wagga\, NSW\, 2650\, Australia
CATEGORIES:Strength and Conditioning
END:VEVENT
BEGIN:VEVENT
DTSTART;TZID=Australia/Sydney:20261215T063000
DTEND;TZID=Australia/Sydney:20261215T071500
DTSTAMP:20260421T090413
CREATED:20241124T211846Z
LAST-MODIFIED:20250516T043543Z
UID:10085722-1797316200-1797318900@synergyhealthworks.com
SUMMARY:Women's Strength for over 45s
DESCRIPTION:
URL:https://synergyhealthworks.com/event/womens-fat-burn/2026-12-15/
LOCATION:Wagga Wagga | Fitness Hub\, 1/21-25 Forsyth Street\, Wagga Wagga\, NSW\, 2650\, Australia
CATEGORIES:Women's Strength Class for over 45s
END:VEVENT
BEGIN:VEVENT
DTSTART;TZID=Australia/Sydney:20261215T073000
DTEND;TZID=Australia/Sydney:20261215T081500
DTSTAMP:20260421T090413
CREATED:20241112T041932Z
LAST-MODIFIED:20250129T032814Z
UID:10072720-1797319800-1797322500@synergyhealthworks.com
SUMMARY:Women’s Strength Class for over 45s
DESCRIPTION:
URL:https://synergyhealthworks.com/event/womens-strength-class-for-over-45s-4/2026-12-15/
LOCATION:Wagga Wagga | Fitness Hub\, 1/21-25 Forsyth Street\, Wagga Wagga\, NSW\, 2650\, Australia
CATEGORIES:Women's Strength Class for over 45s
END:VEVENT
BEGIN:VEVENT
DTSTART;TZID=Australia/Sydney:20261215T103000
DTEND;TZID=Australia/Sydney:20261215T111500
DTSTAMP:20260421T090413
CREATED:20250502T051536Z
LAST-MODIFIED:20251203T032954Z
UID:10116829-1797330600-1797333300@synergyhealthworks.com
SUMMARY:Women’s Pelvic and Strength Class
DESCRIPTION:
URL:https://synergyhealthworks.com/event/womens-pelvic-and-strength-class/2026-12-15/
LOCATION:Wagga Wagga | Fitness Hub\, 1/21-25 Forsyth Street\, Wagga Wagga\, NSW\, 2650\, Australia
CATEGORIES:Women’s Pelvic and Strength Class
END:VEVENT
BEGIN:VEVENT
DTSTART;TZID=Australia/Sydney:20261215T120000
DTEND;TZID=Australia/Sydney:20261215T124500
DTSTAMP:20260421T090413
CREATED:20241112T044419Z
LAST-MODIFIED:20250129T032834Z
UID:10073515-1797336000-1797338700@synergyhealthworks.com
SUMMARY:Women's Strength Class for over 45s
DESCRIPTION:
URL:https://synergyhealthworks.com/event/womens-strength-class-for-over-45s-6/2026-12-15/
LOCATION:Wagga Wagga | Fitness Hub\, 1/21-25 Forsyth Street\, Wagga Wagga\, NSW\, 2650\, Australia
CATEGORIES:Women's Strength Class for over 45s
END:VEVENT
BEGIN:VEVENT
DTSTART;TZID=Australia/Sydney:20261215T163000
DTEND;TZID=Australia/Sydney:20261215T171500
DTSTAMP:20260421T090413
CREATED:20241112T044834Z
LAST-MODIFIED:20250129T032845Z
UID:10074310-1797352200-1797354900@synergyhealthworks.com
SUMMARY:Strength Circuit
DESCRIPTION:
URL:https://synergyhealthworks.com/event/strength-circuit-5/2026-12-15/
LOCATION:Wagga Wagga | Fitness Hub\, 1/21-25 Forsyth Street\, Wagga Wagga\, NSW\, 2650\, Australia
CATEGORIES:Strength Circuit
END:VEVENT
BEGIN:VEVENT
DTSTART;TZID=Australia/Sydney:20261216T063000
DTEND;TZID=Australia/Sydney:20261216T071500
DTSTAMP:20260421T090413
CREATED:20241112T045128Z
LAST-MODIFIED:20250129T032952Z
UID:10083862-1797402600-1797405300@synergyhealthworks.com
SUMMARY:Women's Strength Class for over 45s
DESCRIPTION:
URL:https://synergyhealthworks.com/event/womens-strength-class-for-over-45s-7/2026-12-16/
LOCATION:Wagga Wagga | Fitness Hub\, 1/21-25 Forsyth Street\, Wagga Wagga\, NSW\, 2650\, Australia
CATEGORIES:Women's Strength Class for over 45s
END:VEVENT
BEGIN:VEVENT
DTSTART;TZID=Australia/Sydney:20261216T073000
DTEND;TZID=Australia/Sydney:20261216T081500
DTSTAMP:20260421T090413
CREATED:20241112T045308Z
LAST-MODIFIED:20250129T032958Z
UID:10075105-1797406200-1797408900@synergyhealthworks.com
SUMMARY:Functional Fitness
DESCRIPTION:
URL:https://synergyhealthworks.com/event/cardio-combo-circuit-3/2026-12-16/
LOCATION:Wagga Wagga | Fitness Hub\, 1/21-25 Forsyth Street\, Wagga Wagga\, NSW\, 2650\, Australia
CATEGORIES:Functional Fitness
END:VEVENT
BEGIN:VEVENT
DTSTART;TZID=Australia/Sydney:20261216T120000
DTEND;TZID=Australia/Sydney:20261216T124500
DTSTAMP:20260421T090413
CREATED:20241112T220255Z
LAST-MODIFIED:20250129T033004Z
UID:10076165-1797422400-1797425100@synergyhealthworks.com
SUMMARY:Women's Strength Class for over 45s
DESCRIPTION:
URL:https://synergyhealthworks.com/event/womens-strength-class-for-over-45s-9/2026-12-16/
LOCATION:Wagga Wagga | Fitness Hub\, 1/21-25 Forsyth Street\, Wagga Wagga\, NSW\, 2650\, Australia
CATEGORIES:Women's Strength Class for over 45s
END:VEVENT
BEGIN:VEVENT
DTSTART;TZID=Australia/Sydney:20261216T173000
DTEND;TZID=Australia/Sydney:20261216T181500
DTSTAMP:20260421T090413
CREATED:20241112T220941Z
LAST-MODIFIED:20250129T033025Z
UID:10077225-1797442200-1797444900@synergyhealthworks.com
SUMMARY:Strength and Conditioning Class
DESCRIPTION:
URL:https://synergyhealthworks.com/event/functional-conditioning/2026-12-16/
LOCATION:Wagga Wagga | Fitness Hub\, 1/21-25 Forsyth Street\, Wagga Wagga\, NSW\, 2650\, Australia
CATEGORIES:Strength and Conditioning
END:VEVENT
BEGIN:VEVENT
DTSTART;TZID=Australia/Sydney:20261217T063000
DTEND;TZID=Australia/Sydney:20261217T071500
DTSTAMP:20260421T090413
CREATED:20251128T024235Z
LAST-MODIFIED:20251128T024235Z
UID:10131334-1797489000-1797491700@synergyhealthworks.com
SUMMARY:Women's Strength Class for over 45s
DESCRIPTION:
URL:https://synergyhealthworks.com/event/womens-strength-class-for-over-45s-5/2026-12-17/
LOCATION:Wagga Wagga | Fitness Hub\, 1/21-25 Forsyth Street\, Wagga Wagga\, NSW\, 2650\, Australia
CATEGORIES:Women's Strength Class for over 45s
END:VEVENT
BEGIN:VEVENT
DTSTART;TZID=Australia/Sydney:20261217T073000
DTEND;TZID=Australia/Sydney:20261217T081500
DTSTAMP:20260421T090413
CREATED:20241112T221101Z
LAST-MODIFIED:20250129T033150Z
UID:10077490-1797492600-1797495300@synergyhealthworks.com
SUMMARY:Women's Strength Class for over 45s
DESCRIPTION:
URL:https://synergyhealthworks.com/event/womens-strength-class-for-over-45s-11/2026-12-17/
LOCATION:Wagga Wagga | Fitness Hub\, 1/21-25 Forsyth Street\, Wagga Wagga\, NSW\, 2650\, Australia
CATEGORIES:Women's Strength Class for over 45s
END:VEVENT
BEGIN:VEVENT
DTSTART;TZID=Australia/Sydney:20261217T090000
DTEND;TZID=Australia/Sydney:20261217T094500
DTSTAMP:20260421T090413
CREATED:20241112T221649Z
LAST-MODIFIED:20250722T032123Z
UID:10120771-1797498000-1797500700@synergyhealthworks.com
SUMMARY:Golfer's Strengthen & Stretch
DESCRIPTION:
URL:https://synergyhealthworks.com/event/golfers-strengthen-stretch-2/2026-12-17/
LOCATION:Wagga Wagga | Fitness Hub\, 1/21-25 Forsyth Street\, Wagga Wagga\, NSW\, 2650\, Australia
CATEGORIES:Golfer's Strengthen & Stretch
END:VEVENT
BEGIN:VEVENT
DTSTART;TZID=Australia/Sydney:20261217T100000
DTEND;TZID=Australia/Sydney:20261217T104500
DTSTAMP:20260421T090413
CREATED:20241112T221214Z
LAST-MODIFIED:20250722T032235Z
UID:10121072-1797501600-1797504300@synergyhealthworks.com
SUMMARY:Strength Circuit
DESCRIPTION:
URL:https://synergyhealthworks.com/event/mens-strength-class-3/2026-12-17/
LOCATION:Wagga Wagga | Fitness Hub\, 1/21-25 Forsyth Street\, Wagga Wagga\, NSW\, 2650\, Australia
CATEGORIES:Strength Circuit
END:VEVENT
BEGIN:VEVENT
DTSTART;TZID=Australia/Sydney:20261217T120000
DTEND;TZID=Australia/Sydney:20261217T124500
DTSTAMP:20260421T090413
CREATED:20241124T212036Z
LAST-MODIFIED:20250516T043505Z
UID:10085983-1797508800-1797511500@synergyhealthworks.com
SUMMARY:Women's Strength for over 45s
DESCRIPTION:
URL:https://synergyhealthworks.com/event/womens-fat-burn-2/2026-12-17/
LOCATION:Wagga Wagga | Fitness Hub\, 1/21-25 Forsyth Street\, Wagga Wagga\, NSW\, 2650\, Australia
CATEGORIES:Women's Strength Class for over 45s
END:VEVENT
BEGIN:VEVENT
DTSTART;TZID=Australia/Sydney:20261218T071500
DTEND;TZID=Australia/Sydney:20261218T080000
DTSTAMP:20260421T090413
CREATED:20250618T000503Z
LAST-MODIFIED:20250618T000657Z
UID:10118866-1797578100-1797580800@synergyhealthworks.com
SUMMARY:Bike & Box
DESCRIPTION:
URL:https://synergyhealthworks.com/event/bike-and-box/2026-12-18/
LOCATION:Wagga Wagga | Fitness Hub\, 1/21-25 Forsyth Street\, Wagga Wagga\, NSW\, 2650\, Australia
CATEGORIES:Bike & Box,Women's Strength Class for over 45s
END:VEVENT
BEGIN:VEVENT
DTSTART;TZID=Australia/Sydney:20261218T073000
DTEND;TZID=Australia/Sydney:20261218T081500
DTSTAMP:20260421T090413
CREATED:20241202T231716Z
LAST-MODIFIED:20250403T044134Z
UID:10116034-1797579000-1797581700@synergyhealthworks.com
SUMMARY:Strength Circuit
DESCRIPTION:
URL:https://synergyhealthworks.com/event/strength-circuit-2/2026-12-18/
LOCATION:Wagga Wagga | Fitness Hub\, 1/21-25 Forsyth Street\, Wagga Wagga\, NSW\, 2650\, Australia
CATEGORIES:Strength Circuit
END:VEVENT
BEGIN:VEVENT
DTSTART;TZID=Australia/Sydney:20261218T083000
DTEND;TZID=Australia/Sydney:20261218T091500
DTSTAMP:20260421T090413
CREATED:20241112T224821Z
LAST-MODIFIED:20250403T043412Z
UID:10115756-1797582600-1797585300@synergyhealthworks.com
SUMMARY:Women's Strength Class for over 45s
DESCRIPTION:
URL:https://synergyhealthworks.com/event/bike-box-2/2026-12-18/
LOCATION:Wagga Wagga | Fitness Hub\, 1/21-25 Forsyth Street\, Wagga Wagga\, NSW\, 2650\, Australia
CATEGORIES:Women's Strength Class for over 45s
END:VEVENT
BEGIN:VEVENT
DTSTART;TZID=Australia/Sydney:20261221T083000
DTEND;TZID=Australia/Sydney:20261221T091500
DTSTAMP:20260421T090413
CREATED:20241112T035630Z
LAST-MODIFIED:20250129T032622Z
UID:10082267-1797841800-1797844500@synergyhealthworks.com
SUMMARY:Strength Circuit
DESCRIPTION:
URL:https://synergyhealthworks.com/event/strength-circuit/2026-12-21/
LOCATION:Wagga Wagga | Fitness Hub\, 1/21-25 Forsyth Street\, Wagga Wagga\, NSW\, 2650\, Australia
CATEGORIES:Strength Circuit
END:VEVENT
BEGIN:VEVENT
DTSTART;TZID=Australia/Sydney:20261221T120000
DTEND;TZID=Australia/Sydney:20261221T124500
DTSTAMP:20260421T090413
CREATED:20250829T044037Z
LAST-MODIFIED:20250829T044037Z
UID:10122300-1797854400-1797857100@synergyhealthworks.com
SUMMARY:Strength and Conditioning Class
DESCRIPTION:
URL:https://synergyhealthworks.com/event/strength-and-conditioning-class-3/2026-12-21/
LOCATION:Wagga Wagga | Fitness Hub\, 1/21-25 Forsyth Street\, Wagga Wagga\, NSW\, 2650\, Australia
CATEGORIES:Strength and Conditioning
END:VEVENT
BEGIN:VEVENT
DTSTART;TZID=Australia/Sydney:20261221T130000
DTEND;TZID=Australia/Sydney:20261221T134500
DTSTAMP:20260421T090413
CREATED:20251112T001650Z
LAST-MODIFIED:20251112T001650Z
UID:10127432-1797858000-1797860700@synergyhealthworks.com
SUMMARY:Strength and Conditioning Class
DESCRIPTION:
URL:https://synergyhealthworks.com/event/strength-and-conditioning-class-5/2026-12-21/
LOCATION:Wagga Wagga | Fitness Hub\, 1/21-25 Forsyth Street\, Wagga Wagga\, NSW\, 2650\, Australia
CATEGORIES:Strength and Conditioning
END:VEVENT
BEGIN:VEVENT
DTSTART;TZID=Australia/Sydney:20261221T163000
DTEND;TZID=Australia/Sydney:20261221T171500
DTSTAMP:20260421T090413
CREATED:20250502T051402Z
LAST-MODIFIED:20250502T051402Z
UID:10116569-1797870600-1797873300@synergyhealthworks.com
SUMMARY:Women’s Pregnancy Strength Class
DESCRIPTION:
URL:https://synergyhealthworks.com/event/womens-pregnancy-strength-class/2026-12-21/
LOCATION:Wagga Wagga | Fitness Hub\, 1/21-25 Forsyth Street\, Wagga Wagga\, NSW\, 2650\, Australia
CATEGORIES:Women’s Pregnancy Strength Class
END:VEVENT
BEGIN:VEVENT
DTSTART;TZID=Australia/Sydney:20261221T173000
DTEND;TZID=Australia/Sydney:20261221T181500
DTSTAMP:20260421T090413
CREATED:20241112T041557Z
LAST-MODIFIED:20250129T032656Z
UID:10072190-1797874200-1797876900@synergyhealthworks.com
SUMMARY:Strength and Conditioning Class
DESCRIPTION:
URL:https://synergyhealthworks.com/event/strength-and-conditioning-class-4/2026-12-21/
LOCATION:Wagga Wagga | Fitness Hub\, 1/21-25 Forsyth Street\, Wagga Wagga\, NSW\, 2650\, Australia
CATEGORIES:Strength and Conditioning
END:VEVENT
BEGIN:VEVENT
DTSTART;TZID=Australia/Sydney:20261222T063000
DTEND;TZID=Australia/Sydney:20261222T071500
DTSTAMP:20260421T090413
CREATED:20241124T211846Z
LAST-MODIFIED:20250516T043543Z
UID:10085723-1797921000-1797923700@synergyhealthworks.com
SUMMARY:Women's Strength for over 45s
DESCRIPTION:
URL:https://synergyhealthworks.com/event/womens-fat-burn/2026-12-22/
LOCATION:Wagga Wagga | Fitness Hub\, 1/21-25 Forsyth Street\, Wagga Wagga\, NSW\, 2650\, Australia
CATEGORIES:Women's Strength Class for over 45s
END:VEVENT
BEGIN:VEVENT
DTSTART;TZID=Australia/Sydney:20261222T073000
DTEND;TZID=Australia/Sydney:20261222T081500
DTSTAMP:20260421T090413
CREATED:20241112T041932Z
LAST-MODIFIED:20250129T032814Z
UID:10072721-1797924600-1797927300@synergyhealthworks.com
SUMMARY:Women’s Strength Class for over 45s
DESCRIPTION:
URL:https://synergyhealthworks.com/event/womens-strength-class-for-over-45s-4/2026-12-22/
LOCATION:Wagga Wagga | Fitness Hub\, 1/21-25 Forsyth Street\, Wagga Wagga\, NSW\, 2650\, Australia
CATEGORIES:Women's Strength Class for over 45s
END:VEVENT
BEGIN:VEVENT
DTSTART;TZID=Australia/Sydney:20261222T103000
DTEND;TZID=Australia/Sydney:20261222T111500
DTSTAMP:20260421T090413
CREATED:20250502T051536Z
LAST-MODIFIED:20251203T032954Z
UID:10116830-1797935400-1797938100@synergyhealthworks.com
SUMMARY:Women’s Pelvic and Strength Class
DESCRIPTION:
URL:https://synergyhealthworks.com/event/womens-pelvic-and-strength-class/2026-12-22/
LOCATION:Wagga Wagga | Fitness Hub\, 1/21-25 Forsyth Street\, Wagga Wagga\, NSW\, 2650\, Australia
CATEGORIES:Women’s Pelvic and Strength Class
END:VEVENT
BEGIN:VEVENT
DTSTART;TZID=Australia/Sydney:20261222T120000
DTEND;TZID=Australia/Sydney:20261222T124500
DTSTAMP:20260421T090413
CREATED:20241112T044419Z
LAST-MODIFIED:20250129T032834Z
UID:10073516-1797940800-1797943500@synergyhealthworks.com
SUMMARY:Women's Strength Class for over 45s
DESCRIPTION:
URL:https://synergyhealthworks.com/event/womens-strength-class-for-over-45s-6/2026-12-22/
LOCATION:Wagga Wagga | Fitness Hub\, 1/21-25 Forsyth Street\, Wagga Wagga\, NSW\, 2650\, Australia
CATEGORIES:Women's Strength Class for over 45s
END:VEVENT
BEGIN:VEVENT
DTSTART;TZID=Australia/Sydney:20261222T163000
DTEND;TZID=Australia/Sydney:20261222T171500
DTSTAMP:20260421T090413
CREATED:20241112T044834Z
LAST-MODIFIED:20250129T032845Z
UID:10074311-1797957000-1797959700@synergyhealthworks.com
SUMMARY:Strength Circuit
DESCRIPTION:
URL:https://synergyhealthworks.com/event/strength-circuit-5/2026-12-22/
LOCATION:Wagga Wagga | Fitness Hub\, 1/21-25 Forsyth Street\, Wagga Wagga\, NSW\, 2650\, Australia
CATEGORIES:Strength Circuit
END:VEVENT
BEGIN:VEVENT
DTSTART;TZID=Australia/Sydney:20261223T063000
DTEND;TZID=Australia/Sydney:20261223T071500
DTSTAMP:20260421T090413
CREATED:20241112T045128Z
LAST-MODIFIED:20250129T032952Z
UID:10083863-1798007400-1798010100@synergyhealthworks.com
SUMMARY:Women's Strength Class for over 45s
DESCRIPTION:
URL:https://synergyhealthworks.com/event/womens-strength-class-for-over-45s-7/2026-12-23/
LOCATION:Wagga Wagga | Fitness Hub\, 1/21-25 Forsyth Street\, Wagga Wagga\, NSW\, 2650\, Australia
CATEGORIES:Women's Strength Class for over 45s
END:VEVENT
END:VCALENDAR