BEGIN:VCALENDAR
VERSION:2.0
PRODID:-//Synergy Healthworks - ECPv6.15.20//NONSGML v1.0//EN
CALSCALE:GREGORIAN
METHOD:PUBLISH
X-ORIGINAL-URL:https://synergyhealthworks.com
X-WR-CALDESC:Events for Synergy Healthworks
REFRESH-INTERVAL;VALUE=DURATION:PT1H
X-Robots-Tag:noindex
X-PUBLISHED-TTL:PT1H
BEGIN:VTIMEZONE
TZID:Australia/Sydney
BEGIN:STANDARD
TZOFFSETFROM:+1100
TZOFFSETTO:+1000
TZNAME:AEST
DTSTART:20240406T160000
END:STANDARD
BEGIN:DAYLIGHT
TZOFFSETFROM:+1000
TZOFFSETTO:+1100
TZNAME:AEDT
DTSTART:20241005T160000
END:DAYLIGHT
BEGIN:STANDARD
TZOFFSETFROM:+1100
TZOFFSETTO:+1000
TZNAME:AEST
DTSTART:20250405T160000
END:STANDARD
BEGIN:DAYLIGHT
TZOFFSETFROM:+1000
TZOFFSETTO:+1100
TZNAME:AEDT
DTSTART:20251004T160000
END:DAYLIGHT
BEGIN:STANDARD
TZOFFSETFROM:+1100
TZOFFSETTO:+1000
TZNAME:AEST
DTSTART:20260404T160000
END:STANDARD
BEGIN:DAYLIGHT
TZOFFSETFROM:+1000
TZOFFSETTO:+1100
TZNAME:AEDT
DTSTART:20261003T160000
END:DAYLIGHT
END:VTIMEZONE
BEGIN:VEVENT
DTSTART;TZID=Australia/Sydney:20250903T173000
DTEND;TZID=Australia/Sydney:20250903T181500
DTSTAMP:20260421T115515
CREATED:20241112T220941Z
LAST-MODIFIED:20250129T033025Z
UID:10077158-1756920600-1756923300@synergyhealthworks.com
SUMMARY:Strength and Conditioning Class
DESCRIPTION:
URL:https://synergyhealthworks.com/event/functional-conditioning/2025-09-03/
LOCATION:Wagga Wagga | Fitness Hub\, 1/21-25 Forsyth Street\, Wagga Wagga\, NSW\, 2650\, Australia
CATEGORIES:Strength and Conditioning
END:VEVENT
BEGIN:VEVENT
DTSTART;TZID=Australia/Sydney:20250903T120000
DTEND;TZID=Australia/Sydney:20250903T124500
DTSTAMP:20260421T115515
CREATED:20241112T220255Z
LAST-MODIFIED:20250129T033004Z
UID:10076098-1756900800-1756903500@synergyhealthworks.com
SUMMARY:Women's Strength Class for over 45s
DESCRIPTION:
URL:https://synergyhealthworks.com/event/womens-strength-class-for-over-45s-9/2025-09-03/
LOCATION:Wagga Wagga | Fitness Hub\, 1/21-25 Forsyth Street\, Wagga Wagga\, NSW\, 2650\, Australia
CATEGORIES:Women's Strength Class for over 45s
END:VEVENT
BEGIN:VEVENT
DTSTART;TZID=Australia/Sydney:20250903T073000
DTEND;TZID=Australia/Sydney:20250903T081500
DTSTAMP:20260421T115515
CREATED:20241112T045308Z
LAST-MODIFIED:20250129T032958Z
UID:10075038-1756884600-1756887300@synergyhealthworks.com
SUMMARY:Functional Fitness
DESCRIPTION:
URL:https://synergyhealthworks.com/event/cardio-combo-circuit-3/2025-09-03/
LOCATION:Wagga Wagga | Fitness Hub\, 1/21-25 Forsyth Street\, Wagga Wagga\, NSW\, 2650\, Australia
CATEGORIES:Functional Fitness
END:VEVENT
BEGIN:VEVENT
DTSTART;TZID=Australia/Sydney:20250903T063000
DTEND;TZID=Australia/Sydney:20250903T071500
DTSTAMP:20260421T115515
CREATED:20241112T045128Z
LAST-MODIFIED:20250129T032952Z
UID:10083795-1756881000-1756883700@synergyhealthworks.com
SUMMARY:Women's Strength Class for over 45s
DESCRIPTION:
URL:https://synergyhealthworks.com/event/womens-strength-class-for-over-45s-7/2025-09-03/
LOCATION:Wagga Wagga | Fitness Hub\, 1/21-25 Forsyth Street\, Wagga Wagga\, NSW\, 2650\, Australia
CATEGORIES:Women's Strength Class for over 45s
END:VEVENT
BEGIN:VEVENT
DTSTART;TZID=Australia/Sydney:20250902T163000
DTEND;TZID=Australia/Sydney:20250902T171500
DTSTAMP:20260421T115515
CREATED:20241112T044834Z
LAST-MODIFIED:20250129T032845Z
UID:10074243-1756830600-1756833300@synergyhealthworks.com
SUMMARY:Strength Circuit
DESCRIPTION:
URL:https://synergyhealthworks.com/event/strength-circuit-5/2025-09-02/
LOCATION:Wagga Wagga | Fitness Hub\, 1/21-25 Forsyth Street\, Wagga Wagga\, NSW\, 2650\, Australia
CATEGORIES:Strength Circuit
END:VEVENT
BEGIN:VEVENT
DTSTART;TZID=Australia/Sydney:20250902T120000
DTEND;TZID=Australia/Sydney:20250902T124500
DTSTAMP:20260421T115515
CREATED:20241112T044419Z
LAST-MODIFIED:20250129T032834Z
UID:10073448-1756814400-1756817100@synergyhealthworks.com
SUMMARY:Women's Strength Class for over 45s
DESCRIPTION:
URL:https://synergyhealthworks.com/event/womens-strength-class-for-over-45s-6/2025-09-02/
LOCATION:Wagga Wagga | Fitness Hub\, 1/21-25 Forsyth Street\, Wagga Wagga\, NSW\, 2650\, Australia
CATEGORIES:Women's Strength Class for over 45s
END:VEVENT
BEGIN:VEVENT
DTSTART;TZID=Australia/Sydney:20250902T103000
DTEND;TZID=Australia/Sydney:20250902T111500
DTSTAMP:20260421T115515
CREATED:20250502T051536Z
LAST-MODIFIED:20251203T032954Z
UID:10116762-1756809000-1756811700@synergyhealthworks.com
SUMMARY:Women’s Pelvic and Strength Class
DESCRIPTION:
URL:https://synergyhealthworks.com/event/womens-pelvic-and-strength-class/2025-09-02/
LOCATION:Wagga Wagga | Fitness Hub\, 1/21-25 Forsyth Street\, Wagga Wagga\, NSW\, 2650\, Australia
CATEGORIES:Women’s Pelvic and Strength Class
END:VEVENT
BEGIN:VEVENT
DTSTART;TZID=Australia/Sydney:20250902T073000
DTEND;TZID=Australia/Sydney:20250902T081500
DTSTAMP:20260421T115515
CREATED:20241112T041932Z
LAST-MODIFIED:20250129T032814Z
UID:10072653-1756798200-1756800900@synergyhealthworks.com
SUMMARY:Women’s Strength Class for over 45s
DESCRIPTION:
URL:https://synergyhealthworks.com/event/womens-strength-class-for-over-45s-4/2025-09-02/
LOCATION:Wagga Wagga | Fitness Hub\, 1/21-25 Forsyth Street\, Wagga Wagga\, NSW\, 2650\, Australia
CATEGORIES:Women's Strength Class for over 45s
END:VEVENT
BEGIN:VEVENT
DTSTART;TZID=Australia/Sydney:20250902T063000
DTEND;TZID=Australia/Sydney:20250902T071500
DTSTAMP:20260421T115515
CREATED:20241124T211846Z
LAST-MODIFIED:20250516T043543Z
UID:10085655-1756794600-1756797300@synergyhealthworks.com
SUMMARY:Women's Strength for over 45s
DESCRIPTION:
URL:https://synergyhealthworks.com/event/womens-fat-burn/2025-09-02/
LOCATION:Wagga Wagga | Fitness Hub\, 1/21-25 Forsyth Street\, Wagga Wagga\, NSW\, 2650\, Australia
CATEGORIES:Women's Strength Class for over 45s
END:VEVENT
BEGIN:VEVENT
DTSTART;TZID=Australia/Sydney:20250901T173000
DTEND;TZID=Australia/Sydney:20250901T181500
DTSTAMP:20260421T115515
CREATED:20241112T041557Z
LAST-MODIFIED:20250129T032656Z
UID:10072122-1756747800-1756750500@synergyhealthworks.com
SUMMARY:Strength and Conditioning Class
DESCRIPTION:
URL:https://synergyhealthworks.com/event/strength-and-conditioning-class-4/2025-09-01/
LOCATION:Wagga Wagga | Fitness Hub\, 1/21-25 Forsyth Street\, Wagga Wagga\, NSW\, 2650\, Australia
CATEGORIES:Strength and Conditioning
END:VEVENT
BEGIN:VEVENT
DTSTART;TZID=Australia/Sydney:20250901T163000
DTEND;TZID=Australia/Sydney:20250901T171500
DTSTAMP:20260421T115515
CREATED:20250502T051402Z
LAST-MODIFIED:20250502T051402Z
UID:10116501-1756744200-1756746900@synergyhealthworks.com
SUMMARY:Women’s Pregnancy Strength Class
DESCRIPTION:
URL:https://synergyhealthworks.com/event/womens-pregnancy-strength-class/2025-09-01/
LOCATION:Wagga Wagga | Fitness Hub\, 1/21-25 Forsyth Street\, Wagga Wagga\, NSW\, 2650\, Australia
CATEGORIES:Women’s Pregnancy Strength Class
END:VEVENT
BEGIN:VEVENT
DTSTART;TZID=Australia/Sydney:20250901T130000
DTEND;TZID=Australia/Sydney:20250901T134500
DTSTAMP:20260421T115515
CREATED:20251112T001650Z
LAST-MODIFIED:20251112T001650Z
UID:10127364-1756731600-1756734300@synergyhealthworks.com
SUMMARY:Strength and Conditioning Class
DESCRIPTION:
URL:https://synergyhealthworks.com/event/strength-and-conditioning-class-5/2025-09-01/
LOCATION:Wagga Wagga | Fitness Hub\, 1/21-25 Forsyth Street\, Wagga Wagga\, NSW\, 2650\, Australia
CATEGORIES:Strength and Conditioning
END:VEVENT
BEGIN:VEVENT
DTSTART;TZID=Australia/Sydney:20250901T120000
DTEND;TZID=Australia/Sydney:20250901T124500
DTSTAMP:20260421T115515
CREATED:20250829T044037Z
LAST-MODIFIED:20250829T044037Z
UID:10122232-1756728000-1756730700@synergyhealthworks.com
SUMMARY:Strength and Conditioning Class
DESCRIPTION:
URL:https://synergyhealthworks.com/event/strength-and-conditioning-class-3/2025-09-01/
LOCATION:Wagga Wagga | Fitness Hub\, 1/21-25 Forsyth Street\, Wagga Wagga\, NSW\, 2650\, Australia
CATEGORIES:Strength and Conditioning
END:VEVENT
BEGIN:VEVENT
DTSTART;TZID=Australia/Sydney:20250901T083000
DTEND;TZID=Australia/Sydney:20250901T091500
DTSTAMP:20260421T115515
CREATED:20241112T035630Z
LAST-MODIFIED:20250129T032622Z
UID:10082199-1756715400-1756718100@synergyhealthworks.com
SUMMARY:Strength Circuit
DESCRIPTION:
URL:https://synergyhealthworks.com/event/strength-circuit/2025-09-01/
LOCATION:Wagga Wagga | Fitness Hub\, 1/21-25 Forsyth Street\, Wagga Wagga\, NSW\, 2650\, Australia
CATEGORIES:Strength Circuit
END:VEVENT
BEGIN:VEVENT
DTSTART;TZID=Australia/Sydney:20250829T083000
DTEND;TZID=Australia/Sydney:20250829T091500
DTSTAMP:20260421T115515
CREATED:20241112T224821Z
LAST-MODIFIED:20250403T043412Z
UID:10115688-1756456200-1756458900@synergyhealthworks.com
SUMMARY:Women's Strength Class for over 45s
DESCRIPTION:
URL:https://synergyhealthworks.com/event/bike-box-2/2025-08-29/
LOCATION:Wagga Wagga | Fitness Hub\, 1/21-25 Forsyth Street\, Wagga Wagga\, NSW\, 2650\, Australia
CATEGORIES:Women's Strength Class for over 45s
END:VEVENT
BEGIN:VEVENT
DTSTART;TZID=Australia/Sydney:20250829T073000
DTEND;TZID=Australia/Sydney:20250829T081500
DTSTAMP:20260421T115515
CREATED:20241202T231716Z
LAST-MODIFIED:20250403T044134Z
UID:10115966-1756452600-1756455300@synergyhealthworks.com
SUMMARY:Strength Circuit
DESCRIPTION:
URL:https://synergyhealthworks.com/event/strength-circuit-2/2025-08-29/
LOCATION:Wagga Wagga | Fitness Hub\, 1/21-25 Forsyth Street\, Wagga Wagga\, NSW\, 2650\, Australia
CATEGORIES:Strength Circuit
END:VEVENT
BEGIN:VEVENT
DTSTART;TZID=Australia/Sydney:20250829T071500
DTEND;TZID=Australia/Sydney:20250829T080000
DTSTAMP:20260421T115515
CREATED:20250618T000503Z
LAST-MODIFIED:20250618T000657Z
UID:10118798-1756451700-1756454400@synergyhealthworks.com
SUMMARY:Bike & Box
DESCRIPTION:
URL:https://synergyhealthworks.com/event/bike-and-box/2025-08-29/
LOCATION:Wagga Wagga | Fitness Hub\, 1/21-25 Forsyth Street\, Wagga Wagga\, NSW\, 2650\, Australia
CATEGORIES:Bike & Box,Women's Strength Class for over 45s
END:VEVENT
BEGIN:VEVENT
DTSTART;TZID=Australia/Sydney:20250828T120000
DTEND;TZID=Australia/Sydney:20250828T124500
DTSTAMP:20260421T115515
CREATED:20241124T212036Z
LAST-MODIFIED:20250516T043505Z
UID:10085915-1756382400-1756385100@synergyhealthworks.com
SUMMARY:Women's Strength for over 45s
DESCRIPTION:
URL:https://synergyhealthworks.com/event/womens-fat-burn-2/2025-08-28/
LOCATION:Wagga Wagga | Fitness Hub\, 1/21-25 Forsyth Street\, Wagga Wagga\, NSW\, 2650\, Australia
CATEGORIES:Women's Strength Class for over 45s
END:VEVENT
BEGIN:VEVENT
DTSTART;TZID=Australia/Sydney:20250828T100000
DTEND;TZID=Australia/Sydney:20250828T104500
DTSTAMP:20260421T115515
CREATED:20241112T221214Z
LAST-MODIFIED:20250722T032235Z
UID:10121004-1756375200-1756377900@synergyhealthworks.com
SUMMARY:Strength Circuit
DESCRIPTION:
URL:https://synergyhealthworks.com/event/mens-strength-class-3/2025-08-28/
LOCATION:Wagga Wagga | Fitness Hub\, 1/21-25 Forsyth Street\, Wagga Wagga\, NSW\, 2650\, Australia
CATEGORIES:Strength Circuit
END:VEVENT
BEGIN:VEVENT
DTSTART;TZID=Australia/Sydney:20250828T090000
DTEND;TZID=Australia/Sydney:20250828T094500
DTSTAMP:20260421T115515
CREATED:20241112T221649Z
LAST-MODIFIED:20250722T032123Z
UID:10120703-1756371600-1756374300@synergyhealthworks.com
SUMMARY:Golfer's Strengthen & Stretch
DESCRIPTION:
URL:https://synergyhealthworks.com/event/golfers-strengthen-stretch-2/2025-08-28/
LOCATION:Wagga Wagga | Fitness Hub\, 1/21-25 Forsyth Street\, Wagga Wagga\, NSW\, 2650\, Australia
CATEGORIES:Golfer's Strengthen & Stretch
END:VEVENT
BEGIN:VEVENT
DTSTART;TZID=Australia/Sydney:20250828T073000
DTEND;TZID=Australia/Sydney:20250828T081500
DTSTAMP:20260421T115515
CREATED:20241112T221101Z
LAST-MODIFIED:20250129T033150Z
UID:10077422-1756366200-1756368900@synergyhealthworks.com
SUMMARY:Women's Strength Class for over 45s
DESCRIPTION:
URL:https://synergyhealthworks.com/event/womens-strength-class-for-over-45s-11/2025-08-28/
LOCATION:Wagga Wagga | Fitness Hub\, 1/21-25 Forsyth Street\, Wagga Wagga\, NSW\, 2650\, Australia
CATEGORIES:Women's Strength Class for over 45s
END:VEVENT
BEGIN:VEVENT
DTSTART;TZID=Australia/Sydney:20250828T063000
DTEND;TZID=Australia/Sydney:20250828T071500
DTSTAMP:20260421T115515
CREATED:20251128T024235Z
LAST-MODIFIED:20251128T024235Z
UID:10131266-1756362600-1756365300@synergyhealthworks.com
SUMMARY:Women's Strength Class for over 45s
DESCRIPTION:
URL:https://synergyhealthworks.com/event/womens-strength-class-for-over-45s-5/2025-08-28/
LOCATION:Wagga Wagga | Fitness Hub\, 1/21-25 Forsyth Street\, Wagga Wagga\, NSW\, 2650\, Australia
CATEGORIES:Women's Strength Class for over 45s
END:VEVENT
BEGIN:VEVENT
DTSTART;TZID=Australia/Sydney:20250827T173000
DTEND;TZID=Australia/Sydney:20250827T181500
DTSTAMP:20260421T115515
CREATED:20241112T220941Z
LAST-MODIFIED:20250129T033025Z
UID:10077157-1756315800-1756318500@synergyhealthworks.com
SUMMARY:Strength and Conditioning Class
DESCRIPTION:
URL:https://synergyhealthworks.com/event/functional-conditioning/2025-08-27/
LOCATION:Wagga Wagga | Fitness Hub\, 1/21-25 Forsyth Street\, Wagga Wagga\, NSW\, 2650\, Australia
CATEGORIES:Strength and Conditioning
END:VEVENT
BEGIN:VEVENT
DTSTART;TZID=Australia/Sydney:20250827T120000
DTEND;TZID=Australia/Sydney:20250827T124500
DTSTAMP:20260421T115515
CREATED:20241112T220255Z
LAST-MODIFIED:20250129T033004Z
UID:10076097-1756296000-1756298700@synergyhealthworks.com
SUMMARY:Women's Strength Class for over 45s
DESCRIPTION:
URL:https://synergyhealthworks.com/event/womens-strength-class-for-over-45s-9/2025-08-27/
LOCATION:Wagga Wagga | Fitness Hub\, 1/21-25 Forsyth Street\, Wagga Wagga\, NSW\, 2650\, Australia
CATEGORIES:Women's Strength Class for over 45s
END:VEVENT
BEGIN:VEVENT
DTSTART;TZID=Australia/Sydney:20250827T073000
DTEND;TZID=Australia/Sydney:20250827T081500
DTSTAMP:20260421T115515
CREATED:20241112T045308Z
LAST-MODIFIED:20250129T032958Z
UID:10075037-1756279800-1756282500@synergyhealthworks.com
SUMMARY:Functional Fitness
DESCRIPTION:
URL:https://synergyhealthworks.com/event/cardio-combo-circuit-3/2025-08-27/
LOCATION:Wagga Wagga | Fitness Hub\, 1/21-25 Forsyth Street\, Wagga Wagga\, NSW\, 2650\, Australia
CATEGORIES:Functional Fitness
END:VEVENT
BEGIN:VEVENT
DTSTART;TZID=Australia/Sydney:20250827T063000
DTEND;TZID=Australia/Sydney:20250827T071500
DTSTAMP:20260421T115515
CREATED:20241112T045128Z
LAST-MODIFIED:20250129T032952Z
UID:10083794-1756276200-1756278900@synergyhealthworks.com
SUMMARY:Women's Strength Class for over 45s
DESCRIPTION:
URL:https://synergyhealthworks.com/event/womens-strength-class-for-over-45s-7/2025-08-27/
LOCATION:Wagga Wagga | Fitness Hub\, 1/21-25 Forsyth Street\, Wagga Wagga\, NSW\, 2650\, Australia
CATEGORIES:Women's Strength Class for over 45s
END:VEVENT
BEGIN:VEVENT
DTSTART;TZID=Australia/Sydney:20250826T163000
DTEND;TZID=Australia/Sydney:20250826T171500
DTSTAMP:20260421T115515
CREATED:20241112T044834Z
LAST-MODIFIED:20250129T032845Z
UID:10074242-1756225800-1756228500@synergyhealthworks.com
SUMMARY:Strength Circuit
DESCRIPTION:
URL:https://synergyhealthworks.com/event/strength-circuit-5/2025-08-26/
LOCATION:Wagga Wagga | Fitness Hub\, 1/21-25 Forsyth Street\, Wagga Wagga\, NSW\, 2650\, Australia
CATEGORIES:Strength Circuit
END:VEVENT
BEGIN:VEVENT
DTSTART;TZID=Australia/Sydney:20250826T120000
DTEND;TZID=Australia/Sydney:20250826T124500
DTSTAMP:20260421T115515
CREATED:20241112T044419Z
LAST-MODIFIED:20250129T032834Z
UID:10073447-1756209600-1756212300@synergyhealthworks.com
SUMMARY:Women's Strength Class for over 45s
DESCRIPTION:
URL:https://synergyhealthworks.com/event/womens-strength-class-for-over-45s-6/2025-08-26/
LOCATION:Wagga Wagga | Fitness Hub\, 1/21-25 Forsyth Street\, Wagga Wagga\, NSW\, 2650\, Australia
CATEGORIES:Women's Strength Class for over 45s
END:VEVENT
BEGIN:VEVENT
DTSTART;TZID=Australia/Sydney:20250826T103000
DTEND;TZID=Australia/Sydney:20250826T111500
DTSTAMP:20260421T115515
CREATED:20250502T051536Z
LAST-MODIFIED:20251203T032954Z
UID:10116761-1756204200-1756206900@synergyhealthworks.com
SUMMARY:Women’s Pelvic and Strength Class
DESCRIPTION:
URL:https://synergyhealthworks.com/event/womens-pelvic-and-strength-class/2025-08-26/
LOCATION:Wagga Wagga | Fitness Hub\, 1/21-25 Forsyth Street\, Wagga Wagga\, NSW\, 2650\, Australia
CATEGORIES:Women’s Pelvic and Strength Class
END:VEVENT
BEGIN:VEVENT
DTSTART;TZID=Australia/Sydney:20250826T073000
DTEND;TZID=Australia/Sydney:20250826T081500
DTSTAMP:20260421T115515
CREATED:20241112T041932Z
LAST-MODIFIED:20250129T032814Z
UID:10072652-1756193400-1756196100@synergyhealthworks.com
SUMMARY:Women’s Strength Class for over 45s
DESCRIPTION:
URL:https://synergyhealthworks.com/event/womens-strength-class-for-over-45s-4/2025-08-26/
LOCATION:Wagga Wagga | Fitness Hub\, 1/21-25 Forsyth Street\, Wagga Wagga\, NSW\, 2650\, Australia
CATEGORIES:Women's Strength Class for over 45s
END:VEVENT
END:VCALENDAR