BEGIN:VCALENDAR
VERSION:2.0
PRODID:-//Synergy Healthworks - ECPv6.15.20//NONSGML v1.0//EN
CALSCALE:GREGORIAN
METHOD:PUBLISH
X-ORIGINAL-URL:https://synergyhealthworks.com
X-WR-CALDESC:Events for Synergy Healthworks
REFRESH-INTERVAL;VALUE=DURATION:PT1H
X-Robots-Tag:noindex
X-PUBLISHED-TTL:PT1H
BEGIN:VTIMEZONE
TZID:Australia/Sydney
BEGIN:STANDARD
TZOFFSETFROM:+1100
TZOFFSETTO:+1000
TZNAME:AEST
DTSTART:20250405T160000
END:STANDARD
BEGIN:DAYLIGHT
TZOFFSETFROM:+1000
TZOFFSETTO:+1100
TZNAME:AEDT
DTSTART:20251004T160000
END:DAYLIGHT
BEGIN:STANDARD
TZOFFSETFROM:+1100
TZOFFSETTO:+1000
TZNAME:AEST
DTSTART:20260404T160000
END:STANDARD
BEGIN:DAYLIGHT
TZOFFSETFROM:+1000
TZOFFSETTO:+1100
TZNAME:AEDT
DTSTART:20261003T160000
END:DAYLIGHT
BEGIN:STANDARD
TZOFFSETFROM:+1100
TZOFFSETTO:+1000
TZNAME:AEST
DTSTART:20270403T160000
END:STANDARD
BEGIN:DAYLIGHT
TZOFFSETFROM:+1000
TZOFFSETTO:+1100
TZNAME:AEDT
DTSTART:20271002T160000
END:DAYLIGHT
END:VTIMEZONE
BEGIN:VEVENT
DTSTART;TZID=Australia/Sydney:20261124T103000
DTEND;TZID=Australia/Sydney:20261124T111500
DTSTAMP:20260420T233957
CREATED:20250502T051536Z
LAST-MODIFIED:20251203T032954Z
UID:10116826-1795516200-1795518900@synergyhealthworks.com
SUMMARY:Women’s Pelvic and Strength Class
DESCRIPTION:
URL:https://synergyhealthworks.com/event/womens-pelvic-and-strength-class/2026-11-24/
LOCATION:Wagga Wagga | Fitness Hub\, 1/21-25 Forsyth Street\, Wagga Wagga\, NSW\, 2650\, Australia
CATEGORIES:Women’s Pelvic and Strength Class
END:VEVENT
BEGIN:VEVENT
DTSTART;TZID=Australia/Sydney:20261124T120000
DTEND;TZID=Australia/Sydney:20261124T124500
DTSTAMP:20260420T233957
CREATED:20241112T044419Z
LAST-MODIFIED:20250129T032834Z
UID:10073512-1795521600-1795524300@synergyhealthworks.com
SUMMARY:Women's Strength Class for over 45s
DESCRIPTION:
URL:https://synergyhealthworks.com/event/womens-strength-class-for-over-45s-6/2026-11-24/
LOCATION:Wagga Wagga | Fitness Hub\, 1/21-25 Forsyth Street\, Wagga Wagga\, NSW\, 2650\, Australia
CATEGORIES:Women's Strength Class for over 45s
END:VEVENT
BEGIN:VEVENT
DTSTART;TZID=Australia/Sydney:20261124T163000
DTEND;TZID=Australia/Sydney:20261124T171500
DTSTAMP:20260420T233957
CREATED:20241112T044834Z
LAST-MODIFIED:20250129T032845Z
UID:10074307-1795537800-1795540500@synergyhealthworks.com
SUMMARY:Strength Circuit
DESCRIPTION:
URL:https://synergyhealthworks.com/event/strength-circuit-5/2026-11-24/
LOCATION:Wagga Wagga | Fitness Hub\, 1/21-25 Forsyth Street\, Wagga Wagga\, NSW\, 2650\, Australia
CATEGORIES:Strength Circuit
END:VEVENT
BEGIN:VEVENT
DTSTART;TZID=Australia/Sydney:20261125T063000
DTEND;TZID=Australia/Sydney:20261125T071500
DTSTAMP:20260420T233957
CREATED:20241112T045128Z
LAST-MODIFIED:20250129T032952Z
UID:10083859-1795588200-1795590900@synergyhealthworks.com
SUMMARY:Women's Strength Class for over 45s
DESCRIPTION:
URL:https://synergyhealthworks.com/event/womens-strength-class-for-over-45s-7/2026-11-25/
LOCATION:Wagga Wagga | Fitness Hub\, 1/21-25 Forsyth Street\, Wagga Wagga\, NSW\, 2650\, Australia
CATEGORIES:Women's Strength Class for over 45s
END:VEVENT
BEGIN:VEVENT
DTSTART;TZID=Australia/Sydney:20261125T073000
DTEND;TZID=Australia/Sydney:20261125T081500
DTSTAMP:20260420T233957
CREATED:20241112T045308Z
LAST-MODIFIED:20250129T032958Z
UID:10075102-1795591800-1795594500@synergyhealthworks.com
SUMMARY:Functional Fitness
DESCRIPTION:
URL:https://synergyhealthworks.com/event/cardio-combo-circuit-3/2026-11-25/
LOCATION:Wagga Wagga | Fitness Hub\, 1/21-25 Forsyth Street\, Wagga Wagga\, NSW\, 2650\, Australia
CATEGORIES:Functional Fitness
END:VEVENT
BEGIN:VEVENT
DTSTART;TZID=Australia/Sydney:20261125T120000
DTEND;TZID=Australia/Sydney:20261125T124500
DTSTAMP:20260420T233957
CREATED:20241112T220255Z
LAST-MODIFIED:20250129T033004Z
UID:10076162-1795608000-1795610700@synergyhealthworks.com
SUMMARY:Women's Strength Class for over 45s
DESCRIPTION:
URL:https://synergyhealthworks.com/event/womens-strength-class-for-over-45s-9/2026-11-25/
LOCATION:Wagga Wagga | Fitness Hub\, 1/21-25 Forsyth Street\, Wagga Wagga\, NSW\, 2650\, Australia
CATEGORIES:Women's Strength Class for over 45s
END:VEVENT
BEGIN:VEVENT
DTSTART;TZID=Australia/Sydney:20261125T173000
DTEND;TZID=Australia/Sydney:20261125T181500
DTSTAMP:20260420T233957
CREATED:20241112T220941Z
LAST-MODIFIED:20250129T033025Z
UID:10077222-1795627800-1795630500@synergyhealthworks.com
SUMMARY:Strength and Conditioning Class
DESCRIPTION:
URL:https://synergyhealthworks.com/event/functional-conditioning/2026-11-25/
LOCATION:Wagga Wagga | Fitness Hub\, 1/21-25 Forsyth Street\, Wagga Wagga\, NSW\, 2650\, Australia
CATEGORIES:Strength and Conditioning
END:VEVENT
BEGIN:VEVENT
DTSTART;TZID=Australia/Sydney:20261126T063000
DTEND;TZID=Australia/Sydney:20261126T071500
DTSTAMP:20260420T233957
CREATED:20251128T024235Z
LAST-MODIFIED:20251128T024235Z
UID:10131331-1795674600-1795677300@synergyhealthworks.com
SUMMARY:Women's Strength Class for over 45s
DESCRIPTION:
URL:https://synergyhealthworks.com/event/womens-strength-class-for-over-45s-5/2026-11-26/
LOCATION:Wagga Wagga | Fitness Hub\, 1/21-25 Forsyth Street\, Wagga Wagga\, NSW\, 2650\, Australia
CATEGORIES:Women's Strength Class for over 45s
END:VEVENT
BEGIN:VEVENT
DTSTART;TZID=Australia/Sydney:20261126T073000
DTEND;TZID=Australia/Sydney:20261126T081500
DTSTAMP:20260420T233957
CREATED:20241112T221101Z
LAST-MODIFIED:20250129T033150Z
UID:10077487-1795678200-1795680900@synergyhealthworks.com
SUMMARY:Women's Strength Class for over 45s
DESCRIPTION:
URL:https://synergyhealthworks.com/event/womens-strength-class-for-over-45s-11/2026-11-26/
LOCATION:Wagga Wagga | Fitness Hub\, 1/21-25 Forsyth Street\, Wagga Wagga\, NSW\, 2650\, Australia
CATEGORIES:Women's Strength Class for over 45s
END:VEVENT
BEGIN:VEVENT
DTSTART;TZID=Australia/Sydney:20261126T090000
DTEND;TZID=Australia/Sydney:20261126T094500
DTSTAMP:20260420T233957
CREATED:20241112T221649Z
LAST-MODIFIED:20250722T032123Z
UID:10120768-1795683600-1795686300@synergyhealthworks.com
SUMMARY:Golfer's Strengthen & Stretch
DESCRIPTION:
URL:https://synergyhealthworks.com/event/golfers-strengthen-stretch-2/2026-11-26/
LOCATION:Wagga Wagga | Fitness Hub\, 1/21-25 Forsyth Street\, Wagga Wagga\, NSW\, 2650\, Australia
CATEGORIES:Golfer's Strengthen & Stretch
END:VEVENT
BEGIN:VEVENT
DTSTART;TZID=Australia/Sydney:20261126T100000
DTEND;TZID=Australia/Sydney:20261126T104500
DTSTAMP:20260420T233957
CREATED:20241112T221214Z
LAST-MODIFIED:20250722T032235Z
UID:10121069-1795687200-1795689900@synergyhealthworks.com
SUMMARY:Strength Circuit
DESCRIPTION:
URL:https://synergyhealthworks.com/event/mens-strength-class-3/2026-11-26/
LOCATION:Wagga Wagga | Fitness Hub\, 1/21-25 Forsyth Street\, Wagga Wagga\, NSW\, 2650\, Australia
CATEGORIES:Strength Circuit
END:VEVENT
BEGIN:VEVENT
DTSTART;TZID=Australia/Sydney:20261126T120000
DTEND;TZID=Australia/Sydney:20261126T124500
DTSTAMP:20260420T233957
CREATED:20241124T212036Z
LAST-MODIFIED:20250516T043505Z
UID:10085980-1795694400-1795697100@synergyhealthworks.com
SUMMARY:Women's Strength for over 45s
DESCRIPTION:
URL:https://synergyhealthworks.com/event/womens-fat-burn-2/2026-11-26/
LOCATION:Wagga Wagga | Fitness Hub\, 1/21-25 Forsyth Street\, Wagga Wagga\, NSW\, 2650\, Australia
CATEGORIES:Women's Strength Class for over 45s
END:VEVENT
BEGIN:VEVENT
DTSTART;TZID=Australia/Sydney:20261127T071500
DTEND;TZID=Australia/Sydney:20261127T080000
DTSTAMP:20260420T233957
CREATED:20250618T000503Z
LAST-MODIFIED:20250618T000657Z
UID:10118863-1795763700-1795766400@synergyhealthworks.com
SUMMARY:Bike & Box
DESCRIPTION:
URL:https://synergyhealthworks.com/event/bike-and-box/2026-11-27/
LOCATION:Wagga Wagga | Fitness Hub\, 1/21-25 Forsyth Street\, Wagga Wagga\, NSW\, 2650\, Australia
CATEGORIES:Bike & Box,Women's Strength Class for over 45s
END:VEVENT
BEGIN:VEVENT
DTSTART;TZID=Australia/Sydney:20261127T073000
DTEND;TZID=Australia/Sydney:20261127T081500
DTSTAMP:20260420T233957
CREATED:20241202T231716Z
LAST-MODIFIED:20250403T044134Z
UID:10116031-1795764600-1795767300@synergyhealthworks.com
SUMMARY:Strength Circuit
DESCRIPTION:
URL:https://synergyhealthworks.com/event/strength-circuit-2/2026-11-27/
LOCATION:Wagga Wagga | Fitness Hub\, 1/21-25 Forsyth Street\, Wagga Wagga\, NSW\, 2650\, Australia
CATEGORIES:Strength Circuit
END:VEVENT
BEGIN:VEVENT
DTSTART;TZID=Australia/Sydney:20261127T083000
DTEND;TZID=Australia/Sydney:20261127T091500
DTSTAMP:20260420T233957
CREATED:20241112T224821Z
LAST-MODIFIED:20250403T043412Z
UID:10115753-1795768200-1795770900@synergyhealthworks.com
SUMMARY:Women's Strength Class for over 45s
DESCRIPTION:
URL:https://synergyhealthworks.com/event/bike-box-2/2026-11-27/
LOCATION:Wagga Wagga | Fitness Hub\, 1/21-25 Forsyth Street\, Wagga Wagga\, NSW\, 2650\, Australia
CATEGORIES:Women's Strength Class for over 45s
END:VEVENT
BEGIN:VEVENT
DTSTART;TZID=Australia/Sydney:20261130T083000
DTEND;TZID=Australia/Sydney:20261130T091500
DTSTAMP:20260420T233957
CREATED:20241112T035630Z
LAST-MODIFIED:20250129T032622Z
UID:10082264-1796027400-1796030100@synergyhealthworks.com
SUMMARY:Strength Circuit
DESCRIPTION:
URL:https://synergyhealthworks.com/event/strength-circuit/2026-11-30/
LOCATION:Wagga Wagga | Fitness Hub\, 1/21-25 Forsyth Street\, Wagga Wagga\, NSW\, 2650\, Australia
CATEGORIES:Strength Circuit
END:VEVENT
BEGIN:VEVENT
DTSTART;TZID=Australia/Sydney:20261130T120000
DTEND;TZID=Australia/Sydney:20261130T124500
DTSTAMP:20260420T233957
CREATED:20250829T044037Z
LAST-MODIFIED:20250829T044037Z
UID:10122297-1796040000-1796042700@synergyhealthworks.com
SUMMARY:Strength and Conditioning Class
DESCRIPTION:
URL:https://synergyhealthworks.com/event/strength-and-conditioning-class-3/2026-11-30/
LOCATION:Wagga Wagga | Fitness Hub\, 1/21-25 Forsyth Street\, Wagga Wagga\, NSW\, 2650\, Australia
CATEGORIES:Strength and Conditioning
END:VEVENT
BEGIN:VEVENT
DTSTART;TZID=Australia/Sydney:20261130T130000
DTEND;TZID=Australia/Sydney:20261130T134500
DTSTAMP:20260420T233957
CREATED:20251112T001650Z
LAST-MODIFIED:20251112T001650Z
UID:10127429-1796043600-1796046300@synergyhealthworks.com
SUMMARY:Strength and Conditioning Class
DESCRIPTION:
URL:https://synergyhealthworks.com/event/strength-and-conditioning-class-5/2026-11-30/
LOCATION:Wagga Wagga | Fitness Hub\, 1/21-25 Forsyth Street\, Wagga Wagga\, NSW\, 2650\, Australia
CATEGORIES:Strength and Conditioning
END:VEVENT
BEGIN:VEVENT
DTSTART;TZID=Australia/Sydney:20261130T163000
DTEND;TZID=Australia/Sydney:20261130T171500
DTSTAMP:20260420T233957
CREATED:20250502T051402Z
LAST-MODIFIED:20250502T051402Z
UID:10116566-1796056200-1796058900@synergyhealthworks.com
SUMMARY:Women’s Pregnancy Strength Class
DESCRIPTION:
URL:https://synergyhealthworks.com/event/womens-pregnancy-strength-class/2026-11-30/
LOCATION:Wagga Wagga | Fitness Hub\, 1/21-25 Forsyth Street\, Wagga Wagga\, NSW\, 2650\, Australia
CATEGORIES:Women’s Pregnancy Strength Class
END:VEVENT
BEGIN:VEVENT
DTSTART;TZID=Australia/Sydney:20261130T173000
DTEND;TZID=Australia/Sydney:20261130T181500
DTSTAMP:20260420T233957
CREATED:20241112T041557Z
LAST-MODIFIED:20250129T032656Z
UID:10072187-1796059800-1796062500@synergyhealthworks.com
SUMMARY:Strength and Conditioning Class
DESCRIPTION:
URL:https://synergyhealthworks.com/event/strength-and-conditioning-class-4/2026-11-30/
LOCATION:Wagga Wagga | Fitness Hub\, 1/21-25 Forsyth Street\, Wagga Wagga\, NSW\, 2650\, Australia
CATEGORIES:Strength and Conditioning
END:VEVENT
BEGIN:VEVENT
DTSTART;TZID=Australia/Sydney:20261201T063000
DTEND;TZID=Australia/Sydney:20261201T071500
DTSTAMP:20260420T233957
CREATED:20241124T211846Z
LAST-MODIFIED:20250516T043543Z
UID:10085720-1796106600-1796109300@synergyhealthworks.com
SUMMARY:Women's Strength for over 45s
DESCRIPTION:
URL:https://synergyhealthworks.com/event/womens-fat-burn/2026-12-01/
LOCATION:Wagga Wagga | Fitness Hub\, 1/21-25 Forsyth Street\, Wagga Wagga\, NSW\, 2650\, Australia
CATEGORIES:Women's Strength Class for over 45s
END:VEVENT
BEGIN:VEVENT
DTSTART;TZID=Australia/Sydney:20261201T073000
DTEND;TZID=Australia/Sydney:20261201T081500
DTSTAMP:20260420T233957
CREATED:20241112T041932Z
LAST-MODIFIED:20250129T032814Z
UID:10072718-1796110200-1796112900@synergyhealthworks.com
SUMMARY:Women’s Strength Class for over 45s
DESCRIPTION:
URL:https://synergyhealthworks.com/event/womens-strength-class-for-over-45s-4/2026-12-01/
LOCATION:Wagga Wagga | Fitness Hub\, 1/21-25 Forsyth Street\, Wagga Wagga\, NSW\, 2650\, Australia
CATEGORIES:Women's Strength Class for over 45s
END:VEVENT
BEGIN:VEVENT
DTSTART;TZID=Australia/Sydney:20261201T103000
DTEND;TZID=Australia/Sydney:20261201T111500
DTSTAMP:20260420T233957
CREATED:20250502T051536Z
LAST-MODIFIED:20251203T032954Z
UID:10116827-1796121000-1796123700@synergyhealthworks.com
SUMMARY:Women’s Pelvic and Strength Class
DESCRIPTION:
URL:https://synergyhealthworks.com/event/womens-pelvic-and-strength-class/2026-12-01/
LOCATION:Wagga Wagga | Fitness Hub\, 1/21-25 Forsyth Street\, Wagga Wagga\, NSW\, 2650\, Australia
CATEGORIES:Women’s Pelvic and Strength Class
END:VEVENT
BEGIN:VEVENT
DTSTART;TZID=Australia/Sydney:20261201T120000
DTEND;TZID=Australia/Sydney:20261201T124500
DTSTAMP:20260420T233957
CREATED:20241112T044419Z
LAST-MODIFIED:20250129T032834Z
UID:10073513-1796126400-1796129100@synergyhealthworks.com
SUMMARY:Women's Strength Class for over 45s
DESCRIPTION:
URL:https://synergyhealthworks.com/event/womens-strength-class-for-over-45s-6/2026-12-01/
LOCATION:Wagga Wagga | Fitness Hub\, 1/21-25 Forsyth Street\, Wagga Wagga\, NSW\, 2650\, Australia
CATEGORIES:Women's Strength Class for over 45s
END:VEVENT
BEGIN:VEVENT
DTSTART;TZID=Australia/Sydney:20261201T163000
DTEND;TZID=Australia/Sydney:20261201T171500
DTSTAMP:20260420T233957
CREATED:20241112T044834Z
LAST-MODIFIED:20250129T032845Z
UID:10074308-1796142600-1796145300@synergyhealthworks.com
SUMMARY:Strength Circuit
DESCRIPTION:
URL:https://synergyhealthworks.com/event/strength-circuit-5/2026-12-01/
LOCATION:Wagga Wagga | Fitness Hub\, 1/21-25 Forsyth Street\, Wagga Wagga\, NSW\, 2650\, Australia
CATEGORIES:Strength Circuit
END:VEVENT
BEGIN:VEVENT
DTSTART;TZID=Australia/Sydney:20261202T063000
DTEND;TZID=Australia/Sydney:20261202T071500
DTSTAMP:20260420T233957
CREATED:20241112T045128Z
LAST-MODIFIED:20250129T032952Z
UID:10083860-1796193000-1796195700@synergyhealthworks.com
SUMMARY:Women's Strength Class for over 45s
DESCRIPTION:
URL:https://synergyhealthworks.com/event/womens-strength-class-for-over-45s-7/2026-12-02/
LOCATION:Wagga Wagga | Fitness Hub\, 1/21-25 Forsyth Street\, Wagga Wagga\, NSW\, 2650\, Australia
CATEGORIES:Women's Strength Class for over 45s
END:VEVENT
BEGIN:VEVENT
DTSTART;TZID=Australia/Sydney:20261202T073000
DTEND;TZID=Australia/Sydney:20261202T081500
DTSTAMP:20260420T233957
CREATED:20241112T045308Z
LAST-MODIFIED:20250129T032958Z
UID:10075103-1796196600-1796199300@synergyhealthworks.com
SUMMARY:Functional Fitness
DESCRIPTION:
URL:https://synergyhealthworks.com/event/cardio-combo-circuit-3/2026-12-02/
LOCATION:Wagga Wagga | Fitness Hub\, 1/21-25 Forsyth Street\, Wagga Wagga\, NSW\, 2650\, Australia
CATEGORIES:Functional Fitness
END:VEVENT
BEGIN:VEVENT
DTSTART;TZID=Australia/Sydney:20261202T120000
DTEND;TZID=Australia/Sydney:20261202T124500
DTSTAMP:20260420T233957
CREATED:20241112T220255Z
LAST-MODIFIED:20250129T033004Z
UID:10076163-1796212800-1796215500@synergyhealthworks.com
SUMMARY:Women's Strength Class for over 45s
DESCRIPTION:
URL:https://synergyhealthworks.com/event/womens-strength-class-for-over-45s-9/2026-12-02/
LOCATION:Wagga Wagga | Fitness Hub\, 1/21-25 Forsyth Street\, Wagga Wagga\, NSW\, 2650\, Australia
CATEGORIES:Women's Strength Class for over 45s
END:VEVENT
BEGIN:VEVENT
DTSTART;TZID=Australia/Sydney:20261202T173000
DTEND;TZID=Australia/Sydney:20261202T181500
DTSTAMP:20260420T233957
CREATED:20241112T220941Z
LAST-MODIFIED:20250129T033025Z
UID:10077223-1796232600-1796235300@synergyhealthworks.com
SUMMARY:Strength and Conditioning Class
DESCRIPTION:
URL:https://synergyhealthworks.com/event/functional-conditioning/2026-12-02/
LOCATION:Wagga Wagga | Fitness Hub\, 1/21-25 Forsyth Street\, Wagga Wagga\, NSW\, 2650\, Australia
CATEGORIES:Strength and Conditioning
END:VEVENT
BEGIN:VEVENT
DTSTART;TZID=Australia/Sydney:20261203T063000
DTEND;TZID=Australia/Sydney:20261203T071500
DTSTAMP:20260420T233957
CREATED:20251128T024235Z
LAST-MODIFIED:20251128T024235Z
UID:10131332-1796279400-1796282100@synergyhealthworks.com
SUMMARY:Women's Strength Class for over 45s
DESCRIPTION:
URL:https://synergyhealthworks.com/event/womens-strength-class-for-over-45s-5/2026-12-03/
LOCATION:Wagga Wagga | Fitness Hub\, 1/21-25 Forsyth Street\, Wagga Wagga\, NSW\, 2650\, Australia
CATEGORIES:Women's Strength Class for over 45s
END:VEVENT
END:VCALENDAR