BEGIN:VCALENDAR
VERSION:2.0
PRODID:-//Synergy Healthworks - ECPv6.15.20//NONSGML v1.0//EN
CALSCALE:GREGORIAN
METHOD:PUBLISH
X-WR-CALNAME:Synergy Healthworks
X-ORIGINAL-URL:https://synergyhealthworks.com
X-WR-CALDESC:Events for Synergy Healthworks
REFRESH-INTERVAL;VALUE=DURATION:PT1H
X-Robots-Tag:noindex
X-PUBLISHED-TTL:PT1H
BEGIN:VTIMEZONE
TZID:Australia/Sydney
BEGIN:STANDARD
TZOFFSETFROM:+1100
TZOFFSETTO:+1000
TZNAME:AEST
DTSTART:20250405T160000
END:STANDARD
BEGIN:DAYLIGHT
TZOFFSETFROM:+1000
TZOFFSETTO:+1100
TZNAME:AEDT
DTSTART:20251004T160000
END:DAYLIGHT
BEGIN:STANDARD
TZOFFSETFROM:+1100
TZOFFSETTO:+1000
TZNAME:AEST
DTSTART:20260404T160000
END:STANDARD
BEGIN:DAYLIGHT
TZOFFSETFROM:+1000
TZOFFSETTO:+1100
TZNAME:AEDT
DTSTART:20261003T160000
END:DAYLIGHT
BEGIN:STANDARD
TZOFFSETFROM:+1100
TZOFFSETTO:+1000
TZNAME:AEST
DTSTART:20270403T160000
END:STANDARD
BEGIN:DAYLIGHT
TZOFFSETFROM:+1000
TZOFFSETTO:+1100
TZNAME:AEDT
DTSTART:20271002T160000
END:DAYLIGHT
END:VTIMEZONE
BEGIN:VEVENT
DTSTART;TZID=Australia/Sydney:20261022T100000
DTEND;TZID=Australia/Sydney:20261022T104500
DTSTAMP:20260420T100108
CREATED:20241112T221214Z
LAST-MODIFIED:20250722T032235Z
UID:10121064-1792663200-1792665900@synergyhealthworks.com
SUMMARY:Strength Circuit
DESCRIPTION:
URL:https://synergyhealthworks.com/event/mens-strength-class-3/2026-10-22/
LOCATION:Wagga Wagga | Fitness Hub\, 1/21-25 Forsyth Street\, Wagga Wagga\, NSW\, 2650\, Australia
CATEGORIES:Strength Circuit
END:VEVENT
BEGIN:VEVENT
DTSTART;TZID=Australia/Sydney:20261022T120000
DTEND;TZID=Australia/Sydney:20261022T124500
DTSTAMP:20260420T100108
CREATED:20241124T212036Z
LAST-MODIFIED:20250516T043505Z
UID:10085975-1792670400-1792673100@synergyhealthworks.com
SUMMARY:Women's Strength for over 45s
DESCRIPTION:
URL:https://synergyhealthworks.com/event/womens-fat-burn-2/2026-10-22/
LOCATION:Wagga Wagga | Fitness Hub\, 1/21-25 Forsyth Street\, Wagga Wagga\, NSW\, 2650\, Australia
CATEGORIES:Women's Strength Class for over 45s
END:VEVENT
BEGIN:VEVENT
DTSTART;TZID=Australia/Sydney:20261023T071500
DTEND;TZID=Australia/Sydney:20261023T080000
DTSTAMP:20260420T100108
CREATED:20250618T000503Z
LAST-MODIFIED:20250618T000657Z
UID:10118858-1792739700-1792742400@synergyhealthworks.com
SUMMARY:Bike & Box
DESCRIPTION:
URL:https://synergyhealthworks.com/event/bike-and-box/2026-10-23/
LOCATION:Wagga Wagga | Fitness Hub\, 1/21-25 Forsyth Street\, Wagga Wagga\, NSW\, 2650\, Australia
CATEGORIES:Bike & Box,Women's Strength Class for over 45s
END:VEVENT
BEGIN:VEVENT
DTSTART;TZID=Australia/Sydney:20261023T073000
DTEND;TZID=Australia/Sydney:20261023T081500
DTSTAMP:20260420T100108
CREATED:20241202T231716Z
LAST-MODIFIED:20250403T044134Z
UID:10116026-1792740600-1792743300@synergyhealthworks.com
SUMMARY:Strength Circuit
DESCRIPTION:
URL:https://synergyhealthworks.com/event/strength-circuit-2/2026-10-23/
LOCATION:Wagga Wagga | Fitness Hub\, 1/21-25 Forsyth Street\, Wagga Wagga\, NSW\, 2650\, Australia
CATEGORIES:Strength Circuit
END:VEVENT
BEGIN:VEVENT
DTSTART;TZID=Australia/Sydney:20261023T083000
DTEND;TZID=Australia/Sydney:20261023T091500
DTSTAMP:20260420T100108
CREATED:20241112T224821Z
LAST-MODIFIED:20250403T043412Z
UID:10115748-1792744200-1792746900@synergyhealthworks.com
SUMMARY:Women's Strength Class for over 45s
DESCRIPTION:
URL:https://synergyhealthworks.com/event/bike-box-2/2026-10-23/
LOCATION:Wagga Wagga | Fitness Hub\, 1/21-25 Forsyth Street\, Wagga Wagga\, NSW\, 2650\, Australia
CATEGORIES:Women's Strength Class for over 45s
END:VEVENT
BEGIN:VEVENT
DTSTART;TZID=Australia/Sydney:20261026T083000
DTEND;TZID=Australia/Sydney:20261026T091500
DTSTAMP:20260420T100108
CREATED:20241112T035630Z
LAST-MODIFIED:20250129T032622Z
UID:10082259-1793003400-1793006100@synergyhealthworks.com
SUMMARY:Strength Circuit
DESCRIPTION:
URL:https://synergyhealthworks.com/event/strength-circuit/2026-10-26/
LOCATION:Wagga Wagga | Fitness Hub\, 1/21-25 Forsyth Street\, Wagga Wagga\, NSW\, 2650\, Australia
CATEGORIES:Strength Circuit
END:VEVENT
BEGIN:VEVENT
DTSTART;TZID=Australia/Sydney:20261026T120000
DTEND;TZID=Australia/Sydney:20261026T124500
DTSTAMP:20260420T100108
CREATED:20250829T044037Z
LAST-MODIFIED:20250829T044037Z
UID:10122292-1793016000-1793018700@synergyhealthworks.com
SUMMARY:Strength and Conditioning Class
DESCRIPTION:
URL:https://synergyhealthworks.com/event/strength-and-conditioning-class-3/2026-10-26/
LOCATION:Wagga Wagga | Fitness Hub\, 1/21-25 Forsyth Street\, Wagga Wagga\, NSW\, 2650\, Australia
CATEGORIES:Strength and Conditioning
END:VEVENT
BEGIN:VEVENT
DTSTART;TZID=Australia/Sydney:20261026T130000
DTEND;TZID=Australia/Sydney:20261026T134500
DTSTAMP:20260420T100108
CREATED:20251112T001650Z
LAST-MODIFIED:20251112T001650Z
UID:10127424-1793019600-1793022300@synergyhealthworks.com
SUMMARY:Strength and Conditioning Class
DESCRIPTION:
URL:https://synergyhealthworks.com/event/strength-and-conditioning-class-5/2026-10-26/
LOCATION:Wagga Wagga | Fitness Hub\, 1/21-25 Forsyth Street\, Wagga Wagga\, NSW\, 2650\, Australia
CATEGORIES:Strength and Conditioning
END:VEVENT
BEGIN:VEVENT
DTSTART;TZID=Australia/Sydney:20261026T163000
DTEND;TZID=Australia/Sydney:20261026T171500
DTSTAMP:20260420T100108
CREATED:20250502T051402Z
LAST-MODIFIED:20250502T051402Z
UID:10116561-1793032200-1793034900@synergyhealthworks.com
SUMMARY:Women’s Pregnancy Strength Class
DESCRIPTION:
URL:https://synergyhealthworks.com/event/womens-pregnancy-strength-class/2026-10-26/
LOCATION:Wagga Wagga | Fitness Hub\, 1/21-25 Forsyth Street\, Wagga Wagga\, NSW\, 2650\, Australia
CATEGORIES:Women’s Pregnancy Strength Class
END:VEVENT
BEGIN:VEVENT
DTSTART;TZID=Australia/Sydney:20261026T173000
DTEND;TZID=Australia/Sydney:20261026T181500
DTSTAMP:20260420T100108
CREATED:20241112T041557Z
LAST-MODIFIED:20250129T032656Z
UID:10072182-1793035800-1793038500@synergyhealthworks.com
SUMMARY:Strength and Conditioning Class
DESCRIPTION:
URL:https://synergyhealthworks.com/event/strength-and-conditioning-class-4/2026-10-26/
LOCATION:Wagga Wagga | Fitness Hub\, 1/21-25 Forsyth Street\, Wagga Wagga\, NSW\, 2650\, Australia
CATEGORIES:Strength and Conditioning
END:VEVENT
BEGIN:VEVENT
DTSTART;TZID=Australia/Sydney:20261027T063000
DTEND;TZID=Australia/Sydney:20261027T071500
DTSTAMP:20260420T100108
CREATED:20241124T211846Z
LAST-MODIFIED:20250516T043543Z
UID:10085715-1793082600-1793085300@synergyhealthworks.com
SUMMARY:Women's Strength for over 45s
DESCRIPTION:
URL:https://synergyhealthworks.com/event/womens-fat-burn/2026-10-27/
LOCATION:Wagga Wagga | Fitness Hub\, 1/21-25 Forsyth Street\, Wagga Wagga\, NSW\, 2650\, Australia
CATEGORIES:Women's Strength Class for over 45s
END:VEVENT
BEGIN:VEVENT
DTSTART;TZID=Australia/Sydney:20261027T073000
DTEND;TZID=Australia/Sydney:20261027T081500
DTSTAMP:20260420T100108
CREATED:20241112T041932Z
LAST-MODIFIED:20250129T032814Z
UID:10072713-1793086200-1793088900@synergyhealthworks.com
SUMMARY:Women’s Strength Class for over 45s
DESCRIPTION:
URL:https://synergyhealthworks.com/event/womens-strength-class-for-over-45s-4/2026-10-27/
LOCATION:Wagga Wagga | Fitness Hub\, 1/21-25 Forsyth Street\, Wagga Wagga\, NSW\, 2650\, Australia
CATEGORIES:Women's Strength Class for over 45s
END:VEVENT
BEGIN:VEVENT
DTSTART;TZID=Australia/Sydney:20261027T103000
DTEND;TZID=Australia/Sydney:20261027T111500
DTSTAMP:20260420T100108
CREATED:20250502T051536Z
LAST-MODIFIED:20251203T032954Z
UID:10116822-1793097000-1793099700@synergyhealthworks.com
SUMMARY:Women’s Pelvic and Strength Class
DESCRIPTION:
URL:https://synergyhealthworks.com/event/womens-pelvic-and-strength-class/2026-10-27/
LOCATION:Wagga Wagga | Fitness Hub\, 1/21-25 Forsyth Street\, Wagga Wagga\, NSW\, 2650\, Australia
CATEGORIES:Women’s Pelvic and Strength Class
END:VEVENT
BEGIN:VEVENT
DTSTART;TZID=Australia/Sydney:20261027T120000
DTEND;TZID=Australia/Sydney:20261027T124500
DTSTAMP:20260420T100108
CREATED:20241112T044419Z
LAST-MODIFIED:20250129T032834Z
UID:10073508-1793102400-1793105100@synergyhealthworks.com
SUMMARY:Women's Strength Class for over 45s
DESCRIPTION:
URL:https://synergyhealthworks.com/event/womens-strength-class-for-over-45s-6/2026-10-27/
LOCATION:Wagga Wagga | Fitness Hub\, 1/21-25 Forsyth Street\, Wagga Wagga\, NSW\, 2650\, Australia
CATEGORIES:Women's Strength Class for over 45s
END:VEVENT
BEGIN:VEVENT
DTSTART;TZID=Australia/Sydney:20261027T163000
DTEND;TZID=Australia/Sydney:20261027T171500
DTSTAMP:20260420T100108
CREATED:20241112T044834Z
LAST-MODIFIED:20250129T032845Z
UID:10074303-1793118600-1793121300@synergyhealthworks.com
SUMMARY:Strength Circuit
DESCRIPTION:
URL:https://synergyhealthworks.com/event/strength-circuit-5/2026-10-27/
LOCATION:Wagga Wagga | Fitness Hub\, 1/21-25 Forsyth Street\, Wagga Wagga\, NSW\, 2650\, Australia
CATEGORIES:Strength Circuit
END:VEVENT
BEGIN:VEVENT
DTSTART;TZID=Australia/Sydney:20261028T063000
DTEND;TZID=Australia/Sydney:20261028T071500
DTSTAMP:20260420T100108
CREATED:20241112T045128Z
LAST-MODIFIED:20250129T032952Z
UID:10083855-1793169000-1793171700@synergyhealthworks.com
SUMMARY:Women's Strength Class for over 45s
DESCRIPTION:
URL:https://synergyhealthworks.com/event/womens-strength-class-for-over-45s-7/2026-10-28/
LOCATION:Wagga Wagga | Fitness Hub\, 1/21-25 Forsyth Street\, Wagga Wagga\, NSW\, 2650\, Australia
CATEGORIES:Women's Strength Class for over 45s
END:VEVENT
BEGIN:VEVENT
DTSTART;TZID=Australia/Sydney:20261028T073000
DTEND;TZID=Australia/Sydney:20261028T081500
DTSTAMP:20260420T100108
CREATED:20241112T045308Z
LAST-MODIFIED:20250129T032958Z
UID:10075098-1793172600-1793175300@synergyhealthworks.com
SUMMARY:Functional Fitness
DESCRIPTION:
URL:https://synergyhealthworks.com/event/cardio-combo-circuit-3/2026-10-28/
LOCATION:Wagga Wagga | Fitness Hub\, 1/21-25 Forsyth Street\, Wagga Wagga\, NSW\, 2650\, Australia
CATEGORIES:Functional Fitness
END:VEVENT
BEGIN:VEVENT
DTSTART;TZID=Australia/Sydney:20261028T120000
DTEND;TZID=Australia/Sydney:20261028T124500
DTSTAMP:20260420T100108
CREATED:20241112T220255Z
LAST-MODIFIED:20250129T033004Z
UID:10076158-1793188800-1793191500@synergyhealthworks.com
SUMMARY:Women's Strength Class for over 45s
DESCRIPTION:
URL:https://synergyhealthworks.com/event/womens-strength-class-for-over-45s-9/2026-10-28/
LOCATION:Wagga Wagga | Fitness Hub\, 1/21-25 Forsyth Street\, Wagga Wagga\, NSW\, 2650\, Australia
CATEGORIES:Women's Strength Class for over 45s
END:VEVENT
BEGIN:VEVENT
DTSTART;TZID=Australia/Sydney:20261028T173000
DTEND;TZID=Australia/Sydney:20261028T181500
DTSTAMP:20260420T100108
CREATED:20241112T220941Z
LAST-MODIFIED:20250129T033025Z
UID:10077218-1793208600-1793211300@synergyhealthworks.com
SUMMARY:Strength and Conditioning Class
DESCRIPTION:
URL:https://synergyhealthworks.com/event/functional-conditioning/2026-10-28/
LOCATION:Wagga Wagga | Fitness Hub\, 1/21-25 Forsyth Street\, Wagga Wagga\, NSW\, 2650\, Australia
CATEGORIES:Strength and Conditioning
END:VEVENT
BEGIN:VEVENT
DTSTART;TZID=Australia/Sydney:20261029T063000
DTEND;TZID=Australia/Sydney:20261029T071500
DTSTAMP:20260420T100108
CREATED:20251128T024235Z
LAST-MODIFIED:20251128T024235Z
UID:10131327-1793255400-1793258100@synergyhealthworks.com
SUMMARY:Women's Strength Class for over 45s
DESCRIPTION:
URL:https://synergyhealthworks.com/event/womens-strength-class-for-over-45s-5/2026-10-29/
LOCATION:Wagga Wagga | Fitness Hub\, 1/21-25 Forsyth Street\, Wagga Wagga\, NSW\, 2650\, Australia
CATEGORIES:Women's Strength Class for over 45s
END:VEVENT
BEGIN:VEVENT
DTSTART;TZID=Australia/Sydney:20261029T073000
DTEND;TZID=Australia/Sydney:20261029T081500
DTSTAMP:20260420T100108
CREATED:20241112T221101Z
LAST-MODIFIED:20250129T033150Z
UID:10077483-1793259000-1793261700@synergyhealthworks.com
SUMMARY:Women's Strength Class for over 45s
DESCRIPTION:
URL:https://synergyhealthworks.com/event/womens-strength-class-for-over-45s-11/2026-10-29/
LOCATION:Wagga Wagga | Fitness Hub\, 1/21-25 Forsyth Street\, Wagga Wagga\, NSW\, 2650\, Australia
CATEGORIES:Women's Strength Class for over 45s
END:VEVENT
BEGIN:VEVENT
DTSTART;TZID=Australia/Sydney:20261029T090000
DTEND;TZID=Australia/Sydney:20261029T094500
DTSTAMP:20260420T100108
CREATED:20241112T221649Z
LAST-MODIFIED:20250722T032123Z
UID:10120764-1793264400-1793267100@synergyhealthworks.com
SUMMARY:Golfer's Strengthen & Stretch
DESCRIPTION:
URL:https://synergyhealthworks.com/event/golfers-strengthen-stretch-2/2026-10-29/
LOCATION:Wagga Wagga | Fitness Hub\, 1/21-25 Forsyth Street\, Wagga Wagga\, NSW\, 2650\, Australia
CATEGORIES:Golfer's Strengthen & Stretch
END:VEVENT
BEGIN:VEVENT
DTSTART;TZID=Australia/Sydney:20261029T100000
DTEND;TZID=Australia/Sydney:20261029T104500
DTSTAMP:20260420T100108
CREATED:20241112T221214Z
LAST-MODIFIED:20250722T032235Z
UID:10121065-1793268000-1793270700@synergyhealthworks.com
SUMMARY:Strength Circuit
DESCRIPTION:
URL:https://synergyhealthworks.com/event/mens-strength-class-3/2026-10-29/
LOCATION:Wagga Wagga | Fitness Hub\, 1/21-25 Forsyth Street\, Wagga Wagga\, NSW\, 2650\, Australia
CATEGORIES:Strength Circuit
END:VEVENT
BEGIN:VEVENT
DTSTART;TZID=Australia/Sydney:20261029T120000
DTEND;TZID=Australia/Sydney:20261029T124500
DTSTAMP:20260420T100108
CREATED:20241124T212036Z
LAST-MODIFIED:20250516T043505Z
UID:10085976-1793275200-1793277900@synergyhealthworks.com
SUMMARY:Women's Strength for over 45s
DESCRIPTION:
URL:https://synergyhealthworks.com/event/womens-fat-burn-2/2026-10-29/
LOCATION:Wagga Wagga | Fitness Hub\, 1/21-25 Forsyth Street\, Wagga Wagga\, NSW\, 2650\, Australia
CATEGORIES:Women's Strength Class for over 45s
END:VEVENT
BEGIN:VEVENT
DTSTART;TZID=Australia/Sydney:20261030T071500
DTEND;TZID=Australia/Sydney:20261030T080000
DTSTAMP:20260420T100108
CREATED:20250618T000503Z
LAST-MODIFIED:20250618T000657Z
UID:10118859-1793344500-1793347200@synergyhealthworks.com
SUMMARY:Bike & Box
DESCRIPTION:
URL:https://synergyhealthworks.com/event/bike-and-box/2026-10-30/
LOCATION:Wagga Wagga | Fitness Hub\, 1/21-25 Forsyth Street\, Wagga Wagga\, NSW\, 2650\, Australia
CATEGORIES:Bike & Box,Women's Strength Class for over 45s
END:VEVENT
BEGIN:VEVENT
DTSTART;TZID=Australia/Sydney:20261030T073000
DTEND;TZID=Australia/Sydney:20261030T081500
DTSTAMP:20260420T100108
CREATED:20241202T231716Z
LAST-MODIFIED:20250403T044134Z
UID:10116027-1793345400-1793348100@synergyhealthworks.com
SUMMARY:Strength Circuit
DESCRIPTION:
URL:https://synergyhealthworks.com/event/strength-circuit-2/2026-10-30/
LOCATION:Wagga Wagga | Fitness Hub\, 1/21-25 Forsyth Street\, Wagga Wagga\, NSW\, 2650\, Australia
CATEGORIES:Strength Circuit
END:VEVENT
BEGIN:VEVENT
DTSTART;TZID=Australia/Sydney:20261030T083000
DTEND;TZID=Australia/Sydney:20261030T091500
DTSTAMP:20260420T100108
CREATED:20241112T224821Z
LAST-MODIFIED:20250403T043412Z
UID:10115749-1793349000-1793351700@synergyhealthworks.com
SUMMARY:Women's Strength Class for over 45s
DESCRIPTION:
URL:https://synergyhealthworks.com/event/bike-box-2/2026-10-30/
LOCATION:Wagga Wagga | Fitness Hub\, 1/21-25 Forsyth Street\, Wagga Wagga\, NSW\, 2650\, Australia
CATEGORIES:Women's Strength Class for over 45s
END:VEVENT
BEGIN:VEVENT
DTSTART;TZID=Australia/Sydney:20261102T083000
DTEND;TZID=Australia/Sydney:20261102T091500
DTSTAMP:20260420T100108
CREATED:20241112T035630Z
LAST-MODIFIED:20250129T032622Z
UID:10082260-1793608200-1793610900@synergyhealthworks.com
SUMMARY:Strength Circuit
DESCRIPTION:
URL:https://synergyhealthworks.com/event/strength-circuit/2026-11-02/
LOCATION:Wagga Wagga | Fitness Hub\, 1/21-25 Forsyth Street\, Wagga Wagga\, NSW\, 2650\, Australia
CATEGORIES:Strength Circuit
END:VEVENT
BEGIN:VEVENT
DTSTART;TZID=Australia/Sydney:20261102T120000
DTEND;TZID=Australia/Sydney:20261102T124500
DTSTAMP:20260420T100108
CREATED:20250829T044037Z
LAST-MODIFIED:20250829T044037Z
UID:10122293-1793620800-1793623500@synergyhealthworks.com
SUMMARY:Strength and Conditioning Class
DESCRIPTION:
URL:https://synergyhealthworks.com/event/strength-and-conditioning-class-3/2026-11-02/
LOCATION:Wagga Wagga | Fitness Hub\, 1/21-25 Forsyth Street\, Wagga Wagga\, NSW\, 2650\, Australia
CATEGORIES:Strength and Conditioning
END:VEVENT
BEGIN:VEVENT
DTSTART;TZID=Australia/Sydney:20261102T130000
DTEND;TZID=Australia/Sydney:20261102T134500
DTSTAMP:20260420T100108
CREATED:20251112T001650Z
LAST-MODIFIED:20251112T001650Z
UID:10127425-1793624400-1793627100@synergyhealthworks.com
SUMMARY:Strength and Conditioning Class
DESCRIPTION:
URL:https://synergyhealthworks.com/event/strength-and-conditioning-class-5/2026-11-02/
LOCATION:Wagga Wagga | Fitness Hub\, 1/21-25 Forsyth Street\, Wagga Wagga\, NSW\, 2650\, Australia
CATEGORIES:Strength and Conditioning
END:VEVENT
END:VCALENDAR