BEGIN:VCALENDAR
VERSION:2.0
PRODID:-//Synergy Healthworks - ECPv6.15.20//NONSGML v1.0//EN
CALSCALE:GREGORIAN
METHOD:PUBLISH
X-ORIGINAL-URL:https://synergyhealthworks.com
X-WR-CALDESC:Events for Synergy Healthworks
REFRESH-INTERVAL;VALUE=DURATION:PT1H
X-Robots-Tag:noindex
X-PUBLISHED-TTL:PT1H
BEGIN:VTIMEZONE
TZID:Australia/Sydney
BEGIN:STANDARD
TZOFFSETFROM:+1100
TZOFFSETTO:+1000
TZNAME:AEST
DTSTART:20240406T160000
END:STANDARD
BEGIN:DAYLIGHT
TZOFFSETFROM:+1000
TZOFFSETTO:+1100
TZNAME:AEDT
DTSTART:20241005T160000
END:DAYLIGHT
BEGIN:STANDARD
TZOFFSETFROM:+1100
TZOFFSETTO:+1000
TZNAME:AEST
DTSTART:20250405T160000
END:STANDARD
BEGIN:DAYLIGHT
TZOFFSETFROM:+1000
TZOFFSETTO:+1100
TZNAME:AEDT
DTSTART:20251004T160000
END:DAYLIGHT
BEGIN:STANDARD
TZOFFSETFROM:+1100
TZOFFSETTO:+1000
TZNAME:AEST
DTSTART:20260404T160000
END:STANDARD
BEGIN:DAYLIGHT
TZOFFSETFROM:+1000
TZOFFSETTO:+1100
TZNAME:AEDT
DTSTART:20261003T160000
END:DAYLIGHT
END:VTIMEZONE
BEGIN:VEVENT
DTSTART;TZID=Australia/Sydney:20251017T073000
DTEND;TZID=Australia/Sydney:20251017T081500
DTSTAMP:20260420T140157
CREATED:20241202T231716Z
LAST-MODIFIED:20250403T044134Z
UID:10115973-1760686200-1760688900@synergyhealthworks.com
SUMMARY:Strength Circuit
DESCRIPTION:
URL:https://synergyhealthworks.com/event/strength-circuit-2/2025-10-17/
LOCATION:Wagga Wagga | Fitness Hub\, 1/21-25 Forsyth Street\, Wagga Wagga\, NSW\, 2650\, Australia
CATEGORIES:Strength Circuit
END:VEVENT
BEGIN:VEVENT
DTSTART;TZID=Australia/Sydney:20251017T071500
DTEND;TZID=Australia/Sydney:20251017T080000
DTSTAMP:20260420T140157
CREATED:20250618T000503Z
LAST-MODIFIED:20250618T000657Z
UID:10118805-1760685300-1760688000@synergyhealthworks.com
SUMMARY:Bike & Box
DESCRIPTION:
URL:https://synergyhealthworks.com/event/bike-and-box/2025-10-17/
LOCATION:Wagga Wagga | Fitness Hub\, 1/21-25 Forsyth Street\, Wagga Wagga\, NSW\, 2650\, Australia
CATEGORIES:Bike & Box,Women's Strength Class for over 45s
END:VEVENT
BEGIN:VEVENT
DTSTART;TZID=Australia/Sydney:20251016T120000
DTEND;TZID=Australia/Sydney:20251016T124500
DTSTAMP:20260420T140157
CREATED:20241124T212036Z
LAST-MODIFIED:20250516T043505Z
UID:10085922-1760616000-1760618700@synergyhealthworks.com
SUMMARY:Women's Strength for over 45s
DESCRIPTION:
URL:https://synergyhealthworks.com/event/womens-fat-burn-2/2025-10-16/
LOCATION:Wagga Wagga | Fitness Hub\, 1/21-25 Forsyth Street\, Wagga Wagga\, NSW\, 2650\, Australia
CATEGORIES:Women's Strength Class for over 45s
END:VEVENT
BEGIN:VEVENT
DTSTART;TZID=Australia/Sydney:20251016T100000
DTEND;TZID=Australia/Sydney:20251016T104500
DTSTAMP:20260420T140157
CREATED:20241112T221214Z
LAST-MODIFIED:20250722T032235Z
UID:10121011-1760608800-1760611500@synergyhealthworks.com
SUMMARY:Strength Circuit
DESCRIPTION:
URL:https://synergyhealthworks.com/event/mens-strength-class-3/2025-10-16/
LOCATION:Wagga Wagga | Fitness Hub\, 1/21-25 Forsyth Street\, Wagga Wagga\, NSW\, 2650\, Australia
CATEGORIES:Strength Circuit
END:VEVENT
BEGIN:VEVENT
DTSTART;TZID=Australia/Sydney:20251016T090000
DTEND;TZID=Australia/Sydney:20251016T094500
DTSTAMP:20260420T140157
CREATED:20241112T221649Z
LAST-MODIFIED:20250722T032123Z
UID:10120710-1760605200-1760607900@synergyhealthworks.com
SUMMARY:Golfer's Strengthen & Stretch
DESCRIPTION:
URL:https://synergyhealthworks.com/event/golfers-strengthen-stretch-2/2025-10-16/
LOCATION:Wagga Wagga | Fitness Hub\, 1/21-25 Forsyth Street\, Wagga Wagga\, NSW\, 2650\, Australia
CATEGORIES:Golfer's Strengthen & Stretch
END:VEVENT
BEGIN:VEVENT
DTSTART;TZID=Australia/Sydney:20251016T073000
DTEND;TZID=Australia/Sydney:20251016T081500
DTSTAMP:20260420T140157
CREATED:20241112T221101Z
LAST-MODIFIED:20250129T033150Z
UID:10077429-1760599800-1760602500@synergyhealthworks.com
SUMMARY:Women's Strength Class for over 45s
DESCRIPTION:
URL:https://synergyhealthworks.com/event/womens-strength-class-for-over-45s-11/2025-10-16/
LOCATION:Wagga Wagga | Fitness Hub\, 1/21-25 Forsyth Street\, Wagga Wagga\, NSW\, 2650\, Australia
CATEGORIES:Women's Strength Class for over 45s
END:VEVENT
BEGIN:VEVENT
DTSTART;TZID=Australia/Sydney:20251016T063000
DTEND;TZID=Australia/Sydney:20251016T071500
DTSTAMP:20260420T140157
CREATED:20251128T024235Z
LAST-MODIFIED:20251128T024235Z
UID:10131273-1760596200-1760598900@synergyhealthworks.com
SUMMARY:Women's Strength Class for over 45s
DESCRIPTION:
URL:https://synergyhealthworks.com/event/womens-strength-class-for-over-45s-5/2025-10-16/
LOCATION:Wagga Wagga | Fitness Hub\, 1/21-25 Forsyth Street\, Wagga Wagga\, NSW\, 2650\, Australia
CATEGORIES:Women's Strength Class for over 45s
END:VEVENT
BEGIN:VEVENT
DTSTART;TZID=Australia/Sydney:20251015T173000
DTEND;TZID=Australia/Sydney:20251015T181500
DTSTAMP:20260420T140157
CREATED:20241112T220941Z
LAST-MODIFIED:20250129T033025Z
UID:10077164-1760549400-1760552100@synergyhealthworks.com
SUMMARY:Strength and Conditioning Class
DESCRIPTION:
URL:https://synergyhealthworks.com/event/functional-conditioning/2025-10-15/
LOCATION:Wagga Wagga | Fitness Hub\, 1/21-25 Forsyth Street\, Wagga Wagga\, NSW\, 2650\, Australia
CATEGORIES:Strength and Conditioning
END:VEVENT
BEGIN:VEVENT
DTSTART;TZID=Australia/Sydney:20251015T120000
DTEND;TZID=Australia/Sydney:20251015T124500
DTSTAMP:20260420T140157
CREATED:20241112T220255Z
LAST-MODIFIED:20250129T033004Z
UID:10076104-1760529600-1760532300@synergyhealthworks.com
SUMMARY:Women's Strength Class for over 45s
DESCRIPTION:
URL:https://synergyhealthworks.com/event/womens-strength-class-for-over-45s-9/2025-10-15/
LOCATION:Wagga Wagga | Fitness Hub\, 1/21-25 Forsyth Street\, Wagga Wagga\, NSW\, 2650\, Australia
CATEGORIES:Women's Strength Class for over 45s
END:VEVENT
BEGIN:VEVENT
DTSTART;TZID=Australia/Sydney:20251015T073000
DTEND;TZID=Australia/Sydney:20251015T081500
DTSTAMP:20260420T140157
CREATED:20241112T045308Z
LAST-MODIFIED:20250129T032958Z
UID:10075044-1760513400-1760516100@synergyhealthworks.com
SUMMARY:Functional Fitness
DESCRIPTION:
URL:https://synergyhealthworks.com/event/cardio-combo-circuit-3/2025-10-15/
LOCATION:Wagga Wagga | Fitness Hub\, 1/21-25 Forsyth Street\, Wagga Wagga\, NSW\, 2650\, Australia
CATEGORIES:Functional Fitness
END:VEVENT
BEGIN:VEVENT
DTSTART;TZID=Australia/Sydney:20251015T063000
DTEND;TZID=Australia/Sydney:20251015T071500
DTSTAMP:20260420T140157
CREATED:20241112T045128Z
LAST-MODIFIED:20250129T032952Z
UID:10083801-1760509800-1760512500@synergyhealthworks.com
SUMMARY:Women's Strength Class for over 45s
DESCRIPTION:
URL:https://synergyhealthworks.com/event/womens-strength-class-for-over-45s-7/2025-10-15/
LOCATION:Wagga Wagga | Fitness Hub\, 1/21-25 Forsyth Street\, Wagga Wagga\, NSW\, 2650\, Australia
CATEGORIES:Women's Strength Class for over 45s
END:VEVENT
BEGIN:VEVENT
DTSTART;TZID=Australia/Sydney:20251014T163000
DTEND;TZID=Australia/Sydney:20251014T171500
DTSTAMP:20260420T140157
CREATED:20241112T044834Z
LAST-MODIFIED:20250129T032845Z
UID:10074249-1760459400-1760462100@synergyhealthworks.com
SUMMARY:Strength Circuit
DESCRIPTION:
URL:https://synergyhealthworks.com/event/strength-circuit-5/2025-10-14/
LOCATION:Wagga Wagga | Fitness Hub\, 1/21-25 Forsyth Street\, Wagga Wagga\, NSW\, 2650\, Australia
CATEGORIES:Strength Circuit
END:VEVENT
BEGIN:VEVENT
DTSTART;TZID=Australia/Sydney:20251014T120000
DTEND;TZID=Australia/Sydney:20251014T124500
DTSTAMP:20260420T140157
CREATED:20241112T044419Z
LAST-MODIFIED:20250129T032834Z
UID:10073454-1760443200-1760445900@synergyhealthworks.com
SUMMARY:Women's Strength Class for over 45s
DESCRIPTION:
URL:https://synergyhealthworks.com/event/womens-strength-class-for-over-45s-6/2025-10-14/
LOCATION:Wagga Wagga | Fitness Hub\, 1/21-25 Forsyth Street\, Wagga Wagga\, NSW\, 2650\, Australia
CATEGORIES:Women's Strength Class for over 45s
END:VEVENT
BEGIN:VEVENT
DTSTART;TZID=Australia/Sydney:20251014T103000
DTEND;TZID=Australia/Sydney:20251014T111500
DTSTAMP:20260420T140157
CREATED:20250502T051536Z
LAST-MODIFIED:20251203T032954Z
UID:10116768-1760437800-1760440500@synergyhealthworks.com
SUMMARY:Women’s Pelvic and Strength Class
DESCRIPTION:
URL:https://synergyhealthworks.com/event/womens-pelvic-and-strength-class/2025-10-14/
LOCATION:Wagga Wagga | Fitness Hub\, 1/21-25 Forsyth Street\, Wagga Wagga\, NSW\, 2650\, Australia
CATEGORIES:Women’s Pelvic and Strength Class
END:VEVENT
BEGIN:VEVENT
DTSTART;TZID=Australia/Sydney:20251014T073000
DTEND;TZID=Australia/Sydney:20251014T081500
DTSTAMP:20260420T140157
CREATED:20241112T041932Z
LAST-MODIFIED:20250129T032814Z
UID:10072659-1760427000-1760429700@synergyhealthworks.com
SUMMARY:Women’s Strength Class for over 45s
DESCRIPTION:
URL:https://synergyhealthworks.com/event/womens-strength-class-for-over-45s-4/2025-10-14/
LOCATION:Wagga Wagga | Fitness Hub\, 1/21-25 Forsyth Street\, Wagga Wagga\, NSW\, 2650\, Australia
CATEGORIES:Women's Strength Class for over 45s
END:VEVENT
BEGIN:VEVENT
DTSTART;TZID=Australia/Sydney:20251014T063000
DTEND;TZID=Australia/Sydney:20251014T071500
DTSTAMP:20260420T140157
CREATED:20241124T211846Z
LAST-MODIFIED:20250516T043543Z
UID:10085661-1760423400-1760426100@synergyhealthworks.com
SUMMARY:Women's Strength for over 45s
DESCRIPTION:
URL:https://synergyhealthworks.com/event/womens-fat-burn/2025-10-14/
LOCATION:Wagga Wagga | Fitness Hub\, 1/21-25 Forsyth Street\, Wagga Wagga\, NSW\, 2650\, Australia
CATEGORIES:Women's Strength Class for over 45s
END:VEVENT
BEGIN:VEVENT
DTSTART;TZID=Australia/Sydney:20251013T173000
DTEND;TZID=Australia/Sydney:20251013T181500
DTSTAMP:20260420T140157
CREATED:20241112T041557Z
LAST-MODIFIED:20250129T032656Z
UID:10072128-1760376600-1760379300@synergyhealthworks.com
SUMMARY:Strength and Conditioning Class
DESCRIPTION:
URL:https://synergyhealthworks.com/event/strength-and-conditioning-class-4/2025-10-13/
LOCATION:Wagga Wagga | Fitness Hub\, 1/21-25 Forsyth Street\, Wagga Wagga\, NSW\, 2650\, Australia
CATEGORIES:Strength and Conditioning
END:VEVENT
BEGIN:VEVENT
DTSTART;TZID=Australia/Sydney:20251013T163000
DTEND;TZID=Australia/Sydney:20251013T171500
DTSTAMP:20260420T140157
CREATED:20250502T051402Z
LAST-MODIFIED:20250502T051402Z
UID:10116507-1760373000-1760375700@synergyhealthworks.com
SUMMARY:Women’s Pregnancy Strength Class
DESCRIPTION:
URL:https://synergyhealthworks.com/event/womens-pregnancy-strength-class/2025-10-13/
LOCATION:Wagga Wagga | Fitness Hub\, 1/21-25 Forsyth Street\, Wagga Wagga\, NSW\, 2650\, Australia
CATEGORIES:Women’s Pregnancy Strength Class
END:VEVENT
BEGIN:VEVENT
DTSTART;TZID=Australia/Sydney:20251013T130000
DTEND;TZID=Australia/Sydney:20251013T134500
DTSTAMP:20260420T140157
CREATED:20251112T001650Z
LAST-MODIFIED:20251112T001650Z
UID:10127370-1760360400-1760363100@synergyhealthworks.com
SUMMARY:Strength and Conditioning Class
DESCRIPTION:
URL:https://synergyhealthworks.com/event/strength-and-conditioning-class-5/2025-10-13/
LOCATION:Wagga Wagga | Fitness Hub\, 1/21-25 Forsyth Street\, Wagga Wagga\, NSW\, 2650\, Australia
CATEGORIES:Strength and Conditioning
END:VEVENT
BEGIN:VEVENT
DTSTART;TZID=Australia/Sydney:20251013T120000
DTEND;TZID=Australia/Sydney:20251013T124500
DTSTAMP:20260420T140157
CREATED:20250829T044037Z
LAST-MODIFIED:20250829T044037Z
UID:10122238-1760356800-1760359500@synergyhealthworks.com
SUMMARY:Strength and Conditioning Class
DESCRIPTION:
URL:https://synergyhealthworks.com/event/strength-and-conditioning-class-3/2025-10-13/
LOCATION:Wagga Wagga | Fitness Hub\, 1/21-25 Forsyth Street\, Wagga Wagga\, NSW\, 2650\, Australia
CATEGORIES:Strength and Conditioning
END:VEVENT
BEGIN:VEVENT
DTSTART;TZID=Australia/Sydney:20251013T083000
DTEND;TZID=Australia/Sydney:20251013T091500
DTSTAMP:20260420T140157
CREATED:20241112T035630Z
LAST-MODIFIED:20250129T032622Z
UID:10082205-1760344200-1760346900@synergyhealthworks.com
SUMMARY:Strength Circuit
DESCRIPTION:
URL:https://synergyhealthworks.com/event/strength-circuit/2025-10-13/
LOCATION:Wagga Wagga | Fitness Hub\, 1/21-25 Forsyth Street\, Wagga Wagga\, NSW\, 2650\, Australia
CATEGORIES:Strength Circuit
END:VEVENT
BEGIN:VEVENT
DTSTART;TZID=Australia/Sydney:20251010T083000
DTEND;TZID=Australia/Sydney:20251010T091500
DTSTAMP:20260420T140157
CREATED:20241112T224821Z
LAST-MODIFIED:20250403T043412Z
UID:10115694-1760085000-1760087700@synergyhealthworks.com
SUMMARY:Women's Strength Class for over 45s
DESCRIPTION:
URL:https://synergyhealthworks.com/event/bike-box-2/2025-10-10/
LOCATION:Wagga Wagga | Fitness Hub\, 1/21-25 Forsyth Street\, Wagga Wagga\, NSW\, 2650\, Australia
CATEGORIES:Women's Strength Class for over 45s
END:VEVENT
BEGIN:VEVENT
DTSTART;TZID=Australia/Sydney:20251010T073000
DTEND;TZID=Australia/Sydney:20251010T081500
DTSTAMP:20260420T140157
CREATED:20241202T231716Z
LAST-MODIFIED:20250403T044134Z
UID:10115972-1760081400-1760084100@synergyhealthworks.com
SUMMARY:Strength Circuit
DESCRIPTION:
URL:https://synergyhealthworks.com/event/strength-circuit-2/2025-10-10/
LOCATION:Wagga Wagga | Fitness Hub\, 1/21-25 Forsyth Street\, Wagga Wagga\, NSW\, 2650\, Australia
CATEGORIES:Strength Circuit
END:VEVENT
BEGIN:VEVENT
DTSTART;TZID=Australia/Sydney:20251010T071500
DTEND;TZID=Australia/Sydney:20251010T080000
DTSTAMP:20260420T140157
CREATED:20250618T000503Z
LAST-MODIFIED:20250618T000657Z
UID:10118804-1760080500-1760083200@synergyhealthworks.com
SUMMARY:Bike & Box
DESCRIPTION:
URL:https://synergyhealthworks.com/event/bike-and-box/2025-10-10/
LOCATION:Wagga Wagga | Fitness Hub\, 1/21-25 Forsyth Street\, Wagga Wagga\, NSW\, 2650\, Australia
CATEGORIES:Bike & Box,Women's Strength Class for over 45s
END:VEVENT
BEGIN:VEVENT
DTSTART;TZID=Australia/Sydney:20251009T120000
DTEND;TZID=Australia/Sydney:20251009T124500
DTSTAMP:20260420T140157
CREATED:20241124T212036Z
LAST-MODIFIED:20250516T043505Z
UID:10085921-1760011200-1760013900@synergyhealthworks.com
SUMMARY:Women's Strength for over 45s
DESCRIPTION:
URL:https://synergyhealthworks.com/event/womens-fat-burn-2/2025-10-09/
LOCATION:Wagga Wagga | Fitness Hub\, 1/21-25 Forsyth Street\, Wagga Wagga\, NSW\, 2650\, Australia
CATEGORIES:Women's Strength Class for over 45s
END:VEVENT
BEGIN:VEVENT
DTSTART;TZID=Australia/Sydney:20251009T100000
DTEND;TZID=Australia/Sydney:20251009T104500
DTSTAMP:20260420T140157
CREATED:20241112T221214Z
LAST-MODIFIED:20250722T032235Z
UID:10121010-1760004000-1760006700@synergyhealthworks.com
SUMMARY:Strength Circuit
DESCRIPTION:
URL:https://synergyhealthworks.com/event/mens-strength-class-3/2025-10-09/
LOCATION:Wagga Wagga | Fitness Hub\, 1/21-25 Forsyth Street\, Wagga Wagga\, NSW\, 2650\, Australia
CATEGORIES:Strength Circuit
END:VEVENT
BEGIN:VEVENT
DTSTART;TZID=Australia/Sydney:20251009T090000
DTEND;TZID=Australia/Sydney:20251009T094500
DTSTAMP:20260420T140157
CREATED:20241112T221649Z
LAST-MODIFIED:20250722T032123Z
UID:10120709-1760000400-1760003100@synergyhealthworks.com
SUMMARY:Golfer's Strengthen & Stretch
DESCRIPTION:
URL:https://synergyhealthworks.com/event/golfers-strengthen-stretch-2/2025-10-09/
LOCATION:Wagga Wagga | Fitness Hub\, 1/21-25 Forsyth Street\, Wagga Wagga\, NSW\, 2650\, Australia
CATEGORIES:Golfer's Strengthen & Stretch
END:VEVENT
BEGIN:VEVENT
DTSTART;TZID=Australia/Sydney:20251009T073000
DTEND;TZID=Australia/Sydney:20251009T081500
DTSTAMP:20260420T140157
CREATED:20241112T221101Z
LAST-MODIFIED:20250129T033150Z
UID:10077428-1759995000-1759997700@synergyhealthworks.com
SUMMARY:Women's Strength Class for over 45s
DESCRIPTION:
URL:https://synergyhealthworks.com/event/womens-strength-class-for-over-45s-11/2025-10-09/
LOCATION:Wagga Wagga | Fitness Hub\, 1/21-25 Forsyth Street\, Wagga Wagga\, NSW\, 2650\, Australia
CATEGORIES:Women's Strength Class for over 45s
END:VEVENT
BEGIN:VEVENT
DTSTART;TZID=Australia/Sydney:20251009T063000
DTEND;TZID=Australia/Sydney:20251009T071500
DTSTAMP:20260420T140157
CREATED:20251128T024235Z
LAST-MODIFIED:20251128T024235Z
UID:10131272-1759991400-1759994100@synergyhealthworks.com
SUMMARY:Women's Strength Class for over 45s
DESCRIPTION:
URL:https://synergyhealthworks.com/event/womens-strength-class-for-over-45s-5/2025-10-09/
LOCATION:Wagga Wagga | Fitness Hub\, 1/21-25 Forsyth Street\, Wagga Wagga\, NSW\, 2650\, Australia
CATEGORIES:Women's Strength Class for over 45s
END:VEVENT
BEGIN:VEVENT
DTSTART;TZID=Australia/Sydney:20251008T173000
DTEND;TZID=Australia/Sydney:20251008T181500
DTSTAMP:20260420T140157
CREATED:20241112T220941Z
LAST-MODIFIED:20250129T033025Z
UID:10077163-1759944600-1759947300@synergyhealthworks.com
SUMMARY:Strength and Conditioning Class
DESCRIPTION:
URL:https://synergyhealthworks.com/event/functional-conditioning/2025-10-08/
LOCATION:Wagga Wagga | Fitness Hub\, 1/21-25 Forsyth Street\, Wagga Wagga\, NSW\, 2650\, Australia
CATEGORIES:Strength and Conditioning
END:VEVENT
END:VCALENDAR