BEGIN:VCALENDAR
VERSION:2.0
PRODID:-//Synergy Healthworks - ECPv6.15.20//NONSGML v1.0//EN
CALSCALE:GREGORIAN
METHOD:PUBLISH
X-ORIGINAL-URL:https://synergyhealthworks.com
X-WR-CALDESC:Events for Synergy Healthworks
REFRESH-INTERVAL;VALUE=DURATION:PT1H
X-Robots-Tag:noindex
X-PUBLISHED-TTL:PT1H
BEGIN:VTIMEZONE
TZID:Australia/Sydney
BEGIN:STANDARD
TZOFFSETFROM:+1100
TZOFFSETTO:+1000
TZNAME:AEST
DTSTART:20250405T160000
END:STANDARD
BEGIN:DAYLIGHT
TZOFFSETFROM:+1000
TZOFFSETTO:+1100
TZNAME:AEDT
DTSTART:20251004T160000
END:DAYLIGHT
BEGIN:STANDARD
TZOFFSETFROM:+1100
TZOFFSETTO:+1000
TZNAME:AEST
DTSTART:20260404T160000
END:STANDARD
BEGIN:DAYLIGHT
TZOFFSETFROM:+1000
TZOFFSETTO:+1100
TZNAME:AEDT
DTSTART:20261003T160000
END:DAYLIGHT
BEGIN:STANDARD
TZOFFSETFROM:+1100
TZOFFSETTO:+1000
TZNAME:AEST
DTSTART:20270403T160000
END:STANDARD
BEGIN:DAYLIGHT
TZOFFSETFROM:+1000
TZOFFSETTO:+1100
TZNAME:AEDT
DTSTART:20271002T160000
END:DAYLIGHT
END:VTIMEZONE
BEGIN:VEVENT
DTSTART;TZID=Australia/Sydney:20261012T130000
DTEND;TZID=Australia/Sydney:20261012T134500
DTSTAMP:20260420T051206
CREATED:20251112T001650Z
LAST-MODIFIED:20251112T001650Z
UID:10127422-1791810000-1791812700@synergyhealthworks.com
SUMMARY:Strength and Conditioning Class
DESCRIPTION:
URL:https://synergyhealthworks.com/event/strength-and-conditioning-class-5/2026-10-12/
LOCATION:Wagga Wagga | Fitness Hub\, 1/21-25 Forsyth Street\, Wagga Wagga\, NSW\, 2650\, Australia
CATEGORIES:Strength and Conditioning
END:VEVENT
BEGIN:VEVENT
DTSTART;TZID=Australia/Sydney:20261012T163000
DTEND;TZID=Australia/Sydney:20261012T171500
DTSTAMP:20260420T051206
CREATED:20250502T051402Z
LAST-MODIFIED:20250502T051402Z
UID:10116559-1791822600-1791825300@synergyhealthworks.com
SUMMARY:Women’s Pregnancy Strength Class
DESCRIPTION:
URL:https://synergyhealthworks.com/event/womens-pregnancy-strength-class/2026-10-12/
LOCATION:Wagga Wagga | Fitness Hub\, 1/21-25 Forsyth Street\, Wagga Wagga\, NSW\, 2650\, Australia
CATEGORIES:Women’s Pregnancy Strength Class
END:VEVENT
BEGIN:VEVENT
DTSTART;TZID=Australia/Sydney:20261012T173000
DTEND;TZID=Australia/Sydney:20261012T181500
DTSTAMP:20260420T051206
CREATED:20241112T041557Z
LAST-MODIFIED:20250129T032656Z
UID:10072180-1791826200-1791828900@synergyhealthworks.com
SUMMARY:Strength and Conditioning Class
DESCRIPTION:
URL:https://synergyhealthworks.com/event/strength-and-conditioning-class-4/2026-10-12/
LOCATION:Wagga Wagga | Fitness Hub\, 1/21-25 Forsyth Street\, Wagga Wagga\, NSW\, 2650\, Australia
CATEGORIES:Strength and Conditioning
END:VEVENT
BEGIN:VEVENT
DTSTART;TZID=Australia/Sydney:20261013T063000
DTEND;TZID=Australia/Sydney:20261013T071500
DTSTAMP:20260420T051206
CREATED:20241124T211846Z
LAST-MODIFIED:20250516T043543Z
UID:10085713-1791873000-1791875700@synergyhealthworks.com
SUMMARY:Women's Strength for over 45s
DESCRIPTION:
URL:https://synergyhealthworks.com/event/womens-fat-burn/2026-10-13/
LOCATION:Wagga Wagga | Fitness Hub\, 1/21-25 Forsyth Street\, Wagga Wagga\, NSW\, 2650\, Australia
CATEGORIES:Women's Strength Class for over 45s
END:VEVENT
BEGIN:VEVENT
DTSTART;TZID=Australia/Sydney:20261013T073000
DTEND;TZID=Australia/Sydney:20261013T081500
DTSTAMP:20260420T051206
CREATED:20241112T041932Z
LAST-MODIFIED:20250129T032814Z
UID:10072711-1791876600-1791879300@synergyhealthworks.com
SUMMARY:Women’s Strength Class for over 45s
DESCRIPTION:
URL:https://synergyhealthworks.com/event/womens-strength-class-for-over-45s-4/2026-10-13/
LOCATION:Wagga Wagga | Fitness Hub\, 1/21-25 Forsyth Street\, Wagga Wagga\, NSW\, 2650\, Australia
CATEGORIES:Women's Strength Class for over 45s
END:VEVENT
BEGIN:VEVENT
DTSTART;TZID=Australia/Sydney:20261013T103000
DTEND;TZID=Australia/Sydney:20261013T111500
DTSTAMP:20260420T051206
CREATED:20250502T051536Z
LAST-MODIFIED:20251203T032954Z
UID:10116820-1791887400-1791890100@synergyhealthworks.com
SUMMARY:Women’s Pelvic and Strength Class
DESCRIPTION:
URL:https://synergyhealthworks.com/event/womens-pelvic-and-strength-class/2026-10-13/
LOCATION:Wagga Wagga | Fitness Hub\, 1/21-25 Forsyth Street\, Wagga Wagga\, NSW\, 2650\, Australia
CATEGORIES:Women’s Pelvic and Strength Class
END:VEVENT
BEGIN:VEVENT
DTSTART;TZID=Australia/Sydney:20261013T120000
DTEND;TZID=Australia/Sydney:20261013T124500
DTSTAMP:20260420T051206
CREATED:20241112T044419Z
LAST-MODIFIED:20250129T032834Z
UID:10073506-1791892800-1791895500@synergyhealthworks.com
SUMMARY:Women's Strength Class for over 45s
DESCRIPTION:
URL:https://synergyhealthworks.com/event/womens-strength-class-for-over-45s-6/2026-10-13/
LOCATION:Wagga Wagga | Fitness Hub\, 1/21-25 Forsyth Street\, Wagga Wagga\, NSW\, 2650\, Australia
CATEGORIES:Women's Strength Class for over 45s
END:VEVENT
BEGIN:VEVENT
DTSTART;TZID=Australia/Sydney:20261013T163000
DTEND;TZID=Australia/Sydney:20261013T171500
DTSTAMP:20260420T051206
CREATED:20241112T044834Z
LAST-MODIFIED:20250129T032845Z
UID:10074301-1791909000-1791911700@synergyhealthworks.com
SUMMARY:Strength Circuit
DESCRIPTION:
URL:https://synergyhealthworks.com/event/strength-circuit-5/2026-10-13/
LOCATION:Wagga Wagga | Fitness Hub\, 1/21-25 Forsyth Street\, Wagga Wagga\, NSW\, 2650\, Australia
CATEGORIES:Strength Circuit
END:VEVENT
BEGIN:VEVENT
DTSTART;TZID=Australia/Sydney:20261014T063000
DTEND;TZID=Australia/Sydney:20261014T071500
DTSTAMP:20260420T051206
CREATED:20241112T045128Z
LAST-MODIFIED:20250129T032952Z
UID:10083853-1791959400-1791962100@synergyhealthworks.com
SUMMARY:Women's Strength Class for over 45s
DESCRIPTION:
URL:https://synergyhealthworks.com/event/womens-strength-class-for-over-45s-7/2026-10-14/
LOCATION:Wagga Wagga | Fitness Hub\, 1/21-25 Forsyth Street\, Wagga Wagga\, NSW\, 2650\, Australia
CATEGORIES:Women's Strength Class for over 45s
END:VEVENT
BEGIN:VEVENT
DTSTART;TZID=Australia/Sydney:20261014T073000
DTEND;TZID=Australia/Sydney:20261014T081500
DTSTAMP:20260420T051206
CREATED:20241112T045308Z
LAST-MODIFIED:20250129T032958Z
UID:10075096-1791963000-1791965700@synergyhealthworks.com
SUMMARY:Functional Fitness
DESCRIPTION:
URL:https://synergyhealthworks.com/event/cardio-combo-circuit-3/2026-10-14/
LOCATION:Wagga Wagga | Fitness Hub\, 1/21-25 Forsyth Street\, Wagga Wagga\, NSW\, 2650\, Australia
CATEGORIES:Functional Fitness
END:VEVENT
BEGIN:VEVENT
DTSTART;TZID=Australia/Sydney:20261014T120000
DTEND;TZID=Australia/Sydney:20261014T124500
DTSTAMP:20260420T051206
CREATED:20241112T220255Z
LAST-MODIFIED:20250129T033004Z
UID:10076156-1791979200-1791981900@synergyhealthworks.com
SUMMARY:Women's Strength Class for over 45s
DESCRIPTION:
URL:https://synergyhealthworks.com/event/womens-strength-class-for-over-45s-9/2026-10-14/
LOCATION:Wagga Wagga | Fitness Hub\, 1/21-25 Forsyth Street\, Wagga Wagga\, NSW\, 2650\, Australia
CATEGORIES:Women's Strength Class for over 45s
END:VEVENT
BEGIN:VEVENT
DTSTART;TZID=Australia/Sydney:20261014T173000
DTEND;TZID=Australia/Sydney:20261014T181500
DTSTAMP:20260420T051206
CREATED:20241112T220941Z
LAST-MODIFIED:20250129T033025Z
UID:10077216-1791999000-1792001700@synergyhealthworks.com
SUMMARY:Strength and Conditioning Class
DESCRIPTION:
URL:https://synergyhealthworks.com/event/functional-conditioning/2026-10-14/
LOCATION:Wagga Wagga | Fitness Hub\, 1/21-25 Forsyth Street\, Wagga Wagga\, NSW\, 2650\, Australia
CATEGORIES:Strength and Conditioning
END:VEVENT
BEGIN:VEVENT
DTSTART;TZID=Australia/Sydney:20261015T063000
DTEND;TZID=Australia/Sydney:20261015T071500
DTSTAMP:20260420T051206
CREATED:20251128T024235Z
LAST-MODIFIED:20251128T024235Z
UID:10131325-1792045800-1792048500@synergyhealthworks.com
SUMMARY:Women's Strength Class for over 45s
DESCRIPTION:
URL:https://synergyhealthworks.com/event/womens-strength-class-for-over-45s-5/2026-10-15/
LOCATION:Wagga Wagga | Fitness Hub\, 1/21-25 Forsyth Street\, Wagga Wagga\, NSW\, 2650\, Australia
CATEGORIES:Women's Strength Class for over 45s
END:VEVENT
BEGIN:VEVENT
DTSTART;TZID=Australia/Sydney:20261015T073000
DTEND;TZID=Australia/Sydney:20261015T081500
DTSTAMP:20260420T051206
CREATED:20241112T221101Z
LAST-MODIFIED:20250129T033150Z
UID:10077481-1792049400-1792052100@synergyhealthworks.com
SUMMARY:Women's Strength Class for over 45s
DESCRIPTION:
URL:https://synergyhealthworks.com/event/womens-strength-class-for-over-45s-11/2026-10-15/
LOCATION:Wagga Wagga | Fitness Hub\, 1/21-25 Forsyth Street\, Wagga Wagga\, NSW\, 2650\, Australia
CATEGORIES:Women's Strength Class for over 45s
END:VEVENT
BEGIN:VEVENT
DTSTART;TZID=Australia/Sydney:20261015T090000
DTEND;TZID=Australia/Sydney:20261015T094500
DTSTAMP:20260420T051206
CREATED:20241112T221649Z
LAST-MODIFIED:20250722T032123Z
UID:10120762-1792054800-1792057500@synergyhealthworks.com
SUMMARY:Golfer's Strengthen & Stretch
DESCRIPTION:
URL:https://synergyhealthworks.com/event/golfers-strengthen-stretch-2/2026-10-15/
LOCATION:Wagga Wagga | Fitness Hub\, 1/21-25 Forsyth Street\, Wagga Wagga\, NSW\, 2650\, Australia
CATEGORIES:Golfer's Strengthen & Stretch
END:VEVENT
BEGIN:VEVENT
DTSTART;TZID=Australia/Sydney:20261015T100000
DTEND;TZID=Australia/Sydney:20261015T104500
DTSTAMP:20260420T051206
CREATED:20241112T221214Z
LAST-MODIFIED:20250722T032235Z
UID:10121063-1792058400-1792061100@synergyhealthworks.com
SUMMARY:Strength Circuit
DESCRIPTION:
URL:https://synergyhealthworks.com/event/mens-strength-class-3/2026-10-15/
LOCATION:Wagga Wagga | Fitness Hub\, 1/21-25 Forsyth Street\, Wagga Wagga\, NSW\, 2650\, Australia
CATEGORIES:Strength Circuit
END:VEVENT
BEGIN:VEVENT
DTSTART;TZID=Australia/Sydney:20261015T120000
DTEND;TZID=Australia/Sydney:20261015T124500
DTSTAMP:20260420T051206
CREATED:20241124T212036Z
LAST-MODIFIED:20250516T043505Z
UID:10085974-1792065600-1792068300@synergyhealthworks.com
SUMMARY:Women's Strength for over 45s
DESCRIPTION:
URL:https://synergyhealthworks.com/event/womens-fat-burn-2/2026-10-15/
LOCATION:Wagga Wagga | Fitness Hub\, 1/21-25 Forsyth Street\, Wagga Wagga\, NSW\, 2650\, Australia
CATEGORIES:Women's Strength Class for over 45s
END:VEVENT
BEGIN:VEVENT
DTSTART;TZID=Australia/Sydney:20261016T071500
DTEND;TZID=Australia/Sydney:20261016T080000
DTSTAMP:20260420T051206
CREATED:20250618T000503Z
LAST-MODIFIED:20250618T000657Z
UID:10118857-1792134900-1792137600@synergyhealthworks.com
SUMMARY:Bike & Box
DESCRIPTION:
URL:https://synergyhealthworks.com/event/bike-and-box/2026-10-16/
LOCATION:Wagga Wagga | Fitness Hub\, 1/21-25 Forsyth Street\, Wagga Wagga\, NSW\, 2650\, Australia
CATEGORIES:Bike & Box,Women's Strength Class for over 45s
END:VEVENT
BEGIN:VEVENT
DTSTART;TZID=Australia/Sydney:20261016T073000
DTEND;TZID=Australia/Sydney:20261016T081500
DTSTAMP:20260420T051206
CREATED:20241202T231716Z
LAST-MODIFIED:20250403T044134Z
UID:10116025-1792135800-1792138500@synergyhealthworks.com
SUMMARY:Strength Circuit
DESCRIPTION:
URL:https://synergyhealthworks.com/event/strength-circuit-2/2026-10-16/
LOCATION:Wagga Wagga | Fitness Hub\, 1/21-25 Forsyth Street\, Wagga Wagga\, NSW\, 2650\, Australia
CATEGORIES:Strength Circuit
END:VEVENT
BEGIN:VEVENT
DTSTART;TZID=Australia/Sydney:20261016T083000
DTEND;TZID=Australia/Sydney:20261016T091500
DTSTAMP:20260420T051206
CREATED:20241112T224821Z
LAST-MODIFIED:20250403T043412Z
UID:10115747-1792139400-1792142100@synergyhealthworks.com
SUMMARY:Women's Strength Class for over 45s
DESCRIPTION:
URL:https://synergyhealthworks.com/event/bike-box-2/2026-10-16/
LOCATION:Wagga Wagga | Fitness Hub\, 1/21-25 Forsyth Street\, Wagga Wagga\, NSW\, 2650\, Australia
CATEGORIES:Women's Strength Class for over 45s
END:VEVENT
BEGIN:VEVENT
DTSTART;TZID=Australia/Sydney:20261019T083000
DTEND;TZID=Australia/Sydney:20261019T091500
DTSTAMP:20260420T051206
CREATED:20241112T035630Z
LAST-MODIFIED:20250129T032622Z
UID:10082258-1792398600-1792401300@synergyhealthworks.com
SUMMARY:Strength Circuit
DESCRIPTION:
URL:https://synergyhealthworks.com/event/strength-circuit/2026-10-19/
LOCATION:Wagga Wagga | Fitness Hub\, 1/21-25 Forsyth Street\, Wagga Wagga\, NSW\, 2650\, Australia
CATEGORIES:Strength Circuit
END:VEVENT
BEGIN:VEVENT
DTSTART;TZID=Australia/Sydney:20261019T120000
DTEND;TZID=Australia/Sydney:20261019T124500
DTSTAMP:20260420T051206
CREATED:20250829T044037Z
LAST-MODIFIED:20250829T044037Z
UID:10122291-1792411200-1792413900@synergyhealthworks.com
SUMMARY:Strength and Conditioning Class
DESCRIPTION:
URL:https://synergyhealthworks.com/event/strength-and-conditioning-class-3/2026-10-19/
LOCATION:Wagga Wagga | Fitness Hub\, 1/21-25 Forsyth Street\, Wagga Wagga\, NSW\, 2650\, Australia
CATEGORIES:Strength and Conditioning
END:VEVENT
BEGIN:VEVENT
DTSTART;TZID=Australia/Sydney:20261019T130000
DTEND;TZID=Australia/Sydney:20261019T134500
DTSTAMP:20260420T051206
CREATED:20251112T001650Z
LAST-MODIFIED:20251112T001650Z
UID:10127423-1792414800-1792417500@synergyhealthworks.com
SUMMARY:Strength and Conditioning Class
DESCRIPTION:
URL:https://synergyhealthworks.com/event/strength-and-conditioning-class-5/2026-10-19/
LOCATION:Wagga Wagga | Fitness Hub\, 1/21-25 Forsyth Street\, Wagga Wagga\, NSW\, 2650\, Australia
CATEGORIES:Strength and Conditioning
END:VEVENT
BEGIN:VEVENT
DTSTART;TZID=Australia/Sydney:20261019T163000
DTEND;TZID=Australia/Sydney:20261019T171500
DTSTAMP:20260420T051206
CREATED:20250502T051402Z
LAST-MODIFIED:20250502T051402Z
UID:10116560-1792427400-1792430100@synergyhealthworks.com
SUMMARY:Women’s Pregnancy Strength Class
DESCRIPTION:
URL:https://synergyhealthworks.com/event/womens-pregnancy-strength-class/2026-10-19/
LOCATION:Wagga Wagga | Fitness Hub\, 1/21-25 Forsyth Street\, Wagga Wagga\, NSW\, 2650\, Australia
CATEGORIES:Women’s Pregnancy Strength Class
END:VEVENT
BEGIN:VEVENT
DTSTART;TZID=Australia/Sydney:20261019T173000
DTEND;TZID=Australia/Sydney:20261019T181500
DTSTAMP:20260420T051206
CREATED:20241112T041557Z
LAST-MODIFIED:20250129T032656Z
UID:10072181-1792431000-1792433700@synergyhealthworks.com
SUMMARY:Strength and Conditioning Class
DESCRIPTION:
URL:https://synergyhealthworks.com/event/strength-and-conditioning-class-4/2026-10-19/
LOCATION:Wagga Wagga | Fitness Hub\, 1/21-25 Forsyth Street\, Wagga Wagga\, NSW\, 2650\, Australia
CATEGORIES:Strength and Conditioning
END:VEVENT
BEGIN:VEVENT
DTSTART;TZID=Australia/Sydney:20261020T063000
DTEND;TZID=Australia/Sydney:20261020T071500
DTSTAMP:20260420T051206
CREATED:20241124T211846Z
LAST-MODIFIED:20250516T043543Z
UID:10085714-1792477800-1792480500@synergyhealthworks.com
SUMMARY:Women's Strength for over 45s
DESCRIPTION:
URL:https://synergyhealthworks.com/event/womens-fat-burn/2026-10-20/
LOCATION:Wagga Wagga | Fitness Hub\, 1/21-25 Forsyth Street\, Wagga Wagga\, NSW\, 2650\, Australia
CATEGORIES:Women's Strength Class for over 45s
END:VEVENT
BEGIN:VEVENT
DTSTART;TZID=Australia/Sydney:20261020T073000
DTEND;TZID=Australia/Sydney:20261020T081500
DTSTAMP:20260420T051206
CREATED:20241112T041932Z
LAST-MODIFIED:20250129T032814Z
UID:10072712-1792481400-1792484100@synergyhealthworks.com
SUMMARY:Women’s Strength Class for over 45s
DESCRIPTION:
URL:https://synergyhealthworks.com/event/womens-strength-class-for-over-45s-4/2026-10-20/
LOCATION:Wagga Wagga | Fitness Hub\, 1/21-25 Forsyth Street\, Wagga Wagga\, NSW\, 2650\, Australia
CATEGORIES:Women's Strength Class for over 45s
END:VEVENT
BEGIN:VEVENT
DTSTART;TZID=Australia/Sydney:20261020T103000
DTEND;TZID=Australia/Sydney:20261020T111500
DTSTAMP:20260420T051206
CREATED:20250502T051536Z
LAST-MODIFIED:20251203T032954Z
UID:10116821-1792492200-1792494900@synergyhealthworks.com
SUMMARY:Women’s Pelvic and Strength Class
DESCRIPTION:
URL:https://synergyhealthworks.com/event/womens-pelvic-and-strength-class/2026-10-20/
LOCATION:Wagga Wagga | Fitness Hub\, 1/21-25 Forsyth Street\, Wagga Wagga\, NSW\, 2650\, Australia
CATEGORIES:Women’s Pelvic and Strength Class
END:VEVENT
BEGIN:VEVENT
DTSTART;TZID=Australia/Sydney:20261020T120000
DTEND;TZID=Australia/Sydney:20261020T124500
DTSTAMP:20260420T051206
CREATED:20241112T044419Z
LAST-MODIFIED:20250129T032834Z
UID:10073507-1792497600-1792500300@synergyhealthworks.com
SUMMARY:Women's Strength Class for over 45s
DESCRIPTION:
URL:https://synergyhealthworks.com/event/womens-strength-class-for-over-45s-6/2026-10-20/
LOCATION:Wagga Wagga | Fitness Hub\, 1/21-25 Forsyth Street\, Wagga Wagga\, NSW\, 2650\, Australia
CATEGORIES:Women's Strength Class for over 45s
END:VEVENT
BEGIN:VEVENT
DTSTART;TZID=Australia/Sydney:20261020T163000
DTEND;TZID=Australia/Sydney:20261020T171500
DTSTAMP:20260420T051206
CREATED:20241112T044834Z
LAST-MODIFIED:20250129T032845Z
UID:10074302-1792513800-1792516500@synergyhealthworks.com
SUMMARY:Strength Circuit
DESCRIPTION:
URL:https://synergyhealthworks.com/event/strength-circuit-5/2026-10-20/
LOCATION:Wagga Wagga | Fitness Hub\, 1/21-25 Forsyth Street\, Wagga Wagga\, NSW\, 2650\, Australia
CATEGORIES:Strength Circuit
END:VEVENT
END:VCALENDAR