BEGIN:VCALENDAR
VERSION:2.0
PRODID:-//Synergy Healthworks - ECPv6.15.20//NONSGML v1.0//EN
CALSCALE:GREGORIAN
METHOD:PUBLISH
X-ORIGINAL-URL:https://synergyhealthworks.com
X-WR-CALDESC:Events for Synergy Healthworks
REFRESH-INTERVAL;VALUE=DURATION:PT1H
X-Robots-Tag:noindex
X-PUBLISHED-TTL:PT1H
BEGIN:VTIMEZONE
TZID:Australia/Sydney
BEGIN:STANDARD
TZOFFSETFROM:+1100
TZOFFSETTO:+1000
TZNAME:AEST
DTSTART:20240406T160000
END:STANDARD
BEGIN:DAYLIGHT
TZOFFSETFROM:+1000
TZOFFSETTO:+1100
TZNAME:AEDT
DTSTART:20241005T160000
END:DAYLIGHT
BEGIN:STANDARD
TZOFFSETFROM:+1100
TZOFFSETTO:+1000
TZNAME:AEST
DTSTART:20250405T160000
END:STANDARD
BEGIN:DAYLIGHT
TZOFFSETFROM:+1000
TZOFFSETTO:+1100
TZNAME:AEDT
DTSTART:20251004T160000
END:DAYLIGHT
BEGIN:STANDARD
TZOFFSETFROM:+1100
TZOFFSETTO:+1000
TZNAME:AEST
DTSTART:20260404T160000
END:STANDARD
BEGIN:DAYLIGHT
TZOFFSETFROM:+1000
TZOFFSETTO:+1100
TZNAME:AEDT
DTSTART:20261003T160000
END:DAYLIGHT
END:VTIMEZONE
BEGIN:VEVENT
DTSTART;TZID=Australia/Sydney:20251028T163000
DTEND;TZID=Australia/Sydney:20251028T171500
DTSTAMP:20260420T084851
CREATED:20241112T044834Z
LAST-MODIFIED:20250129T032845Z
UID:10074251-1761669000-1761671700@synergyhealthworks.com
SUMMARY:Strength Circuit
DESCRIPTION:
URL:https://synergyhealthworks.com/event/strength-circuit-5/2025-10-28/
LOCATION:Wagga Wagga | Fitness Hub\, 1/21-25 Forsyth Street\, Wagga Wagga\, NSW\, 2650\, Australia
CATEGORIES:Strength Circuit
END:VEVENT
BEGIN:VEVENT
DTSTART;TZID=Australia/Sydney:20251028T120000
DTEND;TZID=Australia/Sydney:20251028T124500
DTSTAMP:20260420T084851
CREATED:20241112T044419Z
LAST-MODIFIED:20250129T032834Z
UID:10073456-1761652800-1761655500@synergyhealthworks.com
SUMMARY:Women's Strength Class for over 45s
DESCRIPTION:
URL:https://synergyhealthworks.com/event/womens-strength-class-for-over-45s-6/2025-10-28/
LOCATION:Wagga Wagga | Fitness Hub\, 1/21-25 Forsyth Street\, Wagga Wagga\, NSW\, 2650\, Australia
CATEGORIES:Women's Strength Class for over 45s
END:VEVENT
BEGIN:VEVENT
DTSTART;TZID=Australia/Sydney:20251028T103000
DTEND;TZID=Australia/Sydney:20251028T111500
DTSTAMP:20260420T084851
CREATED:20250502T051536Z
LAST-MODIFIED:20251203T032954Z
UID:10116770-1761647400-1761650100@synergyhealthworks.com
SUMMARY:Women’s Pelvic and Strength Class
DESCRIPTION:
URL:https://synergyhealthworks.com/event/womens-pelvic-and-strength-class/2025-10-28/
LOCATION:Wagga Wagga | Fitness Hub\, 1/21-25 Forsyth Street\, Wagga Wagga\, NSW\, 2650\, Australia
CATEGORIES:Women’s Pelvic and Strength Class
END:VEVENT
BEGIN:VEVENT
DTSTART;TZID=Australia/Sydney:20251028T073000
DTEND;TZID=Australia/Sydney:20251028T081500
DTSTAMP:20260420T084851
CREATED:20241112T041932Z
LAST-MODIFIED:20250129T032814Z
UID:10072661-1761636600-1761639300@synergyhealthworks.com
SUMMARY:Women’s Strength Class for over 45s
DESCRIPTION:
URL:https://synergyhealthworks.com/event/womens-strength-class-for-over-45s-4/2025-10-28/
LOCATION:Wagga Wagga | Fitness Hub\, 1/21-25 Forsyth Street\, Wagga Wagga\, NSW\, 2650\, Australia
CATEGORIES:Women's Strength Class for over 45s
END:VEVENT
BEGIN:VEVENT
DTSTART;TZID=Australia/Sydney:20251028T063000
DTEND;TZID=Australia/Sydney:20251028T071500
DTSTAMP:20260420T084851
CREATED:20241124T211846Z
LAST-MODIFIED:20250516T043543Z
UID:10085663-1761633000-1761635700@synergyhealthworks.com
SUMMARY:Women's Strength for over 45s
DESCRIPTION:
URL:https://synergyhealthworks.com/event/womens-fat-burn/2025-10-28/
LOCATION:Wagga Wagga | Fitness Hub\, 1/21-25 Forsyth Street\, Wagga Wagga\, NSW\, 2650\, Australia
CATEGORIES:Women's Strength Class for over 45s
END:VEVENT
BEGIN:VEVENT
DTSTART;TZID=Australia/Sydney:20251027T173000
DTEND;TZID=Australia/Sydney:20251027T181500
DTSTAMP:20260420T084851
CREATED:20241112T041557Z
LAST-MODIFIED:20250129T032656Z
UID:10072130-1761586200-1761588900@synergyhealthworks.com
SUMMARY:Strength and Conditioning Class
DESCRIPTION:
URL:https://synergyhealthworks.com/event/strength-and-conditioning-class-4/2025-10-27/
LOCATION:Wagga Wagga | Fitness Hub\, 1/21-25 Forsyth Street\, Wagga Wagga\, NSW\, 2650\, Australia
CATEGORIES:Strength and Conditioning
END:VEVENT
BEGIN:VEVENT
DTSTART;TZID=Australia/Sydney:20251027T163000
DTEND;TZID=Australia/Sydney:20251027T171500
DTSTAMP:20260420T084851
CREATED:20250502T051402Z
LAST-MODIFIED:20250502T051402Z
UID:10116509-1761582600-1761585300@synergyhealthworks.com
SUMMARY:Women’s Pregnancy Strength Class
DESCRIPTION:
URL:https://synergyhealthworks.com/event/womens-pregnancy-strength-class/2025-10-27/
LOCATION:Wagga Wagga | Fitness Hub\, 1/21-25 Forsyth Street\, Wagga Wagga\, NSW\, 2650\, Australia
CATEGORIES:Women’s Pregnancy Strength Class
END:VEVENT
BEGIN:VEVENT
DTSTART;TZID=Australia/Sydney:20251027T130000
DTEND;TZID=Australia/Sydney:20251027T134500
DTSTAMP:20260420T084851
CREATED:20251112T001650Z
LAST-MODIFIED:20251112T001650Z
UID:10127372-1761570000-1761572700@synergyhealthworks.com
SUMMARY:Strength and Conditioning Class
DESCRIPTION:
URL:https://synergyhealthworks.com/event/strength-and-conditioning-class-5/2025-10-27/
LOCATION:Wagga Wagga | Fitness Hub\, 1/21-25 Forsyth Street\, Wagga Wagga\, NSW\, 2650\, Australia
CATEGORIES:Strength and Conditioning
END:VEVENT
BEGIN:VEVENT
DTSTART;TZID=Australia/Sydney:20251027T120000
DTEND;TZID=Australia/Sydney:20251027T124500
DTSTAMP:20260420T084851
CREATED:20250829T044037Z
LAST-MODIFIED:20250829T044037Z
UID:10122240-1761566400-1761569100@synergyhealthworks.com
SUMMARY:Strength and Conditioning Class
DESCRIPTION:
URL:https://synergyhealthworks.com/event/strength-and-conditioning-class-3/2025-10-27/
LOCATION:Wagga Wagga | Fitness Hub\, 1/21-25 Forsyth Street\, Wagga Wagga\, NSW\, 2650\, Australia
CATEGORIES:Strength and Conditioning
END:VEVENT
BEGIN:VEVENT
DTSTART;TZID=Australia/Sydney:20251027T083000
DTEND;TZID=Australia/Sydney:20251027T091500
DTSTAMP:20260420T084851
CREATED:20241112T035630Z
LAST-MODIFIED:20250129T032622Z
UID:10082207-1761553800-1761556500@synergyhealthworks.com
SUMMARY:Strength Circuit
DESCRIPTION:
URL:https://synergyhealthworks.com/event/strength-circuit/2025-10-27/
LOCATION:Wagga Wagga | Fitness Hub\, 1/21-25 Forsyth Street\, Wagga Wagga\, NSW\, 2650\, Australia
CATEGORIES:Strength Circuit
END:VEVENT
BEGIN:VEVENT
DTSTART;TZID=Australia/Sydney:20251024T083000
DTEND;TZID=Australia/Sydney:20251024T091500
DTSTAMP:20260420T084851
CREATED:20241112T224821Z
LAST-MODIFIED:20250403T043412Z
UID:10115696-1761294600-1761297300@synergyhealthworks.com
SUMMARY:Women's Strength Class for over 45s
DESCRIPTION:
URL:https://synergyhealthworks.com/event/bike-box-2/2025-10-24/
LOCATION:Wagga Wagga | Fitness Hub\, 1/21-25 Forsyth Street\, Wagga Wagga\, NSW\, 2650\, Australia
CATEGORIES:Women's Strength Class for over 45s
END:VEVENT
BEGIN:VEVENT
DTSTART;TZID=Australia/Sydney:20251024T073000
DTEND;TZID=Australia/Sydney:20251024T081500
DTSTAMP:20260420T084851
CREATED:20241202T231716Z
LAST-MODIFIED:20250403T044134Z
UID:10115974-1761291000-1761293700@synergyhealthworks.com
SUMMARY:Strength Circuit
DESCRIPTION:
URL:https://synergyhealthworks.com/event/strength-circuit-2/2025-10-24/
LOCATION:Wagga Wagga | Fitness Hub\, 1/21-25 Forsyth Street\, Wagga Wagga\, NSW\, 2650\, Australia
CATEGORIES:Strength Circuit
END:VEVENT
BEGIN:VEVENT
DTSTART;TZID=Australia/Sydney:20251024T071500
DTEND;TZID=Australia/Sydney:20251024T080000
DTSTAMP:20260420T084851
CREATED:20250618T000503Z
LAST-MODIFIED:20250618T000657Z
UID:10118806-1761290100-1761292800@synergyhealthworks.com
SUMMARY:Bike & Box
DESCRIPTION:
URL:https://synergyhealthworks.com/event/bike-and-box/2025-10-24/
LOCATION:Wagga Wagga | Fitness Hub\, 1/21-25 Forsyth Street\, Wagga Wagga\, NSW\, 2650\, Australia
CATEGORIES:Bike & Box,Women's Strength Class for over 45s
END:VEVENT
BEGIN:VEVENT
DTSTART;TZID=Australia/Sydney:20251023T120000
DTEND;TZID=Australia/Sydney:20251023T124500
DTSTAMP:20260420T084851
CREATED:20241124T212036Z
LAST-MODIFIED:20250516T043505Z
UID:10085923-1761220800-1761223500@synergyhealthworks.com
SUMMARY:Women's Strength for over 45s
DESCRIPTION:
URL:https://synergyhealthworks.com/event/womens-fat-burn-2/2025-10-23/
LOCATION:Wagga Wagga | Fitness Hub\, 1/21-25 Forsyth Street\, Wagga Wagga\, NSW\, 2650\, Australia
CATEGORIES:Women's Strength Class for over 45s
END:VEVENT
BEGIN:VEVENT
DTSTART;TZID=Australia/Sydney:20251023T100000
DTEND;TZID=Australia/Sydney:20251023T104500
DTSTAMP:20260420T084851
CREATED:20241112T221214Z
LAST-MODIFIED:20250722T032235Z
UID:10121012-1761213600-1761216300@synergyhealthworks.com
SUMMARY:Strength Circuit
DESCRIPTION:
URL:https://synergyhealthworks.com/event/mens-strength-class-3/2025-10-23/
LOCATION:Wagga Wagga | Fitness Hub\, 1/21-25 Forsyth Street\, Wagga Wagga\, NSW\, 2650\, Australia
CATEGORIES:Strength Circuit
END:VEVENT
BEGIN:VEVENT
DTSTART;TZID=Australia/Sydney:20251023T090000
DTEND;TZID=Australia/Sydney:20251023T094500
DTSTAMP:20260420T084851
CREATED:20241112T221649Z
LAST-MODIFIED:20250722T032123Z
UID:10120711-1761210000-1761212700@synergyhealthworks.com
SUMMARY:Golfer's Strengthen & Stretch
DESCRIPTION:
URL:https://synergyhealthworks.com/event/golfers-strengthen-stretch-2/2025-10-23/
LOCATION:Wagga Wagga | Fitness Hub\, 1/21-25 Forsyth Street\, Wagga Wagga\, NSW\, 2650\, Australia
CATEGORIES:Golfer's Strengthen & Stretch
END:VEVENT
BEGIN:VEVENT
DTSTART;TZID=Australia/Sydney:20251023T073000
DTEND;TZID=Australia/Sydney:20251023T081500
DTSTAMP:20260420T084851
CREATED:20241112T221101Z
LAST-MODIFIED:20250129T033150Z
UID:10077430-1761204600-1761207300@synergyhealthworks.com
SUMMARY:Women's Strength Class for over 45s
DESCRIPTION:
URL:https://synergyhealthworks.com/event/womens-strength-class-for-over-45s-11/2025-10-23/
LOCATION:Wagga Wagga | Fitness Hub\, 1/21-25 Forsyth Street\, Wagga Wagga\, NSW\, 2650\, Australia
CATEGORIES:Women's Strength Class for over 45s
END:VEVENT
BEGIN:VEVENT
DTSTART;TZID=Australia/Sydney:20251023T063000
DTEND;TZID=Australia/Sydney:20251023T071500
DTSTAMP:20260420T084851
CREATED:20251128T024235Z
LAST-MODIFIED:20251128T024235Z
UID:10131274-1761201000-1761203700@synergyhealthworks.com
SUMMARY:Women's Strength Class for over 45s
DESCRIPTION:
URL:https://synergyhealthworks.com/event/womens-strength-class-for-over-45s-5/2025-10-23/
LOCATION:Wagga Wagga | Fitness Hub\, 1/21-25 Forsyth Street\, Wagga Wagga\, NSW\, 2650\, Australia
CATEGORIES:Women's Strength Class for over 45s
END:VEVENT
BEGIN:VEVENT
DTSTART;TZID=Australia/Sydney:20251022T173000
DTEND;TZID=Australia/Sydney:20251022T181500
DTSTAMP:20260420T084851
CREATED:20241112T220941Z
LAST-MODIFIED:20250129T033025Z
UID:10077165-1761154200-1761156900@synergyhealthworks.com
SUMMARY:Strength and Conditioning Class
DESCRIPTION:
URL:https://synergyhealthworks.com/event/functional-conditioning/2025-10-22/
LOCATION:Wagga Wagga | Fitness Hub\, 1/21-25 Forsyth Street\, Wagga Wagga\, NSW\, 2650\, Australia
CATEGORIES:Strength and Conditioning
END:VEVENT
BEGIN:VEVENT
DTSTART;TZID=Australia/Sydney:20251022T120000
DTEND;TZID=Australia/Sydney:20251022T124500
DTSTAMP:20260420T084851
CREATED:20241112T220255Z
LAST-MODIFIED:20250129T033004Z
UID:10076105-1761134400-1761137100@synergyhealthworks.com
SUMMARY:Women's Strength Class for over 45s
DESCRIPTION:
URL:https://synergyhealthworks.com/event/womens-strength-class-for-over-45s-9/2025-10-22/
LOCATION:Wagga Wagga | Fitness Hub\, 1/21-25 Forsyth Street\, Wagga Wagga\, NSW\, 2650\, Australia
CATEGORIES:Women's Strength Class for over 45s
END:VEVENT
BEGIN:VEVENT
DTSTART;TZID=Australia/Sydney:20251022T073000
DTEND;TZID=Australia/Sydney:20251022T081500
DTSTAMP:20260420T084851
CREATED:20241112T045308Z
LAST-MODIFIED:20250129T032958Z
UID:10075045-1761118200-1761120900@synergyhealthworks.com
SUMMARY:Functional Fitness
DESCRIPTION:
URL:https://synergyhealthworks.com/event/cardio-combo-circuit-3/2025-10-22/
LOCATION:Wagga Wagga | Fitness Hub\, 1/21-25 Forsyth Street\, Wagga Wagga\, NSW\, 2650\, Australia
CATEGORIES:Functional Fitness
END:VEVENT
BEGIN:VEVENT
DTSTART;TZID=Australia/Sydney:20251022T063000
DTEND;TZID=Australia/Sydney:20251022T071500
DTSTAMP:20260420T084851
CREATED:20241112T045128Z
LAST-MODIFIED:20250129T032952Z
UID:10083802-1761114600-1761117300@synergyhealthworks.com
SUMMARY:Women's Strength Class for over 45s
DESCRIPTION:
URL:https://synergyhealthworks.com/event/womens-strength-class-for-over-45s-7/2025-10-22/
LOCATION:Wagga Wagga | Fitness Hub\, 1/21-25 Forsyth Street\, Wagga Wagga\, NSW\, 2650\, Australia
CATEGORIES:Women's Strength Class for over 45s
END:VEVENT
BEGIN:VEVENT
DTSTART;TZID=Australia/Sydney:20251021T163000
DTEND;TZID=Australia/Sydney:20251021T171500
DTSTAMP:20260420T084851
CREATED:20241112T044834Z
LAST-MODIFIED:20250129T032845Z
UID:10074250-1761064200-1761066900@synergyhealthworks.com
SUMMARY:Strength Circuit
DESCRIPTION:
URL:https://synergyhealthworks.com/event/strength-circuit-5/2025-10-21/
LOCATION:Wagga Wagga | Fitness Hub\, 1/21-25 Forsyth Street\, Wagga Wagga\, NSW\, 2650\, Australia
CATEGORIES:Strength Circuit
END:VEVENT
BEGIN:VEVENT
DTSTART;TZID=Australia/Sydney:20251021T120000
DTEND;TZID=Australia/Sydney:20251021T124500
DTSTAMP:20260420T084851
CREATED:20241112T044419Z
LAST-MODIFIED:20250129T032834Z
UID:10073455-1761048000-1761050700@synergyhealthworks.com
SUMMARY:Women's Strength Class for over 45s
DESCRIPTION:
URL:https://synergyhealthworks.com/event/womens-strength-class-for-over-45s-6/2025-10-21/
LOCATION:Wagga Wagga | Fitness Hub\, 1/21-25 Forsyth Street\, Wagga Wagga\, NSW\, 2650\, Australia
CATEGORIES:Women's Strength Class for over 45s
END:VEVENT
BEGIN:VEVENT
DTSTART;TZID=Australia/Sydney:20251021T103000
DTEND;TZID=Australia/Sydney:20251021T111500
DTSTAMP:20260420T084851
CREATED:20250502T051536Z
LAST-MODIFIED:20251203T032954Z
UID:10116769-1761042600-1761045300@synergyhealthworks.com
SUMMARY:Women’s Pelvic and Strength Class
DESCRIPTION:
URL:https://synergyhealthworks.com/event/womens-pelvic-and-strength-class/2025-10-21/
LOCATION:Wagga Wagga | Fitness Hub\, 1/21-25 Forsyth Street\, Wagga Wagga\, NSW\, 2650\, Australia
CATEGORIES:Women’s Pelvic and Strength Class
END:VEVENT
BEGIN:VEVENT
DTSTART;TZID=Australia/Sydney:20251021T073000
DTEND;TZID=Australia/Sydney:20251021T081500
DTSTAMP:20260420T084851
CREATED:20241112T041932Z
LAST-MODIFIED:20250129T032814Z
UID:10072660-1761031800-1761034500@synergyhealthworks.com
SUMMARY:Women’s Strength Class for over 45s
DESCRIPTION:
URL:https://synergyhealthworks.com/event/womens-strength-class-for-over-45s-4/2025-10-21/
LOCATION:Wagga Wagga | Fitness Hub\, 1/21-25 Forsyth Street\, Wagga Wagga\, NSW\, 2650\, Australia
CATEGORIES:Women's Strength Class for over 45s
END:VEVENT
BEGIN:VEVENT
DTSTART;TZID=Australia/Sydney:20251021T063000
DTEND;TZID=Australia/Sydney:20251021T071500
DTSTAMP:20260420T084851
CREATED:20241124T211846Z
LAST-MODIFIED:20250516T043543Z
UID:10085662-1761028200-1761030900@synergyhealthworks.com
SUMMARY:Women's Strength for over 45s
DESCRIPTION:
URL:https://synergyhealthworks.com/event/womens-fat-burn/2025-10-21/
LOCATION:Wagga Wagga | Fitness Hub\, 1/21-25 Forsyth Street\, Wagga Wagga\, NSW\, 2650\, Australia
CATEGORIES:Women's Strength Class for over 45s
END:VEVENT
BEGIN:VEVENT
DTSTART;TZID=Australia/Sydney:20251020T173000
DTEND;TZID=Australia/Sydney:20251020T181500
DTSTAMP:20260420T084851
CREATED:20241112T041557Z
LAST-MODIFIED:20250129T032656Z
UID:10072129-1760981400-1760984100@synergyhealthworks.com
SUMMARY:Strength and Conditioning Class
DESCRIPTION:
URL:https://synergyhealthworks.com/event/strength-and-conditioning-class-4/2025-10-20/
LOCATION:Wagga Wagga | Fitness Hub\, 1/21-25 Forsyth Street\, Wagga Wagga\, NSW\, 2650\, Australia
CATEGORIES:Strength and Conditioning
END:VEVENT
BEGIN:VEVENT
DTSTART;TZID=Australia/Sydney:20251020T163000
DTEND;TZID=Australia/Sydney:20251020T171500
DTSTAMP:20260420T084851
CREATED:20250502T051402Z
LAST-MODIFIED:20250502T051402Z
UID:10116508-1760977800-1760980500@synergyhealthworks.com
SUMMARY:Women’s Pregnancy Strength Class
DESCRIPTION:
URL:https://synergyhealthworks.com/event/womens-pregnancy-strength-class/2025-10-20/
LOCATION:Wagga Wagga | Fitness Hub\, 1/21-25 Forsyth Street\, Wagga Wagga\, NSW\, 2650\, Australia
CATEGORIES:Women’s Pregnancy Strength Class
END:VEVENT
BEGIN:VEVENT
DTSTART;TZID=Australia/Sydney:20251020T130000
DTEND;TZID=Australia/Sydney:20251020T134500
DTSTAMP:20260420T084851
CREATED:20251112T001650Z
LAST-MODIFIED:20251112T001650Z
UID:10127371-1760965200-1760967900@synergyhealthworks.com
SUMMARY:Strength and Conditioning Class
DESCRIPTION:
URL:https://synergyhealthworks.com/event/strength-and-conditioning-class-5/2025-10-20/
LOCATION:Wagga Wagga | Fitness Hub\, 1/21-25 Forsyth Street\, Wagga Wagga\, NSW\, 2650\, Australia
CATEGORIES:Strength and Conditioning
END:VEVENT
END:VCALENDAR