BEGIN:VCALENDAR
VERSION:2.0
PRODID:-//Synergy Healthworks - ECPv6.15.20//NONSGML v1.0//EN
CALSCALE:GREGORIAN
METHOD:PUBLISH
X-ORIGINAL-URL:https://synergyhealthworks.com
X-WR-CALDESC:Events for Synergy Healthworks
REFRESH-INTERVAL;VALUE=DURATION:PT1H
X-Robots-Tag:noindex
X-PUBLISHED-TTL:PT1H
BEGIN:VTIMEZONE
TZID:Australia/Sydney
BEGIN:STANDARD
TZOFFSETFROM:+1100
TZOFFSETTO:+1000
TZNAME:AEST
DTSTART:20290331T160000
END:STANDARD
BEGIN:DAYLIGHT
TZOFFSETFROM:+1000
TZOFFSETTO:+1100
TZNAME:AEDT
DTSTART:20291006T160000
END:DAYLIGHT
BEGIN:STANDARD
TZOFFSETFROM:+1100
TZOFFSETTO:+1000
TZNAME:AEST
DTSTART:20300406T160000
END:STANDARD
BEGIN:DAYLIGHT
TZOFFSETFROM:+1000
TZOFFSETTO:+1100
TZNAME:AEDT
DTSTART:20301005T160000
END:DAYLIGHT
BEGIN:STANDARD
TZOFFSETFROM:+1100
TZOFFSETTO:+1000
TZNAME:AEST
DTSTART:20310405T160000
END:STANDARD
BEGIN:DAYLIGHT
TZOFFSETFROM:+1000
TZOFFSETTO:+1100
TZNAME:AEDT
DTSTART:20311004T160000
END:DAYLIGHT
END:VTIMEZONE
BEGIN:VEVENT
DTSTART;TZID=Australia/Sydney:20300805T130000
DTEND;TZID=Australia/Sydney:20300805T134500
DTSTAMP:20260425T015926
CREATED:20251112T001650Z
LAST-MODIFIED:20251112T001650Z
UID:10127621-1912165200-1912167900@synergyhealthworks.com
SUMMARY:Strength and Conditioning Class
DESCRIPTION:
URL:https://synergyhealthworks.com/event/strength-and-conditioning-class-5/2030-08-05/
LOCATION:Wagga Wagga | Fitness Hub\, 1/21-25 Forsyth Street\, Wagga Wagga\, NSW\, 2650\, Australia
CATEGORIES:Strength and Conditioning
END:VEVENT
BEGIN:VEVENT
DTSTART;TZID=Australia/Sydney:20300806T103000
DTEND;TZID=Australia/Sydney:20300806T111500
DTSTAMP:20260425T015926
CREATED:20250502T051536Z
LAST-MODIFIED:20251203T032954Z
UID:10131554-1912242600-1912245300@synergyhealthworks.com
SUMMARY:Women’s Pelvic and Strength Class
DESCRIPTION:
URL:https://synergyhealthworks.com/event/womens-pelvic-and-strength-class/2030-08-06/
LOCATION:Wagga Wagga | Fitness Hub\, 1/21-25 Forsyth Street\, Wagga Wagga\, NSW\, 2650\, Australia
CATEGORIES:Women’s Pelvic and Strength Class
END:VEVENT
BEGIN:VEVENT
DTSTART;TZID=Australia/Sydney:20300808T063000
DTEND;TZID=Australia/Sydney:20300808T071500
DTSTAMP:20260425T015926
CREATED:20251128T024235Z
LAST-MODIFIED:20251128T024235Z
UID:10131524-1912401000-1912403700@synergyhealthworks.com
SUMMARY:Women's Strength Class for over 45s
DESCRIPTION:
URL:https://synergyhealthworks.com/event/womens-strength-class-for-over-45s-5/2030-08-08/
LOCATION:Wagga Wagga | Fitness Hub\, 1/21-25 Forsyth Street\, Wagga Wagga\, NSW\, 2650\, Australia
CATEGORIES:Women's Strength Class for over 45s
END:VEVENT
BEGIN:VEVENT
DTSTART;TZID=Australia/Sydney:20300812T120000
DTEND;TZID=Australia/Sydney:20300812T124500
DTSTAMP:20260425T015926
CREATED:20250829T044037Z
LAST-MODIFIED:20250829T044037Z
UID:10122490-1912766400-1912769100@synergyhealthworks.com
SUMMARY:Strength and Conditioning Class
DESCRIPTION:
URL:https://synergyhealthworks.com/event/strength-and-conditioning-class-3/2030-08-12/
LOCATION:Wagga Wagga | Fitness Hub\, 1/21-25 Forsyth Street\, Wagga Wagga\, NSW\, 2650\, Australia
CATEGORIES:Strength and Conditioning
END:VEVENT
BEGIN:VEVENT
DTSTART;TZID=Australia/Sydney:20300812T130000
DTEND;TZID=Australia/Sydney:20300812T134500
DTSTAMP:20260425T015926
CREATED:20251112T001650Z
LAST-MODIFIED:20251112T001650Z
UID:10127622-1912770000-1912772700@synergyhealthworks.com
SUMMARY:Strength and Conditioning Class
DESCRIPTION:
URL:https://synergyhealthworks.com/event/strength-and-conditioning-class-5/2030-08-12/
LOCATION:Wagga Wagga | Fitness Hub\, 1/21-25 Forsyth Street\, Wagga Wagga\, NSW\, 2650\, Australia
CATEGORIES:Strength and Conditioning
END:VEVENT
BEGIN:VEVENT
DTSTART;TZID=Australia/Sydney:20300813T103000
DTEND;TZID=Australia/Sydney:20300813T111500
DTSTAMP:20260425T015926
CREATED:20250502T051536Z
LAST-MODIFIED:20251203T032954Z
UID:10131555-1912847400-1912850100@synergyhealthworks.com
SUMMARY:Women’s Pelvic and Strength Class
DESCRIPTION:
URL:https://synergyhealthworks.com/event/womens-pelvic-and-strength-class/2030-08-13/
LOCATION:Wagga Wagga | Fitness Hub\, 1/21-25 Forsyth Street\, Wagga Wagga\, NSW\, 2650\, Australia
CATEGORIES:Women’s Pelvic and Strength Class
END:VEVENT
BEGIN:VEVENT
DTSTART;TZID=Australia/Sydney:20300815T063000
DTEND;TZID=Australia/Sydney:20300815T071500
DTSTAMP:20260425T015926
CREATED:20251128T024235Z
LAST-MODIFIED:20251128T024235Z
UID:10131525-1913005800-1913008500@synergyhealthworks.com
SUMMARY:Women's Strength Class for over 45s
DESCRIPTION:
URL:https://synergyhealthworks.com/event/womens-strength-class-for-over-45s-5/2030-08-15/
LOCATION:Wagga Wagga | Fitness Hub\, 1/21-25 Forsyth Street\, Wagga Wagga\, NSW\, 2650\, Australia
CATEGORIES:Women's Strength Class for over 45s
END:VEVENT
BEGIN:VEVENT
DTSTART;TZID=Australia/Sydney:20300819T120000
DTEND;TZID=Australia/Sydney:20300819T124500
DTSTAMP:20260425T015926
CREATED:20250829T044037Z
LAST-MODIFIED:20250829T044037Z
UID:10122491-1913371200-1913373900@synergyhealthworks.com
SUMMARY:Strength and Conditioning Class
DESCRIPTION:
URL:https://synergyhealthworks.com/event/strength-and-conditioning-class-3/2030-08-19/
LOCATION:Wagga Wagga | Fitness Hub\, 1/21-25 Forsyth Street\, Wagga Wagga\, NSW\, 2650\, Australia
CATEGORIES:Strength and Conditioning
END:VEVENT
BEGIN:VEVENT
DTSTART;TZID=Australia/Sydney:20300819T130000
DTEND;TZID=Australia/Sydney:20300819T134500
DTSTAMP:20260425T015926
CREATED:20251112T001650Z
LAST-MODIFIED:20251112T001650Z
UID:10127623-1913374800-1913377500@synergyhealthworks.com
SUMMARY:Strength and Conditioning Class
DESCRIPTION:
URL:https://synergyhealthworks.com/event/strength-and-conditioning-class-5/2030-08-19/
LOCATION:Wagga Wagga | Fitness Hub\, 1/21-25 Forsyth Street\, Wagga Wagga\, NSW\, 2650\, Australia
CATEGORIES:Strength and Conditioning
END:VEVENT
BEGIN:VEVENT
DTSTART;TZID=Australia/Sydney:20300820T103000
DTEND;TZID=Australia/Sydney:20300820T111500
DTSTAMP:20260425T015926
CREATED:20250502T051536Z
LAST-MODIFIED:20251203T032954Z
UID:10131556-1913452200-1913454900@synergyhealthworks.com
SUMMARY:Women’s Pelvic and Strength Class
DESCRIPTION:
URL:https://synergyhealthworks.com/event/womens-pelvic-and-strength-class/2030-08-20/
LOCATION:Wagga Wagga | Fitness Hub\, 1/21-25 Forsyth Street\, Wagga Wagga\, NSW\, 2650\, Australia
CATEGORIES:Women’s Pelvic and Strength Class
END:VEVENT
BEGIN:VEVENT
DTSTART;TZID=Australia/Sydney:20300822T063000
DTEND;TZID=Australia/Sydney:20300822T071500
DTSTAMP:20260425T015926
CREATED:20251128T024235Z
LAST-MODIFIED:20251128T024235Z
UID:10131526-1913610600-1913613300@synergyhealthworks.com
SUMMARY:Women's Strength Class for over 45s
DESCRIPTION:
URL:https://synergyhealthworks.com/event/womens-strength-class-for-over-45s-5/2030-08-22/
LOCATION:Wagga Wagga | Fitness Hub\, 1/21-25 Forsyth Street\, Wagga Wagga\, NSW\, 2650\, Australia
CATEGORIES:Women's Strength Class for over 45s
END:VEVENT
BEGIN:VEVENT
DTSTART;TZID=Australia/Sydney:20300826T120000
DTEND;TZID=Australia/Sydney:20300826T124500
DTSTAMP:20260425T015926
CREATED:20250829T044037Z
LAST-MODIFIED:20250829T044037Z
UID:10122492-1913976000-1913978700@synergyhealthworks.com
SUMMARY:Strength and Conditioning Class
DESCRIPTION:
URL:https://synergyhealthworks.com/event/strength-and-conditioning-class-3/2030-08-26/
LOCATION:Wagga Wagga | Fitness Hub\, 1/21-25 Forsyth Street\, Wagga Wagga\, NSW\, 2650\, Australia
CATEGORIES:Strength and Conditioning
END:VEVENT
BEGIN:VEVENT
DTSTART;TZID=Australia/Sydney:20300826T130000
DTEND;TZID=Australia/Sydney:20300826T134500
DTSTAMP:20260425T015926
CREATED:20251112T001650Z
LAST-MODIFIED:20251112T001650Z
UID:10127624-1913979600-1913982300@synergyhealthworks.com
SUMMARY:Strength and Conditioning Class
DESCRIPTION:
URL:https://synergyhealthworks.com/event/strength-and-conditioning-class-5/2030-08-26/
LOCATION:Wagga Wagga | Fitness Hub\, 1/21-25 Forsyth Street\, Wagga Wagga\, NSW\, 2650\, Australia
CATEGORIES:Strength and Conditioning
END:VEVENT
BEGIN:VEVENT
DTSTART;TZID=Australia/Sydney:20300827T103000
DTEND;TZID=Australia/Sydney:20300827T111500
DTSTAMP:20260425T015926
CREATED:20250502T051536Z
LAST-MODIFIED:20251203T032954Z
UID:10131557-1914057000-1914059700@synergyhealthworks.com
SUMMARY:Women’s Pelvic and Strength Class
DESCRIPTION:
URL:https://synergyhealthworks.com/event/womens-pelvic-and-strength-class/2030-08-27/
LOCATION:Wagga Wagga | Fitness Hub\, 1/21-25 Forsyth Street\, Wagga Wagga\, NSW\, 2650\, Australia
CATEGORIES:Women’s Pelvic and Strength Class
END:VEVENT
BEGIN:VEVENT
DTSTART;TZID=Australia/Sydney:20300829T063000
DTEND;TZID=Australia/Sydney:20300829T071500
DTSTAMP:20260425T015926
CREATED:20251128T024235Z
LAST-MODIFIED:20251128T024235Z
UID:10131527-1914215400-1914218100@synergyhealthworks.com
SUMMARY:Women's Strength Class for over 45s
DESCRIPTION:
URL:https://synergyhealthworks.com/event/womens-strength-class-for-over-45s-5/2030-08-29/
LOCATION:Wagga Wagga | Fitness Hub\, 1/21-25 Forsyth Street\, Wagga Wagga\, NSW\, 2650\, Australia
CATEGORIES:Women's Strength Class for over 45s
END:VEVENT
BEGIN:VEVENT
DTSTART;TZID=Australia/Sydney:20300902T130000
DTEND;TZID=Australia/Sydney:20300902T134500
DTSTAMP:20260425T015926
CREATED:20251112T001650Z
LAST-MODIFIED:20251112T001650Z
UID:10127625-1914584400-1914587100@synergyhealthworks.com
SUMMARY:Strength and Conditioning Class
DESCRIPTION:
URL:https://synergyhealthworks.com/event/strength-and-conditioning-class-5/2030-09-02/
LOCATION:Wagga Wagga | Fitness Hub\, 1/21-25 Forsyth Street\, Wagga Wagga\, NSW\, 2650\, Australia
CATEGORIES:Strength and Conditioning
END:VEVENT
BEGIN:VEVENT
DTSTART;TZID=Australia/Sydney:20300903T103000
DTEND;TZID=Australia/Sydney:20300903T111500
DTSTAMP:20260425T015926
CREATED:20250502T051536Z
LAST-MODIFIED:20251203T032954Z
UID:10131558-1914661800-1914664500@synergyhealthworks.com
SUMMARY:Women’s Pelvic and Strength Class
DESCRIPTION:
URL:https://synergyhealthworks.com/event/womens-pelvic-and-strength-class/2030-09-03/
LOCATION:Wagga Wagga | Fitness Hub\, 1/21-25 Forsyth Street\, Wagga Wagga\, NSW\, 2650\, Australia
CATEGORIES:Women’s Pelvic and Strength Class
END:VEVENT
BEGIN:VEVENT
DTSTART;TZID=Australia/Sydney:20300905T063000
DTEND;TZID=Australia/Sydney:20300905T071500
DTSTAMP:20260425T015926
CREATED:20251128T024235Z
LAST-MODIFIED:20251128T024235Z
UID:10131528-1914820200-1914822900@synergyhealthworks.com
SUMMARY:Women's Strength Class for over 45s
DESCRIPTION:
URL:https://synergyhealthworks.com/event/womens-strength-class-for-over-45s-5/2030-09-05/
LOCATION:Wagga Wagga | Fitness Hub\, 1/21-25 Forsyth Street\, Wagga Wagga\, NSW\, 2650\, Australia
CATEGORIES:Women's Strength Class for over 45s
END:VEVENT
BEGIN:VEVENT
DTSTART;TZID=Australia/Sydney:20300909T130000
DTEND;TZID=Australia/Sydney:20300909T134500
DTSTAMP:20260425T015926
CREATED:20251112T001650Z
LAST-MODIFIED:20251112T001650Z
UID:10127626-1915189200-1915191900@synergyhealthworks.com
SUMMARY:Strength and Conditioning Class
DESCRIPTION:
URL:https://synergyhealthworks.com/event/strength-and-conditioning-class-5/2030-09-09/
LOCATION:Wagga Wagga | Fitness Hub\, 1/21-25 Forsyth Street\, Wagga Wagga\, NSW\, 2650\, Australia
CATEGORIES:Strength and Conditioning
END:VEVENT
BEGIN:VEVENT
DTSTART;TZID=Australia/Sydney:20300910T103000
DTEND;TZID=Australia/Sydney:20300910T111500
DTSTAMP:20260425T015926
CREATED:20250502T051536Z
LAST-MODIFIED:20251203T032954Z
UID:10131559-1915266600-1915269300@synergyhealthworks.com
SUMMARY:Women’s Pelvic and Strength Class
DESCRIPTION:
URL:https://synergyhealthworks.com/event/womens-pelvic-and-strength-class/2030-09-10/
LOCATION:Wagga Wagga | Fitness Hub\, 1/21-25 Forsyth Street\, Wagga Wagga\, NSW\, 2650\, Australia
CATEGORIES:Women’s Pelvic and Strength Class
END:VEVENT
BEGIN:VEVENT
DTSTART;TZID=Australia/Sydney:20300912T063000
DTEND;TZID=Australia/Sydney:20300912T071500
DTSTAMP:20260425T015926
CREATED:20251128T024235Z
LAST-MODIFIED:20251128T024235Z
UID:10131529-1915425000-1915427700@synergyhealthworks.com
SUMMARY:Women's Strength Class for over 45s
DESCRIPTION:
URL:https://synergyhealthworks.com/event/womens-strength-class-for-over-45s-5/2030-09-12/
LOCATION:Wagga Wagga | Fitness Hub\, 1/21-25 Forsyth Street\, Wagga Wagga\, NSW\, 2650\, Australia
CATEGORIES:Women's Strength Class for over 45s
END:VEVENT
BEGIN:VEVENT
DTSTART;TZID=Australia/Sydney:20300916T130000
DTEND;TZID=Australia/Sydney:20300916T134500
DTSTAMP:20260425T015926
CREATED:20251112T001650Z
LAST-MODIFIED:20251112T001650Z
UID:10127627-1915794000-1915796700@synergyhealthworks.com
SUMMARY:Strength and Conditioning Class
DESCRIPTION:
URL:https://synergyhealthworks.com/event/strength-and-conditioning-class-5/2030-09-16/
LOCATION:Wagga Wagga | Fitness Hub\, 1/21-25 Forsyth Street\, Wagga Wagga\, NSW\, 2650\, Australia
CATEGORIES:Strength and Conditioning
END:VEVENT
BEGIN:VEVENT
DTSTART;TZID=Australia/Sydney:20300917T103000
DTEND;TZID=Australia/Sydney:20300917T111500
DTSTAMP:20260425T015926
CREATED:20250502T051536Z
LAST-MODIFIED:20251203T032954Z
UID:10131560-1915871400-1915874100@synergyhealthworks.com
SUMMARY:Women’s Pelvic and Strength Class
DESCRIPTION:
URL:https://synergyhealthworks.com/event/womens-pelvic-and-strength-class/2030-09-17/
LOCATION:Wagga Wagga | Fitness Hub\, 1/21-25 Forsyth Street\, Wagga Wagga\, NSW\, 2650\, Australia
CATEGORIES:Women’s Pelvic and Strength Class
END:VEVENT
BEGIN:VEVENT
DTSTART;TZID=Australia/Sydney:20300919T063000
DTEND;TZID=Australia/Sydney:20300919T071500
DTSTAMP:20260425T015926
CREATED:20251128T024235Z
LAST-MODIFIED:20251128T024235Z
UID:10131530-1916029800-1916032500@synergyhealthworks.com
SUMMARY:Women's Strength Class for over 45s
DESCRIPTION:
URL:https://synergyhealthworks.com/event/womens-strength-class-for-over-45s-5/2030-09-19/
LOCATION:Wagga Wagga | Fitness Hub\, 1/21-25 Forsyth Street\, Wagga Wagga\, NSW\, 2650\, Australia
CATEGORIES:Women's Strength Class for over 45s
END:VEVENT
BEGIN:VEVENT
DTSTART;TZID=Australia/Sydney:20300923T130000
DTEND;TZID=Australia/Sydney:20300923T134500
DTSTAMP:20260425T015926
CREATED:20251112T001650Z
LAST-MODIFIED:20251112T001650Z
UID:10127628-1916398800-1916401500@synergyhealthworks.com
SUMMARY:Strength and Conditioning Class
DESCRIPTION:
URL:https://synergyhealthworks.com/event/strength-and-conditioning-class-5/2030-09-23/
LOCATION:Wagga Wagga | Fitness Hub\, 1/21-25 Forsyth Street\, Wagga Wagga\, NSW\, 2650\, Australia
CATEGORIES:Strength and Conditioning
END:VEVENT
BEGIN:VEVENT
DTSTART;TZID=Australia/Sydney:20300924T103000
DTEND;TZID=Australia/Sydney:20300924T111500
DTSTAMP:20260425T015926
CREATED:20250502T051536Z
LAST-MODIFIED:20251203T032954Z
UID:10131561-1916476200-1916478900@synergyhealthworks.com
SUMMARY:Women’s Pelvic and Strength Class
DESCRIPTION:
URL:https://synergyhealthworks.com/event/womens-pelvic-and-strength-class/2030-09-24/
LOCATION:Wagga Wagga | Fitness Hub\, 1/21-25 Forsyth Street\, Wagga Wagga\, NSW\, 2650\, Australia
CATEGORIES:Women’s Pelvic and Strength Class
END:VEVENT
BEGIN:VEVENT
DTSTART;TZID=Australia/Sydney:20300926T063000
DTEND;TZID=Australia/Sydney:20300926T071500
DTSTAMP:20260425T015926
CREATED:20251128T024235Z
LAST-MODIFIED:20251128T024235Z
UID:10131531-1916634600-1916637300@synergyhealthworks.com
SUMMARY:Women's Strength Class for over 45s
DESCRIPTION:
URL:https://synergyhealthworks.com/event/womens-strength-class-for-over-45s-5/2030-09-26/
LOCATION:Wagga Wagga | Fitness Hub\, 1/21-25 Forsyth Street\, Wagga Wagga\, NSW\, 2650\, Australia
CATEGORIES:Women's Strength Class for over 45s
END:VEVENT
BEGIN:VEVENT
DTSTART;TZID=Australia/Sydney:20300930T130000
DTEND;TZID=Australia/Sydney:20300930T134500
DTSTAMP:20260425T015926
CREATED:20251112T001650Z
LAST-MODIFIED:20251112T001650Z
UID:10127629-1917003600-1917006300@synergyhealthworks.com
SUMMARY:Strength and Conditioning Class
DESCRIPTION:
URL:https://synergyhealthworks.com/event/strength-and-conditioning-class-5/2030-09-30/
LOCATION:Wagga Wagga | Fitness Hub\, 1/21-25 Forsyth Street\, Wagga Wagga\, NSW\, 2650\, Australia
CATEGORIES:Strength and Conditioning
END:VEVENT
BEGIN:VEVENT
DTSTART;TZID=Australia/Sydney:20301001T103000
DTEND;TZID=Australia/Sydney:20301001T111500
DTSTAMP:20260425T015926
CREATED:20250502T051536Z
LAST-MODIFIED:20251203T032954Z
UID:10131562-1917081000-1917083700@synergyhealthworks.com
SUMMARY:Women’s Pelvic and Strength Class
DESCRIPTION:
URL:https://synergyhealthworks.com/event/womens-pelvic-and-strength-class/2030-10-01/
LOCATION:Wagga Wagga | Fitness Hub\, 1/21-25 Forsyth Street\, Wagga Wagga\, NSW\, 2650\, Australia
CATEGORIES:Women’s Pelvic and Strength Class
END:VEVENT
BEGIN:VEVENT
DTSTART;TZID=Australia/Sydney:20301003T063000
DTEND;TZID=Australia/Sydney:20301003T071500
DTSTAMP:20260425T015926
CREATED:20251128T024235Z
LAST-MODIFIED:20251128T024235Z
UID:10131532-1917239400-1917242100@synergyhealthworks.com
SUMMARY:Women's Strength Class for over 45s
DESCRIPTION:
URL:https://synergyhealthworks.com/event/womens-strength-class-for-over-45s-5/2030-10-03/
LOCATION:Wagga Wagga | Fitness Hub\, 1/21-25 Forsyth Street\, Wagga Wagga\, NSW\, 2650\, Australia
CATEGORIES:Women's Strength Class for over 45s
END:VEVENT
END:VCALENDAR