BEGIN:VCALENDAR
VERSION:2.0
PRODID:-//Synergy Healthworks - ECPv6.15.20//NONSGML v1.0//EN
CALSCALE:GREGORIAN
METHOD:PUBLISH
X-ORIGINAL-URL:https://synergyhealthworks.com
X-WR-CALDESC:Events for Synergy Healthworks
REFRESH-INTERVAL;VALUE=DURATION:PT1H
X-Robots-Tag:noindex
X-PUBLISHED-TTL:PT1H
BEGIN:VTIMEZONE
TZID:Australia/Sydney
BEGIN:STANDARD
TZOFFSETFROM:+1100
TZOFFSETTO:+1000
TZNAME:AEST
DTSTART:20290331T160000
END:STANDARD
BEGIN:DAYLIGHT
TZOFFSETFROM:+1000
TZOFFSETTO:+1100
TZNAME:AEDT
DTSTART:20291006T160000
END:DAYLIGHT
BEGIN:STANDARD
TZOFFSETFROM:+1100
TZOFFSETTO:+1000
TZNAME:AEST
DTSTART:20300406T160000
END:STANDARD
BEGIN:DAYLIGHT
TZOFFSETFROM:+1000
TZOFFSETTO:+1100
TZNAME:AEDT
DTSTART:20301005T160000
END:DAYLIGHT
BEGIN:STANDARD
TZOFFSETFROM:+1100
TZOFFSETTO:+1000
TZNAME:AEST
DTSTART:20310405T160000
END:STANDARD
BEGIN:DAYLIGHT
TZOFFSETFROM:+1000
TZOFFSETTO:+1100
TZNAME:AEDT
DTSTART:20311004T160000
END:DAYLIGHT
END:VTIMEZONE
BEGIN:VEVENT
DTSTART;TZID=Australia/Sydney:20300620T063000
DTEND;TZID=Australia/Sydney:20300620T071500
DTSTAMP:20260424T195946
CREATED:20251128T024235Z
LAST-MODIFIED:20251128T024235Z
UID:10131517-1908167400-1908170100@synergyhealthworks.com
SUMMARY:Women's Strength Class for over 45s
DESCRIPTION:
URL:https://synergyhealthworks.com/event/womens-strength-class-for-over-45s-5/2030-06-20/
LOCATION:Wagga Wagga | Fitness Hub\, 1/21-25 Forsyth Street\, Wagga Wagga\, NSW\, 2650\, Australia
CATEGORIES:Women's Strength Class for over 45s
END:VEVENT
BEGIN:VEVENT
DTSTART;TZID=Australia/Sydney:20300620T090000
DTEND;TZID=Australia/Sydney:20300620T094500
DTSTAMP:20260424T195946
CREATED:20241112T221649Z
LAST-MODIFIED:20250722T032123Z
UID:10120954-1908176400-1908179100@synergyhealthworks.com
SUMMARY:Golfer's Strengthen & Stretch
DESCRIPTION:
URL:https://synergyhealthworks.com/event/golfers-strengthen-stretch-2/2030-06-20/
LOCATION:Wagga Wagga | Fitness Hub\, 1/21-25 Forsyth Street\, Wagga Wagga\, NSW\, 2650\, Australia
CATEGORIES:Golfer's Strengthen & Stretch
END:VEVENT
BEGIN:VEVENT
DTSTART;TZID=Australia/Sydney:20300620T100000
DTEND;TZID=Australia/Sydney:20300620T104500
DTSTAMP:20260424T195946
CREATED:20241112T221214Z
LAST-MODIFIED:20250722T032235Z
UID:10121255-1908180000-1908182700@synergyhealthworks.com
SUMMARY:Strength Circuit
DESCRIPTION:
URL:https://synergyhealthworks.com/event/mens-strength-class-3/2030-06-20/
LOCATION:Wagga Wagga | Fitness Hub\, 1/21-25 Forsyth Street\, Wagga Wagga\, NSW\, 2650\, Australia
CATEGORIES:Strength Circuit
END:VEVENT
BEGIN:VEVENT
DTSTART;TZID=Australia/Sydney:20300624T120000
DTEND;TZID=Australia/Sydney:20300624T124500
DTSTAMP:20260424T195946
CREATED:20250829T044037Z
LAST-MODIFIED:20250829T044037Z
UID:10122483-1908532800-1908535500@synergyhealthworks.com
SUMMARY:Strength and Conditioning Class
DESCRIPTION:
URL:https://synergyhealthworks.com/event/strength-and-conditioning-class-3/2030-06-24/
LOCATION:Wagga Wagga | Fitness Hub\, 1/21-25 Forsyth Street\, Wagga Wagga\, NSW\, 2650\, Australia
CATEGORIES:Strength and Conditioning
END:VEVENT
BEGIN:VEVENT
DTSTART;TZID=Australia/Sydney:20300624T130000
DTEND;TZID=Australia/Sydney:20300624T134500
DTSTAMP:20260424T195946
CREATED:20251112T001650Z
LAST-MODIFIED:20251112T001650Z
UID:10127615-1908536400-1908539100@synergyhealthworks.com
SUMMARY:Strength and Conditioning Class
DESCRIPTION:
URL:https://synergyhealthworks.com/event/strength-and-conditioning-class-5/2030-06-24/
LOCATION:Wagga Wagga | Fitness Hub\, 1/21-25 Forsyth Street\, Wagga Wagga\, NSW\, 2650\, Australia
CATEGORIES:Strength and Conditioning
END:VEVENT
BEGIN:VEVENT
DTSTART;TZID=Australia/Sydney:20300625T103000
DTEND;TZID=Australia/Sydney:20300625T111500
DTSTAMP:20260424T195946
CREATED:20250502T051536Z
LAST-MODIFIED:20251203T032954Z
UID:10131548-1908613800-1908616500@synergyhealthworks.com
SUMMARY:Women’s Pelvic and Strength Class
DESCRIPTION:
URL:https://synergyhealthworks.com/event/womens-pelvic-and-strength-class/2030-06-25/
LOCATION:Wagga Wagga | Fitness Hub\, 1/21-25 Forsyth Street\, Wagga Wagga\, NSW\, 2650\, Australia
CATEGORIES:Women’s Pelvic and Strength Class
END:VEVENT
BEGIN:VEVENT
DTSTART;TZID=Australia/Sydney:20300627T063000
DTEND;TZID=Australia/Sydney:20300627T071500
DTSTAMP:20260424T195946
CREATED:20251128T024235Z
LAST-MODIFIED:20251128T024235Z
UID:10131518-1908772200-1908774900@synergyhealthworks.com
SUMMARY:Women's Strength Class for over 45s
DESCRIPTION:
URL:https://synergyhealthworks.com/event/womens-strength-class-for-over-45s-5/2030-06-27/
LOCATION:Wagga Wagga | Fitness Hub\, 1/21-25 Forsyth Street\, Wagga Wagga\, NSW\, 2650\, Australia
CATEGORIES:Women's Strength Class for over 45s
END:VEVENT
BEGIN:VEVENT
DTSTART;TZID=Australia/Sydney:20300627T090000
DTEND;TZID=Australia/Sydney:20300627T094500
DTSTAMP:20260424T195946
CREATED:20241112T221649Z
LAST-MODIFIED:20250722T032123Z
UID:10120955-1908781200-1908783900@synergyhealthworks.com
SUMMARY:Golfer's Strengthen & Stretch
DESCRIPTION:
URL:https://synergyhealthworks.com/event/golfers-strengthen-stretch-2/2030-06-27/
LOCATION:Wagga Wagga | Fitness Hub\, 1/21-25 Forsyth Street\, Wagga Wagga\, NSW\, 2650\, Australia
CATEGORIES:Golfer's Strengthen & Stretch
END:VEVENT
BEGIN:VEVENT
DTSTART;TZID=Australia/Sydney:20300627T100000
DTEND;TZID=Australia/Sydney:20300627T104500
DTSTAMP:20260424T195946
CREATED:20241112T221214Z
LAST-MODIFIED:20250722T032235Z
UID:10121256-1908784800-1908787500@synergyhealthworks.com
SUMMARY:Strength Circuit
DESCRIPTION:
URL:https://synergyhealthworks.com/event/mens-strength-class-3/2030-06-27/
LOCATION:Wagga Wagga | Fitness Hub\, 1/21-25 Forsyth Street\, Wagga Wagga\, NSW\, 2650\, Australia
CATEGORIES:Strength Circuit
END:VEVENT
BEGIN:VEVENT
DTSTART;TZID=Australia/Sydney:20300701T120000
DTEND;TZID=Australia/Sydney:20300701T124500
DTSTAMP:20260424T195946
CREATED:20250829T044037Z
LAST-MODIFIED:20250829T044037Z
UID:10122484-1909137600-1909140300@synergyhealthworks.com
SUMMARY:Strength and Conditioning Class
DESCRIPTION:
URL:https://synergyhealthworks.com/event/strength-and-conditioning-class-3/2030-07-01/
LOCATION:Wagga Wagga | Fitness Hub\, 1/21-25 Forsyth Street\, Wagga Wagga\, NSW\, 2650\, Australia
CATEGORIES:Strength and Conditioning
END:VEVENT
BEGIN:VEVENT
DTSTART;TZID=Australia/Sydney:20300701T130000
DTEND;TZID=Australia/Sydney:20300701T134500
DTSTAMP:20260424T195946
CREATED:20251112T001650Z
LAST-MODIFIED:20251112T001650Z
UID:10127616-1909141200-1909143900@synergyhealthworks.com
SUMMARY:Strength and Conditioning Class
DESCRIPTION:
URL:https://synergyhealthworks.com/event/strength-and-conditioning-class-5/2030-07-01/
LOCATION:Wagga Wagga | Fitness Hub\, 1/21-25 Forsyth Street\, Wagga Wagga\, NSW\, 2650\, Australia
CATEGORIES:Strength and Conditioning
END:VEVENT
BEGIN:VEVENT
DTSTART;TZID=Australia/Sydney:20300702T103000
DTEND;TZID=Australia/Sydney:20300702T111500
DTSTAMP:20260424T195946
CREATED:20250502T051536Z
LAST-MODIFIED:20251203T032954Z
UID:10131549-1909218600-1909221300@synergyhealthworks.com
SUMMARY:Women’s Pelvic and Strength Class
DESCRIPTION:
URL:https://synergyhealthworks.com/event/womens-pelvic-and-strength-class/2030-07-02/
LOCATION:Wagga Wagga | Fitness Hub\, 1/21-25 Forsyth Street\, Wagga Wagga\, NSW\, 2650\, Australia
CATEGORIES:Women’s Pelvic and Strength Class
END:VEVENT
BEGIN:VEVENT
DTSTART;TZID=Australia/Sydney:20300704T063000
DTEND;TZID=Australia/Sydney:20300704T071500
DTSTAMP:20260424T195946
CREATED:20251128T024235Z
LAST-MODIFIED:20251128T024235Z
UID:10131519-1909377000-1909379700@synergyhealthworks.com
SUMMARY:Women's Strength Class for over 45s
DESCRIPTION:
URL:https://synergyhealthworks.com/event/womens-strength-class-for-over-45s-5/2030-07-04/
LOCATION:Wagga Wagga | Fitness Hub\, 1/21-25 Forsyth Street\, Wagga Wagga\, NSW\, 2650\, Australia
CATEGORIES:Women's Strength Class for over 45s
END:VEVENT
BEGIN:VEVENT
DTSTART;TZID=Australia/Sydney:20300704T090000
DTEND;TZID=Australia/Sydney:20300704T094500
DTSTAMP:20260424T195946
CREATED:20241112T221649Z
LAST-MODIFIED:20250722T032123Z
UID:10120956-1909386000-1909388700@synergyhealthworks.com
SUMMARY:Golfer's Strengthen & Stretch
DESCRIPTION:
URL:https://synergyhealthworks.com/event/golfers-strengthen-stretch-2/2030-07-04/
LOCATION:Wagga Wagga | Fitness Hub\, 1/21-25 Forsyth Street\, Wagga Wagga\, NSW\, 2650\, Australia
CATEGORIES:Golfer's Strengthen & Stretch
END:VEVENT
BEGIN:VEVENT
DTSTART;TZID=Australia/Sydney:20300704T100000
DTEND;TZID=Australia/Sydney:20300704T104500
DTSTAMP:20260424T195946
CREATED:20241112T221214Z
LAST-MODIFIED:20250722T032235Z
UID:10121257-1909389600-1909392300@synergyhealthworks.com
SUMMARY:Strength Circuit
DESCRIPTION:
URL:https://synergyhealthworks.com/event/mens-strength-class-3/2030-07-04/
LOCATION:Wagga Wagga | Fitness Hub\, 1/21-25 Forsyth Street\, Wagga Wagga\, NSW\, 2650\, Australia
CATEGORIES:Strength Circuit
END:VEVENT
BEGIN:VEVENT
DTSTART;TZID=Australia/Sydney:20300708T120000
DTEND;TZID=Australia/Sydney:20300708T124500
DTSTAMP:20260424T195946
CREATED:20250829T044037Z
LAST-MODIFIED:20250829T044037Z
UID:10122485-1909742400-1909745100@synergyhealthworks.com
SUMMARY:Strength and Conditioning Class
DESCRIPTION:
URL:https://synergyhealthworks.com/event/strength-and-conditioning-class-3/2030-07-08/
LOCATION:Wagga Wagga | Fitness Hub\, 1/21-25 Forsyth Street\, Wagga Wagga\, NSW\, 2650\, Australia
CATEGORIES:Strength and Conditioning
END:VEVENT
BEGIN:VEVENT
DTSTART;TZID=Australia/Sydney:20300708T130000
DTEND;TZID=Australia/Sydney:20300708T134500
DTSTAMP:20260424T195946
CREATED:20251112T001650Z
LAST-MODIFIED:20251112T001650Z
UID:10127617-1909746000-1909748700@synergyhealthworks.com
SUMMARY:Strength and Conditioning Class
DESCRIPTION:
URL:https://synergyhealthworks.com/event/strength-and-conditioning-class-5/2030-07-08/
LOCATION:Wagga Wagga | Fitness Hub\, 1/21-25 Forsyth Street\, Wagga Wagga\, NSW\, 2650\, Australia
CATEGORIES:Strength and Conditioning
END:VEVENT
BEGIN:VEVENT
DTSTART;TZID=Australia/Sydney:20300709T103000
DTEND;TZID=Australia/Sydney:20300709T111500
DTSTAMP:20260424T195946
CREATED:20250502T051536Z
LAST-MODIFIED:20251203T032954Z
UID:10131550-1909823400-1909826100@synergyhealthworks.com
SUMMARY:Women’s Pelvic and Strength Class
DESCRIPTION:
URL:https://synergyhealthworks.com/event/womens-pelvic-and-strength-class/2030-07-09/
LOCATION:Wagga Wagga | Fitness Hub\, 1/21-25 Forsyth Street\, Wagga Wagga\, NSW\, 2650\, Australia
CATEGORIES:Women’s Pelvic and Strength Class
END:VEVENT
BEGIN:VEVENT
DTSTART;TZID=Australia/Sydney:20300711T063000
DTEND;TZID=Australia/Sydney:20300711T071500
DTSTAMP:20260424T195946
CREATED:20251128T024235Z
LAST-MODIFIED:20251128T024235Z
UID:10131520-1909981800-1909984500@synergyhealthworks.com
SUMMARY:Women's Strength Class for over 45s
DESCRIPTION:
URL:https://synergyhealthworks.com/event/womens-strength-class-for-over-45s-5/2030-07-11/
LOCATION:Wagga Wagga | Fitness Hub\, 1/21-25 Forsyth Street\, Wagga Wagga\, NSW\, 2650\, Australia
CATEGORIES:Women's Strength Class for over 45s
END:VEVENT
BEGIN:VEVENT
DTSTART;TZID=Australia/Sydney:20300711T090000
DTEND;TZID=Australia/Sydney:20300711T094500
DTSTAMP:20260424T195946
CREATED:20241112T221649Z
LAST-MODIFIED:20250722T032123Z
UID:10120957-1909990800-1909993500@synergyhealthworks.com
SUMMARY:Golfer's Strengthen & Stretch
DESCRIPTION:
URL:https://synergyhealthworks.com/event/golfers-strengthen-stretch-2/2030-07-11/
LOCATION:Wagga Wagga | Fitness Hub\, 1/21-25 Forsyth Street\, Wagga Wagga\, NSW\, 2650\, Australia
CATEGORIES:Golfer's Strengthen & Stretch
END:VEVENT
BEGIN:VEVENT
DTSTART;TZID=Australia/Sydney:20300711T100000
DTEND;TZID=Australia/Sydney:20300711T104500
DTSTAMP:20260424T195946
CREATED:20241112T221214Z
LAST-MODIFIED:20250722T032235Z
UID:10121258-1909994400-1909997100@synergyhealthworks.com
SUMMARY:Strength Circuit
DESCRIPTION:
URL:https://synergyhealthworks.com/event/mens-strength-class-3/2030-07-11/
LOCATION:Wagga Wagga | Fitness Hub\, 1/21-25 Forsyth Street\, Wagga Wagga\, NSW\, 2650\, Australia
CATEGORIES:Strength Circuit
END:VEVENT
BEGIN:VEVENT
DTSTART;TZID=Australia/Sydney:20300715T120000
DTEND;TZID=Australia/Sydney:20300715T124500
DTSTAMP:20260424T195946
CREATED:20250829T044037Z
LAST-MODIFIED:20250829T044037Z
UID:10122486-1910347200-1910349900@synergyhealthworks.com
SUMMARY:Strength and Conditioning Class
DESCRIPTION:
URL:https://synergyhealthworks.com/event/strength-and-conditioning-class-3/2030-07-15/
LOCATION:Wagga Wagga | Fitness Hub\, 1/21-25 Forsyth Street\, Wagga Wagga\, NSW\, 2650\, Australia
CATEGORIES:Strength and Conditioning
END:VEVENT
BEGIN:VEVENT
DTSTART;TZID=Australia/Sydney:20300715T130000
DTEND;TZID=Australia/Sydney:20300715T134500
DTSTAMP:20260424T195946
CREATED:20251112T001650Z
LAST-MODIFIED:20251112T001650Z
UID:10127618-1910350800-1910353500@synergyhealthworks.com
SUMMARY:Strength and Conditioning Class
DESCRIPTION:
URL:https://synergyhealthworks.com/event/strength-and-conditioning-class-5/2030-07-15/
LOCATION:Wagga Wagga | Fitness Hub\, 1/21-25 Forsyth Street\, Wagga Wagga\, NSW\, 2650\, Australia
CATEGORIES:Strength and Conditioning
END:VEVENT
BEGIN:VEVENT
DTSTART;TZID=Australia/Sydney:20300716T103000
DTEND;TZID=Australia/Sydney:20300716T111500
DTSTAMP:20260424T195946
CREATED:20250502T051536Z
LAST-MODIFIED:20251203T032954Z
UID:10131551-1910428200-1910430900@synergyhealthworks.com
SUMMARY:Women’s Pelvic and Strength Class
DESCRIPTION:
URL:https://synergyhealthworks.com/event/womens-pelvic-and-strength-class/2030-07-16/
LOCATION:Wagga Wagga | Fitness Hub\, 1/21-25 Forsyth Street\, Wagga Wagga\, NSW\, 2650\, Australia
CATEGORIES:Women’s Pelvic and Strength Class
END:VEVENT
BEGIN:VEVENT
DTSTART;TZID=Australia/Sydney:20300718T063000
DTEND;TZID=Australia/Sydney:20300718T071500
DTSTAMP:20260424T195946
CREATED:20251128T024235Z
LAST-MODIFIED:20251128T024235Z
UID:10131521-1910586600-1910589300@synergyhealthworks.com
SUMMARY:Women's Strength Class for over 45s
DESCRIPTION:
URL:https://synergyhealthworks.com/event/womens-strength-class-for-over-45s-5/2030-07-18/
LOCATION:Wagga Wagga | Fitness Hub\, 1/21-25 Forsyth Street\, Wagga Wagga\, NSW\, 2650\, Australia
CATEGORIES:Women's Strength Class for over 45s
END:VEVENT
BEGIN:VEVENT
DTSTART;TZID=Australia/Sydney:20300718T090000
DTEND;TZID=Australia/Sydney:20300718T094500
DTSTAMP:20260424T195946
CREATED:20241112T221649Z
LAST-MODIFIED:20250722T032123Z
UID:10120958-1910595600-1910598300@synergyhealthworks.com
SUMMARY:Golfer's Strengthen & Stretch
DESCRIPTION:
URL:https://synergyhealthworks.com/event/golfers-strengthen-stretch-2/2030-07-18/
LOCATION:Wagga Wagga | Fitness Hub\, 1/21-25 Forsyth Street\, Wagga Wagga\, NSW\, 2650\, Australia
CATEGORIES:Golfer's Strengthen & Stretch
END:VEVENT
BEGIN:VEVENT
DTSTART;TZID=Australia/Sydney:20300718T100000
DTEND;TZID=Australia/Sydney:20300718T104500
DTSTAMP:20260424T195946
CREATED:20241112T221214Z
LAST-MODIFIED:20250722T032235Z
UID:10121259-1910599200-1910601900@synergyhealthworks.com
SUMMARY:Strength Circuit
DESCRIPTION:
URL:https://synergyhealthworks.com/event/mens-strength-class-3/2030-07-18/
LOCATION:Wagga Wagga | Fitness Hub\, 1/21-25 Forsyth Street\, Wagga Wagga\, NSW\, 2650\, Australia
CATEGORIES:Strength Circuit
END:VEVENT
BEGIN:VEVENT
DTSTART;TZID=Australia/Sydney:20300722T120000
DTEND;TZID=Australia/Sydney:20300722T124500
DTSTAMP:20260424T195946
CREATED:20250829T044037Z
LAST-MODIFIED:20250829T044037Z
UID:10122487-1910952000-1910954700@synergyhealthworks.com
SUMMARY:Strength and Conditioning Class
DESCRIPTION:
URL:https://synergyhealthworks.com/event/strength-and-conditioning-class-3/2030-07-22/
LOCATION:Wagga Wagga | Fitness Hub\, 1/21-25 Forsyth Street\, Wagga Wagga\, NSW\, 2650\, Australia
CATEGORIES:Strength and Conditioning
END:VEVENT
BEGIN:VEVENT
DTSTART;TZID=Australia/Sydney:20300722T130000
DTEND;TZID=Australia/Sydney:20300722T134500
DTSTAMP:20260424T195946
CREATED:20251112T001650Z
LAST-MODIFIED:20251112T001650Z
UID:10127619-1910955600-1910958300@synergyhealthworks.com
SUMMARY:Strength and Conditioning Class
DESCRIPTION:
URL:https://synergyhealthworks.com/event/strength-and-conditioning-class-5/2030-07-22/
LOCATION:Wagga Wagga | Fitness Hub\, 1/21-25 Forsyth Street\, Wagga Wagga\, NSW\, 2650\, Australia
CATEGORIES:Strength and Conditioning
END:VEVENT
BEGIN:VEVENT
DTSTART;TZID=Australia/Sydney:20300723T103000
DTEND;TZID=Australia/Sydney:20300723T111500
DTSTAMP:20260424T195946
CREATED:20250502T051536Z
LAST-MODIFIED:20251203T032954Z
UID:10131552-1911033000-1911035700@synergyhealthworks.com
SUMMARY:Women’s Pelvic and Strength Class
DESCRIPTION:
URL:https://synergyhealthworks.com/event/womens-pelvic-and-strength-class/2030-07-23/
LOCATION:Wagga Wagga | Fitness Hub\, 1/21-25 Forsyth Street\, Wagga Wagga\, NSW\, 2650\, Australia
CATEGORIES:Women’s Pelvic and Strength Class
END:VEVENT
END:VCALENDAR