BEGIN:VCALENDAR
VERSION:2.0
PRODID:-//Synergy Healthworks - ECPv6.15.20//NONSGML v1.0//EN
CALSCALE:GREGORIAN
METHOD:PUBLISH
X-WR-CALNAME:Synergy Healthworks
X-ORIGINAL-URL:https://synergyhealthworks.com
X-WR-CALDESC:Events for Synergy Healthworks
REFRESH-INTERVAL;VALUE=DURATION:PT1H
X-Robots-Tag:noindex
X-PUBLISHED-TTL:PT1H
BEGIN:VTIMEZONE
TZID:Australia/Sydney
BEGIN:STANDARD
TZOFFSETFROM:+1100
TZOFFSETTO:+1000
TZNAME:AEST
DTSTART:20290331T160000
END:STANDARD
BEGIN:DAYLIGHT
TZOFFSETFROM:+1000
TZOFFSETTO:+1100
TZNAME:AEDT
DTSTART:20291006T160000
END:DAYLIGHT
BEGIN:STANDARD
TZOFFSETFROM:+1100
TZOFFSETTO:+1000
TZNAME:AEST
DTSTART:20300406T160000
END:STANDARD
BEGIN:DAYLIGHT
TZOFFSETFROM:+1000
TZOFFSETTO:+1100
TZNAME:AEDT
DTSTART:20301005T160000
END:DAYLIGHT
BEGIN:STANDARD
TZOFFSETFROM:+1100
TZOFFSETTO:+1000
TZNAME:AEST
DTSTART:20310405T160000
END:STANDARD
BEGIN:DAYLIGHT
TZOFFSETFROM:+1000
TZOFFSETTO:+1100
TZNAME:AEDT
DTSTART:20311004T160000
END:DAYLIGHT
END:VTIMEZONE
BEGIN:VEVENT
DTSTART;TZID=Australia/Sydney:20300527T120000
DTEND;TZID=Australia/Sydney:20300527T124500
DTSTAMP:20260424T162247
CREATED:20250829T044037Z
LAST-MODIFIED:20250829T044037Z
UID:10122479-1906113600-1906116300@synergyhealthworks.com
SUMMARY:Strength and Conditioning Class
DESCRIPTION:
URL:https://synergyhealthworks.com/event/strength-and-conditioning-class-3/2030-05-27/
LOCATION:Wagga Wagga | Fitness Hub\, 1/21-25 Forsyth Street\, Wagga Wagga\, NSW\, 2650\, Australia
CATEGORIES:Strength and Conditioning
END:VEVENT
BEGIN:VEVENT
DTSTART;TZID=Australia/Sydney:20300527T130000
DTEND;TZID=Australia/Sydney:20300527T134500
DTSTAMP:20260424T162247
CREATED:20251112T001650Z
LAST-MODIFIED:20251112T001650Z
UID:10127611-1906117200-1906119900@synergyhealthworks.com
SUMMARY:Strength and Conditioning Class
DESCRIPTION:
URL:https://synergyhealthworks.com/event/strength-and-conditioning-class-5/2030-05-27/
LOCATION:Wagga Wagga | Fitness Hub\, 1/21-25 Forsyth Street\, Wagga Wagga\, NSW\, 2650\, Australia
CATEGORIES:Strength and Conditioning
END:VEVENT
BEGIN:VEVENT
DTSTART;TZID=Australia/Sydney:20300528T103000
DTEND;TZID=Australia/Sydney:20300528T111500
DTSTAMP:20260424T162247
CREATED:20250502T051536Z
LAST-MODIFIED:20251203T032954Z
UID:10131544-1906194600-1906197300@synergyhealthworks.com
SUMMARY:Women’s Pelvic and Strength Class
DESCRIPTION:
URL:https://synergyhealthworks.com/event/womens-pelvic-and-strength-class/2030-05-28/
LOCATION:Wagga Wagga | Fitness Hub\, 1/21-25 Forsyth Street\, Wagga Wagga\, NSW\, 2650\, Australia
CATEGORIES:Women’s Pelvic and Strength Class
END:VEVENT
BEGIN:VEVENT
DTSTART;TZID=Australia/Sydney:20300530T063000
DTEND;TZID=Australia/Sydney:20300530T071500
DTSTAMP:20260424T162247
CREATED:20251128T024235Z
LAST-MODIFIED:20251128T024235Z
UID:10131514-1906353000-1906355700@synergyhealthworks.com
SUMMARY:Women's Strength Class for over 45s
DESCRIPTION:
URL:https://synergyhealthworks.com/event/womens-strength-class-for-over-45s-5/2030-05-30/
LOCATION:Wagga Wagga | Fitness Hub\, 1/21-25 Forsyth Street\, Wagga Wagga\, NSW\, 2650\, Australia
CATEGORIES:Women's Strength Class for over 45s
END:VEVENT
BEGIN:VEVENT
DTSTART;TZID=Australia/Sydney:20300530T090000
DTEND;TZID=Australia/Sydney:20300530T094500
DTSTAMP:20260424T162247
CREATED:20241112T221649Z
LAST-MODIFIED:20250722T032123Z
UID:10120951-1906362000-1906364700@synergyhealthworks.com
SUMMARY:Golfer's Strengthen & Stretch
DESCRIPTION:
URL:https://synergyhealthworks.com/event/golfers-strengthen-stretch-2/2030-05-30/
LOCATION:Wagga Wagga | Fitness Hub\, 1/21-25 Forsyth Street\, Wagga Wagga\, NSW\, 2650\, Australia
CATEGORIES:Golfer's Strengthen & Stretch
END:VEVENT
BEGIN:VEVENT
DTSTART;TZID=Australia/Sydney:20300530T100000
DTEND;TZID=Australia/Sydney:20300530T104500
DTSTAMP:20260424T162247
CREATED:20241112T221214Z
LAST-MODIFIED:20250722T032235Z
UID:10121252-1906365600-1906368300@synergyhealthworks.com
SUMMARY:Strength Circuit
DESCRIPTION:
URL:https://synergyhealthworks.com/event/mens-strength-class-3/2030-05-30/
LOCATION:Wagga Wagga | Fitness Hub\, 1/21-25 Forsyth Street\, Wagga Wagga\, NSW\, 2650\, Australia
CATEGORIES:Strength Circuit
END:VEVENT
BEGIN:VEVENT
DTSTART;TZID=Australia/Sydney:20300531T071500
DTEND;TZID=Australia/Sydney:20300531T080000
DTSTAMP:20260424T162247
CREATED:20250618T000503Z
LAST-MODIFIED:20250618T000657Z
UID:10119046-1906442100-1906444800@synergyhealthworks.com
SUMMARY:Bike & Box
DESCRIPTION:
URL:https://synergyhealthworks.com/event/bike-and-box/2030-05-31/
LOCATION:Wagga Wagga | Fitness Hub\, 1/21-25 Forsyth Street\, Wagga Wagga\, NSW\, 2650\, Australia
CATEGORIES:Bike & Box,Women's Strength Class for over 45s
END:VEVENT
BEGIN:VEVENT
DTSTART;TZID=Australia/Sydney:20300603T120000
DTEND;TZID=Australia/Sydney:20300603T124500
DTSTAMP:20260424T162247
CREATED:20250829T044037Z
LAST-MODIFIED:20250829T044037Z
UID:10122480-1906718400-1906721100@synergyhealthworks.com
SUMMARY:Strength and Conditioning Class
DESCRIPTION:
URL:https://synergyhealthworks.com/event/strength-and-conditioning-class-3/2030-06-03/
LOCATION:Wagga Wagga | Fitness Hub\, 1/21-25 Forsyth Street\, Wagga Wagga\, NSW\, 2650\, Australia
CATEGORIES:Strength and Conditioning
END:VEVENT
BEGIN:VEVENT
DTSTART;TZID=Australia/Sydney:20300603T130000
DTEND;TZID=Australia/Sydney:20300603T134500
DTSTAMP:20260424T162247
CREATED:20251112T001650Z
LAST-MODIFIED:20251112T001650Z
UID:10127612-1906722000-1906724700@synergyhealthworks.com
SUMMARY:Strength and Conditioning Class
DESCRIPTION:
URL:https://synergyhealthworks.com/event/strength-and-conditioning-class-5/2030-06-03/
LOCATION:Wagga Wagga | Fitness Hub\, 1/21-25 Forsyth Street\, Wagga Wagga\, NSW\, 2650\, Australia
CATEGORIES:Strength and Conditioning
END:VEVENT
BEGIN:VEVENT
DTSTART;TZID=Australia/Sydney:20300604T103000
DTEND;TZID=Australia/Sydney:20300604T111500
DTSTAMP:20260424T162247
CREATED:20250502T051536Z
LAST-MODIFIED:20251203T032954Z
UID:10131545-1906799400-1906802100@synergyhealthworks.com
SUMMARY:Women’s Pelvic and Strength Class
DESCRIPTION:
URL:https://synergyhealthworks.com/event/womens-pelvic-and-strength-class/2030-06-04/
LOCATION:Wagga Wagga | Fitness Hub\, 1/21-25 Forsyth Street\, Wagga Wagga\, NSW\, 2650\, Australia
CATEGORIES:Women’s Pelvic and Strength Class
END:VEVENT
BEGIN:VEVENT
DTSTART;TZID=Australia/Sydney:20300606T063000
DTEND;TZID=Australia/Sydney:20300606T071500
DTSTAMP:20260424T162247
CREATED:20251128T024235Z
LAST-MODIFIED:20251128T024235Z
UID:10131515-1906957800-1906960500@synergyhealthworks.com
SUMMARY:Women's Strength Class for over 45s
DESCRIPTION:
URL:https://synergyhealthworks.com/event/womens-strength-class-for-over-45s-5/2030-06-06/
LOCATION:Wagga Wagga | Fitness Hub\, 1/21-25 Forsyth Street\, Wagga Wagga\, NSW\, 2650\, Australia
CATEGORIES:Women's Strength Class for over 45s
END:VEVENT
BEGIN:VEVENT
DTSTART;TZID=Australia/Sydney:20300606T090000
DTEND;TZID=Australia/Sydney:20300606T094500
DTSTAMP:20260424T162247
CREATED:20241112T221649Z
LAST-MODIFIED:20250722T032123Z
UID:10120952-1906966800-1906969500@synergyhealthworks.com
SUMMARY:Golfer's Strengthen & Stretch
DESCRIPTION:
URL:https://synergyhealthworks.com/event/golfers-strengthen-stretch-2/2030-06-06/
LOCATION:Wagga Wagga | Fitness Hub\, 1/21-25 Forsyth Street\, Wagga Wagga\, NSW\, 2650\, Australia
CATEGORIES:Golfer's Strengthen & Stretch
END:VEVENT
BEGIN:VEVENT
DTSTART;TZID=Australia/Sydney:20300606T100000
DTEND;TZID=Australia/Sydney:20300606T104500
DTSTAMP:20260424T162247
CREATED:20241112T221214Z
LAST-MODIFIED:20250722T032235Z
UID:10121253-1906970400-1906973100@synergyhealthworks.com
SUMMARY:Strength Circuit
DESCRIPTION:
URL:https://synergyhealthworks.com/event/mens-strength-class-3/2030-06-06/
LOCATION:Wagga Wagga | Fitness Hub\, 1/21-25 Forsyth Street\, Wagga Wagga\, NSW\, 2650\, Australia
CATEGORIES:Strength Circuit
END:VEVENT
BEGIN:VEVENT
DTSTART;TZID=Australia/Sydney:20300607T071500
DTEND;TZID=Australia/Sydney:20300607T080000
DTSTAMP:20260424T162247
CREATED:20250618T000503Z
LAST-MODIFIED:20250618T000657Z
UID:10119047-1907046900-1907049600@synergyhealthworks.com
SUMMARY:Bike & Box
DESCRIPTION:
URL:https://synergyhealthworks.com/event/bike-and-box/2030-06-07/
LOCATION:Wagga Wagga | Fitness Hub\, 1/21-25 Forsyth Street\, Wagga Wagga\, NSW\, 2650\, Australia
CATEGORIES:Bike & Box,Women's Strength Class for over 45s
END:VEVENT
BEGIN:VEVENT
DTSTART;TZID=Australia/Sydney:20300610T120000
DTEND;TZID=Australia/Sydney:20300610T124500
DTSTAMP:20260424T162247
CREATED:20250829T044037Z
LAST-MODIFIED:20250829T044037Z
UID:10122481-1907323200-1907325900@synergyhealthworks.com
SUMMARY:Strength and Conditioning Class
DESCRIPTION:
URL:https://synergyhealthworks.com/event/strength-and-conditioning-class-3/2030-06-10/
LOCATION:Wagga Wagga | Fitness Hub\, 1/21-25 Forsyth Street\, Wagga Wagga\, NSW\, 2650\, Australia
CATEGORIES:Strength and Conditioning
END:VEVENT
BEGIN:VEVENT
DTSTART;TZID=Australia/Sydney:20300610T130000
DTEND;TZID=Australia/Sydney:20300610T134500
DTSTAMP:20260424T162247
CREATED:20251112T001650Z
LAST-MODIFIED:20251112T001650Z
UID:10127613-1907326800-1907329500@synergyhealthworks.com
SUMMARY:Strength and Conditioning Class
DESCRIPTION:
URL:https://synergyhealthworks.com/event/strength-and-conditioning-class-5/2030-06-10/
LOCATION:Wagga Wagga | Fitness Hub\, 1/21-25 Forsyth Street\, Wagga Wagga\, NSW\, 2650\, Australia
CATEGORIES:Strength and Conditioning
END:VEVENT
BEGIN:VEVENT
DTSTART;TZID=Australia/Sydney:20300611T103000
DTEND;TZID=Australia/Sydney:20300611T111500
DTSTAMP:20260424T162247
CREATED:20250502T051536Z
LAST-MODIFIED:20251203T032954Z
UID:10131546-1907404200-1907406900@synergyhealthworks.com
SUMMARY:Women’s Pelvic and Strength Class
DESCRIPTION:
URL:https://synergyhealthworks.com/event/womens-pelvic-and-strength-class/2030-06-11/
LOCATION:Wagga Wagga | Fitness Hub\, 1/21-25 Forsyth Street\, Wagga Wagga\, NSW\, 2650\, Australia
CATEGORIES:Women’s Pelvic and Strength Class
END:VEVENT
BEGIN:VEVENT
DTSTART;TZID=Australia/Sydney:20300613T063000
DTEND;TZID=Australia/Sydney:20300613T071500
DTSTAMP:20260424T162247
CREATED:20251128T024235Z
LAST-MODIFIED:20251128T024235Z
UID:10131516-1907562600-1907565300@synergyhealthworks.com
SUMMARY:Women's Strength Class for over 45s
DESCRIPTION:
URL:https://synergyhealthworks.com/event/womens-strength-class-for-over-45s-5/2030-06-13/
LOCATION:Wagga Wagga | Fitness Hub\, 1/21-25 Forsyth Street\, Wagga Wagga\, NSW\, 2650\, Australia
CATEGORIES:Women's Strength Class for over 45s
END:VEVENT
BEGIN:VEVENT
DTSTART;TZID=Australia/Sydney:20300613T090000
DTEND;TZID=Australia/Sydney:20300613T094500
DTSTAMP:20260424T162247
CREATED:20241112T221649Z
LAST-MODIFIED:20250722T032123Z
UID:10120953-1907571600-1907574300@synergyhealthworks.com
SUMMARY:Golfer's Strengthen & Stretch
DESCRIPTION:
URL:https://synergyhealthworks.com/event/golfers-strengthen-stretch-2/2030-06-13/
LOCATION:Wagga Wagga | Fitness Hub\, 1/21-25 Forsyth Street\, Wagga Wagga\, NSW\, 2650\, Australia
CATEGORIES:Golfer's Strengthen & Stretch
END:VEVENT
BEGIN:VEVENT
DTSTART;TZID=Australia/Sydney:20300613T100000
DTEND;TZID=Australia/Sydney:20300613T104500
DTSTAMP:20260424T162247
CREATED:20241112T221214Z
LAST-MODIFIED:20250722T032235Z
UID:10121254-1907575200-1907577900@synergyhealthworks.com
SUMMARY:Strength Circuit
DESCRIPTION:
URL:https://synergyhealthworks.com/event/mens-strength-class-3/2030-06-13/
LOCATION:Wagga Wagga | Fitness Hub\, 1/21-25 Forsyth Street\, Wagga Wagga\, NSW\, 2650\, Australia
CATEGORIES:Strength Circuit
END:VEVENT
BEGIN:VEVENT
DTSTART;TZID=Australia/Sydney:20300614T071500
DTEND;TZID=Australia/Sydney:20300614T080000
DTSTAMP:20260424T162247
CREATED:20250618T000503Z
LAST-MODIFIED:20250618T000657Z
UID:10119048-1907651700-1907654400@synergyhealthworks.com
SUMMARY:Bike & Box
DESCRIPTION:
URL:https://synergyhealthworks.com/event/bike-and-box/2030-06-14/
LOCATION:Wagga Wagga | Fitness Hub\, 1/21-25 Forsyth Street\, Wagga Wagga\, NSW\, 2650\, Australia
CATEGORIES:Bike & Box,Women's Strength Class for over 45s
END:VEVENT
BEGIN:VEVENT
DTSTART;TZID=Australia/Sydney:20300617T120000
DTEND;TZID=Australia/Sydney:20300617T124500
DTSTAMP:20260424T162247
CREATED:20250829T044037Z
LAST-MODIFIED:20250829T044037Z
UID:10122482-1907928000-1907930700@synergyhealthworks.com
SUMMARY:Strength and Conditioning Class
DESCRIPTION:
URL:https://synergyhealthworks.com/event/strength-and-conditioning-class-3/2030-06-17/
LOCATION:Wagga Wagga | Fitness Hub\, 1/21-25 Forsyth Street\, Wagga Wagga\, NSW\, 2650\, Australia
CATEGORIES:Strength and Conditioning
END:VEVENT
BEGIN:VEVENT
DTSTART;TZID=Australia/Sydney:20300617T130000
DTEND;TZID=Australia/Sydney:20300617T134500
DTSTAMP:20260424T162247
CREATED:20251112T001650Z
LAST-MODIFIED:20251112T001650Z
UID:10127614-1907931600-1907934300@synergyhealthworks.com
SUMMARY:Strength and Conditioning Class
DESCRIPTION:
URL:https://synergyhealthworks.com/event/strength-and-conditioning-class-5/2030-06-17/
LOCATION:Wagga Wagga | Fitness Hub\, 1/21-25 Forsyth Street\, Wagga Wagga\, NSW\, 2650\, Australia
CATEGORIES:Strength and Conditioning
END:VEVENT
BEGIN:VEVENT
DTSTART;TZID=Australia/Sydney:20300618T103000
DTEND;TZID=Australia/Sydney:20300618T111500
DTSTAMP:20260424T162247
CREATED:20250502T051536Z
LAST-MODIFIED:20251203T032954Z
UID:10131547-1908009000-1908011700@synergyhealthworks.com
SUMMARY:Women’s Pelvic and Strength Class
DESCRIPTION:
URL:https://synergyhealthworks.com/event/womens-pelvic-and-strength-class/2030-06-18/
LOCATION:Wagga Wagga | Fitness Hub\, 1/21-25 Forsyth Street\, Wagga Wagga\, NSW\, 2650\, Australia
CATEGORIES:Women’s Pelvic and Strength Class
END:VEVENT
BEGIN:VEVENT
DTSTART;TZID=Australia/Sydney:20300620T063000
DTEND;TZID=Australia/Sydney:20300620T071500
DTSTAMP:20260424T162247
CREATED:20251128T024235Z
LAST-MODIFIED:20251128T024235Z
UID:10131517-1908167400-1908170100@synergyhealthworks.com
SUMMARY:Women's Strength Class for over 45s
DESCRIPTION:
URL:https://synergyhealthworks.com/event/womens-strength-class-for-over-45s-5/2030-06-20/
LOCATION:Wagga Wagga | Fitness Hub\, 1/21-25 Forsyth Street\, Wagga Wagga\, NSW\, 2650\, Australia
CATEGORIES:Women's Strength Class for over 45s
END:VEVENT
BEGIN:VEVENT
DTSTART;TZID=Australia/Sydney:20300620T090000
DTEND;TZID=Australia/Sydney:20300620T094500
DTSTAMP:20260424T162247
CREATED:20241112T221649Z
LAST-MODIFIED:20250722T032123Z
UID:10120954-1908176400-1908179100@synergyhealthworks.com
SUMMARY:Golfer's Strengthen & Stretch
DESCRIPTION:
URL:https://synergyhealthworks.com/event/golfers-strengthen-stretch-2/2030-06-20/
LOCATION:Wagga Wagga | Fitness Hub\, 1/21-25 Forsyth Street\, Wagga Wagga\, NSW\, 2650\, Australia
CATEGORIES:Golfer's Strengthen & Stretch
END:VEVENT
BEGIN:VEVENT
DTSTART;TZID=Australia/Sydney:20300620T100000
DTEND;TZID=Australia/Sydney:20300620T104500
DTSTAMP:20260424T162247
CREATED:20241112T221214Z
LAST-MODIFIED:20250722T032235Z
UID:10121255-1908180000-1908182700@synergyhealthworks.com
SUMMARY:Strength Circuit
DESCRIPTION:
URL:https://synergyhealthworks.com/event/mens-strength-class-3/2030-06-20/
LOCATION:Wagga Wagga | Fitness Hub\, 1/21-25 Forsyth Street\, Wagga Wagga\, NSW\, 2650\, Australia
CATEGORIES:Strength Circuit
END:VEVENT
BEGIN:VEVENT
DTSTART;TZID=Australia/Sydney:20300624T120000
DTEND;TZID=Australia/Sydney:20300624T124500
DTSTAMP:20260424T162247
CREATED:20250829T044037Z
LAST-MODIFIED:20250829T044037Z
UID:10122483-1908532800-1908535500@synergyhealthworks.com
SUMMARY:Strength and Conditioning Class
DESCRIPTION:
URL:https://synergyhealthworks.com/event/strength-and-conditioning-class-3/2030-06-24/
LOCATION:Wagga Wagga | Fitness Hub\, 1/21-25 Forsyth Street\, Wagga Wagga\, NSW\, 2650\, Australia
CATEGORIES:Strength and Conditioning
END:VEVENT
BEGIN:VEVENT
DTSTART;TZID=Australia/Sydney:20300624T130000
DTEND;TZID=Australia/Sydney:20300624T134500
DTSTAMP:20260424T162247
CREATED:20251112T001650Z
LAST-MODIFIED:20251112T001650Z
UID:10127615-1908536400-1908539100@synergyhealthworks.com
SUMMARY:Strength and Conditioning Class
DESCRIPTION:
URL:https://synergyhealthworks.com/event/strength-and-conditioning-class-5/2030-06-24/
LOCATION:Wagga Wagga | Fitness Hub\, 1/21-25 Forsyth Street\, Wagga Wagga\, NSW\, 2650\, Australia
CATEGORIES:Strength and Conditioning
END:VEVENT
BEGIN:VEVENT
DTSTART;TZID=Australia/Sydney:20300625T103000
DTEND;TZID=Australia/Sydney:20300625T111500
DTSTAMP:20260424T162247
CREATED:20250502T051536Z
LAST-MODIFIED:20251203T032954Z
UID:10131548-1908613800-1908616500@synergyhealthworks.com
SUMMARY:Women’s Pelvic and Strength Class
DESCRIPTION:
URL:https://synergyhealthworks.com/event/womens-pelvic-and-strength-class/2030-06-25/
LOCATION:Wagga Wagga | Fitness Hub\, 1/21-25 Forsyth Street\, Wagga Wagga\, NSW\, 2650\, Australia
CATEGORIES:Women’s Pelvic and Strength Class
END:VEVENT
END:VCALENDAR