BEGIN:VCALENDAR
VERSION:2.0
PRODID:-//Synergy Healthworks - ECPv6.15.20//NONSGML v1.0//EN
CALSCALE:GREGORIAN
METHOD:PUBLISH
X-WR-CALNAME:Synergy Healthworks
X-ORIGINAL-URL:https://synergyhealthworks.com
X-WR-CALDESC:Events for Synergy Healthworks
REFRESH-INTERVAL;VALUE=DURATION:PT1H
X-Robots-Tag:noindex
X-PUBLISHED-TTL:PT1H
BEGIN:VTIMEZONE
TZID:Australia/Sydney
BEGIN:STANDARD
TZOFFSETFROM:+1100
TZOFFSETTO:+1000
TZNAME:AEST
DTSTART:20290331T160000
END:STANDARD
BEGIN:DAYLIGHT
TZOFFSETFROM:+1000
TZOFFSETTO:+1100
TZNAME:AEDT
DTSTART:20291006T160000
END:DAYLIGHT
BEGIN:STANDARD
TZOFFSETFROM:+1100
TZOFFSETTO:+1000
TZNAME:AEST
DTSTART:20300406T160000
END:STANDARD
BEGIN:DAYLIGHT
TZOFFSETFROM:+1000
TZOFFSETTO:+1100
TZNAME:AEDT
DTSTART:20301005T160000
END:DAYLIGHT
BEGIN:STANDARD
TZOFFSETFROM:+1100
TZOFFSETTO:+1000
TZNAME:AEST
DTSTART:20310405T160000
END:STANDARD
BEGIN:DAYLIGHT
TZOFFSETFROM:+1000
TZOFFSETTO:+1100
TZNAME:AEDT
DTSTART:20311004T160000
END:DAYLIGHT
END:VTIMEZONE
BEGIN:VEVENT
DTSTART;TZID=Australia/Sydney:20300304T120000
DTEND;TZID=Australia/Sydney:20300304T124500
DTSTAMP:20260423T223128
CREATED:20250829T044037Z
LAST-MODIFIED:20250829T044037Z
UID:10122467-1898856000-1898858700@synergyhealthworks.com
SUMMARY:Strength and Conditioning Class
DESCRIPTION:
URL:https://synergyhealthworks.com/event/strength-and-conditioning-class-3/2030-03-04/
LOCATION:Wagga Wagga | Fitness Hub\, 1/21-25 Forsyth Street\, Wagga Wagga\, NSW\, 2650\, Australia
CATEGORIES:Strength and Conditioning
END:VEVENT
BEGIN:VEVENT
DTSTART;TZID=Australia/Sydney:20300304T130000
DTEND;TZID=Australia/Sydney:20300304T134500
DTSTAMP:20260423T223128
CREATED:20251112T001650Z
LAST-MODIFIED:20251112T001650Z
UID:10127599-1898859600-1898862300@synergyhealthworks.com
SUMMARY:Strength and Conditioning Class
DESCRIPTION:
URL:https://synergyhealthworks.com/event/strength-and-conditioning-class-5/2030-03-04/
LOCATION:Wagga Wagga | Fitness Hub\, 1/21-25 Forsyth Street\, Wagga Wagga\, NSW\, 2650\, Australia
CATEGORIES:Strength and Conditioning
END:VEVENT
BEGIN:VEVENT
DTSTART;TZID=Australia/Sydney:20300304T163000
DTEND;TZID=Australia/Sydney:20300304T171500
DTSTAMP:20260423T223128
CREATED:20250502T051402Z
LAST-MODIFIED:20250502T051402Z
UID:10116736-1898872200-1898874900@synergyhealthworks.com
SUMMARY:Women’s Pregnancy Strength Class
DESCRIPTION:
URL:https://synergyhealthworks.com/event/womens-pregnancy-strength-class/2030-03-04/
LOCATION:Wagga Wagga | Fitness Hub\, 1/21-25 Forsyth Street\, Wagga Wagga\, NSW\, 2650\, Australia
CATEGORIES:Women’s Pregnancy Strength Class
END:VEVENT
BEGIN:VEVENT
DTSTART;TZID=Australia/Sydney:20300305T063000
DTEND;TZID=Australia/Sydney:20300305T071500
DTSTAMP:20260423T223128
CREATED:20241124T211846Z
LAST-MODIFIED:20250516T043543Z
UID:10117026-1898922600-1898925300@synergyhealthworks.com
SUMMARY:Women's Strength for over 45s
DESCRIPTION:
URL:https://synergyhealthworks.com/event/womens-fat-burn/2030-03-05/
LOCATION:Wagga Wagga | Fitness Hub\, 1/21-25 Forsyth Street\, Wagga Wagga\, NSW\, 2650\, Australia
CATEGORIES:Women's Strength Class for over 45s
END:VEVENT
BEGIN:VEVENT
DTSTART;TZID=Australia/Sydney:20300305T103000
DTEND;TZID=Australia/Sydney:20300305T111500
DTSTAMP:20260423T223128
CREATED:20250502T051536Z
LAST-MODIFIED:20251203T032954Z
UID:10116997-1898937000-1898939700@synergyhealthworks.com
SUMMARY:Women’s Pelvic and Strength Class
DESCRIPTION:
URL:https://synergyhealthworks.com/event/womens-pelvic-and-strength-class/2030-03-05/
LOCATION:Wagga Wagga | Fitness Hub\, 1/21-25 Forsyth Street\, Wagga Wagga\, NSW\, 2650\, Australia
CATEGORIES:Women’s Pelvic and Strength Class
END:VEVENT
BEGIN:VEVENT
DTSTART;TZID=Australia/Sydney:20300307T063000
DTEND;TZID=Australia/Sydney:20300307T071500
DTSTAMP:20260423T223128
CREATED:20251128T024235Z
LAST-MODIFIED:20251128T024235Z
UID:10131502-1899095400-1899098100@synergyhealthworks.com
SUMMARY:Women's Strength Class for over 45s
DESCRIPTION:
URL:https://synergyhealthworks.com/event/womens-strength-class-for-over-45s-5/2030-03-07/
LOCATION:Wagga Wagga | Fitness Hub\, 1/21-25 Forsyth Street\, Wagga Wagga\, NSW\, 2650\, Australia
CATEGORIES:Women's Strength Class for over 45s
END:VEVENT
BEGIN:VEVENT
DTSTART;TZID=Australia/Sydney:20300307T090000
DTEND;TZID=Australia/Sydney:20300307T094500
DTSTAMP:20260423T223128
CREATED:20241112T221649Z
LAST-MODIFIED:20250722T032123Z
UID:10120939-1899104400-1899107100@synergyhealthworks.com
SUMMARY:Golfer's Strengthen & Stretch
DESCRIPTION:
URL:https://synergyhealthworks.com/event/golfers-strengthen-stretch-2/2030-03-07/
LOCATION:Wagga Wagga | Fitness Hub\, 1/21-25 Forsyth Street\, Wagga Wagga\, NSW\, 2650\, Australia
CATEGORIES:Golfer's Strengthen & Stretch
END:VEVENT
BEGIN:VEVENT
DTSTART;TZID=Australia/Sydney:20300307T100000
DTEND;TZID=Australia/Sydney:20300307T104500
DTSTAMP:20260423T223128
CREATED:20241112T221214Z
LAST-MODIFIED:20250722T032235Z
UID:10121240-1899108000-1899110700@synergyhealthworks.com
SUMMARY:Strength Circuit
DESCRIPTION:
URL:https://synergyhealthworks.com/event/mens-strength-class-3/2030-03-07/
LOCATION:Wagga Wagga | Fitness Hub\, 1/21-25 Forsyth Street\, Wagga Wagga\, NSW\, 2650\, Australia
CATEGORIES:Strength Circuit
END:VEVENT
BEGIN:VEVENT
DTSTART;TZID=Australia/Sydney:20300307T120000
DTEND;TZID=Australia/Sydney:20300307T124500
DTSTAMP:20260423T223128
CREATED:20241124T212036Z
LAST-MODIFIED:20250516T043505Z
UID:10117011-1899115200-1899117900@synergyhealthworks.com
SUMMARY:Women's Strength for over 45s
DESCRIPTION:
URL:https://synergyhealthworks.com/event/womens-fat-burn-2/2030-03-07/
LOCATION:Wagga Wagga | Fitness Hub\, 1/21-25 Forsyth Street\, Wagga Wagga\, NSW\, 2650\, Australia
CATEGORIES:Women's Strength Class for over 45s
END:VEVENT
BEGIN:VEVENT
DTSTART;TZID=Australia/Sydney:20300308T071500
DTEND;TZID=Australia/Sydney:20300308T080000
DTSTAMP:20260423T223128
CREATED:20250618T000503Z
LAST-MODIFIED:20250618T000657Z
UID:10119034-1899184500-1899187200@synergyhealthworks.com
SUMMARY:Bike & Box
DESCRIPTION:
URL:https://synergyhealthworks.com/event/bike-and-box/2030-03-08/
LOCATION:Wagga Wagga | Fitness Hub\, 1/21-25 Forsyth Street\, Wagga Wagga\, NSW\, 2650\, Australia
CATEGORIES:Bike & Box,Women's Strength Class for over 45s
END:VEVENT
BEGIN:VEVENT
DTSTART;TZID=Australia/Sydney:20300308T073000
DTEND;TZID=Australia/Sydney:20300308T081500
DTSTAMP:20260423T223128
CREATED:20241202T231716Z
LAST-MODIFIED:20250403T044134Z
UID:10116202-1899185400-1899188100@synergyhealthworks.com
SUMMARY:Strength Circuit
DESCRIPTION:
URL:https://synergyhealthworks.com/event/strength-circuit-2/2030-03-08/
LOCATION:Wagga Wagga | Fitness Hub\, 1/21-25 Forsyth Street\, Wagga Wagga\, NSW\, 2650\, Australia
CATEGORIES:Strength Circuit
END:VEVENT
BEGIN:VEVENT
DTSTART;TZID=Australia/Sydney:20300308T083000
DTEND;TZID=Australia/Sydney:20300308T091500
DTSTAMP:20260423T223128
CREATED:20241112T224821Z
LAST-MODIFIED:20250403T043412Z
UID:10115924-1899189000-1899191700@synergyhealthworks.com
SUMMARY:Women's Strength Class for over 45s
DESCRIPTION:
URL:https://synergyhealthworks.com/event/bike-box-2/2030-03-08/
LOCATION:Wagga Wagga | Fitness Hub\, 1/21-25 Forsyth Street\, Wagga Wagga\, NSW\, 2650\, Australia
CATEGORIES:Women's Strength Class for over 45s
END:VEVENT
BEGIN:VEVENT
DTSTART;TZID=Australia/Sydney:20300311T120000
DTEND;TZID=Australia/Sydney:20300311T124500
DTSTAMP:20260423T223128
CREATED:20250829T044037Z
LAST-MODIFIED:20250829T044037Z
UID:10122468-1899460800-1899463500@synergyhealthworks.com
SUMMARY:Strength and Conditioning Class
DESCRIPTION:
URL:https://synergyhealthworks.com/event/strength-and-conditioning-class-3/2030-03-11/
LOCATION:Wagga Wagga | Fitness Hub\, 1/21-25 Forsyth Street\, Wagga Wagga\, NSW\, 2650\, Australia
CATEGORIES:Strength and Conditioning
END:VEVENT
BEGIN:VEVENT
DTSTART;TZID=Australia/Sydney:20300311T130000
DTEND;TZID=Australia/Sydney:20300311T134500
DTSTAMP:20260423T223128
CREATED:20251112T001650Z
LAST-MODIFIED:20251112T001650Z
UID:10127600-1899464400-1899467100@synergyhealthworks.com
SUMMARY:Strength and Conditioning Class
DESCRIPTION:
URL:https://synergyhealthworks.com/event/strength-and-conditioning-class-5/2030-03-11/
LOCATION:Wagga Wagga | Fitness Hub\, 1/21-25 Forsyth Street\, Wagga Wagga\, NSW\, 2650\, Australia
CATEGORIES:Strength and Conditioning
END:VEVENT
BEGIN:VEVENT
DTSTART;TZID=Australia/Sydney:20300311T163000
DTEND;TZID=Australia/Sydney:20300311T171500
DTSTAMP:20260423T223128
CREATED:20250502T051402Z
LAST-MODIFIED:20250502T051402Z
UID:10116737-1899477000-1899479700@synergyhealthworks.com
SUMMARY:Women’s Pregnancy Strength Class
DESCRIPTION:
URL:https://synergyhealthworks.com/event/womens-pregnancy-strength-class/2030-03-11/
LOCATION:Wagga Wagga | Fitness Hub\, 1/21-25 Forsyth Street\, Wagga Wagga\, NSW\, 2650\, Australia
CATEGORIES:Women’s Pregnancy Strength Class
END:VEVENT
BEGIN:VEVENT
DTSTART;TZID=Australia/Sydney:20300312T063000
DTEND;TZID=Australia/Sydney:20300312T071500
DTSTAMP:20260423T223128
CREATED:20241124T211846Z
LAST-MODIFIED:20250516T043543Z
UID:10117027-1899527400-1899530100@synergyhealthworks.com
SUMMARY:Women's Strength for over 45s
DESCRIPTION:
URL:https://synergyhealthworks.com/event/womens-fat-burn/2030-03-12/
LOCATION:Wagga Wagga | Fitness Hub\, 1/21-25 Forsyth Street\, Wagga Wagga\, NSW\, 2650\, Australia
CATEGORIES:Women's Strength Class for over 45s
END:VEVENT
BEGIN:VEVENT
DTSTART;TZID=Australia/Sydney:20300312T103000
DTEND;TZID=Australia/Sydney:20300312T111500
DTSTAMP:20260423T223128
CREATED:20250502T051536Z
LAST-MODIFIED:20251203T032954Z
UID:10116998-1899541800-1899544500@synergyhealthworks.com
SUMMARY:Women’s Pelvic and Strength Class
DESCRIPTION:
URL:https://synergyhealthworks.com/event/womens-pelvic-and-strength-class/2030-03-12/
LOCATION:Wagga Wagga | Fitness Hub\, 1/21-25 Forsyth Street\, Wagga Wagga\, NSW\, 2650\, Australia
CATEGORIES:Women’s Pelvic and Strength Class
END:VEVENT
BEGIN:VEVENT
DTSTART;TZID=Australia/Sydney:20300314T063000
DTEND;TZID=Australia/Sydney:20300314T071500
DTSTAMP:20260423T223128
CREATED:20251128T024235Z
LAST-MODIFIED:20251128T024235Z
UID:10131503-1899700200-1899702900@synergyhealthworks.com
SUMMARY:Women's Strength Class for over 45s
DESCRIPTION:
URL:https://synergyhealthworks.com/event/womens-strength-class-for-over-45s-5/2030-03-14/
LOCATION:Wagga Wagga | Fitness Hub\, 1/21-25 Forsyth Street\, Wagga Wagga\, NSW\, 2650\, Australia
CATEGORIES:Women's Strength Class for over 45s
END:VEVENT
BEGIN:VEVENT
DTSTART;TZID=Australia/Sydney:20300314T090000
DTEND;TZID=Australia/Sydney:20300314T094500
DTSTAMP:20260423T223128
CREATED:20241112T221649Z
LAST-MODIFIED:20250722T032123Z
UID:10120940-1899709200-1899711900@synergyhealthworks.com
SUMMARY:Golfer's Strengthen & Stretch
DESCRIPTION:
URL:https://synergyhealthworks.com/event/golfers-strengthen-stretch-2/2030-03-14/
LOCATION:Wagga Wagga | Fitness Hub\, 1/21-25 Forsyth Street\, Wagga Wagga\, NSW\, 2650\, Australia
CATEGORIES:Golfer's Strengthen & Stretch
END:VEVENT
BEGIN:VEVENT
DTSTART;TZID=Australia/Sydney:20300314T100000
DTEND;TZID=Australia/Sydney:20300314T104500
DTSTAMP:20260423T223128
CREATED:20241112T221214Z
LAST-MODIFIED:20250722T032235Z
UID:10121241-1899712800-1899715500@synergyhealthworks.com
SUMMARY:Strength Circuit
DESCRIPTION:
URL:https://synergyhealthworks.com/event/mens-strength-class-3/2030-03-14/
LOCATION:Wagga Wagga | Fitness Hub\, 1/21-25 Forsyth Street\, Wagga Wagga\, NSW\, 2650\, Australia
CATEGORIES:Strength Circuit
END:VEVENT
BEGIN:VEVENT
DTSTART;TZID=Australia/Sydney:20300314T120000
DTEND;TZID=Australia/Sydney:20300314T124500
DTSTAMP:20260423T223128
CREATED:20241124T212036Z
LAST-MODIFIED:20250516T043505Z
UID:10117012-1899720000-1899722700@synergyhealthworks.com
SUMMARY:Women's Strength for over 45s
DESCRIPTION:
URL:https://synergyhealthworks.com/event/womens-fat-burn-2/2030-03-14/
LOCATION:Wagga Wagga | Fitness Hub\, 1/21-25 Forsyth Street\, Wagga Wagga\, NSW\, 2650\, Australia
CATEGORIES:Women's Strength Class for over 45s
END:VEVENT
BEGIN:VEVENT
DTSTART;TZID=Australia/Sydney:20300315T071500
DTEND;TZID=Australia/Sydney:20300315T080000
DTSTAMP:20260423T223128
CREATED:20250618T000503Z
LAST-MODIFIED:20250618T000657Z
UID:10119035-1899789300-1899792000@synergyhealthworks.com
SUMMARY:Bike & Box
DESCRIPTION:
URL:https://synergyhealthworks.com/event/bike-and-box/2030-03-15/
LOCATION:Wagga Wagga | Fitness Hub\, 1/21-25 Forsyth Street\, Wagga Wagga\, NSW\, 2650\, Australia
CATEGORIES:Bike & Box,Women's Strength Class for over 45s
END:VEVENT
BEGIN:VEVENT
DTSTART;TZID=Australia/Sydney:20300315T073000
DTEND;TZID=Australia/Sydney:20300315T081500
DTSTAMP:20260423T223128
CREATED:20241202T231716Z
LAST-MODIFIED:20250403T044134Z
UID:10116203-1899790200-1899792900@synergyhealthworks.com
SUMMARY:Strength Circuit
DESCRIPTION:
URL:https://synergyhealthworks.com/event/strength-circuit-2/2030-03-15/
LOCATION:Wagga Wagga | Fitness Hub\, 1/21-25 Forsyth Street\, Wagga Wagga\, NSW\, 2650\, Australia
CATEGORIES:Strength Circuit
END:VEVENT
BEGIN:VEVENT
DTSTART;TZID=Australia/Sydney:20300315T083000
DTEND;TZID=Australia/Sydney:20300315T091500
DTSTAMP:20260423T223128
CREATED:20241112T224821Z
LAST-MODIFIED:20250403T043412Z
UID:10115925-1899793800-1899796500@synergyhealthworks.com
SUMMARY:Women's Strength Class for over 45s
DESCRIPTION:
URL:https://synergyhealthworks.com/event/bike-box-2/2030-03-15/
LOCATION:Wagga Wagga | Fitness Hub\, 1/21-25 Forsyth Street\, Wagga Wagga\, NSW\, 2650\, Australia
CATEGORIES:Women's Strength Class for over 45s
END:VEVENT
BEGIN:VEVENT
DTSTART;TZID=Australia/Sydney:20300318T120000
DTEND;TZID=Australia/Sydney:20300318T124500
DTSTAMP:20260423T223128
CREATED:20250829T044037Z
LAST-MODIFIED:20250829T044037Z
UID:10122469-1900065600-1900068300@synergyhealthworks.com
SUMMARY:Strength and Conditioning Class
DESCRIPTION:
URL:https://synergyhealthworks.com/event/strength-and-conditioning-class-3/2030-03-18/
LOCATION:Wagga Wagga | Fitness Hub\, 1/21-25 Forsyth Street\, Wagga Wagga\, NSW\, 2650\, Australia
CATEGORIES:Strength and Conditioning
END:VEVENT
BEGIN:VEVENT
DTSTART;TZID=Australia/Sydney:20300318T130000
DTEND;TZID=Australia/Sydney:20300318T134500
DTSTAMP:20260423T223128
CREATED:20251112T001650Z
LAST-MODIFIED:20251112T001650Z
UID:10127601-1900069200-1900071900@synergyhealthworks.com
SUMMARY:Strength and Conditioning Class
DESCRIPTION:
URL:https://synergyhealthworks.com/event/strength-and-conditioning-class-5/2030-03-18/
LOCATION:Wagga Wagga | Fitness Hub\, 1/21-25 Forsyth Street\, Wagga Wagga\, NSW\, 2650\, Australia
CATEGORIES:Strength and Conditioning
END:VEVENT
BEGIN:VEVENT
DTSTART;TZID=Australia/Sydney:20300318T163000
DTEND;TZID=Australia/Sydney:20300318T171500
DTSTAMP:20260423T223128
CREATED:20250502T051402Z
LAST-MODIFIED:20250502T051402Z
UID:10116738-1900081800-1900084500@synergyhealthworks.com
SUMMARY:Women’s Pregnancy Strength Class
DESCRIPTION:
URL:https://synergyhealthworks.com/event/womens-pregnancy-strength-class/2030-03-18/
LOCATION:Wagga Wagga | Fitness Hub\, 1/21-25 Forsyth Street\, Wagga Wagga\, NSW\, 2650\, Australia
CATEGORIES:Women’s Pregnancy Strength Class
END:VEVENT
BEGIN:VEVENT
DTSTART;TZID=Australia/Sydney:20300319T063000
DTEND;TZID=Australia/Sydney:20300319T071500
DTSTAMP:20260423T223128
CREATED:20241124T211846Z
LAST-MODIFIED:20250516T043543Z
UID:10117028-1900132200-1900134900@synergyhealthworks.com
SUMMARY:Women's Strength for over 45s
DESCRIPTION:
URL:https://synergyhealthworks.com/event/womens-fat-burn/2030-03-19/
LOCATION:Wagga Wagga | Fitness Hub\, 1/21-25 Forsyth Street\, Wagga Wagga\, NSW\, 2650\, Australia
CATEGORIES:Women's Strength Class for over 45s
END:VEVENT
BEGIN:VEVENT
DTSTART;TZID=Australia/Sydney:20300319T103000
DTEND;TZID=Australia/Sydney:20300319T111500
DTSTAMP:20260423T223128
CREATED:20250502T051536Z
LAST-MODIFIED:20251203T032954Z
UID:10116999-1900146600-1900149300@synergyhealthworks.com
SUMMARY:Women’s Pelvic and Strength Class
DESCRIPTION:
URL:https://synergyhealthworks.com/event/womens-pelvic-and-strength-class/2030-03-19/
LOCATION:Wagga Wagga | Fitness Hub\, 1/21-25 Forsyth Street\, Wagga Wagga\, NSW\, 2650\, Australia
CATEGORIES:Women’s Pelvic and Strength Class
END:VEVENT
BEGIN:VEVENT
DTSTART;TZID=Australia/Sydney:20300321T063000
DTEND;TZID=Australia/Sydney:20300321T071500
DTSTAMP:20260423T223128
CREATED:20251128T024235Z
LAST-MODIFIED:20251128T024235Z
UID:10131504-1900305000-1900307700@synergyhealthworks.com
SUMMARY:Women's Strength Class for over 45s
DESCRIPTION:
URL:https://synergyhealthworks.com/event/womens-strength-class-for-over-45s-5/2030-03-21/
LOCATION:Wagga Wagga | Fitness Hub\, 1/21-25 Forsyth Street\, Wagga Wagga\, NSW\, 2650\, Australia
CATEGORIES:Women's Strength Class for over 45s
END:VEVENT
END:VCALENDAR