BEGIN:VCALENDAR
VERSION:2.0
PRODID:-//Synergy Healthworks - ECPv6.15.20//NONSGML v1.0//EN
CALSCALE:GREGORIAN
METHOD:PUBLISH
X-WR-CALNAME:Synergy Healthworks
X-ORIGINAL-URL:https://synergyhealthworks.com
X-WR-CALDESC:Events for Synergy Healthworks
REFRESH-INTERVAL;VALUE=DURATION:PT1H
X-Robots-Tag:noindex
X-PUBLISHED-TTL:PT1H
BEGIN:VTIMEZONE
TZID:Australia/Sydney
BEGIN:STANDARD
TZOFFSETFROM:+1100
TZOFFSETTO:+1000
TZNAME:AEST
DTSTART:20290331T160000
END:STANDARD
BEGIN:DAYLIGHT
TZOFFSETFROM:+1000
TZOFFSETTO:+1100
TZNAME:AEDT
DTSTART:20291006T160000
END:DAYLIGHT
BEGIN:STANDARD
TZOFFSETFROM:+1100
TZOFFSETTO:+1000
TZNAME:AEST
DTSTART:20300406T160000
END:STANDARD
BEGIN:DAYLIGHT
TZOFFSETFROM:+1000
TZOFFSETTO:+1100
TZNAME:AEDT
DTSTART:20301005T160000
END:DAYLIGHT
BEGIN:STANDARD
TZOFFSETFROM:+1100
TZOFFSETTO:+1000
TZNAME:AEST
DTSTART:20310405T160000
END:STANDARD
BEGIN:DAYLIGHT
TZOFFSETFROM:+1000
TZOFFSETTO:+1100
TZNAME:AEDT
DTSTART:20311004T160000
END:DAYLIGHT
END:VTIMEZONE
BEGIN:VEVENT
DTSTART;TZID=Australia/Sydney:20300124T100000
DTEND;TZID=Australia/Sydney:20300124T104500
DTSTAMP:20260421T140611
CREATED:20241112T221214Z
LAST-MODIFIED:20250722T032235Z
UID:10121234-1895479200-1895481900@synergyhealthworks.com
SUMMARY:Strength Circuit
DESCRIPTION:
URL:https://synergyhealthworks.com/event/mens-strength-class-3/2030-01-24/
LOCATION:Wagga Wagga | Fitness Hub\, 1/21-25 Forsyth Street\, Wagga Wagga\, NSW\, 2650\, Australia
CATEGORIES:Strength Circuit
END:VEVENT
BEGIN:VEVENT
DTSTART;TZID=Australia/Sydney:20300124T120000
DTEND;TZID=Australia/Sydney:20300124T124500
DTSTAMP:20260421T140611
CREATED:20241124T212036Z
LAST-MODIFIED:20250516T043505Z
UID:10112312-1895486400-1895489100@synergyhealthworks.com
SUMMARY:Women's Strength for over 45s
DESCRIPTION:
URL:https://synergyhealthworks.com/event/womens-fat-burn-2/2030-01-24/
LOCATION:Wagga Wagga | Fitness Hub\, 1/21-25 Forsyth Street\, Wagga Wagga\, NSW\, 2650\, Australia
CATEGORIES:Women's Strength Class for over 45s
END:VEVENT
BEGIN:VEVENT
DTSTART;TZID=Australia/Sydney:20300125T071500
DTEND;TZID=Australia/Sydney:20300125T080000
DTSTAMP:20260421T140611
CREATED:20250618T000503Z
LAST-MODIFIED:20250618T000657Z
UID:10119028-1895555700-1895558400@synergyhealthworks.com
SUMMARY:Bike & Box
DESCRIPTION:
URL:https://synergyhealthworks.com/event/bike-and-box/2030-01-25/
LOCATION:Wagga Wagga | Fitness Hub\, 1/21-25 Forsyth Street\, Wagga Wagga\, NSW\, 2650\, Australia
CATEGORIES:Bike & Box,Women's Strength Class for over 45s
END:VEVENT
BEGIN:VEVENT
DTSTART;TZID=Australia/Sydney:20300125T073000
DTEND;TZID=Australia/Sydney:20300125T081500
DTSTAMP:20260421T140611
CREATED:20241202T231716Z
LAST-MODIFIED:20250403T044134Z
UID:10116196-1895556600-1895559300@synergyhealthworks.com
SUMMARY:Strength Circuit
DESCRIPTION:
URL:https://synergyhealthworks.com/event/strength-circuit-2/2030-01-25/
LOCATION:Wagga Wagga | Fitness Hub\, 1/21-25 Forsyth Street\, Wagga Wagga\, NSW\, 2650\, Australia
CATEGORIES:Strength Circuit
END:VEVENT
BEGIN:VEVENT
DTSTART;TZID=Australia/Sydney:20300125T083000
DTEND;TZID=Australia/Sydney:20300125T091500
DTSTAMP:20260421T140611
CREATED:20241112T224821Z
LAST-MODIFIED:20250403T043412Z
UID:10115918-1895560200-1895562900@synergyhealthworks.com
SUMMARY:Women's Strength Class for over 45s
DESCRIPTION:
URL:https://synergyhealthworks.com/event/bike-box-2/2030-01-25/
LOCATION:Wagga Wagga | Fitness Hub\, 1/21-25 Forsyth Street\, Wagga Wagga\, NSW\, 2650\, Australia
CATEGORIES:Women's Strength Class for over 45s
END:VEVENT
BEGIN:VEVENT
DTSTART;TZID=Australia/Sydney:20300128T083000
DTEND;TZID=Australia/Sydney:20300128T091500
DTSTAMP:20260421T140611
CREATED:20241112T035630Z
LAST-MODIFIED:20250129T032622Z
UID:10112141-1895819400-1895822100@synergyhealthworks.com
SUMMARY:Strength Circuit
DESCRIPTION:
URL:https://synergyhealthworks.com/event/strength-circuit/2030-01-28/
LOCATION:Wagga Wagga | Fitness Hub\, 1/21-25 Forsyth Street\, Wagga Wagga\, NSW\, 2650\, Australia
CATEGORIES:Strength Circuit
END:VEVENT
BEGIN:VEVENT
DTSTART;TZID=Australia/Sydney:20300128T120000
DTEND;TZID=Australia/Sydney:20300128T124500
DTSTAMP:20260421T140611
CREATED:20250829T044037Z
LAST-MODIFIED:20250829T044037Z
UID:10122462-1895832000-1895834700@synergyhealthworks.com
SUMMARY:Strength and Conditioning Class
DESCRIPTION:
URL:https://synergyhealthworks.com/event/strength-and-conditioning-class-3/2030-01-28/
LOCATION:Wagga Wagga | Fitness Hub\, 1/21-25 Forsyth Street\, Wagga Wagga\, NSW\, 2650\, Australia
CATEGORIES:Strength and Conditioning
END:VEVENT
BEGIN:VEVENT
DTSTART;TZID=Australia/Sydney:20300128T130000
DTEND;TZID=Australia/Sydney:20300128T134500
DTSTAMP:20260421T140611
CREATED:20251112T001650Z
LAST-MODIFIED:20251112T001650Z
UID:10127594-1895835600-1895838300@synergyhealthworks.com
SUMMARY:Strength and Conditioning Class
DESCRIPTION:
URL:https://synergyhealthworks.com/event/strength-and-conditioning-class-5/2030-01-28/
LOCATION:Wagga Wagga | Fitness Hub\, 1/21-25 Forsyth Street\, Wagga Wagga\, NSW\, 2650\, Australia
CATEGORIES:Strength and Conditioning
END:VEVENT
BEGIN:VEVENT
DTSTART;TZID=Australia/Sydney:20300128T163000
DTEND;TZID=Australia/Sydney:20300128T171500
DTSTAMP:20260421T140611
CREATED:20250502T051402Z
LAST-MODIFIED:20250502T051402Z
UID:10116731-1895848200-1895850900@synergyhealthworks.com
SUMMARY:Women’s Pregnancy Strength Class
DESCRIPTION:
URL:https://synergyhealthworks.com/event/womens-pregnancy-strength-class/2030-01-28/
LOCATION:Wagga Wagga | Fitness Hub\, 1/21-25 Forsyth Street\, Wagga Wagga\, NSW\, 2650\, Australia
CATEGORIES:Women’s Pregnancy Strength Class
END:VEVENT
BEGIN:VEVENT
DTSTART;TZID=Australia/Sydney:20300128T173000
DTEND;TZID=Australia/Sydney:20300128T181500
DTSTAMP:20260421T140611
CREATED:20241112T041557Z
LAST-MODIFIED:20250129T032656Z
UID:10112167-1895851800-1895854500@synergyhealthworks.com
SUMMARY:Strength and Conditioning Class
DESCRIPTION:
URL:https://synergyhealthworks.com/event/strength-and-conditioning-class-4/2030-01-28/
LOCATION:Wagga Wagga | Fitness Hub\, 1/21-25 Forsyth Street\, Wagga Wagga\, NSW\, 2650\, Australia
CATEGORIES:Strength and Conditioning
END:VEVENT
BEGIN:VEVENT
DTSTART;TZID=Australia/Sydney:20300129T063000
DTEND;TZID=Australia/Sydney:20300129T071500
DTSTAMP:20260421T140611
CREATED:20241124T211846Z
LAST-MODIFIED:20250516T043543Z
UID:10112177-1895898600-1895901300@synergyhealthworks.com
SUMMARY:Women's Strength for over 45s
DESCRIPTION:
URL:https://synergyhealthworks.com/event/womens-fat-burn/2030-01-29/
LOCATION:Wagga Wagga | Fitness Hub\, 1/21-25 Forsyth Street\, Wagga Wagga\, NSW\, 2650\, Australia
CATEGORIES:Women's Strength Class for over 45s
END:VEVENT
BEGIN:VEVENT
DTSTART;TZID=Australia/Sydney:20300129T073000
DTEND;TZID=Australia/Sydney:20300129T081500
DTSTAMP:20260421T140611
CREATED:20241112T041932Z
LAST-MODIFIED:20250129T032814Z
UID:10112189-1895902200-1895904900@synergyhealthworks.com
SUMMARY:Women’s Strength Class for over 45s
DESCRIPTION:
URL:https://synergyhealthworks.com/event/womens-strength-class-for-over-45s-4/2030-01-29/
LOCATION:Wagga Wagga | Fitness Hub\, 1/21-25 Forsyth Street\, Wagga Wagga\, NSW\, 2650\, Australia
CATEGORIES:Women's Strength Class for over 45s
END:VEVENT
BEGIN:VEVENT
DTSTART;TZID=Australia/Sydney:20300129T103000
DTEND;TZID=Australia/Sydney:20300129T111500
DTSTAMP:20260421T140611
CREATED:20250502T051536Z
LAST-MODIFIED:20251203T032954Z
UID:10116992-1895913000-1895915700@synergyhealthworks.com
SUMMARY:Women’s Pelvic and Strength Class
DESCRIPTION:
URL:https://synergyhealthworks.com/event/womens-pelvic-and-strength-class/2030-01-29/
LOCATION:Wagga Wagga | Fitness Hub\, 1/21-25 Forsyth Street\, Wagga Wagga\, NSW\, 2650\, Australia
CATEGORIES:Women’s Pelvic and Strength Class
END:VEVENT
BEGIN:VEVENT
DTSTART;TZID=Australia/Sydney:20300129T120000
DTEND;TZID=Australia/Sydney:20300129T124500
DTSTAMP:20260421T140611
CREATED:20241112T044419Z
LAST-MODIFIED:20250129T032834Z
UID:10112223-1895918400-1895921100@synergyhealthworks.com
SUMMARY:Women's Strength Class for over 45s
DESCRIPTION:
URL:https://synergyhealthworks.com/event/womens-strength-class-for-over-45s-6/2030-01-29/
LOCATION:Wagga Wagga | Fitness Hub\, 1/21-25 Forsyth Street\, Wagga Wagga\, NSW\, 2650\, Australia
CATEGORIES:Women's Strength Class for over 45s
END:VEVENT
BEGIN:VEVENT
DTSTART;TZID=Australia/Sydney:20300129T163000
DTEND;TZID=Australia/Sydney:20300129T171500
DTSTAMP:20260421T140611
CREATED:20241112T044834Z
LAST-MODIFIED:20250129T032845Z
UID:10112235-1895934600-1895937300@synergyhealthworks.com
SUMMARY:Strength Circuit
DESCRIPTION:
URL:https://synergyhealthworks.com/event/strength-circuit-5/2030-01-29/
LOCATION:Wagga Wagga | Fitness Hub\, 1/21-25 Forsyth Street\, Wagga Wagga\, NSW\, 2650\, Australia
CATEGORIES:Strength Circuit
END:VEVENT
BEGIN:VEVENT
DTSTART;TZID=Australia/Sydney:20300131T063000
DTEND;TZID=Australia/Sydney:20300131T071500
DTSTAMP:20260421T140611
CREATED:20251128T024235Z
LAST-MODIFIED:20251128T024235Z
UID:10131497-1896071400-1896074100@synergyhealthworks.com
SUMMARY:Women's Strength Class for over 45s
DESCRIPTION:
URL:https://synergyhealthworks.com/event/womens-strength-class-for-over-45s-5/2030-01-31/
LOCATION:Wagga Wagga | Fitness Hub\, 1/21-25 Forsyth Street\, Wagga Wagga\, NSW\, 2650\, Australia
CATEGORIES:Women's Strength Class for over 45s
END:VEVENT
BEGIN:VEVENT
DTSTART;TZID=Australia/Sydney:20300131T090000
DTEND;TZID=Australia/Sydney:20300131T094500
DTSTAMP:20260421T140611
CREATED:20241112T221649Z
LAST-MODIFIED:20250722T032123Z
UID:10120934-1896080400-1896083100@synergyhealthworks.com
SUMMARY:Golfer's Strengthen & Stretch
DESCRIPTION:
URL:https://synergyhealthworks.com/event/golfers-strengthen-stretch-2/2030-01-31/
LOCATION:Wagga Wagga | Fitness Hub\, 1/21-25 Forsyth Street\, Wagga Wagga\, NSW\, 2650\, Australia
CATEGORIES:Golfer's Strengthen & Stretch
END:VEVENT
BEGIN:VEVENT
DTSTART;TZID=Australia/Sydney:20300131T100000
DTEND;TZID=Australia/Sydney:20300131T104500
DTSTAMP:20260421T140611
CREATED:20241112T221214Z
LAST-MODIFIED:20250722T032235Z
UID:10121235-1896084000-1896086700@synergyhealthworks.com
SUMMARY:Strength Circuit
DESCRIPTION:
URL:https://synergyhealthworks.com/event/mens-strength-class-3/2030-01-31/
LOCATION:Wagga Wagga | Fitness Hub\, 1/21-25 Forsyth Street\, Wagga Wagga\, NSW\, 2650\, Australia
CATEGORIES:Strength Circuit
END:VEVENT
BEGIN:VEVENT
DTSTART;TZID=Australia/Sydney:20300131T120000
DTEND;TZID=Australia/Sydney:20300131T124500
DTSTAMP:20260421T140611
CREATED:20241124T212036Z
LAST-MODIFIED:20250516T043505Z
UID:10117006-1896091200-1896093900@synergyhealthworks.com
SUMMARY:Women's Strength for over 45s
DESCRIPTION:
URL:https://synergyhealthworks.com/event/womens-fat-burn-2/2030-01-31/
LOCATION:Wagga Wagga | Fitness Hub\, 1/21-25 Forsyth Street\, Wagga Wagga\, NSW\, 2650\, Australia
CATEGORIES:Women's Strength Class for over 45s
END:VEVENT
BEGIN:VEVENT
DTSTART;TZID=Australia/Sydney:20300201T071500
DTEND;TZID=Australia/Sydney:20300201T080000
DTSTAMP:20260421T140611
CREATED:20250618T000503Z
LAST-MODIFIED:20250618T000657Z
UID:10119029-1896160500-1896163200@synergyhealthworks.com
SUMMARY:Bike & Box
DESCRIPTION:
URL:https://synergyhealthworks.com/event/bike-and-box/2030-02-01/
LOCATION:Wagga Wagga | Fitness Hub\, 1/21-25 Forsyth Street\, Wagga Wagga\, NSW\, 2650\, Australia
CATEGORIES:Bike & Box,Women's Strength Class for over 45s
END:VEVENT
BEGIN:VEVENT
DTSTART;TZID=Australia/Sydney:20300201T073000
DTEND;TZID=Australia/Sydney:20300201T081500
DTSTAMP:20260421T140611
CREATED:20241202T231716Z
LAST-MODIFIED:20250403T044134Z
UID:10116197-1896161400-1896164100@synergyhealthworks.com
SUMMARY:Strength Circuit
DESCRIPTION:
URL:https://synergyhealthworks.com/event/strength-circuit-2/2030-02-01/
LOCATION:Wagga Wagga | Fitness Hub\, 1/21-25 Forsyth Street\, Wagga Wagga\, NSW\, 2650\, Australia
CATEGORIES:Strength Circuit
END:VEVENT
BEGIN:VEVENT
DTSTART;TZID=Australia/Sydney:20300201T083000
DTEND;TZID=Australia/Sydney:20300201T091500
DTSTAMP:20260421T140611
CREATED:20241112T224821Z
LAST-MODIFIED:20250403T043412Z
UID:10115919-1896165000-1896167700@synergyhealthworks.com
SUMMARY:Women's Strength Class for over 45s
DESCRIPTION:
URL:https://synergyhealthworks.com/event/bike-box-2/2030-02-01/
LOCATION:Wagga Wagga | Fitness Hub\, 1/21-25 Forsyth Street\, Wagga Wagga\, NSW\, 2650\, Australia
CATEGORIES:Women's Strength Class for over 45s
END:VEVENT
BEGIN:VEVENT
DTSTART;TZID=Australia/Sydney:20300204T120000
DTEND;TZID=Australia/Sydney:20300204T124500
DTSTAMP:20260421T140611
CREATED:20250829T044037Z
LAST-MODIFIED:20250829T044037Z
UID:10122463-1896436800-1896439500@synergyhealthworks.com
SUMMARY:Strength and Conditioning Class
DESCRIPTION:
URL:https://synergyhealthworks.com/event/strength-and-conditioning-class-3/2030-02-04/
LOCATION:Wagga Wagga | Fitness Hub\, 1/21-25 Forsyth Street\, Wagga Wagga\, NSW\, 2650\, Australia
CATEGORIES:Strength and Conditioning
END:VEVENT
BEGIN:VEVENT
DTSTART;TZID=Australia/Sydney:20300204T130000
DTEND;TZID=Australia/Sydney:20300204T134500
DTSTAMP:20260421T140611
CREATED:20251112T001650Z
LAST-MODIFIED:20251112T001650Z
UID:10127595-1896440400-1896443100@synergyhealthworks.com
SUMMARY:Strength and Conditioning Class
DESCRIPTION:
URL:https://synergyhealthworks.com/event/strength-and-conditioning-class-5/2030-02-04/
LOCATION:Wagga Wagga | Fitness Hub\, 1/21-25 Forsyth Street\, Wagga Wagga\, NSW\, 2650\, Australia
CATEGORIES:Strength and Conditioning
END:VEVENT
BEGIN:VEVENT
DTSTART;TZID=Australia/Sydney:20300204T163000
DTEND;TZID=Australia/Sydney:20300204T171500
DTSTAMP:20260421T140611
CREATED:20250502T051402Z
LAST-MODIFIED:20250502T051402Z
UID:10116732-1896453000-1896455700@synergyhealthworks.com
SUMMARY:Women’s Pregnancy Strength Class
DESCRIPTION:
URL:https://synergyhealthworks.com/event/womens-pregnancy-strength-class/2030-02-04/
LOCATION:Wagga Wagga | Fitness Hub\, 1/21-25 Forsyth Street\, Wagga Wagga\, NSW\, 2650\, Australia
CATEGORIES:Women’s Pregnancy Strength Class
END:VEVENT
BEGIN:VEVENT
DTSTART;TZID=Australia/Sydney:20300205T063000
DTEND;TZID=Australia/Sydney:20300205T071500
DTSTAMP:20260421T140611
CREATED:20241124T211846Z
LAST-MODIFIED:20250516T043543Z
UID:10117022-1896503400-1896506100@synergyhealthworks.com
SUMMARY:Women's Strength for over 45s
DESCRIPTION:
URL:https://synergyhealthworks.com/event/womens-fat-burn/2030-02-05/
LOCATION:Wagga Wagga | Fitness Hub\, 1/21-25 Forsyth Street\, Wagga Wagga\, NSW\, 2650\, Australia
CATEGORIES:Women's Strength Class for over 45s
END:VEVENT
BEGIN:VEVENT
DTSTART;TZID=Australia/Sydney:20300205T103000
DTEND;TZID=Australia/Sydney:20300205T111500
DTSTAMP:20260421T140611
CREATED:20250502T051536Z
LAST-MODIFIED:20251203T032954Z
UID:10116993-1896517800-1896520500@synergyhealthworks.com
SUMMARY:Women’s Pelvic and Strength Class
DESCRIPTION:
URL:https://synergyhealthworks.com/event/womens-pelvic-and-strength-class/2030-02-05/
LOCATION:Wagga Wagga | Fitness Hub\, 1/21-25 Forsyth Street\, Wagga Wagga\, NSW\, 2650\, Australia
CATEGORIES:Women’s Pelvic and Strength Class
END:VEVENT
BEGIN:VEVENT
DTSTART;TZID=Australia/Sydney:20300207T063000
DTEND;TZID=Australia/Sydney:20300207T071500
DTSTAMP:20260421T140611
CREATED:20251128T024235Z
LAST-MODIFIED:20251128T024235Z
UID:10131498-1896676200-1896678900@synergyhealthworks.com
SUMMARY:Women's Strength Class for over 45s
DESCRIPTION:
URL:https://synergyhealthworks.com/event/womens-strength-class-for-over-45s-5/2030-02-07/
LOCATION:Wagga Wagga | Fitness Hub\, 1/21-25 Forsyth Street\, Wagga Wagga\, NSW\, 2650\, Australia
CATEGORIES:Women's Strength Class for over 45s
END:VEVENT
BEGIN:VEVENT
DTSTART;TZID=Australia/Sydney:20300207T090000
DTEND;TZID=Australia/Sydney:20300207T094500
DTSTAMP:20260421T140611
CREATED:20241112T221649Z
LAST-MODIFIED:20250722T032123Z
UID:10120935-1896685200-1896687900@synergyhealthworks.com
SUMMARY:Golfer's Strengthen & Stretch
DESCRIPTION:
URL:https://synergyhealthworks.com/event/golfers-strengthen-stretch-2/2030-02-07/
LOCATION:Wagga Wagga | Fitness Hub\, 1/21-25 Forsyth Street\, Wagga Wagga\, NSW\, 2650\, Australia
CATEGORIES:Golfer's Strengthen & Stretch
END:VEVENT
BEGIN:VEVENT
DTSTART;TZID=Australia/Sydney:20300207T100000
DTEND;TZID=Australia/Sydney:20300207T104500
DTSTAMP:20260421T140611
CREATED:20241112T221214Z
LAST-MODIFIED:20250722T032235Z
UID:10121236-1896688800-1896691500@synergyhealthworks.com
SUMMARY:Strength Circuit
DESCRIPTION:
URL:https://synergyhealthworks.com/event/mens-strength-class-3/2030-02-07/
LOCATION:Wagga Wagga | Fitness Hub\, 1/21-25 Forsyth Street\, Wagga Wagga\, NSW\, 2650\, Australia
CATEGORIES:Strength Circuit
END:VEVENT
END:VCALENDAR