BEGIN:VCALENDAR
VERSION:2.0
PRODID:-//Synergy Healthworks - ECPv6.15.20//NONSGML v1.0//EN
CALSCALE:GREGORIAN
METHOD:PUBLISH
X-ORIGINAL-URL:https://synergyhealthworks.com
X-WR-CALDESC:Events for Synergy Healthworks
REFRESH-INTERVAL;VALUE=DURATION:PT1H
X-Robots-Tag:noindex
X-PUBLISHED-TTL:PT1H
BEGIN:VTIMEZONE
TZID:Australia/Sydney
BEGIN:STANDARD
TZOFFSETFROM:+1100
TZOFFSETTO:+1000
TZNAME:AEST
DTSTART:20280401T160000
END:STANDARD
BEGIN:DAYLIGHT
TZOFFSETFROM:+1000
TZOFFSETTO:+1100
TZNAME:AEDT
DTSTART:20280930T160000
END:DAYLIGHT
BEGIN:STANDARD
TZOFFSETFROM:+1100
TZOFFSETTO:+1000
TZNAME:AEST
DTSTART:20290331T160000
END:STANDARD
BEGIN:DAYLIGHT
TZOFFSETFROM:+1000
TZOFFSETTO:+1100
TZNAME:AEDT
DTSTART:20291006T160000
END:DAYLIGHT
BEGIN:STANDARD
TZOFFSETFROM:+1100
TZOFFSETTO:+1000
TZNAME:AEST
DTSTART:20300406T160000
END:STANDARD
BEGIN:DAYLIGHT
TZOFFSETFROM:+1000
TZOFFSETTO:+1100
TZNAME:AEDT
DTSTART:20301005T160000
END:DAYLIGHT
END:VTIMEZONE
BEGIN:VEVENT
DTSTART;TZID=Australia/Sydney:20291217T163000
DTEND;TZID=Australia/Sydney:20291217T171500
DTSTAMP:20260420T192254
CREATED:20250502T051402Z
LAST-MODIFIED:20250502T051402Z
UID:10116725-1892219400-1892222100@synergyhealthworks.com
SUMMARY:Women’s Pregnancy Strength Class
DESCRIPTION:
URL:https://synergyhealthworks.com/event/womens-pregnancy-strength-class/2029-12-17/
LOCATION:Wagga Wagga | Fitness Hub\, 1/21-25 Forsyth Street\, Wagga Wagga\, NSW\, 2650\, Australia
CATEGORIES:Women’s Pregnancy Strength Class
END:VEVENT
BEGIN:VEVENT
DTSTART;TZID=Australia/Sydney:20291217T173000
DTEND;TZID=Australia/Sydney:20291217T181500
DTSTAMP:20260420T192254
CREATED:20241112T041557Z
LAST-MODIFIED:20250129T032656Z
UID:10112161-1892223000-1892225700@synergyhealthworks.com
SUMMARY:Strength and Conditioning Class
DESCRIPTION:
URL:https://synergyhealthworks.com/event/strength-and-conditioning-class-4/2029-12-17/
LOCATION:Wagga Wagga | Fitness Hub\, 1/21-25 Forsyth Street\, Wagga Wagga\, NSW\, 2650\, Australia
CATEGORIES:Strength and Conditioning
END:VEVENT
BEGIN:VEVENT
DTSTART;TZID=Australia/Sydney:20291218T063000
DTEND;TZID=Australia/Sydney:20291218T071500
DTSTAMP:20260420T192254
CREATED:20241124T211846Z
LAST-MODIFIED:20250516T043543Z
UID:10112171-1892269800-1892272500@synergyhealthworks.com
SUMMARY:Women's Strength for over 45s
DESCRIPTION:
URL:https://synergyhealthworks.com/event/womens-fat-burn/2029-12-18/
LOCATION:Wagga Wagga | Fitness Hub\, 1/21-25 Forsyth Street\, Wagga Wagga\, NSW\, 2650\, Australia
CATEGORIES:Women's Strength Class for over 45s
END:VEVENT
BEGIN:VEVENT
DTSTART;TZID=Australia/Sydney:20291218T073000
DTEND;TZID=Australia/Sydney:20291218T081500
DTSTAMP:20260420T192254
CREATED:20241112T041932Z
LAST-MODIFIED:20250129T032814Z
UID:10112183-1892273400-1892276100@synergyhealthworks.com
SUMMARY:Women’s Strength Class for over 45s
DESCRIPTION:
URL:https://synergyhealthworks.com/event/womens-strength-class-for-over-45s-4/2029-12-18/
LOCATION:Wagga Wagga | Fitness Hub\, 1/21-25 Forsyth Street\, Wagga Wagga\, NSW\, 2650\, Australia
CATEGORIES:Women's Strength Class for over 45s
END:VEVENT
BEGIN:VEVENT
DTSTART;TZID=Australia/Sydney:20291218T103000
DTEND;TZID=Australia/Sydney:20291218T111500
DTSTAMP:20260420T192254
CREATED:20250502T051536Z
LAST-MODIFIED:20251203T032954Z
UID:10116986-1892284200-1892286900@synergyhealthworks.com
SUMMARY:Women’s Pelvic and Strength Class
DESCRIPTION:
URL:https://synergyhealthworks.com/event/womens-pelvic-and-strength-class/2029-12-18/
LOCATION:Wagga Wagga | Fitness Hub\, 1/21-25 Forsyth Street\, Wagga Wagga\, NSW\, 2650\, Australia
CATEGORIES:Women’s Pelvic and Strength Class
END:VEVENT
BEGIN:VEVENT
DTSTART;TZID=Australia/Sydney:20291218T120000
DTEND;TZID=Australia/Sydney:20291218T124500
DTSTAMP:20260420T192254
CREATED:20241112T044419Z
LAST-MODIFIED:20250129T032834Z
UID:10112217-1892289600-1892292300@synergyhealthworks.com
SUMMARY:Women's Strength Class for over 45s
DESCRIPTION:
URL:https://synergyhealthworks.com/event/womens-strength-class-for-over-45s-6/2029-12-18/
LOCATION:Wagga Wagga | Fitness Hub\, 1/21-25 Forsyth Street\, Wagga Wagga\, NSW\, 2650\, Australia
CATEGORIES:Women's Strength Class for over 45s
END:VEVENT
BEGIN:VEVENT
DTSTART;TZID=Australia/Sydney:20291218T163000
DTEND;TZID=Australia/Sydney:20291218T171500
DTSTAMP:20260420T192254
CREATED:20241112T044834Z
LAST-MODIFIED:20250129T032845Z
UID:10112229-1892305800-1892308500@synergyhealthworks.com
SUMMARY:Strength Circuit
DESCRIPTION:
URL:https://synergyhealthworks.com/event/strength-circuit-5/2029-12-18/
LOCATION:Wagga Wagga | Fitness Hub\, 1/21-25 Forsyth Street\, Wagga Wagga\, NSW\, 2650\, Australia
CATEGORIES:Strength Circuit
END:VEVENT
BEGIN:VEVENT
DTSTART;TZID=Australia/Sydney:20291219T063000
DTEND;TZID=Australia/Sydney:20291219T071500
DTSTAMP:20260420T192254
CREATED:20241112T045128Z
LAST-MODIFIED:20250129T032952Z
UID:10112240-1892356200-1892358900@synergyhealthworks.com
SUMMARY:Women's Strength Class for over 45s
DESCRIPTION:
URL:https://synergyhealthworks.com/event/womens-strength-class-for-over-45s-7/2029-12-19/
LOCATION:Wagga Wagga | Fitness Hub\, 1/21-25 Forsyth Street\, Wagga Wagga\, NSW\, 2650\, Australia
CATEGORIES:Women's Strength Class for over 45s
END:VEVENT
BEGIN:VEVENT
DTSTART;TZID=Australia/Sydney:20291219T073000
DTEND;TZID=Australia/Sydney:20291219T081500
DTSTAMP:20260420T192254
CREATED:20241112T045308Z
LAST-MODIFIED:20250129T032958Z
UID:10111502-1892359800-1892362500@synergyhealthworks.com
SUMMARY:Functional Fitness
DESCRIPTION:
URL:https://synergyhealthworks.com/event/cardio-combo-circuit-3/2029-12-19/
LOCATION:Wagga Wagga | Fitness Hub\, 1/21-25 Forsyth Street\, Wagga Wagga\, NSW\, 2650\, Australia
CATEGORIES:Functional Fitness
END:VEVENT
BEGIN:VEVENT
DTSTART;TZID=Australia/Sydney:20291219T120000
DTEND;TZID=Australia/Sydney:20291219T124500
DTSTAMP:20260420T192254
CREATED:20241112T220255Z
LAST-MODIFIED:20250129T033004Z
UID:10112251-1892376000-1892378700@synergyhealthworks.com
SUMMARY:Women's Strength Class for over 45s
DESCRIPTION:
URL:https://synergyhealthworks.com/event/womens-strength-class-for-over-45s-9/2029-12-19/
LOCATION:Wagga Wagga | Fitness Hub\, 1/21-25 Forsyth Street\, Wagga Wagga\, NSW\, 2650\, Australia
CATEGORIES:Women's Strength Class for over 45s
END:VEVENT
BEGIN:VEVENT
DTSTART;TZID=Australia/Sydney:20291219T173000
DTEND;TZID=Australia/Sydney:20291219T181500
DTSTAMP:20260420T192254
CREATED:20241112T220941Z
LAST-MODIFIED:20250129T033025Z
UID:10112276-1892395800-1892398500@synergyhealthworks.com
SUMMARY:Strength and Conditioning Class
DESCRIPTION:
URL:https://synergyhealthworks.com/event/functional-conditioning/2029-12-19/
LOCATION:Wagga Wagga | Fitness Hub\, 1/21-25 Forsyth Street\, Wagga Wagga\, NSW\, 2650\, Australia
CATEGORIES:Strength and Conditioning
END:VEVENT
BEGIN:VEVENT
DTSTART;TZID=Australia/Sydney:20291220T063000
DTEND;TZID=Australia/Sydney:20291220T071500
DTSTAMP:20260420T192254
CREATED:20251128T024235Z
LAST-MODIFIED:20251128T024235Z
UID:10131491-1892442600-1892445300@synergyhealthworks.com
SUMMARY:Women's Strength Class for over 45s
DESCRIPTION:
URL:https://synergyhealthworks.com/event/womens-strength-class-for-over-45s-5/2029-12-20/
LOCATION:Wagga Wagga | Fitness Hub\, 1/21-25 Forsyth Street\, Wagga Wagga\, NSW\, 2650\, Australia
CATEGORIES:Women's Strength Class for over 45s
END:VEVENT
BEGIN:VEVENT
DTSTART;TZID=Australia/Sydney:20291220T073000
DTEND;TZID=Australia/Sydney:20291220T081500
DTSTAMP:20260420T192254
CREATED:20241112T221101Z
LAST-MODIFIED:20250129T033150Z
UID:10112287-1892446200-1892448900@synergyhealthworks.com
SUMMARY:Women's Strength Class for over 45s
DESCRIPTION:
URL:https://synergyhealthworks.com/event/womens-strength-class-for-over-45s-11/2029-12-20/
LOCATION:Wagga Wagga | Fitness Hub\, 1/21-25 Forsyth Street\, Wagga Wagga\, NSW\, 2650\, Australia
CATEGORIES:Women's Strength Class for over 45s
END:VEVENT
BEGIN:VEVENT
DTSTART;TZID=Australia/Sydney:20291220T090000
DTEND;TZID=Australia/Sydney:20291220T094500
DTSTAMP:20260420T192254
CREATED:20241112T221649Z
LAST-MODIFIED:20250722T032123Z
UID:10120928-1892451600-1892454300@synergyhealthworks.com
SUMMARY:Golfer's Strengthen & Stretch
DESCRIPTION:
URL:https://synergyhealthworks.com/event/golfers-strengthen-stretch-2/2029-12-20/
LOCATION:Wagga Wagga | Fitness Hub\, 1/21-25 Forsyth Street\, Wagga Wagga\, NSW\, 2650\, Australia
CATEGORIES:Golfer's Strengthen & Stretch
END:VEVENT
BEGIN:VEVENT
DTSTART;TZID=Australia/Sydney:20291220T100000
DTEND;TZID=Australia/Sydney:20291220T104500
DTSTAMP:20260420T192254
CREATED:20241112T221214Z
LAST-MODIFIED:20250722T032235Z
UID:10121229-1892455200-1892457900@synergyhealthworks.com
SUMMARY:Strength Circuit
DESCRIPTION:
URL:https://synergyhealthworks.com/event/mens-strength-class-3/2029-12-20/
LOCATION:Wagga Wagga | Fitness Hub\, 1/21-25 Forsyth Street\, Wagga Wagga\, NSW\, 2650\, Australia
CATEGORIES:Strength Circuit
END:VEVENT
BEGIN:VEVENT
DTSTART;TZID=Australia/Sydney:20291220T120000
DTEND;TZID=Australia/Sydney:20291220T124500
DTSTAMP:20260420T192254
CREATED:20241124T212036Z
LAST-MODIFIED:20250516T043505Z
UID:10112307-1892462400-1892465100@synergyhealthworks.com
SUMMARY:Women's Strength for over 45s
DESCRIPTION:
URL:https://synergyhealthworks.com/event/womens-fat-burn-2/2029-12-20/
LOCATION:Wagga Wagga | Fitness Hub\, 1/21-25 Forsyth Street\, Wagga Wagga\, NSW\, 2650\, Australia
CATEGORIES:Women's Strength Class for over 45s
END:VEVENT
BEGIN:VEVENT
DTSTART;TZID=Australia/Sydney:20291221T071500
DTEND;TZID=Australia/Sydney:20291221T080000
DTSTAMP:20260420T192254
CREATED:20250618T000503Z
LAST-MODIFIED:20250618T000657Z
UID:10119023-1892531700-1892534400@synergyhealthworks.com
SUMMARY:Bike & Box
DESCRIPTION:
URL:https://synergyhealthworks.com/event/bike-and-box/2029-12-21/
LOCATION:Wagga Wagga | Fitness Hub\, 1/21-25 Forsyth Street\, Wagga Wagga\, NSW\, 2650\, Australia
CATEGORIES:Bike & Box,Women's Strength Class for over 45s
END:VEVENT
BEGIN:VEVENT
DTSTART;TZID=Australia/Sydney:20291221T073000
DTEND;TZID=Australia/Sydney:20291221T081500
DTSTAMP:20260420T192254
CREATED:20241202T231716Z
LAST-MODIFIED:20250403T044134Z
UID:10116191-1892532600-1892535300@synergyhealthworks.com
SUMMARY:Strength Circuit
DESCRIPTION:
URL:https://synergyhealthworks.com/event/strength-circuit-2/2029-12-21/
LOCATION:Wagga Wagga | Fitness Hub\, 1/21-25 Forsyth Street\, Wagga Wagga\, NSW\, 2650\, Australia
CATEGORIES:Strength Circuit
END:VEVENT
BEGIN:VEVENT
DTSTART;TZID=Australia/Sydney:20291221T083000
DTEND;TZID=Australia/Sydney:20291221T091500
DTSTAMP:20260420T192254
CREATED:20241112T224821Z
LAST-MODIFIED:20250403T043412Z
UID:10115913-1892536200-1892538900@synergyhealthworks.com
SUMMARY:Women's Strength Class for over 45s
DESCRIPTION:
URL:https://synergyhealthworks.com/event/bike-box-2/2029-12-21/
LOCATION:Wagga Wagga | Fitness Hub\, 1/21-25 Forsyth Street\, Wagga Wagga\, NSW\, 2650\, Australia
CATEGORIES:Women's Strength Class for over 45s
END:VEVENT
BEGIN:VEVENT
DTSTART;TZID=Australia/Sydney:20291224T083000
DTEND;TZID=Australia/Sydney:20291224T091500
DTSTAMP:20260420T192254
CREATED:20241112T035630Z
LAST-MODIFIED:20250129T032622Z
UID:10112136-1892795400-1892798100@synergyhealthworks.com
SUMMARY:Strength Circuit
DESCRIPTION:
URL:https://synergyhealthworks.com/event/strength-circuit/2029-12-24/
LOCATION:Wagga Wagga | Fitness Hub\, 1/21-25 Forsyth Street\, Wagga Wagga\, NSW\, 2650\, Australia
CATEGORIES:Strength Circuit
END:VEVENT
BEGIN:VEVENT
DTSTART;TZID=Australia/Sydney:20291224T120000
DTEND;TZID=Australia/Sydney:20291224T124500
DTSTAMP:20260420T192254
CREATED:20250829T044037Z
LAST-MODIFIED:20250829T044037Z
UID:10122457-1892808000-1892810700@synergyhealthworks.com
SUMMARY:Strength and Conditioning Class
DESCRIPTION:
URL:https://synergyhealthworks.com/event/strength-and-conditioning-class-3/2029-12-24/
LOCATION:Wagga Wagga | Fitness Hub\, 1/21-25 Forsyth Street\, Wagga Wagga\, NSW\, 2650\, Australia
CATEGORIES:Strength and Conditioning
END:VEVENT
BEGIN:VEVENT
DTSTART;TZID=Australia/Sydney:20291224T130000
DTEND;TZID=Australia/Sydney:20291224T134500
DTSTAMP:20260420T192254
CREATED:20251112T001650Z
LAST-MODIFIED:20251112T001650Z
UID:10127589-1892811600-1892814300@synergyhealthworks.com
SUMMARY:Strength and Conditioning Class
DESCRIPTION:
URL:https://synergyhealthworks.com/event/strength-and-conditioning-class-5/2029-12-24/
LOCATION:Wagga Wagga | Fitness Hub\, 1/21-25 Forsyth Street\, Wagga Wagga\, NSW\, 2650\, Australia
CATEGORIES:Strength and Conditioning
END:VEVENT
BEGIN:VEVENT
DTSTART;TZID=Australia/Sydney:20291224T163000
DTEND;TZID=Australia/Sydney:20291224T171500
DTSTAMP:20260420T192254
CREATED:20250502T051402Z
LAST-MODIFIED:20250502T051402Z
UID:10116726-1892824200-1892826900@synergyhealthworks.com
SUMMARY:Women’s Pregnancy Strength Class
DESCRIPTION:
URL:https://synergyhealthworks.com/event/womens-pregnancy-strength-class/2029-12-24/
LOCATION:Wagga Wagga | Fitness Hub\, 1/21-25 Forsyth Street\, Wagga Wagga\, NSW\, 2650\, Australia
CATEGORIES:Women’s Pregnancy Strength Class
END:VEVENT
BEGIN:VEVENT
DTSTART;TZID=Australia/Sydney:20291224T173000
DTEND;TZID=Australia/Sydney:20291224T181500
DTSTAMP:20260420T192254
CREATED:20241112T041557Z
LAST-MODIFIED:20250129T032656Z
UID:10112162-1892827800-1892830500@synergyhealthworks.com
SUMMARY:Strength and Conditioning Class
DESCRIPTION:
URL:https://synergyhealthworks.com/event/strength-and-conditioning-class-4/2029-12-24/
LOCATION:Wagga Wagga | Fitness Hub\, 1/21-25 Forsyth Street\, Wagga Wagga\, NSW\, 2650\, Australia
CATEGORIES:Strength and Conditioning
END:VEVENT
BEGIN:VEVENT
DTSTART;TZID=Australia/Sydney:20291225T063000
DTEND;TZID=Australia/Sydney:20291225T071500
DTSTAMP:20260420T192254
CREATED:20241124T211846Z
LAST-MODIFIED:20250516T043543Z
UID:10112172-1892874600-1892877300@synergyhealthworks.com
SUMMARY:Women's Strength for over 45s
DESCRIPTION:
URL:https://synergyhealthworks.com/event/womens-fat-burn/2029-12-25/
LOCATION:Wagga Wagga | Fitness Hub\, 1/21-25 Forsyth Street\, Wagga Wagga\, NSW\, 2650\, Australia
CATEGORIES:Women's Strength Class for over 45s
END:VEVENT
BEGIN:VEVENT
DTSTART;TZID=Australia/Sydney:20291225T073000
DTEND;TZID=Australia/Sydney:20291225T081500
DTSTAMP:20260420T192254
CREATED:20241112T041932Z
LAST-MODIFIED:20250129T032814Z
UID:10112184-1892878200-1892880900@synergyhealthworks.com
SUMMARY:Women’s Strength Class for over 45s
DESCRIPTION:
URL:https://synergyhealthworks.com/event/womens-strength-class-for-over-45s-4/2029-12-25/
LOCATION:Wagga Wagga | Fitness Hub\, 1/21-25 Forsyth Street\, Wagga Wagga\, NSW\, 2650\, Australia
CATEGORIES:Women's Strength Class for over 45s
END:VEVENT
BEGIN:VEVENT
DTSTART;TZID=Australia/Sydney:20291225T103000
DTEND;TZID=Australia/Sydney:20291225T111500
DTSTAMP:20260420T192254
CREATED:20250502T051536Z
LAST-MODIFIED:20251203T032954Z
UID:10116987-1892889000-1892891700@synergyhealthworks.com
SUMMARY:Women’s Pelvic and Strength Class
DESCRIPTION:
URL:https://synergyhealthworks.com/event/womens-pelvic-and-strength-class/2029-12-25/
LOCATION:Wagga Wagga | Fitness Hub\, 1/21-25 Forsyth Street\, Wagga Wagga\, NSW\, 2650\, Australia
CATEGORIES:Women’s Pelvic and Strength Class
END:VEVENT
BEGIN:VEVENT
DTSTART;TZID=Australia/Sydney:20291225T120000
DTEND;TZID=Australia/Sydney:20291225T124500
DTSTAMP:20260420T192254
CREATED:20241112T044419Z
LAST-MODIFIED:20250129T032834Z
UID:10112218-1892894400-1892897100@synergyhealthworks.com
SUMMARY:Women's Strength Class for over 45s
DESCRIPTION:
URL:https://synergyhealthworks.com/event/womens-strength-class-for-over-45s-6/2029-12-25/
LOCATION:Wagga Wagga | Fitness Hub\, 1/21-25 Forsyth Street\, Wagga Wagga\, NSW\, 2650\, Australia
CATEGORIES:Women's Strength Class for over 45s
END:VEVENT
BEGIN:VEVENT
DTSTART;TZID=Australia/Sydney:20291225T163000
DTEND;TZID=Australia/Sydney:20291225T171500
DTSTAMP:20260420T192254
CREATED:20241112T044834Z
LAST-MODIFIED:20250129T032845Z
UID:10112230-1892910600-1892913300@synergyhealthworks.com
SUMMARY:Strength Circuit
DESCRIPTION:
URL:https://synergyhealthworks.com/event/strength-circuit-5/2029-12-25/
LOCATION:Wagga Wagga | Fitness Hub\, 1/21-25 Forsyth Street\, Wagga Wagga\, NSW\, 2650\, Australia
CATEGORIES:Strength Circuit
END:VEVENT
BEGIN:VEVENT
DTSTART;TZID=Australia/Sydney:20291226T063000
DTEND;TZID=Australia/Sydney:20291226T071500
DTSTAMP:20260420T192254
CREATED:20241112T045128Z
LAST-MODIFIED:20250129T032952Z
UID:10112241-1892961000-1892963700@synergyhealthworks.com
SUMMARY:Women's Strength Class for over 45s
DESCRIPTION:
URL:https://synergyhealthworks.com/event/womens-strength-class-for-over-45s-7/2029-12-26/
LOCATION:Wagga Wagga | Fitness Hub\, 1/21-25 Forsyth Street\, Wagga Wagga\, NSW\, 2650\, Australia
CATEGORIES:Women's Strength Class for over 45s
END:VEVENT
END:VCALENDAR