BEGIN:VCALENDAR
VERSION:2.0
PRODID:-//Synergy Healthworks - ECPv6.15.20//NONSGML v1.0//EN
CALSCALE:GREGORIAN
METHOD:PUBLISH
X-ORIGINAL-URL:https://synergyhealthworks.com
X-WR-CALDESC:Events for Synergy Healthworks
REFRESH-INTERVAL;VALUE=DURATION:PT1H
X-Robots-Tag:noindex
X-PUBLISHED-TTL:PT1H
BEGIN:VTIMEZONE
TZID:Australia/Sydney
BEGIN:STANDARD
TZOFFSETFROM:+1100
TZOFFSETTO:+1000
TZNAME:AEST
DTSTART:20280401T160000
END:STANDARD
BEGIN:DAYLIGHT
TZOFFSETFROM:+1000
TZOFFSETTO:+1100
TZNAME:AEDT
DTSTART:20280930T160000
END:DAYLIGHT
BEGIN:STANDARD
TZOFFSETFROM:+1100
TZOFFSETTO:+1000
TZNAME:AEST
DTSTART:20290331T160000
END:STANDARD
BEGIN:DAYLIGHT
TZOFFSETFROM:+1000
TZOFFSETTO:+1100
TZNAME:AEDT
DTSTART:20291006T160000
END:DAYLIGHT
BEGIN:STANDARD
TZOFFSETFROM:+1100
TZOFFSETTO:+1000
TZNAME:AEST
DTSTART:20300406T160000
END:STANDARD
BEGIN:DAYLIGHT
TZOFFSETFROM:+1000
TZOFFSETTO:+1100
TZNAME:AEDT
DTSTART:20301005T160000
END:DAYLIGHT
END:VTIMEZONE
BEGIN:VEVENT
DTSTART;TZID=Australia/Sydney:20291207T083000
DTEND;TZID=Australia/Sydney:20291207T091500
DTSTAMP:20260420T153712
CREATED:20241112T224821Z
LAST-MODIFIED:20250403T043412Z
UID:10115911-1891326600-1891329300@synergyhealthworks.com
SUMMARY:Women's Strength Class for over 45s
DESCRIPTION:
URL:https://synergyhealthworks.com/event/bike-box-2/2029-12-07/
LOCATION:Wagga Wagga | Fitness Hub\, 1/21-25 Forsyth Street\, Wagga Wagga\, NSW\, 2650\, Australia
CATEGORIES:Women's Strength Class for over 45s
END:VEVENT
BEGIN:VEVENT
DTSTART;TZID=Australia/Sydney:20291210T083000
DTEND;TZID=Australia/Sydney:20291210T091500
DTSTAMP:20260420T153712
CREATED:20241112T035630Z
LAST-MODIFIED:20250129T032622Z
UID:10112134-1891585800-1891588500@synergyhealthworks.com
SUMMARY:Strength Circuit
DESCRIPTION:
URL:https://synergyhealthworks.com/event/strength-circuit/2029-12-10/
LOCATION:Wagga Wagga | Fitness Hub\, 1/21-25 Forsyth Street\, Wagga Wagga\, NSW\, 2650\, Australia
CATEGORIES:Strength Circuit
END:VEVENT
BEGIN:VEVENT
DTSTART;TZID=Australia/Sydney:20291210T120000
DTEND;TZID=Australia/Sydney:20291210T124500
DTSTAMP:20260420T153712
CREATED:20250829T044037Z
LAST-MODIFIED:20250829T044037Z
UID:10122455-1891598400-1891601100@synergyhealthworks.com
SUMMARY:Strength and Conditioning Class
DESCRIPTION:
URL:https://synergyhealthworks.com/event/strength-and-conditioning-class-3/2029-12-10/
LOCATION:Wagga Wagga | Fitness Hub\, 1/21-25 Forsyth Street\, Wagga Wagga\, NSW\, 2650\, Australia
CATEGORIES:Strength and Conditioning
END:VEVENT
BEGIN:VEVENT
DTSTART;TZID=Australia/Sydney:20291210T130000
DTEND;TZID=Australia/Sydney:20291210T134500
DTSTAMP:20260420T153712
CREATED:20251112T001650Z
LAST-MODIFIED:20251112T001650Z
UID:10127587-1891602000-1891604700@synergyhealthworks.com
SUMMARY:Strength and Conditioning Class
DESCRIPTION:
URL:https://synergyhealthworks.com/event/strength-and-conditioning-class-5/2029-12-10/
LOCATION:Wagga Wagga | Fitness Hub\, 1/21-25 Forsyth Street\, Wagga Wagga\, NSW\, 2650\, Australia
CATEGORIES:Strength and Conditioning
END:VEVENT
BEGIN:VEVENT
DTSTART;TZID=Australia/Sydney:20291210T163000
DTEND;TZID=Australia/Sydney:20291210T171500
DTSTAMP:20260420T153712
CREATED:20250502T051402Z
LAST-MODIFIED:20250502T051402Z
UID:10116724-1891614600-1891617300@synergyhealthworks.com
SUMMARY:Women’s Pregnancy Strength Class
DESCRIPTION:
URL:https://synergyhealthworks.com/event/womens-pregnancy-strength-class/2029-12-10/
LOCATION:Wagga Wagga | Fitness Hub\, 1/21-25 Forsyth Street\, Wagga Wagga\, NSW\, 2650\, Australia
CATEGORIES:Women’s Pregnancy Strength Class
END:VEVENT
BEGIN:VEVENT
DTSTART;TZID=Australia/Sydney:20291210T173000
DTEND;TZID=Australia/Sydney:20291210T181500
DTSTAMP:20260420T153712
CREATED:20241112T041557Z
LAST-MODIFIED:20250129T032656Z
UID:10112160-1891618200-1891620900@synergyhealthworks.com
SUMMARY:Strength and Conditioning Class
DESCRIPTION:
URL:https://synergyhealthworks.com/event/strength-and-conditioning-class-4/2029-12-10/
LOCATION:Wagga Wagga | Fitness Hub\, 1/21-25 Forsyth Street\, Wagga Wagga\, NSW\, 2650\, Australia
CATEGORIES:Strength and Conditioning
END:VEVENT
BEGIN:VEVENT
DTSTART;TZID=Australia/Sydney:20291211T063000
DTEND;TZID=Australia/Sydney:20291211T071500
DTSTAMP:20260420T153712
CREATED:20241124T211846Z
LAST-MODIFIED:20250516T043543Z
UID:10112170-1891665000-1891667700@synergyhealthworks.com
SUMMARY:Women's Strength for over 45s
DESCRIPTION:
URL:https://synergyhealthworks.com/event/womens-fat-burn/2029-12-11/
LOCATION:Wagga Wagga | Fitness Hub\, 1/21-25 Forsyth Street\, Wagga Wagga\, NSW\, 2650\, Australia
CATEGORIES:Women's Strength Class for over 45s
END:VEVENT
BEGIN:VEVENT
DTSTART;TZID=Australia/Sydney:20291211T073000
DTEND;TZID=Australia/Sydney:20291211T081500
DTSTAMP:20260420T153712
CREATED:20241112T041932Z
LAST-MODIFIED:20250129T032814Z
UID:10112182-1891668600-1891671300@synergyhealthworks.com
SUMMARY:Women’s Strength Class for over 45s
DESCRIPTION:
URL:https://synergyhealthworks.com/event/womens-strength-class-for-over-45s-4/2029-12-11/
LOCATION:Wagga Wagga | Fitness Hub\, 1/21-25 Forsyth Street\, Wagga Wagga\, NSW\, 2650\, Australia
CATEGORIES:Women's Strength Class for over 45s
END:VEVENT
BEGIN:VEVENT
DTSTART;TZID=Australia/Sydney:20291211T103000
DTEND;TZID=Australia/Sydney:20291211T111500
DTSTAMP:20260420T153712
CREATED:20250502T051536Z
LAST-MODIFIED:20251203T032954Z
UID:10116985-1891679400-1891682100@synergyhealthworks.com
SUMMARY:Women’s Pelvic and Strength Class
DESCRIPTION:
URL:https://synergyhealthworks.com/event/womens-pelvic-and-strength-class/2029-12-11/
LOCATION:Wagga Wagga | Fitness Hub\, 1/21-25 Forsyth Street\, Wagga Wagga\, NSW\, 2650\, Australia
CATEGORIES:Women’s Pelvic and Strength Class
END:VEVENT
BEGIN:VEVENT
DTSTART;TZID=Australia/Sydney:20291211T120000
DTEND;TZID=Australia/Sydney:20291211T124500
DTSTAMP:20260420T153712
CREATED:20241112T044419Z
LAST-MODIFIED:20250129T032834Z
UID:10112216-1891684800-1891687500@synergyhealthworks.com
SUMMARY:Women's Strength Class for over 45s
DESCRIPTION:
URL:https://synergyhealthworks.com/event/womens-strength-class-for-over-45s-6/2029-12-11/
LOCATION:Wagga Wagga | Fitness Hub\, 1/21-25 Forsyth Street\, Wagga Wagga\, NSW\, 2650\, Australia
CATEGORIES:Women's Strength Class for over 45s
END:VEVENT
BEGIN:VEVENT
DTSTART;TZID=Australia/Sydney:20291211T163000
DTEND;TZID=Australia/Sydney:20291211T171500
DTSTAMP:20260420T153712
CREATED:20241112T044834Z
LAST-MODIFIED:20250129T032845Z
UID:10112228-1891701000-1891703700@synergyhealthworks.com
SUMMARY:Strength Circuit
DESCRIPTION:
URL:https://synergyhealthworks.com/event/strength-circuit-5/2029-12-11/
LOCATION:Wagga Wagga | Fitness Hub\, 1/21-25 Forsyth Street\, Wagga Wagga\, NSW\, 2650\, Australia
CATEGORIES:Strength Circuit
END:VEVENT
BEGIN:VEVENT
DTSTART;TZID=Australia/Sydney:20291212T063000
DTEND;TZID=Australia/Sydney:20291212T071500
DTSTAMP:20260420T153712
CREATED:20241112T045128Z
LAST-MODIFIED:20250129T032952Z
UID:10112239-1891751400-1891754100@synergyhealthworks.com
SUMMARY:Women's Strength Class for over 45s
DESCRIPTION:
URL:https://synergyhealthworks.com/event/womens-strength-class-for-over-45s-7/2029-12-12/
LOCATION:Wagga Wagga | Fitness Hub\, 1/21-25 Forsyth Street\, Wagga Wagga\, NSW\, 2650\, Australia
CATEGORIES:Women's Strength Class for over 45s
END:VEVENT
BEGIN:VEVENT
DTSTART;TZID=Australia/Sydney:20291212T073000
DTEND;TZID=Australia/Sydney:20291212T081500
DTSTAMP:20260420T153712
CREATED:20241112T045308Z
LAST-MODIFIED:20250129T032958Z
UID:10111501-1891755000-1891757700@synergyhealthworks.com
SUMMARY:Functional Fitness
DESCRIPTION:
URL:https://synergyhealthworks.com/event/cardio-combo-circuit-3/2029-12-12/
LOCATION:Wagga Wagga | Fitness Hub\, 1/21-25 Forsyth Street\, Wagga Wagga\, NSW\, 2650\, Australia
CATEGORIES:Functional Fitness
END:VEVENT
BEGIN:VEVENT
DTSTART;TZID=Australia/Sydney:20291212T120000
DTEND;TZID=Australia/Sydney:20291212T124500
DTSTAMP:20260420T153712
CREATED:20241112T220255Z
LAST-MODIFIED:20250129T033004Z
UID:10112250-1891771200-1891773900@synergyhealthworks.com
SUMMARY:Women's Strength Class for over 45s
DESCRIPTION:
URL:https://synergyhealthworks.com/event/womens-strength-class-for-over-45s-9/2029-12-12/
LOCATION:Wagga Wagga | Fitness Hub\, 1/21-25 Forsyth Street\, Wagga Wagga\, NSW\, 2650\, Australia
CATEGORIES:Women's Strength Class for over 45s
END:VEVENT
BEGIN:VEVENT
DTSTART;TZID=Australia/Sydney:20291212T173000
DTEND;TZID=Australia/Sydney:20291212T181500
DTSTAMP:20260420T153712
CREATED:20241112T220941Z
LAST-MODIFIED:20250129T033025Z
UID:10112275-1891791000-1891793700@synergyhealthworks.com
SUMMARY:Strength and Conditioning Class
DESCRIPTION:
URL:https://synergyhealthworks.com/event/functional-conditioning/2029-12-12/
LOCATION:Wagga Wagga | Fitness Hub\, 1/21-25 Forsyth Street\, Wagga Wagga\, NSW\, 2650\, Australia
CATEGORIES:Strength and Conditioning
END:VEVENT
BEGIN:VEVENT
DTSTART;TZID=Australia/Sydney:20291213T063000
DTEND;TZID=Australia/Sydney:20291213T071500
DTSTAMP:20260420T153712
CREATED:20251128T024235Z
LAST-MODIFIED:20251128T024235Z
UID:10131490-1891837800-1891840500@synergyhealthworks.com
SUMMARY:Women's Strength Class for over 45s
DESCRIPTION:
URL:https://synergyhealthworks.com/event/womens-strength-class-for-over-45s-5/2029-12-13/
LOCATION:Wagga Wagga | Fitness Hub\, 1/21-25 Forsyth Street\, Wagga Wagga\, NSW\, 2650\, Australia
CATEGORIES:Women's Strength Class for over 45s
END:VEVENT
BEGIN:VEVENT
DTSTART;TZID=Australia/Sydney:20291213T073000
DTEND;TZID=Australia/Sydney:20291213T081500
DTSTAMP:20260420T153712
CREATED:20241112T221101Z
LAST-MODIFIED:20250129T033150Z
UID:10112286-1891841400-1891844100@synergyhealthworks.com
SUMMARY:Women's Strength Class for over 45s
DESCRIPTION:
URL:https://synergyhealthworks.com/event/womens-strength-class-for-over-45s-11/2029-12-13/
LOCATION:Wagga Wagga | Fitness Hub\, 1/21-25 Forsyth Street\, Wagga Wagga\, NSW\, 2650\, Australia
CATEGORIES:Women's Strength Class for over 45s
END:VEVENT
BEGIN:VEVENT
DTSTART;TZID=Australia/Sydney:20291213T090000
DTEND;TZID=Australia/Sydney:20291213T094500
DTSTAMP:20260420T153712
CREATED:20241112T221649Z
LAST-MODIFIED:20250722T032123Z
UID:10120927-1891846800-1891849500@synergyhealthworks.com
SUMMARY:Golfer's Strengthen & Stretch
DESCRIPTION:
URL:https://synergyhealthworks.com/event/golfers-strengthen-stretch-2/2029-12-13/
LOCATION:Wagga Wagga | Fitness Hub\, 1/21-25 Forsyth Street\, Wagga Wagga\, NSW\, 2650\, Australia
CATEGORIES:Golfer's Strengthen & Stretch
END:VEVENT
BEGIN:VEVENT
DTSTART;TZID=Australia/Sydney:20291213T100000
DTEND;TZID=Australia/Sydney:20291213T104500
DTSTAMP:20260420T153712
CREATED:20241112T221214Z
LAST-MODIFIED:20250722T032235Z
UID:10121228-1891850400-1891853100@synergyhealthworks.com
SUMMARY:Strength Circuit
DESCRIPTION:
URL:https://synergyhealthworks.com/event/mens-strength-class-3/2029-12-13/
LOCATION:Wagga Wagga | Fitness Hub\, 1/21-25 Forsyth Street\, Wagga Wagga\, NSW\, 2650\, Australia
CATEGORIES:Strength Circuit
END:VEVENT
BEGIN:VEVENT
DTSTART;TZID=Australia/Sydney:20291213T120000
DTEND;TZID=Australia/Sydney:20291213T124500
DTSTAMP:20260420T153712
CREATED:20241124T212036Z
LAST-MODIFIED:20250516T043505Z
UID:10112306-1891857600-1891860300@synergyhealthworks.com
SUMMARY:Women's Strength for over 45s
DESCRIPTION:
URL:https://synergyhealthworks.com/event/womens-fat-burn-2/2029-12-13/
LOCATION:Wagga Wagga | Fitness Hub\, 1/21-25 Forsyth Street\, Wagga Wagga\, NSW\, 2650\, Australia
CATEGORIES:Women's Strength Class for over 45s
END:VEVENT
BEGIN:VEVENT
DTSTART;TZID=Australia/Sydney:20291214T071500
DTEND;TZID=Australia/Sydney:20291214T080000
DTSTAMP:20260420T153712
CREATED:20250618T000503Z
LAST-MODIFIED:20250618T000657Z
UID:10119022-1891926900-1891929600@synergyhealthworks.com
SUMMARY:Bike & Box
DESCRIPTION:
URL:https://synergyhealthworks.com/event/bike-and-box/2029-12-14/
LOCATION:Wagga Wagga | Fitness Hub\, 1/21-25 Forsyth Street\, Wagga Wagga\, NSW\, 2650\, Australia
CATEGORIES:Bike & Box,Women's Strength Class for over 45s
END:VEVENT
BEGIN:VEVENT
DTSTART;TZID=Australia/Sydney:20291214T073000
DTEND;TZID=Australia/Sydney:20291214T081500
DTSTAMP:20260420T153712
CREATED:20241202T231716Z
LAST-MODIFIED:20250403T044134Z
UID:10116190-1891927800-1891930500@synergyhealthworks.com
SUMMARY:Strength Circuit
DESCRIPTION:
URL:https://synergyhealthworks.com/event/strength-circuit-2/2029-12-14/
LOCATION:Wagga Wagga | Fitness Hub\, 1/21-25 Forsyth Street\, Wagga Wagga\, NSW\, 2650\, Australia
CATEGORIES:Strength Circuit
END:VEVENT
BEGIN:VEVENT
DTSTART;TZID=Australia/Sydney:20291214T083000
DTEND;TZID=Australia/Sydney:20291214T091500
DTSTAMP:20260420T153712
CREATED:20241112T224821Z
LAST-MODIFIED:20250403T043412Z
UID:10115912-1891931400-1891934100@synergyhealthworks.com
SUMMARY:Women's Strength Class for over 45s
DESCRIPTION:
URL:https://synergyhealthworks.com/event/bike-box-2/2029-12-14/
LOCATION:Wagga Wagga | Fitness Hub\, 1/21-25 Forsyth Street\, Wagga Wagga\, NSW\, 2650\, Australia
CATEGORIES:Women's Strength Class for over 45s
END:VEVENT
BEGIN:VEVENT
DTSTART;TZID=Australia/Sydney:20291217T083000
DTEND;TZID=Australia/Sydney:20291217T091500
DTSTAMP:20260420T153712
CREATED:20241112T035630Z
LAST-MODIFIED:20250129T032622Z
UID:10112135-1892190600-1892193300@synergyhealthworks.com
SUMMARY:Strength Circuit
DESCRIPTION:
URL:https://synergyhealthworks.com/event/strength-circuit/2029-12-17/
LOCATION:Wagga Wagga | Fitness Hub\, 1/21-25 Forsyth Street\, Wagga Wagga\, NSW\, 2650\, Australia
CATEGORIES:Strength Circuit
END:VEVENT
BEGIN:VEVENT
DTSTART;TZID=Australia/Sydney:20291217T120000
DTEND;TZID=Australia/Sydney:20291217T124500
DTSTAMP:20260420T153712
CREATED:20250829T044037Z
LAST-MODIFIED:20250829T044037Z
UID:10122456-1892203200-1892205900@synergyhealthworks.com
SUMMARY:Strength and Conditioning Class
DESCRIPTION:
URL:https://synergyhealthworks.com/event/strength-and-conditioning-class-3/2029-12-17/
LOCATION:Wagga Wagga | Fitness Hub\, 1/21-25 Forsyth Street\, Wagga Wagga\, NSW\, 2650\, Australia
CATEGORIES:Strength and Conditioning
END:VEVENT
BEGIN:VEVENT
DTSTART;TZID=Australia/Sydney:20291217T130000
DTEND;TZID=Australia/Sydney:20291217T134500
DTSTAMP:20260420T153712
CREATED:20251112T001650Z
LAST-MODIFIED:20251112T001650Z
UID:10127588-1892206800-1892209500@synergyhealthworks.com
SUMMARY:Strength and Conditioning Class
DESCRIPTION:
URL:https://synergyhealthworks.com/event/strength-and-conditioning-class-5/2029-12-17/
LOCATION:Wagga Wagga | Fitness Hub\, 1/21-25 Forsyth Street\, Wagga Wagga\, NSW\, 2650\, Australia
CATEGORIES:Strength and Conditioning
END:VEVENT
BEGIN:VEVENT
DTSTART;TZID=Australia/Sydney:20291217T163000
DTEND;TZID=Australia/Sydney:20291217T171500
DTSTAMP:20260420T153712
CREATED:20250502T051402Z
LAST-MODIFIED:20250502T051402Z
UID:10116725-1892219400-1892222100@synergyhealthworks.com
SUMMARY:Women’s Pregnancy Strength Class
DESCRIPTION:
URL:https://synergyhealthworks.com/event/womens-pregnancy-strength-class/2029-12-17/
LOCATION:Wagga Wagga | Fitness Hub\, 1/21-25 Forsyth Street\, Wagga Wagga\, NSW\, 2650\, Australia
CATEGORIES:Women’s Pregnancy Strength Class
END:VEVENT
BEGIN:VEVENT
DTSTART;TZID=Australia/Sydney:20291217T173000
DTEND;TZID=Australia/Sydney:20291217T181500
DTSTAMP:20260420T153712
CREATED:20241112T041557Z
LAST-MODIFIED:20250129T032656Z
UID:10112161-1892223000-1892225700@synergyhealthworks.com
SUMMARY:Strength and Conditioning Class
DESCRIPTION:
URL:https://synergyhealthworks.com/event/strength-and-conditioning-class-4/2029-12-17/
LOCATION:Wagga Wagga | Fitness Hub\, 1/21-25 Forsyth Street\, Wagga Wagga\, NSW\, 2650\, Australia
CATEGORIES:Strength and Conditioning
END:VEVENT
BEGIN:VEVENT
DTSTART;TZID=Australia/Sydney:20291218T063000
DTEND;TZID=Australia/Sydney:20291218T071500
DTSTAMP:20260420T153712
CREATED:20241124T211846Z
LAST-MODIFIED:20250516T043543Z
UID:10112171-1892269800-1892272500@synergyhealthworks.com
SUMMARY:Women's Strength for over 45s
DESCRIPTION:
URL:https://synergyhealthworks.com/event/womens-fat-burn/2029-12-18/
LOCATION:Wagga Wagga | Fitness Hub\, 1/21-25 Forsyth Street\, Wagga Wagga\, NSW\, 2650\, Australia
CATEGORIES:Women's Strength Class for over 45s
END:VEVENT
BEGIN:VEVENT
DTSTART;TZID=Australia/Sydney:20291218T073000
DTEND;TZID=Australia/Sydney:20291218T081500
DTSTAMP:20260420T153712
CREATED:20241112T041932Z
LAST-MODIFIED:20250129T032814Z
UID:10112183-1892273400-1892276100@synergyhealthworks.com
SUMMARY:Women’s Strength Class for over 45s
DESCRIPTION:
URL:https://synergyhealthworks.com/event/womens-strength-class-for-over-45s-4/2029-12-18/
LOCATION:Wagga Wagga | Fitness Hub\, 1/21-25 Forsyth Street\, Wagga Wagga\, NSW\, 2650\, Australia
CATEGORIES:Women's Strength Class for over 45s
END:VEVENT
END:VCALENDAR