BEGIN:VCALENDAR
VERSION:2.0
PRODID:-//Synergy Healthworks - ECPv6.15.20//NONSGML v1.0//EN
CALSCALE:GREGORIAN
METHOD:PUBLISH
X-WR-CALNAME:Synergy Healthworks
X-ORIGINAL-URL:https://synergyhealthworks.com
X-WR-CALDESC:Events for Synergy Healthworks
REFRESH-INTERVAL;VALUE=DURATION:PT1H
X-Robots-Tag:noindex
X-PUBLISHED-TTL:PT1H
BEGIN:VTIMEZONE
TZID:Australia/Sydney
BEGIN:STANDARD
TZOFFSETFROM:+1100
TZOFFSETTO:+1000
TZNAME:AEST
DTSTART:20280401T160000
END:STANDARD
BEGIN:DAYLIGHT
TZOFFSETFROM:+1000
TZOFFSETTO:+1100
TZNAME:AEDT
DTSTART:20280930T160000
END:DAYLIGHT
BEGIN:STANDARD
TZOFFSETFROM:+1100
TZOFFSETTO:+1000
TZNAME:AEST
DTSTART:20290331T160000
END:STANDARD
BEGIN:DAYLIGHT
TZOFFSETFROM:+1000
TZOFFSETTO:+1100
TZNAME:AEDT
DTSTART:20291006T160000
END:DAYLIGHT
BEGIN:STANDARD
TZOFFSETFROM:+1100
TZOFFSETTO:+1000
TZNAME:AEST
DTSTART:20300406T160000
END:STANDARD
BEGIN:DAYLIGHT
TZOFFSETFROM:+1000
TZOFFSETTO:+1100
TZNAME:AEDT
DTSTART:20301005T160000
END:DAYLIGHT
END:VTIMEZONE
BEGIN:VEVENT
DTSTART;TZID=Australia/Sydney:20291127T063000
DTEND;TZID=Australia/Sydney:20291127T071500
DTSTAMP:20260420T103142
CREATED:20241124T211846Z
LAST-MODIFIED:20250516T043543Z
UID:10112168-1890455400-1890458100@synergyhealthworks.com
SUMMARY:Women's Strength for over 45s
DESCRIPTION:
URL:https://synergyhealthworks.com/event/womens-fat-burn/2029-11-27/
LOCATION:Wagga Wagga | Fitness Hub\, 1/21-25 Forsyth Street\, Wagga Wagga\, NSW\, 2650\, Australia
CATEGORIES:Women's Strength Class for over 45s
END:VEVENT
BEGIN:VEVENT
DTSTART;TZID=Australia/Sydney:20291127T073000
DTEND;TZID=Australia/Sydney:20291127T081500
DTSTAMP:20260420T103142
CREATED:20241112T041932Z
LAST-MODIFIED:20250129T032814Z
UID:10112180-1890459000-1890461700@synergyhealthworks.com
SUMMARY:Women’s Strength Class for over 45s
DESCRIPTION:
URL:https://synergyhealthworks.com/event/womens-strength-class-for-over-45s-4/2029-11-27/
LOCATION:Wagga Wagga | Fitness Hub\, 1/21-25 Forsyth Street\, Wagga Wagga\, NSW\, 2650\, Australia
CATEGORIES:Women's Strength Class for over 45s
END:VEVENT
BEGIN:VEVENT
DTSTART;TZID=Australia/Sydney:20291127T103000
DTEND;TZID=Australia/Sydney:20291127T111500
DTSTAMP:20260420T103142
CREATED:20250502T051536Z
LAST-MODIFIED:20251203T032954Z
UID:10116983-1890469800-1890472500@synergyhealthworks.com
SUMMARY:Women’s Pelvic and Strength Class
DESCRIPTION:
URL:https://synergyhealthworks.com/event/womens-pelvic-and-strength-class/2029-11-27/
LOCATION:Wagga Wagga | Fitness Hub\, 1/21-25 Forsyth Street\, Wagga Wagga\, NSW\, 2650\, Australia
CATEGORIES:Women’s Pelvic and Strength Class
END:VEVENT
BEGIN:VEVENT
DTSTART;TZID=Australia/Sydney:20291127T120000
DTEND;TZID=Australia/Sydney:20291127T124500
DTSTAMP:20260420T103142
CREATED:20241112T044419Z
LAST-MODIFIED:20250129T032834Z
UID:10112214-1890475200-1890477900@synergyhealthworks.com
SUMMARY:Women's Strength Class for over 45s
DESCRIPTION:
URL:https://synergyhealthworks.com/event/womens-strength-class-for-over-45s-6/2029-11-27/
LOCATION:Wagga Wagga | Fitness Hub\, 1/21-25 Forsyth Street\, Wagga Wagga\, NSW\, 2650\, Australia
CATEGORIES:Women's Strength Class for over 45s
END:VEVENT
BEGIN:VEVENT
DTSTART;TZID=Australia/Sydney:20291127T163000
DTEND;TZID=Australia/Sydney:20291127T171500
DTSTAMP:20260420T103142
CREATED:20241112T044834Z
LAST-MODIFIED:20250129T032845Z
UID:10112226-1890491400-1890494100@synergyhealthworks.com
SUMMARY:Strength Circuit
DESCRIPTION:
URL:https://synergyhealthworks.com/event/strength-circuit-5/2029-11-27/
LOCATION:Wagga Wagga | Fitness Hub\, 1/21-25 Forsyth Street\, Wagga Wagga\, NSW\, 2650\, Australia
CATEGORIES:Strength Circuit
END:VEVENT
BEGIN:VEVENT
DTSTART;TZID=Australia/Sydney:20291128T063000
DTEND;TZID=Australia/Sydney:20291128T071500
DTSTAMP:20260420T103142
CREATED:20241112T045128Z
LAST-MODIFIED:20250129T032952Z
UID:10112237-1890541800-1890544500@synergyhealthworks.com
SUMMARY:Women's Strength Class for over 45s
DESCRIPTION:
URL:https://synergyhealthworks.com/event/womens-strength-class-for-over-45s-7/2029-11-28/
LOCATION:Wagga Wagga | Fitness Hub\, 1/21-25 Forsyth Street\, Wagga Wagga\, NSW\, 2650\, Australia
CATEGORIES:Women's Strength Class for over 45s
END:VEVENT
BEGIN:VEVENT
DTSTART;TZID=Australia/Sydney:20291128T073000
DTEND;TZID=Australia/Sydney:20291128T081500
DTSTAMP:20260420T103142
CREATED:20241112T045308Z
LAST-MODIFIED:20250129T032958Z
UID:10111499-1890545400-1890548100@synergyhealthworks.com
SUMMARY:Functional Fitness
DESCRIPTION:
URL:https://synergyhealthworks.com/event/cardio-combo-circuit-3/2029-11-28/
LOCATION:Wagga Wagga | Fitness Hub\, 1/21-25 Forsyth Street\, Wagga Wagga\, NSW\, 2650\, Australia
CATEGORIES:Functional Fitness
END:VEVENT
BEGIN:VEVENT
DTSTART;TZID=Australia/Sydney:20291128T120000
DTEND;TZID=Australia/Sydney:20291128T124500
DTSTAMP:20260420T103142
CREATED:20241112T220255Z
LAST-MODIFIED:20250129T033004Z
UID:10112248-1890561600-1890564300@synergyhealthworks.com
SUMMARY:Women's Strength Class for over 45s
DESCRIPTION:
URL:https://synergyhealthworks.com/event/womens-strength-class-for-over-45s-9/2029-11-28/
LOCATION:Wagga Wagga | Fitness Hub\, 1/21-25 Forsyth Street\, Wagga Wagga\, NSW\, 2650\, Australia
CATEGORIES:Women's Strength Class for over 45s
END:VEVENT
BEGIN:VEVENT
DTSTART;TZID=Australia/Sydney:20291128T173000
DTEND;TZID=Australia/Sydney:20291128T181500
DTSTAMP:20260420T103142
CREATED:20241112T220941Z
LAST-MODIFIED:20250129T033025Z
UID:10086139-1890581400-1890584100@synergyhealthworks.com
SUMMARY:Strength and Conditioning Class
DESCRIPTION:
URL:https://synergyhealthworks.com/event/functional-conditioning/2029-11-28/
LOCATION:Wagga Wagga | Fitness Hub\, 1/21-25 Forsyth Street\, Wagga Wagga\, NSW\, 2650\, Australia
CATEGORIES:Strength and Conditioning
END:VEVENT
BEGIN:VEVENT
DTSTART;TZID=Australia/Sydney:20291129T063000
DTEND;TZID=Australia/Sydney:20291129T071500
DTSTAMP:20260420T103142
CREATED:20251128T024235Z
LAST-MODIFIED:20251128T024235Z
UID:10131488-1890628200-1890630900@synergyhealthworks.com
SUMMARY:Women's Strength Class for over 45s
DESCRIPTION:
URL:https://synergyhealthworks.com/event/womens-strength-class-for-over-45s-5/2029-11-29/
LOCATION:Wagga Wagga | Fitness Hub\, 1/21-25 Forsyth Street\, Wagga Wagga\, NSW\, 2650\, Australia
CATEGORIES:Women's Strength Class for over 45s
END:VEVENT
BEGIN:VEVENT
DTSTART;TZID=Australia/Sydney:20291129T073000
DTEND;TZID=Australia/Sydney:20291129T081500
DTSTAMP:20260420T103142
CREATED:20241112T221101Z
LAST-MODIFIED:20250129T033150Z
UID:10112284-1890631800-1890634500@synergyhealthworks.com
SUMMARY:Women's Strength Class for over 45s
DESCRIPTION:
URL:https://synergyhealthworks.com/event/womens-strength-class-for-over-45s-11/2029-11-29/
LOCATION:Wagga Wagga | Fitness Hub\, 1/21-25 Forsyth Street\, Wagga Wagga\, NSW\, 2650\, Australia
CATEGORIES:Women's Strength Class for over 45s
END:VEVENT
BEGIN:VEVENT
DTSTART;TZID=Australia/Sydney:20291129T090000
DTEND;TZID=Australia/Sydney:20291129T094500
DTSTAMP:20260420T103142
CREATED:20241112T221649Z
LAST-MODIFIED:20250722T032123Z
UID:10120925-1890637200-1890639900@synergyhealthworks.com
SUMMARY:Golfer's Strengthen & Stretch
DESCRIPTION:
URL:https://synergyhealthworks.com/event/golfers-strengthen-stretch-2/2029-11-29/
LOCATION:Wagga Wagga | Fitness Hub\, 1/21-25 Forsyth Street\, Wagga Wagga\, NSW\, 2650\, Australia
CATEGORIES:Golfer's Strengthen & Stretch
END:VEVENT
BEGIN:VEVENT
DTSTART;TZID=Australia/Sydney:20291129T100000
DTEND;TZID=Australia/Sydney:20291129T104500
DTSTAMP:20260420T103142
CREATED:20241112T221214Z
LAST-MODIFIED:20250722T032235Z
UID:10121226-1890640800-1890643500@synergyhealthworks.com
SUMMARY:Strength Circuit
DESCRIPTION:
URL:https://synergyhealthworks.com/event/mens-strength-class-3/2029-11-29/
LOCATION:Wagga Wagga | Fitness Hub\, 1/21-25 Forsyth Street\, Wagga Wagga\, NSW\, 2650\, Australia
CATEGORIES:Strength Circuit
END:VEVENT
BEGIN:VEVENT
DTSTART;TZID=Australia/Sydney:20291129T120000
DTEND;TZID=Australia/Sydney:20291129T124500
DTSTAMP:20260420T103142
CREATED:20241124T212036Z
LAST-MODIFIED:20250516T043505Z
UID:10112304-1890648000-1890650700@synergyhealthworks.com
SUMMARY:Women's Strength for over 45s
DESCRIPTION:
URL:https://synergyhealthworks.com/event/womens-fat-burn-2/2029-11-29/
LOCATION:Wagga Wagga | Fitness Hub\, 1/21-25 Forsyth Street\, Wagga Wagga\, NSW\, 2650\, Australia
CATEGORIES:Women's Strength Class for over 45s
END:VEVENT
BEGIN:VEVENT
DTSTART;TZID=Australia/Sydney:20291130T071500
DTEND;TZID=Australia/Sydney:20291130T080000
DTSTAMP:20260420T103142
CREATED:20250618T000503Z
LAST-MODIFIED:20250618T000657Z
UID:10119020-1890717300-1890720000@synergyhealthworks.com
SUMMARY:Bike & Box
DESCRIPTION:
URL:https://synergyhealthworks.com/event/bike-and-box/2029-11-30/
LOCATION:Wagga Wagga | Fitness Hub\, 1/21-25 Forsyth Street\, Wagga Wagga\, NSW\, 2650\, Australia
CATEGORIES:Bike & Box,Women's Strength Class for over 45s
END:VEVENT
BEGIN:VEVENT
DTSTART;TZID=Australia/Sydney:20291130T073000
DTEND;TZID=Australia/Sydney:20291130T081500
DTSTAMP:20260420T103142
CREATED:20241202T231716Z
LAST-MODIFIED:20250403T044134Z
UID:10116188-1890718200-1890720900@synergyhealthworks.com
SUMMARY:Strength Circuit
DESCRIPTION:
URL:https://synergyhealthworks.com/event/strength-circuit-2/2029-11-30/
LOCATION:Wagga Wagga | Fitness Hub\, 1/21-25 Forsyth Street\, Wagga Wagga\, NSW\, 2650\, Australia
CATEGORIES:Strength Circuit
END:VEVENT
BEGIN:VEVENT
DTSTART;TZID=Australia/Sydney:20291130T083000
DTEND;TZID=Australia/Sydney:20291130T091500
DTSTAMP:20260420T103142
CREATED:20241112T224821Z
LAST-MODIFIED:20250403T043412Z
UID:10115910-1890721800-1890724500@synergyhealthworks.com
SUMMARY:Women's Strength Class for over 45s
DESCRIPTION:
URL:https://synergyhealthworks.com/event/bike-box-2/2029-11-30/
LOCATION:Wagga Wagga | Fitness Hub\, 1/21-25 Forsyth Street\, Wagga Wagga\, NSW\, 2650\, Australia
CATEGORIES:Women's Strength Class for over 45s
END:VEVENT
BEGIN:VEVENT
DTSTART;TZID=Australia/Sydney:20291203T083000
DTEND;TZID=Australia/Sydney:20291203T091500
DTSTAMP:20260420T103142
CREATED:20241112T035630Z
LAST-MODIFIED:20250129T032622Z
UID:10112133-1890981000-1890983700@synergyhealthworks.com
SUMMARY:Strength Circuit
DESCRIPTION:
URL:https://synergyhealthworks.com/event/strength-circuit/2029-12-03/
LOCATION:Wagga Wagga | Fitness Hub\, 1/21-25 Forsyth Street\, Wagga Wagga\, NSW\, 2650\, Australia
CATEGORIES:Strength Circuit
END:VEVENT
BEGIN:VEVENT
DTSTART;TZID=Australia/Sydney:20291203T120000
DTEND;TZID=Australia/Sydney:20291203T124500
DTSTAMP:20260420T103142
CREATED:20250829T044037Z
LAST-MODIFIED:20250829T044037Z
UID:10122454-1890993600-1890996300@synergyhealthworks.com
SUMMARY:Strength and Conditioning Class
DESCRIPTION:
URL:https://synergyhealthworks.com/event/strength-and-conditioning-class-3/2029-12-03/
LOCATION:Wagga Wagga | Fitness Hub\, 1/21-25 Forsyth Street\, Wagga Wagga\, NSW\, 2650\, Australia
CATEGORIES:Strength and Conditioning
END:VEVENT
BEGIN:VEVENT
DTSTART;TZID=Australia/Sydney:20291203T130000
DTEND;TZID=Australia/Sydney:20291203T134500
DTSTAMP:20260420T103142
CREATED:20251112T001650Z
LAST-MODIFIED:20251112T001650Z
UID:10127586-1890997200-1890999900@synergyhealthworks.com
SUMMARY:Strength and Conditioning Class
DESCRIPTION:
URL:https://synergyhealthworks.com/event/strength-and-conditioning-class-5/2029-12-03/
LOCATION:Wagga Wagga | Fitness Hub\, 1/21-25 Forsyth Street\, Wagga Wagga\, NSW\, 2650\, Australia
CATEGORIES:Strength and Conditioning
END:VEVENT
BEGIN:VEVENT
DTSTART;TZID=Australia/Sydney:20291203T163000
DTEND;TZID=Australia/Sydney:20291203T171500
DTSTAMP:20260420T103142
CREATED:20250502T051402Z
LAST-MODIFIED:20250502T051402Z
UID:10116723-1891009800-1891012500@synergyhealthworks.com
SUMMARY:Women’s Pregnancy Strength Class
DESCRIPTION:
URL:https://synergyhealthworks.com/event/womens-pregnancy-strength-class/2029-12-03/
LOCATION:Wagga Wagga | Fitness Hub\, 1/21-25 Forsyth Street\, Wagga Wagga\, NSW\, 2650\, Australia
CATEGORIES:Women’s Pregnancy Strength Class
END:VEVENT
BEGIN:VEVENT
DTSTART;TZID=Australia/Sydney:20291203T173000
DTEND;TZID=Australia/Sydney:20291203T181500
DTSTAMP:20260420T103142
CREATED:20241112T041557Z
LAST-MODIFIED:20250129T032656Z
UID:10112159-1891013400-1891016100@synergyhealthworks.com
SUMMARY:Strength and Conditioning Class
DESCRIPTION:
URL:https://synergyhealthworks.com/event/strength-and-conditioning-class-4/2029-12-03/
LOCATION:Wagga Wagga | Fitness Hub\, 1/21-25 Forsyth Street\, Wagga Wagga\, NSW\, 2650\, Australia
CATEGORIES:Strength and Conditioning
END:VEVENT
BEGIN:VEVENT
DTSTART;TZID=Australia/Sydney:20291204T063000
DTEND;TZID=Australia/Sydney:20291204T071500
DTSTAMP:20260420T103142
CREATED:20241124T211846Z
LAST-MODIFIED:20250516T043543Z
UID:10112169-1891060200-1891062900@synergyhealthworks.com
SUMMARY:Women's Strength for over 45s
DESCRIPTION:
URL:https://synergyhealthworks.com/event/womens-fat-burn/2029-12-04/
LOCATION:Wagga Wagga | Fitness Hub\, 1/21-25 Forsyth Street\, Wagga Wagga\, NSW\, 2650\, Australia
CATEGORIES:Women's Strength Class for over 45s
END:VEVENT
BEGIN:VEVENT
DTSTART;TZID=Australia/Sydney:20291204T073000
DTEND;TZID=Australia/Sydney:20291204T081500
DTSTAMP:20260420T103142
CREATED:20241112T041932Z
LAST-MODIFIED:20250129T032814Z
UID:10112181-1891063800-1891066500@synergyhealthworks.com
SUMMARY:Women’s Strength Class for over 45s
DESCRIPTION:
URL:https://synergyhealthworks.com/event/womens-strength-class-for-over-45s-4/2029-12-04/
LOCATION:Wagga Wagga | Fitness Hub\, 1/21-25 Forsyth Street\, Wagga Wagga\, NSW\, 2650\, Australia
CATEGORIES:Women's Strength Class for over 45s
END:VEVENT
BEGIN:VEVENT
DTSTART;TZID=Australia/Sydney:20291204T103000
DTEND;TZID=Australia/Sydney:20291204T111500
DTSTAMP:20260420T103142
CREATED:20250502T051536Z
LAST-MODIFIED:20251203T032954Z
UID:10116984-1891074600-1891077300@synergyhealthworks.com
SUMMARY:Women’s Pelvic and Strength Class
DESCRIPTION:
URL:https://synergyhealthworks.com/event/womens-pelvic-and-strength-class/2029-12-04/
LOCATION:Wagga Wagga | Fitness Hub\, 1/21-25 Forsyth Street\, Wagga Wagga\, NSW\, 2650\, Australia
CATEGORIES:Women’s Pelvic and Strength Class
END:VEVENT
BEGIN:VEVENT
DTSTART;TZID=Australia/Sydney:20291204T120000
DTEND;TZID=Australia/Sydney:20291204T124500
DTSTAMP:20260420T103142
CREATED:20241112T044419Z
LAST-MODIFIED:20250129T032834Z
UID:10112215-1891080000-1891082700@synergyhealthworks.com
SUMMARY:Women's Strength Class for over 45s
DESCRIPTION:
URL:https://synergyhealthworks.com/event/womens-strength-class-for-over-45s-6/2029-12-04/
LOCATION:Wagga Wagga | Fitness Hub\, 1/21-25 Forsyth Street\, Wagga Wagga\, NSW\, 2650\, Australia
CATEGORIES:Women's Strength Class for over 45s
END:VEVENT
BEGIN:VEVENT
DTSTART;TZID=Australia/Sydney:20291204T163000
DTEND;TZID=Australia/Sydney:20291204T171500
DTSTAMP:20260420T103142
CREATED:20241112T044834Z
LAST-MODIFIED:20250129T032845Z
UID:10112227-1891096200-1891098900@synergyhealthworks.com
SUMMARY:Strength Circuit
DESCRIPTION:
URL:https://synergyhealthworks.com/event/strength-circuit-5/2029-12-04/
LOCATION:Wagga Wagga | Fitness Hub\, 1/21-25 Forsyth Street\, Wagga Wagga\, NSW\, 2650\, Australia
CATEGORIES:Strength Circuit
END:VEVENT
BEGIN:VEVENT
DTSTART;TZID=Australia/Sydney:20291205T063000
DTEND;TZID=Australia/Sydney:20291205T071500
DTSTAMP:20260420T103142
CREATED:20241112T045128Z
LAST-MODIFIED:20250129T032952Z
UID:10112238-1891146600-1891149300@synergyhealthworks.com
SUMMARY:Women's Strength Class for over 45s
DESCRIPTION:
URL:https://synergyhealthworks.com/event/womens-strength-class-for-over-45s-7/2029-12-05/
LOCATION:Wagga Wagga | Fitness Hub\, 1/21-25 Forsyth Street\, Wagga Wagga\, NSW\, 2650\, Australia
CATEGORIES:Women's Strength Class for over 45s
END:VEVENT
BEGIN:VEVENT
DTSTART;TZID=Australia/Sydney:20291205T073000
DTEND;TZID=Australia/Sydney:20291205T081500
DTSTAMP:20260420T103142
CREATED:20241112T045308Z
LAST-MODIFIED:20250129T032958Z
UID:10111500-1891150200-1891152900@synergyhealthworks.com
SUMMARY:Functional Fitness
DESCRIPTION:
URL:https://synergyhealthworks.com/event/cardio-combo-circuit-3/2029-12-05/
LOCATION:Wagga Wagga | Fitness Hub\, 1/21-25 Forsyth Street\, Wagga Wagga\, NSW\, 2650\, Australia
CATEGORIES:Functional Fitness
END:VEVENT
BEGIN:VEVENT
DTSTART;TZID=Australia/Sydney:20291205T120000
DTEND;TZID=Australia/Sydney:20291205T124500
DTSTAMP:20260420T103142
CREATED:20241112T220255Z
LAST-MODIFIED:20250129T033004Z
UID:10112249-1891166400-1891169100@synergyhealthworks.com
SUMMARY:Women's Strength Class for over 45s
DESCRIPTION:
URL:https://synergyhealthworks.com/event/womens-strength-class-for-over-45s-9/2029-12-05/
LOCATION:Wagga Wagga | Fitness Hub\, 1/21-25 Forsyth Street\, Wagga Wagga\, NSW\, 2650\, Australia
CATEGORIES:Women's Strength Class for over 45s
END:VEVENT
END:VCALENDAR