BEGIN:VCALENDAR
VERSION:2.0
PRODID:-//Synergy Healthworks - ECPv6.15.20//NONSGML v1.0//EN
CALSCALE:GREGORIAN
METHOD:PUBLISH
X-ORIGINAL-URL:https://synergyhealthworks.com
X-WR-CALDESC:Events for Synergy Healthworks
REFRESH-INTERVAL;VALUE=DURATION:PT1H
X-Robots-Tag:noindex
X-PUBLISHED-TTL:PT1H
BEGIN:VTIMEZONE
TZID:Australia/Sydney
BEGIN:STANDARD
TZOFFSETFROM:+1100
TZOFFSETTO:+1000
TZNAME:AEST
DTSTART:20280401T160000
END:STANDARD
BEGIN:DAYLIGHT
TZOFFSETFROM:+1000
TZOFFSETTO:+1100
TZNAME:AEDT
DTSTART:20280930T160000
END:DAYLIGHT
BEGIN:STANDARD
TZOFFSETFROM:+1100
TZOFFSETTO:+1000
TZNAME:AEST
DTSTART:20290331T160000
END:STANDARD
BEGIN:DAYLIGHT
TZOFFSETFROM:+1000
TZOFFSETTO:+1100
TZNAME:AEDT
DTSTART:20291006T160000
END:DAYLIGHT
BEGIN:STANDARD
TZOFFSETFROM:+1100
TZOFFSETTO:+1000
TZNAME:AEST
DTSTART:20300406T160000
END:STANDARD
BEGIN:DAYLIGHT
TZOFFSETFROM:+1000
TZOFFSETTO:+1100
TZNAME:AEDT
DTSTART:20301005T160000
END:DAYLIGHT
END:VTIMEZONE
BEGIN:VEVENT
DTSTART;TZID=Australia/Sydney:20291112T083000
DTEND;TZID=Australia/Sydney:20291112T091500
DTSTAMP:20260420T035416
CREATED:20241112T035630Z
LAST-MODIFIED:20250129T032622Z
UID:10082418-1889166600-1889169300@synergyhealthworks.com
SUMMARY:Strength Circuit
DESCRIPTION:
URL:https://synergyhealthworks.com/event/strength-circuit/2029-11-12/
LOCATION:Wagga Wagga | Fitness Hub\, 1/21-25 Forsyth Street\, Wagga Wagga\, NSW\, 2650\, Australia
CATEGORIES:Strength Circuit
END:VEVENT
BEGIN:VEVENT
DTSTART;TZID=Australia/Sydney:20291112T120000
DTEND;TZID=Australia/Sydney:20291112T124500
DTSTAMP:20260420T035416
CREATED:20250829T044037Z
LAST-MODIFIED:20250829T044037Z
UID:10122451-1889179200-1889181900@synergyhealthworks.com
SUMMARY:Strength and Conditioning Class
DESCRIPTION:
URL:https://synergyhealthworks.com/event/strength-and-conditioning-class-3/2029-11-12/
LOCATION:Wagga Wagga | Fitness Hub\, 1/21-25 Forsyth Street\, Wagga Wagga\, NSW\, 2650\, Australia
CATEGORIES:Strength and Conditioning
END:VEVENT
BEGIN:VEVENT
DTSTART;TZID=Australia/Sydney:20291112T130000
DTEND;TZID=Australia/Sydney:20291112T134500
DTSTAMP:20260420T035416
CREATED:20251112T001650Z
LAST-MODIFIED:20251112T001650Z
UID:10127583-1889182800-1889185500@synergyhealthworks.com
SUMMARY:Strength and Conditioning Class
DESCRIPTION:
URL:https://synergyhealthworks.com/event/strength-and-conditioning-class-5/2029-11-12/
LOCATION:Wagga Wagga | Fitness Hub\, 1/21-25 Forsyth Street\, Wagga Wagga\, NSW\, 2650\, Australia
CATEGORIES:Strength and Conditioning
END:VEVENT
BEGIN:VEVENT
DTSTART;TZID=Australia/Sydney:20291112T163000
DTEND;TZID=Australia/Sydney:20291112T171500
DTSTAMP:20260420T035416
CREATED:20250502T051402Z
LAST-MODIFIED:20250502T051402Z
UID:10116720-1889195400-1889198100@synergyhealthworks.com
SUMMARY:Women’s Pregnancy Strength Class
DESCRIPTION:
URL:https://synergyhealthworks.com/event/womens-pregnancy-strength-class/2029-11-12/
LOCATION:Wagga Wagga | Fitness Hub\, 1/21-25 Forsyth Street\, Wagga Wagga\, NSW\, 2650\, Australia
CATEGORIES:Women’s Pregnancy Strength Class
END:VEVENT
BEGIN:VEVENT
DTSTART;TZID=Australia/Sydney:20291112T173000
DTEND;TZID=Australia/Sydney:20291112T181500
DTSTAMP:20260420T035416
CREATED:20241112T041557Z
LAST-MODIFIED:20250129T032656Z
UID:10072341-1889199000-1889201700@synergyhealthworks.com
SUMMARY:Strength and Conditioning Class
DESCRIPTION:
URL:https://synergyhealthworks.com/event/strength-and-conditioning-class-4/2029-11-12/
LOCATION:Wagga Wagga | Fitness Hub\, 1/21-25 Forsyth Street\, Wagga Wagga\, NSW\, 2650\, Australia
CATEGORIES:Strength and Conditioning
END:VEVENT
BEGIN:VEVENT
DTSTART;TZID=Australia/Sydney:20291113T063000
DTEND;TZID=Australia/Sydney:20291113T071500
DTSTAMP:20260420T035416
CREATED:20241124T211846Z
LAST-MODIFIED:20250516T043543Z
UID:10085874-1889245800-1889248500@synergyhealthworks.com
SUMMARY:Women's Strength for over 45s
DESCRIPTION:
URL:https://synergyhealthworks.com/event/womens-fat-burn/2029-11-13/
LOCATION:Wagga Wagga | Fitness Hub\, 1/21-25 Forsyth Street\, Wagga Wagga\, NSW\, 2650\, Australia
CATEGORIES:Women's Strength Class for over 45s
END:VEVENT
BEGIN:VEVENT
DTSTART;TZID=Australia/Sydney:20291113T073000
DTEND;TZID=Australia/Sydney:20291113T081500
DTSTAMP:20260420T035416
CREATED:20241112T041932Z
LAST-MODIFIED:20250129T032814Z
UID:10112178-1889249400-1889252100@synergyhealthworks.com
SUMMARY:Women’s Strength Class for over 45s
DESCRIPTION:
URL:https://synergyhealthworks.com/event/womens-strength-class-for-over-45s-4/2029-11-13/
LOCATION:Wagga Wagga | Fitness Hub\, 1/21-25 Forsyth Street\, Wagga Wagga\, NSW\, 2650\, Australia
CATEGORIES:Women's Strength Class for over 45s
END:VEVENT
BEGIN:VEVENT
DTSTART;TZID=Australia/Sydney:20291113T103000
DTEND;TZID=Australia/Sydney:20291113T111500
DTSTAMP:20260420T035416
CREATED:20250502T051536Z
LAST-MODIFIED:20251203T032954Z
UID:10116981-1889260200-1889262900@synergyhealthworks.com
SUMMARY:Women’s Pelvic and Strength Class
DESCRIPTION:
URL:https://synergyhealthworks.com/event/womens-pelvic-and-strength-class/2029-11-13/
LOCATION:Wagga Wagga | Fitness Hub\, 1/21-25 Forsyth Street\, Wagga Wagga\, NSW\, 2650\, Australia
CATEGORIES:Women’s Pelvic and Strength Class
END:VEVENT
BEGIN:VEVENT
DTSTART;TZID=Australia/Sydney:20291113T120000
DTEND;TZID=Australia/Sydney:20291113T124500
DTSTAMP:20260420T035416
CREATED:20241112T044419Z
LAST-MODIFIED:20250129T032834Z
UID:10112212-1889265600-1889268300@synergyhealthworks.com
SUMMARY:Women's Strength Class for over 45s
DESCRIPTION:
URL:https://synergyhealthworks.com/event/womens-strength-class-for-over-45s-6/2029-11-13/
LOCATION:Wagga Wagga | Fitness Hub\, 1/21-25 Forsyth Street\, Wagga Wagga\, NSW\, 2650\, Australia
CATEGORIES:Women's Strength Class for over 45s
END:VEVENT
BEGIN:VEVENT
DTSTART;TZID=Australia/Sydney:20291113T163000
DTEND;TZID=Australia/Sydney:20291113T171500
DTSTAMP:20260420T035416
CREATED:20241112T044834Z
LAST-MODIFIED:20250129T032845Z
UID:10112224-1889281800-1889284500@synergyhealthworks.com
SUMMARY:Strength Circuit
DESCRIPTION:
URL:https://synergyhealthworks.com/event/strength-circuit-5/2029-11-13/
LOCATION:Wagga Wagga | Fitness Hub\, 1/21-25 Forsyth Street\, Wagga Wagga\, NSW\, 2650\, Australia
CATEGORIES:Strength Circuit
END:VEVENT
BEGIN:VEVENT
DTSTART;TZID=Australia/Sydney:20291114T063000
DTEND;TZID=Australia/Sydney:20291114T071500
DTSTAMP:20260420T035416
CREATED:20241112T045128Z
LAST-MODIFIED:20250129T032952Z
UID:10084014-1889332200-1889334900@synergyhealthworks.com
SUMMARY:Women's Strength Class for over 45s
DESCRIPTION:
URL:https://synergyhealthworks.com/event/womens-strength-class-for-over-45s-7/2029-11-14/
LOCATION:Wagga Wagga | Fitness Hub\, 1/21-25 Forsyth Street\, Wagga Wagga\, NSW\, 2650\, Australia
CATEGORIES:Women's Strength Class for over 45s
END:VEVENT
BEGIN:VEVENT
DTSTART;TZID=Australia/Sydney:20291114T073000
DTEND;TZID=Australia/Sydney:20291114T081500
DTSTAMP:20260420T035416
CREATED:20241112T045308Z
LAST-MODIFIED:20250129T032958Z
UID:10111497-1889335800-1889338500@synergyhealthworks.com
SUMMARY:Functional Fitness
DESCRIPTION:
URL:https://synergyhealthworks.com/event/cardio-combo-circuit-3/2029-11-14/
LOCATION:Wagga Wagga | Fitness Hub\, 1/21-25 Forsyth Street\, Wagga Wagga\, NSW\, 2650\, Australia
CATEGORIES:Functional Fitness
END:VEVENT
BEGIN:VEVENT
DTSTART;TZID=Australia/Sydney:20291114T120000
DTEND;TZID=Australia/Sydney:20291114T124500
DTSTAMP:20260420T035416
CREATED:20241112T220255Z
LAST-MODIFIED:20250129T033004Z
UID:10112246-1889352000-1889354700@synergyhealthworks.com
SUMMARY:Women's Strength Class for over 45s
DESCRIPTION:
URL:https://synergyhealthworks.com/event/womens-strength-class-for-over-45s-9/2029-11-14/
LOCATION:Wagga Wagga | Fitness Hub\, 1/21-25 Forsyth Street\, Wagga Wagga\, NSW\, 2650\, Australia
CATEGORIES:Women's Strength Class for over 45s
END:VEVENT
BEGIN:VEVENT
DTSTART;TZID=Australia/Sydney:20291114T173000
DTEND;TZID=Australia/Sydney:20291114T181500
DTSTAMP:20260420T035416
CREATED:20241112T220941Z
LAST-MODIFIED:20250129T033025Z
UID:10086137-1889371800-1889374500@synergyhealthworks.com
SUMMARY:Strength and Conditioning Class
DESCRIPTION:
URL:https://synergyhealthworks.com/event/functional-conditioning/2029-11-14/
LOCATION:Wagga Wagga | Fitness Hub\, 1/21-25 Forsyth Street\, Wagga Wagga\, NSW\, 2650\, Australia
CATEGORIES:Strength and Conditioning
END:VEVENT
BEGIN:VEVENT
DTSTART;TZID=Australia/Sydney:20291115T063000
DTEND;TZID=Australia/Sydney:20291115T071500
DTSTAMP:20260420T035416
CREATED:20251128T024235Z
LAST-MODIFIED:20251128T024235Z
UID:10131486-1889418600-1889421300@synergyhealthworks.com
SUMMARY:Women's Strength Class for over 45s
DESCRIPTION:
URL:https://synergyhealthworks.com/event/womens-strength-class-for-over-45s-5/2029-11-15/
LOCATION:Wagga Wagga | Fitness Hub\, 1/21-25 Forsyth Street\, Wagga Wagga\, NSW\, 2650\, Australia
CATEGORIES:Women's Strength Class for over 45s
END:VEVENT
BEGIN:VEVENT
DTSTART;TZID=Australia/Sydney:20291115T073000
DTEND;TZID=Australia/Sydney:20291115T081500
DTSTAMP:20260420T035416
CREATED:20241112T221101Z
LAST-MODIFIED:20250129T033150Z
UID:10112282-1889422200-1889424900@synergyhealthworks.com
SUMMARY:Women's Strength Class for over 45s
DESCRIPTION:
URL:https://synergyhealthworks.com/event/womens-strength-class-for-over-45s-11/2029-11-15/
LOCATION:Wagga Wagga | Fitness Hub\, 1/21-25 Forsyth Street\, Wagga Wagga\, NSW\, 2650\, Australia
CATEGORIES:Women's Strength Class for over 45s
END:VEVENT
BEGIN:VEVENT
DTSTART;TZID=Australia/Sydney:20291115T090000
DTEND;TZID=Australia/Sydney:20291115T094500
DTSTAMP:20260420T035416
CREATED:20241112T221649Z
LAST-MODIFIED:20250722T032123Z
UID:10120923-1889427600-1889430300@synergyhealthworks.com
SUMMARY:Golfer's Strengthen & Stretch
DESCRIPTION:
URL:https://synergyhealthworks.com/event/golfers-strengthen-stretch-2/2029-11-15/
LOCATION:Wagga Wagga | Fitness Hub\, 1/21-25 Forsyth Street\, Wagga Wagga\, NSW\, 2650\, Australia
CATEGORIES:Golfer's Strengthen & Stretch
END:VEVENT
BEGIN:VEVENT
DTSTART;TZID=Australia/Sydney:20291115T100000
DTEND;TZID=Australia/Sydney:20291115T104500
DTSTAMP:20260420T035416
CREATED:20241112T221214Z
LAST-MODIFIED:20250722T032235Z
UID:10121224-1889431200-1889433900@synergyhealthworks.com
SUMMARY:Strength Circuit
DESCRIPTION:
URL:https://synergyhealthworks.com/event/mens-strength-class-3/2029-11-15/
LOCATION:Wagga Wagga | Fitness Hub\, 1/21-25 Forsyth Street\, Wagga Wagga\, NSW\, 2650\, Australia
CATEGORIES:Strength Circuit
END:VEVENT
BEGIN:VEVENT
DTSTART;TZID=Australia/Sydney:20291115T120000
DTEND;TZID=Australia/Sydney:20291115T124500
DTSTAMP:20260420T035416
CREATED:20241124T212036Z
LAST-MODIFIED:20250516T043505Z
UID:10086135-1889438400-1889441100@synergyhealthworks.com
SUMMARY:Women's Strength for over 45s
DESCRIPTION:
URL:https://synergyhealthworks.com/event/womens-fat-burn-2/2029-11-15/
LOCATION:Wagga Wagga | Fitness Hub\, 1/21-25 Forsyth Street\, Wagga Wagga\, NSW\, 2650\, Australia
CATEGORIES:Women's Strength Class for over 45s
END:VEVENT
BEGIN:VEVENT
DTSTART;TZID=Australia/Sydney:20291116T071500
DTEND;TZID=Australia/Sydney:20291116T080000
DTSTAMP:20260420T035416
CREATED:20250618T000503Z
LAST-MODIFIED:20250618T000657Z
UID:10119018-1889507700-1889510400@synergyhealthworks.com
SUMMARY:Bike & Box
DESCRIPTION:
URL:https://synergyhealthworks.com/event/bike-and-box/2029-11-16/
LOCATION:Wagga Wagga | Fitness Hub\, 1/21-25 Forsyth Street\, Wagga Wagga\, NSW\, 2650\, Australia
CATEGORIES:Bike & Box,Women's Strength Class for over 45s
END:VEVENT
BEGIN:VEVENT
DTSTART;TZID=Australia/Sydney:20291116T073000
DTEND;TZID=Australia/Sydney:20291116T081500
DTSTAMP:20260420T035416
CREATED:20241202T231716Z
LAST-MODIFIED:20250403T044134Z
UID:10116186-1889508600-1889511300@synergyhealthworks.com
SUMMARY:Strength Circuit
DESCRIPTION:
URL:https://synergyhealthworks.com/event/strength-circuit-2/2029-11-16/
LOCATION:Wagga Wagga | Fitness Hub\, 1/21-25 Forsyth Street\, Wagga Wagga\, NSW\, 2650\, Australia
CATEGORIES:Strength Circuit
END:VEVENT
BEGIN:VEVENT
DTSTART;TZID=Australia/Sydney:20291116T083000
DTEND;TZID=Australia/Sydney:20291116T091500
DTSTAMP:20260420T035416
CREATED:20241112T224821Z
LAST-MODIFIED:20250403T043412Z
UID:10115908-1889512200-1889514900@synergyhealthworks.com
SUMMARY:Women's Strength Class for over 45s
DESCRIPTION:
URL:https://synergyhealthworks.com/event/bike-box-2/2029-11-16/
LOCATION:Wagga Wagga | Fitness Hub\, 1/21-25 Forsyth Street\, Wagga Wagga\, NSW\, 2650\, Australia
CATEGORIES:Women's Strength Class for over 45s
END:VEVENT
BEGIN:VEVENT
DTSTART;TZID=Australia/Sydney:20291119T083000
DTEND;TZID=Australia/Sydney:20291119T091500
DTSTAMP:20260420T035416
CREATED:20241112T035630Z
LAST-MODIFIED:20250129T032622Z
UID:10112131-1889771400-1889774100@synergyhealthworks.com
SUMMARY:Strength Circuit
DESCRIPTION:
URL:https://synergyhealthworks.com/event/strength-circuit/2029-11-19/
LOCATION:Wagga Wagga | Fitness Hub\, 1/21-25 Forsyth Street\, Wagga Wagga\, NSW\, 2650\, Australia
CATEGORIES:Strength Circuit
END:VEVENT
BEGIN:VEVENT
DTSTART;TZID=Australia/Sydney:20291119T120000
DTEND;TZID=Australia/Sydney:20291119T124500
DTSTAMP:20260420T035416
CREATED:20250829T044037Z
LAST-MODIFIED:20250829T044037Z
UID:10122452-1889784000-1889786700@synergyhealthworks.com
SUMMARY:Strength and Conditioning Class
DESCRIPTION:
URL:https://synergyhealthworks.com/event/strength-and-conditioning-class-3/2029-11-19/
LOCATION:Wagga Wagga | Fitness Hub\, 1/21-25 Forsyth Street\, Wagga Wagga\, NSW\, 2650\, Australia
CATEGORIES:Strength and Conditioning
END:VEVENT
BEGIN:VEVENT
DTSTART;TZID=Australia/Sydney:20291119T130000
DTEND;TZID=Australia/Sydney:20291119T134500
DTSTAMP:20260420T035416
CREATED:20251112T001650Z
LAST-MODIFIED:20251112T001650Z
UID:10127584-1889787600-1889790300@synergyhealthworks.com
SUMMARY:Strength and Conditioning Class
DESCRIPTION:
URL:https://synergyhealthworks.com/event/strength-and-conditioning-class-5/2029-11-19/
LOCATION:Wagga Wagga | Fitness Hub\, 1/21-25 Forsyth Street\, Wagga Wagga\, NSW\, 2650\, Australia
CATEGORIES:Strength and Conditioning
END:VEVENT
BEGIN:VEVENT
DTSTART;TZID=Australia/Sydney:20291119T163000
DTEND;TZID=Australia/Sydney:20291119T171500
DTSTAMP:20260420T035416
CREATED:20250502T051402Z
LAST-MODIFIED:20250502T051402Z
UID:10116721-1889800200-1889802900@synergyhealthworks.com
SUMMARY:Women’s Pregnancy Strength Class
DESCRIPTION:
URL:https://synergyhealthworks.com/event/womens-pregnancy-strength-class/2029-11-19/
LOCATION:Wagga Wagga | Fitness Hub\, 1/21-25 Forsyth Street\, Wagga Wagga\, NSW\, 2650\, Australia
CATEGORIES:Women’s Pregnancy Strength Class
END:VEVENT
BEGIN:VEVENT
DTSTART;TZID=Australia/Sydney:20291119T173000
DTEND;TZID=Australia/Sydney:20291119T181500
DTSTAMP:20260420T035416
CREATED:20241112T041557Z
LAST-MODIFIED:20250129T032656Z
UID:10112157-1889803800-1889806500@synergyhealthworks.com
SUMMARY:Strength and Conditioning Class
DESCRIPTION:
URL:https://synergyhealthworks.com/event/strength-and-conditioning-class-4/2029-11-19/
LOCATION:Wagga Wagga | Fitness Hub\, 1/21-25 Forsyth Street\, Wagga Wagga\, NSW\, 2650\, Australia
CATEGORIES:Strength and Conditioning
END:VEVENT
BEGIN:VEVENT
DTSTART;TZID=Australia/Sydney:20291120T063000
DTEND;TZID=Australia/Sydney:20291120T071500
DTSTAMP:20260420T035416
CREATED:20241124T211846Z
LAST-MODIFIED:20250516T043543Z
UID:10085875-1889850600-1889853300@synergyhealthworks.com
SUMMARY:Women's Strength for over 45s
DESCRIPTION:
URL:https://synergyhealthworks.com/event/womens-fat-burn/2029-11-20/
LOCATION:Wagga Wagga | Fitness Hub\, 1/21-25 Forsyth Street\, Wagga Wagga\, NSW\, 2650\, Australia
CATEGORIES:Women's Strength Class for over 45s
END:VEVENT
BEGIN:VEVENT
DTSTART;TZID=Australia/Sydney:20291120T073000
DTEND;TZID=Australia/Sydney:20291120T081500
DTSTAMP:20260420T035416
CREATED:20241112T041932Z
LAST-MODIFIED:20250129T032814Z
UID:10112179-1889854200-1889856900@synergyhealthworks.com
SUMMARY:Women’s Strength Class for over 45s
DESCRIPTION:
URL:https://synergyhealthworks.com/event/womens-strength-class-for-over-45s-4/2029-11-20/
LOCATION:Wagga Wagga | Fitness Hub\, 1/21-25 Forsyth Street\, Wagga Wagga\, NSW\, 2650\, Australia
CATEGORIES:Women's Strength Class for over 45s
END:VEVENT
BEGIN:VEVENT
DTSTART;TZID=Australia/Sydney:20291120T103000
DTEND;TZID=Australia/Sydney:20291120T111500
DTSTAMP:20260420T035416
CREATED:20250502T051536Z
LAST-MODIFIED:20251203T032954Z
UID:10116982-1889865000-1889867700@synergyhealthworks.com
SUMMARY:Women’s Pelvic and Strength Class
DESCRIPTION:
URL:https://synergyhealthworks.com/event/womens-pelvic-and-strength-class/2029-11-20/
LOCATION:Wagga Wagga | Fitness Hub\, 1/21-25 Forsyth Street\, Wagga Wagga\, NSW\, 2650\, Australia
CATEGORIES:Women’s Pelvic and Strength Class
END:VEVENT
END:VCALENDAR