BEGIN:VCALENDAR
VERSION:2.0
PRODID:-//Synergy Healthworks - ECPv6.15.20//NONSGML v1.0//EN
CALSCALE:GREGORIAN
METHOD:PUBLISH
X-ORIGINAL-URL:https://synergyhealthworks.com
X-WR-CALDESC:Events for Synergy Healthworks
REFRESH-INTERVAL;VALUE=DURATION:PT1H
X-Robots-Tag:noindex
X-PUBLISHED-TTL:PT1H
BEGIN:VTIMEZONE
TZID:Australia/Sydney
BEGIN:STANDARD
TZOFFSETFROM:+1100
TZOFFSETTO:+1000
TZNAME:AEST
DTSTART:20260404T160000
END:STANDARD
BEGIN:DAYLIGHT
TZOFFSETFROM:+1000
TZOFFSETTO:+1100
TZNAME:AEDT
DTSTART:20261003T160000
END:DAYLIGHT
BEGIN:STANDARD
TZOFFSETFROM:+1100
TZOFFSETTO:+1000
TZNAME:AEST
DTSTART:20270403T160000
END:STANDARD
BEGIN:DAYLIGHT
TZOFFSETFROM:+1000
TZOFFSETTO:+1100
TZNAME:AEDT
DTSTART:20271002T160000
END:DAYLIGHT
BEGIN:STANDARD
TZOFFSETFROM:+1100
TZOFFSETTO:+1000
TZNAME:AEST
DTSTART:20280401T160000
END:STANDARD
BEGIN:DAYLIGHT
TZOFFSETFROM:+1000
TZOFFSETTO:+1100
TZNAME:AEDT
DTSTART:20280930T160000
END:DAYLIGHT
END:VTIMEZONE
BEGIN:VEVENT
DTSTART;TZID=Australia/Sydney:20270527T090000
DTEND;TZID=Australia/Sydney:20270527T094500
DTSTAMP:20260426T132716
CREATED:20241112T221649Z
LAST-MODIFIED:20250722T032123Z
UID:10120794-1811408400-1811411100@synergyhealthworks.com
SUMMARY:Golfer's Strengthen & Stretch
DESCRIPTION:
URL:https://synergyhealthworks.com/event/golfers-strengthen-stretch-2/2027-05-27/
LOCATION:Wagga Wagga | Fitness Hub\, 1/21-25 Forsyth Street\, Wagga Wagga\, NSW\, 2650\, Australia
CATEGORIES:Golfer's Strengthen & Stretch
END:VEVENT
BEGIN:VEVENT
DTSTART;TZID=Australia/Sydney:20270527T100000
DTEND;TZID=Australia/Sydney:20270527T104500
DTSTAMP:20260426T132716
CREATED:20241112T221214Z
LAST-MODIFIED:20250722T032235Z
UID:10121095-1811412000-1811414700@synergyhealthworks.com
SUMMARY:Strength Circuit
DESCRIPTION:
URL:https://synergyhealthworks.com/event/mens-strength-class-3/2027-05-27/
LOCATION:Wagga Wagga | Fitness Hub\, 1/21-25 Forsyth Street\, Wagga Wagga\, NSW\, 2650\, Australia
CATEGORIES:Strength Circuit
END:VEVENT
BEGIN:VEVENT
DTSTART;TZID=Australia/Sydney:20270527T120000
DTEND;TZID=Australia/Sydney:20270527T124500
DTSTAMP:20260426T132716
CREATED:20241124T212036Z
LAST-MODIFIED:20250516T043505Z
UID:10086006-1811419200-1811421900@synergyhealthworks.com
SUMMARY:Women's Strength for over 45s
DESCRIPTION:
URL:https://synergyhealthworks.com/event/womens-fat-burn-2/2027-05-27/
LOCATION:Wagga Wagga | Fitness Hub\, 1/21-25 Forsyth Street\, Wagga Wagga\, NSW\, 2650\, Australia
CATEGORIES:Women's Strength Class for over 45s
END:VEVENT
BEGIN:VEVENT
DTSTART;TZID=Australia/Sydney:20270528T071500
DTEND;TZID=Australia/Sydney:20270528T080000
DTSTAMP:20260426T132716
CREATED:20250618T000503Z
LAST-MODIFIED:20250618T000657Z
UID:10118889-1811488500-1811491200@synergyhealthworks.com
SUMMARY:Bike & Box
DESCRIPTION:
URL:https://synergyhealthworks.com/event/bike-and-box/2027-05-28/
LOCATION:Wagga Wagga | Fitness Hub\, 1/21-25 Forsyth Street\, Wagga Wagga\, NSW\, 2650\, Australia
CATEGORIES:Bike & Box,Women's Strength Class for over 45s
END:VEVENT
BEGIN:VEVENT
DTSTART;TZID=Australia/Sydney:20270528T073000
DTEND;TZID=Australia/Sydney:20270528T081500
DTSTAMP:20260426T132716
CREATED:20241202T231716Z
LAST-MODIFIED:20250403T044134Z
UID:10116057-1811489400-1811492100@synergyhealthworks.com
SUMMARY:Strength Circuit
DESCRIPTION:
URL:https://synergyhealthworks.com/event/strength-circuit-2/2027-05-28/
LOCATION:Wagga Wagga | Fitness Hub\, 1/21-25 Forsyth Street\, Wagga Wagga\, NSW\, 2650\, Australia
CATEGORIES:Strength Circuit
END:VEVENT
BEGIN:VEVENT
DTSTART;TZID=Australia/Sydney:20270528T083000
DTEND;TZID=Australia/Sydney:20270528T091500
DTSTAMP:20260426T132716
CREATED:20241112T224821Z
LAST-MODIFIED:20250403T043412Z
UID:10115779-1811493000-1811495700@synergyhealthworks.com
SUMMARY:Women's Strength Class for over 45s
DESCRIPTION:
URL:https://synergyhealthworks.com/event/bike-box-2/2027-05-28/
LOCATION:Wagga Wagga | Fitness Hub\, 1/21-25 Forsyth Street\, Wagga Wagga\, NSW\, 2650\, Australia
CATEGORIES:Women's Strength Class for over 45s
END:VEVENT
BEGIN:VEVENT
DTSTART;TZID=Australia/Sydney:20270531T083000
DTEND;TZID=Australia/Sydney:20270531T091500
DTSTAMP:20260426T132716
CREATED:20241112T035630Z
LAST-MODIFIED:20250129T032622Z
UID:10082290-1811752200-1811754900@synergyhealthworks.com
SUMMARY:Strength Circuit
DESCRIPTION:
URL:https://synergyhealthworks.com/event/strength-circuit/2027-05-31/
LOCATION:Wagga Wagga | Fitness Hub\, 1/21-25 Forsyth Street\, Wagga Wagga\, NSW\, 2650\, Australia
CATEGORIES:Strength Circuit
END:VEVENT
BEGIN:VEVENT
DTSTART;TZID=Australia/Sydney:20270531T120000
DTEND;TZID=Australia/Sydney:20270531T124500
DTSTAMP:20260426T132716
CREATED:20250829T044037Z
LAST-MODIFIED:20250829T044037Z
UID:10122323-1811764800-1811767500@synergyhealthworks.com
SUMMARY:Strength and Conditioning Class
DESCRIPTION:
URL:https://synergyhealthworks.com/event/strength-and-conditioning-class-3/2027-05-31/
LOCATION:Wagga Wagga | Fitness Hub\, 1/21-25 Forsyth Street\, Wagga Wagga\, NSW\, 2650\, Australia
CATEGORIES:Strength and Conditioning
END:VEVENT
BEGIN:VEVENT
DTSTART;TZID=Australia/Sydney:20270531T130000
DTEND;TZID=Australia/Sydney:20270531T134500
DTSTAMP:20260426T132716
CREATED:20251112T001650Z
LAST-MODIFIED:20251112T001650Z
UID:10127455-1811768400-1811771100@synergyhealthworks.com
SUMMARY:Strength and Conditioning Class
DESCRIPTION:
URL:https://synergyhealthworks.com/event/strength-and-conditioning-class-5/2027-05-31/
LOCATION:Wagga Wagga | Fitness Hub\, 1/21-25 Forsyth Street\, Wagga Wagga\, NSW\, 2650\, Australia
CATEGORIES:Strength and Conditioning
END:VEVENT
BEGIN:VEVENT
DTSTART;TZID=Australia/Sydney:20270531T163000
DTEND;TZID=Australia/Sydney:20270531T171500
DTSTAMP:20260426T132716
CREATED:20250502T051402Z
LAST-MODIFIED:20250502T051402Z
UID:10116592-1811781000-1811783700@synergyhealthworks.com
SUMMARY:Women’s Pregnancy Strength Class
DESCRIPTION:
URL:https://synergyhealthworks.com/event/womens-pregnancy-strength-class/2027-05-31/
LOCATION:Wagga Wagga | Fitness Hub\, 1/21-25 Forsyth Street\, Wagga Wagga\, NSW\, 2650\, Australia
CATEGORIES:Women’s Pregnancy Strength Class
END:VEVENT
BEGIN:VEVENT
DTSTART;TZID=Australia/Sydney:20270531T173000
DTEND;TZID=Australia/Sydney:20270531T181500
DTSTAMP:20260426T132716
CREATED:20241112T041557Z
LAST-MODIFIED:20250129T032656Z
UID:10072213-1811784600-1811787300@synergyhealthworks.com
SUMMARY:Strength and Conditioning Class
DESCRIPTION:
URL:https://synergyhealthworks.com/event/strength-and-conditioning-class-4/2027-05-31/
LOCATION:Wagga Wagga | Fitness Hub\, 1/21-25 Forsyth Street\, Wagga Wagga\, NSW\, 2650\, Australia
CATEGORIES:Strength and Conditioning
END:VEVENT
BEGIN:VEVENT
DTSTART;TZID=Australia/Sydney:20270601T063000
DTEND;TZID=Australia/Sydney:20270601T071500
DTSTAMP:20260426T132716
CREATED:20241124T211846Z
LAST-MODIFIED:20250516T043543Z
UID:10085746-1811831400-1811834100@synergyhealthworks.com
SUMMARY:Women's Strength for over 45s
DESCRIPTION:
URL:https://synergyhealthworks.com/event/womens-fat-burn/2027-06-01/
LOCATION:Wagga Wagga | Fitness Hub\, 1/21-25 Forsyth Street\, Wagga Wagga\, NSW\, 2650\, Australia
CATEGORIES:Women's Strength Class for over 45s
END:VEVENT
BEGIN:VEVENT
DTSTART;TZID=Australia/Sydney:20270601T073000
DTEND;TZID=Australia/Sydney:20270601T081500
DTSTAMP:20260426T132716
CREATED:20241112T041932Z
LAST-MODIFIED:20250129T032814Z
UID:10072744-1811835000-1811837700@synergyhealthworks.com
SUMMARY:Women’s Strength Class for over 45s
DESCRIPTION:
URL:https://synergyhealthworks.com/event/womens-strength-class-for-over-45s-4/2027-06-01/
LOCATION:Wagga Wagga | Fitness Hub\, 1/21-25 Forsyth Street\, Wagga Wagga\, NSW\, 2650\, Australia
CATEGORIES:Women's Strength Class for over 45s
END:VEVENT
BEGIN:VEVENT
DTSTART;TZID=Australia/Sydney:20270601T103000
DTEND;TZID=Australia/Sydney:20270601T111500
DTSTAMP:20260426T132716
CREATED:20250502T051536Z
LAST-MODIFIED:20251203T032954Z
UID:10116853-1811845800-1811848500@synergyhealthworks.com
SUMMARY:Women’s Pelvic and Strength Class
DESCRIPTION:
URL:https://synergyhealthworks.com/event/womens-pelvic-and-strength-class/2027-06-01/
LOCATION:Wagga Wagga | Fitness Hub\, 1/21-25 Forsyth Street\, Wagga Wagga\, NSW\, 2650\, Australia
CATEGORIES:Women’s Pelvic and Strength Class
END:VEVENT
BEGIN:VEVENT
DTSTART;TZID=Australia/Sydney:20270601T120000
DTEND;TZID=Australia/Sydney:20270601T124500
DTSTAMP:20260426T132716
CREATED:20241112T044419Z
LAST-MODIFIED:20250129T032834Z
UID:10073539-1811851200-1811853900@synergyhealthworks.com
SUMMARY:Women's Strength Class for over 45s
DESCRIPTION:
URL:https://synergyhealthworks.com/event/womens-strength-class-for-over-45s-6/2027-06-01/
LOCATION:Wagga Wagga | Fitness Hub\, 1/21-25 Forsyth Street\, Wagga Wagga\, NSW\, 2650\, Australia
CATEGORIES:Women's Strength Class for over 45s
END:VEVENT
BEGIN:VEVENT
DTSTART;TZID=Australia/Sydney:20270601T163000
DTEND;TZID=Australia/Sydney:20270601T171500
DTSTAMP:20260426T132716
CREATED:20241112T044834Z
LAST-MODIFIED:20250129T032845Z
UID:10074334-1811867400-1811870100@synergyhealthworks.com
SUMMARY:Strength Circuit
DESCRIPTION:
URL:https://synergyhealthworks.com/event/strength-circuit-5/2027-06-01/
LOCATION:Wagga Wagga | Fitness Hub\, 1/21-25 Forsyth Street\, Wagga Wagga\, NSW\, 2650\, Australia
CATEGORIES:Strength Circuit
END:VEVENT
BEGIN:VEVENT
DTSTART;TZID=Australia/Sydney:20270602T063000
DTEND;TZID=Australia/Sydney:20270602T071500
DTSTAMP:20260426T132716
CREATED:20241112T045128Z
LAST-MODIFIED:20250129T032952Z
UID:10083886-1811917800-1811920500@synergyhealthworks.com
SUMMARY:Women's Strength Class for over 45s
DESCRIPTION:
URL:https://synergyhealthworks.com/event/womens-strength-class-for-over-45s-7/2027-06-02/
LOCATION:Wagga Wagga | Fitness Hub\, 1/21-25 Forsyth Street\, Wagga Wagga\, NSW\, 2650\, Australia
CATEGORIES:Women's Strength Class for over 45s
END:VEVENT
BEGIN:VEVENT
DTSTART;TZID=Australia/Sydney:20270602T073000
DTEND;TZID=Australia/Sydney:20270602T081500
DTSTAMP:20260426T132716
CREATED:20241112T045308Z
LAST-MODIFIED:20250129T032958Z
UID:10075129-1811921400-1811924100@synergyhealthworks.com
SUMMARY:Functional Fitness
DESCRIPTION:
URL:https://synergyhealthworks.com/event/cardio-combo-circuit-3/2027-06-02/
LOCATION:Wagga Wagga | Fitness Hub\, 1/21-25 Forsyth Street\, Wagga Wagga\, NSW\, 2650\, Australia
CATEGORIES:Functional Fitness
END:VEVENT
BEGIN:VEVENT
DTSTART;TZID=Australia/Sydney:20270602T120000
DTEND;TZID=Australia/Sydney:20270602T124500
DTSTAMP:20260426T132716
CREATED:20241112T220255Z
LAST-MODIFIED:20250129T033004Z
UID:10076189-1811937600-1811940300@synergyhealthworks.com
SUMMARY:Women's Strength Class for over 45s
DESCRIPTION:
URL:https://synergyhealthworks.com/event/womens-strength-class-for-over-45s-9/2027-06-02/
LOCATION:Wagga Wagga | Fitness Hub\, 1/21-25 Forsyth Street\, Wagga Wagga\, NSW\, 2650\, Australia
CATEGORIES:Women's Strength Class for over 45s
END:VEVENT
BEGIN:VEVENT
DTSTART;TZID=Australia/Sydney:20270602T173000
DTEND;TZID=Australia/Sydney:20270602T181500
DTSTAMP:20260426T132716
CREATED:20241112T220941Z
LAST-MODIFIED:20250129T033025Z
UID:10077249-1811957400-1811960100@synergyhealthworks.com
SUMMARY:Strength and Conditioning Class
DESCRIPTION:
URL:https://synergyhealthworks.com/event/functional-conditioning/2027-06-02/
LOCATION:Wagga Wagga | Fitness Hub\, 1/21-25 Forsyth Street\, Wagga Wagga\, NSW\, 2650\, Australia
CATEGORIES:Strength and Conditioning
END:VEVENT
BEGIN:VEVENT
DTSTART;TZID=Australia/Sydney:20270603T063000
DTEND;TZID=Australia/Sydney:20270603T071500
DTSTAMP:20260426T132716
CREATED:20251128T024235Z
LAST-MODIFIED:20251128T024235Z
UID:10131358-1812004200-1812006900@synergyhealthworks.com
SUMMARY:Women's Strength Class for over 45s
DESCRIPTION:
URL:https://synergyhealthworks.com/event/womens-strength-class-for-over-45s-5/2027-06-03/
LOCATION:Wagga Wagga | Fitness Hub\, 1/21-25 Forsyth Street\, Wagga Wagga\, NSW\, 2650\, Australia
CATEGORIES:Women's Strength Class for over 45s
END:VEVENT
BEGIN:VEVENT
DTSTART;TZID=Australia/Sydney:20270603T073000
DTEND;TZID=Australia/Sydney:20270603T081500
DTSTAMP:20260426T132716
CREATED:20241112T221101Z
LAST-MODIFIED:20250129T033150Z
UID:10077514-1812007800-1812010500@synergyhealthworks.com
SUMMARY:Women's Strength Class for over 45s
DESCRIPTION:
URL:https://synergyhealthworks.com/event/womens-strength-class-for-over-45s-11/2027-06-03/
LOCATION:Wagga Wagga | Fitness Hub\, 1/21-25 Forsyth Street\, Wagga Wagga\, NSW\, 2650\, Australia
CATEGORIES:Women's Strength Class for over 45s
END:VEVENT
BEGIN:VEVENT
DTSTART;TZID=Australia/Sydney:20270603T090000
DTEND;TZID=Australia/Sydney:20270603T094500
DTSTAMP:20260426T132716
CREATED:20241112T221649Z
LAST-MODIFIED:20250722T032123Z
UID:10120795-1812013200-1812015900@synergyhealthworks.com
SUMMARY:Golfer's Strengthen & Stretch
DESCRIPTION:
URL:https://synergyhealthworks.com/event/golfers-strengthen-stretch-2/2027-06-03/
LOCATION:Wagga Wagga | Fitness Hub\, 1/21-25 Forsyth Street\, Wagga Wagga\, NSW\, 2650\, Australia
CATEGORIES:Golfer's Strengthen & Stretch
END:VEVENT
BEGIN:VEVENT
DTSTART;TZID=Australia/Sydney:20270603T100000
DTEND;TZID=Australia/Sydney:20270603T104500
DTSTAMP:20260426T132716
CREATED:20241112T221214Z
LAST-MODIFIED:20250722T032235Z
UID:10121096-1812016800-1812019500@synergyhealthworks.com
SUMMARY:Strength Circuit
DESCRIPTION:
URL:https://synergyhealthworks.com/event/mens-strength-class-3/2027-06-03/
LOCATION:Wagga Wagga | Fitness Hub\, 1/21-25 Forsyth Street\, Wagga Wagga\, NSW\, 2650\, Australia
CATEGORIES:Strength Circuit
END:VEVENT
BEGIN:VEVENT
DTSTART;TZID=Australia/Sydney:20270603T120000
DTEND;TZID=Australia/Sydney:20270603T124500
DTSTAMP:20260426T132716
CREATED:20241124T212036Z
LAST-MODIFIED:20250516T043505Z
UID:10086007-1812024000-1812026700@synergyhealthworks.com
SUMMARY:Women's Strength for over 45s
DESCRIPTION:
URL:https://synergyhealthworks.com/event/womens-fat-burn-2/2027-06-03/
LOCATION:Wagga Wagga | Fitness Hub\, 1/21-25 Forsyth Street\, Wagga Wagga\, NSW\, 2650\, Australia
CATEGORIES:Women's Strength Class for over 45s
END:VEVENT
BEGIN:VEVENT
DTSTART;TZID=Australia/Sydney:20270604T071500
DTEND;TZID=Australia/Sydney:20270604T080000
DTSTAMP:20260426T132716
CREATED:20250618T000503Z
LAST-MODIFIED:20250618T000657Z
UID:10118890-1812093300-1812096000@synergyhealthworks.com
SUMMARY:Bike & Box
DESCRIPTION:
URL:https://synergyhealthworks.com/event/bike-and-box/2027-06-04/
LOCATION:Wagga Wagga | Fitness Hub\, 1/21-25 Forsyth Street\, Wagga Wagga\, NSW\, 2650\, Australia
CATEGORIES:Bike & Box,Women's Strength Class for over 45s
END:VEVENT
BEGIN:VEVENT
DTSTART;TZID=Australia/Sydney:20270604T073000
DTEND;TZID=Australia/Sydney:20270604T081500
DTSTAMP:20260426T132716
CREATED:20241202T231716Z
LAST-MODIFIED:20250403T044134Z
UID:10116058-1812094200-1812096900@synergyhealthworks.com
SUMMARY:Strength Circuit
DESCRIPTION:
URL:https://synergyhealthworks.com/event/strength-circuit-2/2027-06-04/
LOCATION:Wagga Wagga | Fitness Hub\, 1/21-25 Forsyth Street\, Wagga Wagga\, NSW\, 2650\, Australia
CATEGORIES:Strength Circuit
END:VEVENT
BEGIN:VEVENT
DTSTART;TZID=Australia/Sydney:20270604T083000
DTEND;TZID=Australia/Sydney:20270604T091500
DTSTAMP:20260426T132716
CREATED:20241112T224821Z
LAST-MODIFIED:20250403T043412Z
UID:10115780-1812097800-1812100500@synergyhealthworks.com
SUMMARY:Women's Strength Class for over 45s
DESCRIPTION:
URL:https://synergyhealthworks.com/event/bike-box-2/2027-06-04/
LOCATION:Wagga Wagga | Fitness Hub\, 1/21-25 Forsyth Street\, Wagga Wagga\, NSW\, 2650\, Australia
CATEGORIES:Women's Strength Class for over 45s
END:VEVENT
BEGIN:VEVENT
DTSTART;TZID=Australia/Sydney:20270607T083000
DTEND;TZID=Australia/Sydney:20270607T091500
DTSTAMP:20260426T132716
CREATED:20241112T035630Z
LAST-MODIFIED:20250129T032622Z
UID:10082291-1812357000-1812359700@synergyhealthworks.com
SUMMARY:Strength Circuit
DESCRIPTION:
URL:https://synergyhealthworks.com/event/strength-circuit/2027-06-07/
LOCATION:Wagga Wagga | Fitness Hub\, 1/21-25 Forsyth Street\, Wagga Wagga\, NSW\, 2650\, Australia
CATEGORIES:Strength Circuit
END:VEVENT
BEGIN:VEVENT
DTSTART;TZID=Australia/Sydney:20270607T120000
DTEND;TZID=Australia/Sydney:20270607T124500
DTSTAMP:20260426T132716
CREATED:20250829T044037Z
LAST-MODIFIED:20250829T044037Z
UID:10122324-1812369600-1812372300@synergyhealthworks.com
SUMMARY:Strength and Conditioning Class
DESCRIPTION:
URL:https://synergyhealthworks.com/event/strength-and-conditioning-class-3/2027-06-07/
LOCATION:Wagga Wagga | Fitness Hub\, 1/21-25 Forsyth Street\, Wagga Wagga\, NSW\, 2650\, Australia
CATEGORIES:Strength and Conditioning
END:VEVENT
END:VCALENDAR