BEGIN:VCALENDAR
VERSION:2.0
PRODID:-//Synergy Healthworks - ECPv6.15.20//NONSGML v1.0//EN
CALSCALE:GREGORIAN
METHOD:PUBLISH
X-WR-CALNAME:Synergy Healthworks
X-ORIGINAL-URL:https://synergyhealthworks.com
X-WR-CALDESC:Events for Synergy Healthworks
REFRESH-INTERVAL;VALUE=DURATION:PT1H
X-Robots-Tag:noindex
X-PUBLISHED-TTL:PT1H
BEGIN:VTIMEZONE
TZID:Australia/Sydney
BEGIN:STANDARD
TZOFFSETFROM:+1100
TZOFFSETTO:+1000
TZNAME:AEST
DTSTART:20240406T160000
END:STANDARD
BEGIN:DAYLIGHT
TZOFFSETFROM:+1000
TZOFFSETTO:+1100
TZNAME:AEDT
DTSTART:20241005T160000
END:DAYLIGHT
BEGIN:STANDARD
TZOFFSETFROM:+1100
TZOFFSETTO:+1000
TZNAME:AEST
DTSTART:20250405T160000
END:STANDARD
BEGIN:DAYLIGHT
TZOFFSETFROM:+1000
TZOFFSETTO:+1100
TZNAME:AEDT
DTSTART:20251004T160000
END:DAYLIGHT
BEGIN:STANDARD
TZOFFSETFROM:+1100
TZOFFSETTO:+1000
TZNAME:AEST
DTSTART:20260404T160000
END:STANDARD
BEGIN:DAYLIGHT
TZOFFSETFROM:+1000
TZOFFSETTO:+1100
TZNAME:AEDT
DTSTART:20261003T160000
END:DAYLIGHT
END:VTIMEZONE
BEGIN:VEVENT
DTSTART;TZID=Australia/Sydney:20250410T073000
DTEND;TZID=Australia/Sydney:20250410T081500
DTSTAMP:20260426T112334
CREATED:20241112T221101Z
LAST-MODIFIED:20250129T033150Z
UID:10077402-1744270200-1744272900@synergyhealthworks.com
SUMMARY:Women's Strength Class for over 45s
DESCRIPTION:
URL:https://synergyhealthworks.com/event/womens-strength-class-for-over-45s-11/2025-04-10/
LOCATION:Wagga Wagga | Fitness Hub\, 1/21-25 Forsyth Street\, Wagga Wagga\, NSW\, 2650\, Australia
CATEGORIES:Women's Strength Class for over 45s
END:VEVENT
BEGIN:VEVENT
DTSTART;TZID=Australia/Sydney:20250410T063000
DTEND;TZID=Australia/Sydney:20250410T071500
DTSTAMP:20260426T112334
CREATED:20251128T024235Z
LAST-MODIFIED:20251128T024235Z
UID:10131246-1744266600-1744269300@synergyhealthworks.com
SUMMARY:Women's Strength Class for over 45s
DESCRIPTION:
URL:https://synergyhealthworks.com/event/womens-strength-class-for-over-45s-5/2025-04-10/
LOCATION:Wagga Wagga | Fitness Hub\, 1/21-25 Forsyth Street\, Wagga Wagga\, NSW\, 2650\, Australia
CATEGORIES:Women's Strength Class for over 45s
END:VEVENT
BEGIN:VEVENT
DTSTART;TZID=Australia/Sydney:20250409T173000
DTEND;TZID=Australia/Sydney:20250409T181500
DTSTAMP:20260426T112334
CREATED:20241112T220941Z
LAST-MODIFIED:20250129T033025Z
UID:10077137-1744219800-1744222500@synergyhealthworks.com
SUMMARY:Strength and Conditioning Class
DESCRIPTION:
URL:https://synergyhealthworks.com/event/functional-conditioning/2025-04-09/
LOCATION:Wagga Wagga | Fitness Hub\, 1/21-25 Forsyth Street\, Wagga Wagga\, NSW\, 2650\, Australia
CATEGORIES:Strength and Conditioning
END:VEVENT
BEGIN:VEVENT
DTSTART;TZID=Australia/Sydney:20250409T120000
DTEND;TZID=Australia/Sydney:20250409T124500
DTSTAMP:20260426T112334
CREATED:20241112T220255Z
LAST-MODIFIED:20250129T033004Z
UID:10076077-1744200000-1744202700@synergyhealthworks.com
SUMMARY:Women's Strength Class for over 45s
DESCRIPTION:
URL:https://synergyhealthworks.com/event/womens-strength-class-for-over-45s-9/2025-04-09/
LOCATION:Wagga Wagga | Fitness Hub\, 1/21-25 Forsyth Street\, Wagga Wagga\, NSW\, 2650\, Australia
CATEGORIES:Women's Strength Class for over 45s
END:VEVENT
BEGIN:VEVENT
DTSTART;TZID=Australia/Sydney:20250409T073000
DTEND;TZID=Australia/Sydney:20250409T081500
DTSTAMP:20260426T112334
CREATED:20241112T045308Z
LAST-MODIFIED:20250129T032958Z
UID:10075017-1744183800-1744186500@synergyhealthworks.com
SUMMARY:Functional Fitness
DESCRIPTION:
URL:https://synergyhealthworks.com/event/cardio-combo-circuit-3/2025-04-09/
LOCATION:Wagga Wagga | Fitness Hub\, 1/21-25 Forsyth Street\, Wagga Wagga\, NSW\, 2650\, Australia
CATEGORIES:Functional Fitness
END:VEVENT
BEGIN:VEVENT
DTSTART;TZID=Australia/Sydney:20250409T063000
DTEND;TZID=Australia/Sydney:20250409T071500
DTSTAMP:20260426T112334
CREATED:20241112T045128Z
LAST-MODIFIED:20250129T032952Z
UID:10083774-1744180200-1744182900@synergyhealthworks.com
SUMMARY:Women's Strength Class for over 45s
DESCRIPTION:
URL:https://synergyhealthworks.com/event/womens-strength-class-for-over-45s-7/2025-04-09/
LOCATION:Wagga Wagga | Fitness Hub\, 1/21-25 Forsyth Street\, Wagga Wagga\, NSW\, 2650\, Australia
CATEGORIES:Women's Strength Class for over 45s
END:VEVENT
BEGIN:VEVENT
DTSTART;TZID=Australia/Sydney:20250408T163000
DTEND;TZID=Australia/Sydney:20250408T171500
DTSTAMP:20260426T112334
CREATED:20241112T044834Z
LAST-MODIFIED:20250129T032845Z
UID:10074222-1744129800-1744132500@synergyhealthworks.com
SUMMARY:Strength Circuit
DESCRIPTION:
URL:https://synergyhealthworks.com/event/strength-circuit-5/2025-04-08/
LOCATION:Wagga Wagga | Fitness Hub\, 1/21-25 Forsyth Street\, Wagga Wagga\, NSW\, 2650\, Australia
CATEGORIES:Strength Circuit
END:VEVENT
BEGIN:VEVENT
DTSTART;TZID=Australia/Sydney:20250408T120000
DTEND;TZID=Australia/Sydney:20250408T124500
DTSTAMP:20260426T112334
CREATED:20241112T044419Z
LAST-MODIFIED:20250129T032834Z
UID:10073427-1744113600-1744116300@synergyhealthworks.com
SUMMARY:Women's Strength Class for over 45s
DESCRIPTION:
URL:https://synergyhealthworks.com/event/womens-strength-class-for-over-45s-6/2025-04-08/
LOCATION:Wagga Wagga | Fitness Hub\, 1/21-25 Forsyth Street\, Wagga Wagga\, NSW\, 2650\, Australia
CATEGORIES:Women's Strength Class for over 45s
END:VEVENT
BEGIN:VEVENT
DTSTART;TZID=Australia/Sydney:20250408T073000
DTEND;TZID=Australia/Sydney:20250408T081500
DTSTAMP:20260426T112334
CREATED:20241112T041932Z
LAST-MODIFIED:20250129T032814Z
UID:10072632-1744097400-1744100100@synergyhealthworks.com
SUMMARY:Women’s Strength Class for over 45s
DESCRIPTION:
URL:https://synergyhealthworks.com/event/womens-strength-class-for-over-45s-4/2025-04-08/
LOCATION:Wagga Wagga | Fitness Hub\, 1/21-25 Forsyth Street\, Wagga Wagga\, NSW\, 2650\, Australia
CATEGORIES:Women's Strength Class for over 45s
END:VEVENT
BEGIN:VEVENT
DTSTART;TZID=Australia/Sydney:20250408T063000
DTEND;TZID=Australia/Sydney:20250408T071500
DTSTAMP:20260426T112334
CREATED:20241124T211846Z
LAST-MODIFIED:20250516T043543Z
UID:10085634-1744093800-1744096500@synergyhealthworks.com
SUMMARY:Women's Strength for over 45s
DESCRIPTION:
URL:https://synergyhealthworks.com/event/womens-fat-burn/2025-04-08/
LOCATION:Wagga Wagga | Fitness Hub\, 1/21-25 Forsyth Street\, Wagga Wagga\, NSW\, 2650\, Australia
CATEGORIES:Women's Strength Class for over 45s
END:VEVENT
BEGIN:VEVENT
DTSTART;TZID=Australia/Sydney:20250407T173000
DTEND;TZID=Australia/Sydney:20250407T181500
DTSTAMP:20260426T112334
CREATED:20241112T041557Z
LAST-MODIFIED:20250129T032656Z
UID:10072101-1744047000-1744049700@synergyhealthworks.com
SUMMARY:Strength and Conditioning Class
DESCRIPTION:
URL:https://synergyhealthworks.com/event/strength-and-conditioning-class-4/2025-04-07/
LOCATION:Wagga Wagga | Fitness Hub\, 1/21-25 Forsyth Street\, Wagga Wagga\, NSW\, 2650\, Australia
CATEGORIES:Strength and Conditioning
END:VEVENT
BEGIN:VEVENT
DTSTART;TZID=Australia/Sydney:20250407T130000
DTEND;TZID=Australia/Sydney:20250407T134500
DTSTAMP:20260426T112334
CREATED:20251112T001650Z
LAST-MODIFIED:20251112T001650Z
UID:10127343-1744030800-1744033500@synergyhealthworks.com
SUMMARY:Strength and Conditioning Class
DESCRIPTION:
URL:https://synergyhealthworks.com/event/strength-and-conditioning-class-5/2025-04-07/
LOCATION:Wagga Wagga | Fitness Hub\, 1/21-25 Forsyth Street\, Wagga Wagga\, NSW\, 2650\, Australia
CATEGORIES:Strength and Conditioning
END:VEVENT
BEGIN:VEVENT
DTSTART;TZID=Australia/Sydney:20250407T120000
DTEND;TZID=Australia/Sydney:20250407T124500
DTSTAMP:20260426T112334
CREATED:20250829T044037Z
LAST-MODIFIED:20250829T044037Z
UID:10122211-1744027200-1744029900@synergyhealthworks.com
SUMMARY:Strength and Conditioning Class
DESCRIPTION:
URL:https://synergyhealthworks.com/event/strength-and-conditioning-class-3/2025-04-07/
LOCATION:Wagga Wagga | Fitness Hub\, 1/21-25 Forsyth Street\, Wagga Wagga\, NSW\, 2650\, Australia
CATEGORIES:Strength and Conditioning
END:VEVENT
BEGIN:VEVENT
DTSTART;TZID=Australia/Sydney:20250407T083000
DTEND;TZID=Australia/Sydney:20250407T091500
DTSTAMP:20260426T112334
CREATED:20241112T035630Z
LAST-MODIFIED:20250129T032622Z
UID:10082178-1744014600-1744017300@synergyhealthworks.com
SUMMARY:Strength Circuit
DESCRIPTION:
URL:https://synergyhealthworks.com/event/strength-circuit/2025-04-07/
LOCATION:Wagga Wagga | Fitness Hub\, 1/21-25 Forsyth Street\, Wagga Wagga\, NSW\, 2650\, Australia
CATEGORIES:Strength Circuit
END:VEVENT
BEGIN:VEVENT
DTSTART;TZID=Australia/Sydney:20250404T083000
DTEND;TZID=Australia/Sydney:20250404T091500
DTSTAMP:20260426T112334
CREATED:20241112T224821Z
LAST-MODIFIED:20250403T043412Z
UID:10115667-1743755400-1743758100@synergyhealthworks.com
SUMMARY:Women's Strength Class for over 45s
DESCRIPTION:
URL:https://synergyhealthworks.com/event/bike-box-2/2025-04-04/
LOCATION:Wagga Wagga | Fitness Hub\, 1/21-25 Forsyth Street\, Wagga Wagga\, NSW\, 2650\, Australia
CATEGORIES:Women's Strength Class for over 45s
END:VEVENT
BEGIN:VEVENT
DTSTART;TZID=Australia/Sydney:20250404T073000
DTEND;TZID=Australia/Sydney:20250404T081500
DTSTAMP:20260426T112334
CREATED:20241202T231716Z
LAST-MODIFIED:20250403T044134Z
UID:10115945-1743751800-1743754500@synergyhealthworks.com
SUMMARY:Strength Circuit
DESCRIPTION:
URL:https://synergyhealthworks.com/event/strength-circuit-2/2025-04-04/
LOCATION:Wagga Wagga | Fitness Hub\, 1/21-25 Forsyth Street\, Wagga Wagga\, NSW\, 2650\, Australia
CATEGORIES:Strength Circuit
END:VEVENT
BEGIN:VEVENT
DTSTART;TZID=Australia/Sydney:20250404T071500
DTEND;TZID=Australia/Sydney:20250404T080000
DTSTAMP:20260426T112334
CREATED:20250618T000503Z
LAST-MODIFIED:20250618T000657Z
UID:10118777-1743750900-1743753600@synergyhealthworks.com
SUMMARY:Bike & Box
DESCRIPTION:
URL:https://synergyhealthworks.com/event/bike-and-box/2025-04-04/
LOCATION:Wagga Wagga | Fitness Hub\, 1/21-25 Forsyth Street\, Wagga Wagga\, NSW\, 2650\, Australia
CATEGORIES:Bike & Box,Women's Strength Class for over 45s
END:VEVENT
BEGIN:VEVENT
DTSTART;TZID=Australia/Sydney:20250403T120000
DTEND;TZID=Australia/Sydney:20250403T124500
DTSTAMP:20260426T112334
CREATED:20241124T212036Z
LAST-MODIFIED:20250516T043505Z
UID:10085894-1743681600-1743684300@synergyhealthworks.com
SUMMARY:Women's Strength for over 45s
DESCRIPTION:
URL:https://synergyhealthworks.com/event/womens-fat-burn-2/2025-04-03/
LOCATION:Wagga Wagga | Fitness Hub\, 1/21-25 Forsyth Street\, Wagga Wagga\, NSW\, 2650\, Australia
CATEGORIES:Women's Strength Class for over 45s
END:VEVENT
BEGIN:VEVENT
DTSTART;TZID=Australia/Sydney:20250403T100000
DTEND;TZID=Australia/Sydney:20250403T104500
DTSTAMP:20260426T112334
CREATED:20241112T221214Z
LAST-MODIFIED:20250722T032235Z
UID:10120983-1743674400-1743677100@synergyhealthworks.com
SUMMARY:Strength Circuit
DESCRIPTION:
URL:https://synergyhealthworks.com/event/mens-strength-class-3/2025-04-03/
LOCATION:Wagga Wagga | Fitness Hub\, 1/21-25 Forsyth Street\, Wagga Wagga\, NSW\, 2650\, Australia
CATEGORIES:Strength Circuit
END:VEVENT
BEGIN:VEVENT
DTSTART;TZID=Australia/Sydney:20250403T090000
DTEND;TZID=Australia/Sydney:20250403T094500
DTSTAMP:20260426T112334
CREATED:20241112T221649Z
LAST-MODIFIED:20250722T032123Z
UID:10120682-1743670800-1743673500@synergyhealthworks.com
SUMMARY:Golfer's Strengthen & Stretch
DESCRIPTION:
URL:https://synergyhealthworks.com/event/golfers-strengthen-stretch-2/2025-04-03/
LOCATION:Wagga Wagga | Fitness Hub\, 1/21-25 Forsyth Street\, Wagga Wagga\, NSW\, 2650\, Australia
CATEGORIES:Golfer's Strengthen & Stretch
END:VEVENT
BEGIN:VEVENT
DTSTART;TZID=Australia/Sydney:20250403T073000
DTEND;TZID=Australia/Sydney:20250403T081500
DTSTAMP:20260426T112334
CREATED:20241112T221101Z
LAST-MODIFIED:20250129T033150Z
UID:10077401-1743665400-1743668100@synergyhealthworks.com
SUMMARY:Women's Strength Class for over 45s
DESCRIPTION:
URL:https://synergyhealthworks.com/event/womens-strength-class-for-over-45s-11/2025-04-03/
LOCATION:Wagga Wagga | Fitness Hub\, 1/21-25 Forsyth Street\, Wagga Wagga\, NSW\, 2650\, Australia
CATEGORIES:Women's Strength Class for over 45s
END:VEVENT
BEGIN:VEVENT
DTSTART;TZID=Australia/Sydney:20250403T063000
DTEND;TZID=Australia/Sydney:20250403T071500
DTSTAMP:20260426T112334
CREATED:20251128T024235Z
LAST-MODIFIED:20251128T024235Z
UID:10131245-1743661800-1743664500@synergyhealthworks.com
SUMMARY:Women's Strength Class for over 45s
DESCRIPTION:
URL:https://synergyhealthworks.com/event/womens-strength-class-for-over-45s-5/2025-04-03/
LOCATION:Wagga Wagga | Fitness Hub\, 1/21-25 Forsyth Street\, Wagga Wagga\, NSW\, 2650\, Australia
CATEGORIES:Women's Strength Class for over 45s
END:VEVENT
BEGIN:VEVENT
DTSTART;TZID=Australia/Sydney:20250402T173000
DTEND;TZID=Australia/Sydney:20250402T181500
DTSTAMP:20260426T112334
CREATED:20241112T220941Z
LAST-MODIFIED:20250129T033025Z
UID:10077136-1743615000-1743617700@synergyhealthworks.com
SUMMARY:Strength and Conditioning Class
DESCRIPTION:
URL:https://synergyhealthworks.com/event/functional-conditioning/2025-04-02/
LOCATION:Wagga Wagga | Fitness Hub\, 1/21-25 Forsyth Street\, Wagga Wagga\, NSW\, 2650\, Australia
CATEGORIES:Strength and Conditioning
END:VEVENT
BEGIN:VEVENT
DTSTART;TZID=Australia/Sydney:20250402T120000
DTEND;TZID=Australia/Sydney:20250402T124500
DTSTAMP:20260426T112334
CREATED:20241112T220255Z
LAST-MODIFIED:20250129T033004Z
UID:10076076-1743595200-1743597900@synergyhealthworks.com
SUMMARY:Women's Strength Class for over 45s
DESCRIPTION:
URL:https://synergyhealthworks.com/event/womens-strength-class-for-over-45s-9/2025-04-02/
LOCATION:Wagga Wagga | Fitness Hub\, 1/21-25 Forsyth Street\, Wagga Wagga\, NSW\, 2650\, Australia
CATEGORIES:Women's Strength Class for over 45s
END:VEVENT
BEGIN:VEVENT
DTSTART;TZID=Australia/Sydney:20250402T073000
DTEND;TZID=Australia/Sydney:20250402T081500
DTSTAMP:20260426T112334
CREATED:20241112T045308Z
LAST-MODIFIED:20250129T032958Z
UID:10075016-1743579000-1743581700@synergyhealthworks.com
SUMMARY:Functional Fitness
DESCRIPTION:
URL:https://synergyhealthworks.com/event/cardio-combo-circuit-3/2025-04-02/
LOCATION:Wagga Wagga | Fitness Hub\, 1/21-25 Forsyth Street\, Wagga Wagga\, NSW\, 2650\, Australia
CATEGORIES:Functional Fitness
END:VEVENT
BEGIN:VEVENT
DTSTART;TZID=Australia/Sydney:20250402T063000
DTEND;TZID=Australia/Sydney:20250402T071500
DTSTAMP:20260426T112334
CREATED:20241112T045128Z
LAST-MODIFIED:20250129T032952Z
UID:10083773-1743575400-1743578100@synergyhealthworks.com
SUMMARY:Women's Strength Class for over 45s
DESCRIPTION:
URL:https://synergyhealthworks.com/event/womens-strength-class-for-over-45s-7/2025-04-02/
LOCATION:Wagga Wagga | Fitness Hub\, 1/21-25 Forsyth Street\, Wagga Wagga\, NSW\, 2650\, Australia
CATEGORIES:Women's Strength Class for over 45s
END:VEVENT
BEGIN:VEVENT
DTSTART;TZID=Australia/Sydney:20250401T163000
DTEND;TZID=Australia/Sydney:20250401T171500
DTSTAMP:20260426T112334
CREATED:20241112T044834Z
LAST-MODIFIED:20250129T032845Z
UID:10074221-1743525000-1743527700@synergyhealthworks.com
SUMMARY:Strength Circuit
DESCRIPTION:
URL:https://synergyhealthworks.com/event/strength-circuit-5/2025-04-01/
LOCATION:Wagga Wagga | Fitness Hub\, 1/21-25 Forsyth Street\, Wagga Wagga\, NSW\, 2650\, Australia
CATEGORIES:Strength Circuit
END:VEVENT
BEGIN:VEVENT
DTSTART;TZID=Australia/Sydney:20250401T120000
DTEND;TZID=Australia/Sydney:20250401T124500
DTSTAMP:20260426T112334
CREATED:20241112T044419Z
LAST-MODIFIED:20250129T032834Z
UID:10073426-1743508800-1743511500@synergyhealthworks.com
SUMMARY:Women's Strength Class for over 45s
DESCRIPTION:
URL:https://synergyhealthworks.com/event/womens-strength-class-for-over-45s-6/2025-04-01/
LOCATION:Wagga Wagga | Fitness Hub\, 1/21-25 Forsyth Street\, Wagga Wagga\, NSW\, 2650\, Australia
CATEGORIES:Women's Strength Class for over 45s
END:VEVENT
BEGIN:VEVENT
DTSTART;TZID=Australia/Sydney:20250401T073000
DTEND;TZID=Australia/Sydney:20250401T081500
DTSTAMP:20260426T112334
CREATED:20241112T041932Z
LAST-MODIFIED:20250129T032814Z
UID:10072631-1743492600-1743495300@synergyhealthworks.com
SUMMARY:Women’s Strength Class for over 45s
DESCRIPTION:
URL:https://synergyhealthworks.com/event/womens-strength-class-for-over-45s-4/2025-04-01/
LOCATION:Wagga Wagga | Fitness Hub\, 1/21-25 Forsyth Street\, Wagga Wagga\, NSW\, 2650\, Australia
CATEGORIES:Women's Strength Class for over 45s
END:VEVENT
BEGIN:VEVENT
DTSTART;TZID=Australia/Sydney:20250401T063000
DTEND;TZID=Australia/Sydney:20250401T071500
DTSTAMP:20260426T112334
CREATED:20241124T211846Z
LAST-MODIFIED:20250516T043543Z
UID:10085633-1743489000-1743491700@synergyhealthworks.com
SUMMARY:Women's Strength for over 45s
DESCRIPTION:
URL:https://synergyhealthworks.com/event/womens-fat-burn/2025-04-01/
LOCATION:Wagga Wagga | Fitness Hub\, 1/21-25 Forsyth Street\, Wagga Wagga\, NSW\, 2650\, Australia
CATEGORIES:Women's Strength Class for over 45s
END:VEVENT
END:VCALENDAR