BEGIN:VCALENDAR
VERSION:2.0
PRODID:-//Synergy Healthworks - ECPv6.15.20//NONSGML v1.0//EN
CALSCALE:GREGORIAN
METHOD:PUBLISH
X-ORIGINAL-URL:https://synergyhealthworks.com
X-WR-CALDESC:Events for Synergy Healthworks
REFRESH-INTERVAL;VALUE=DURATION:PT1H
X-Robots-Tag:noindex
X-PUBLISHED-TTL:PT1H
BEGIN:VTIMEZONE
TZID:Australia/Sydney
BEGIN:STANDARD
TZOFFSETFROM:+1100
TZOFFSETTO:+1000
TZNAME:AEST
DTSTART:20250405T160000
END:STANDARD
BEGIN:DAYLIGHT
TZOFFSETFROM:+1000
TZOFFSETTO:+1100
TZNAME:AEDT
DTSTART:20251004T160000
END:DAYLIGHT
BEGIN:STANDARD
TZOFFSETFROM:+1100
TZOFFSETTO:+1000
TZNAME:AEST
DTSTART:20260404T160000
END:STANDARD
BEGIN:DAYLIGHT
TZOFFSETFROM:+1000
TZOFFSETTO:+1100
TZNAME:AEDT
DTSTART:20261003T160000
END:DAYLIGHT
BEGIN:STANDARD
TZOFFSETFROM:+1100
TZOFFSETTO:+1000
TZNAME:AEST
DTSTART:20270403T160000
END:STANDARD
BEGIN:DAYLIGHT
TZOFFSETFROM:+1000
TZOFFSETTO:+1100
TZNAME:AEDT
DTSTART:20271002T160000
END:DAYLIGHT
END:VTIMEZONE
BEGIN:VEVENT
DTSTART;TZID=Australia/Sydney:20260324T150000
DTEND;TZID=Australia/Sydney:20260324T154500
DTSTAMP:20260424T100753
CREATED:20241204T013027Z
LAST-MODIFIED:20250129T031633Z
UID:10097538-1774364400-1774367100@synergyhealthworks.com
SUMMARY:Reformer For Golfers
DESCRIPTION:
URL:https://synergyhealthworks.com/event/reformer-for-golfers/2026-03-24/
LOCATION:Wagga Wagga | Reformer Studio\, 221 Kincaid Street\, Wagga Wagga\, NSW\, 2650\, Australia
CATEGORIES:Clinical Reformer
END:VEVENT
BEGIN:VEVENT
DTSTART;TZID=Australia/Sydney:20260324T113000
DTEND;TZID=Australia/Sydney:20260324T121500
DTSTAMP:20260424T100753
CREATED:20241204T020929Z
LAST-MODIFIED:20250129T032413Z
UID:10105578-1774351800-1774354500@synergyhealthworks.com
SUMMARY:Semi Private Reformer
DESCRIPTION:
URL:https://synergyhealthworks.com/event/semi-private-reformer-17/2026-03-24/
LOCATION:Wagga Wagga | Semi Private Reformer\, 221 Kincaid Street\, Wagga Wagga\, NSW\, 2650\, Australia
CATEGORIES:Semi Private Reformer
END:VEVENT
BEGIN:VEVENT
DTSTART;TZID=Australia/Sydney:20260324T080000
DTEND;TZID=Australia/Sydney:20260324T084500
DTSTAMP:20260424T100753
CREATED:20241204T012706Z
LAST-MODIFIED:20250129T031600Z
UID:10096278-1774339200-1774341900@synergyhealthworks.com
SUMMARY:Men's Clinical Reformer
DESCRIPTION:
URL:https://synergyhealthworks.com/event/mens-clinical-reformer/2026-03-24/
LOCATION:Wagga Wagga | Reformer Studio\, 221 Kincaid Street\, Wagga Wagga\, NSW\, 2650\, Australia
CATEGORIES:Mens Reformer Class
END:VEVENT
BEGIN:VEVENT
DTSTART;TZID=Australia/Sydney:20260324T080000
DTEND;TZID=Australia/Sydney:20260324T084500
DTSTAMP:20260424T100753
CREATED:20240621T045607Z
LAST-MODIFIED:20240909T235044Z
UID:10058277-1774339200-1774341900@synergyhealthworks.com
SUMMARY:Men's Reformer Class
DESCRIPTION:
URL:https://synergyhealthworks.com/event/mens-reformer-class/2026-03-24/
LOCATION:Wagga Wagga | Reformer Studio (Draft)\, 221 Kincaid Street\, Wagga Wagga\, NSW\, 2650\, Australia
CATEGORIES:Mens Reformer Class
END:VEVENT
BEGIN:VEVENT
DTSTART;TZID=Australia/Sydney:20260324T070000
DTEND;TZID=Australia/Sydney:20260324T074500
DTSTAMP:20260424T100753
CREATED:20241204T020734Z
LAST-MODIFIED:20250129T032401Z
UID:10105074-1774335600-1774338300@synergyhealthworks.com
SUMMARY:Semi Private Reformer
DESCRIPTION:
URL:https://synergyhealthworks.com/event/semi-private-reformer-15/2026-03-24/
LOCATION:Wagga Wagga | Semi Private Reformer\, 221 Kincaid Street\, Wagga Wagga\, NSW\, 2650\, Australia
CATEGORIES:Semi Private Reformer
END:VEVENT
BEGIN:VEVENT
DTSTART;TZID=Australia/Sydney:20260324T060000
DTEND;TZID=Australia/Sydney:20260324T064500
DTSTAMP:20260424T100753
CREATED:20241204T020645Z
LAST-MODIFIED:20250914T101028Z
UID:10104822-1774332000-1774334700@synergyhealthworks.com
SUMMARY:Semi Private Reformer
DESCRIPTION:
URL:https://synergyhealthworks.com/event/semi-private-reformer-14/2026-03-24/
LOCATION:Wagga Wagga | Semi Private Reformer\, 221 Kincaid Street\, Wagga Wagga\, NSW\, 2650\, Australia
CATEGORIES:Semi Private Reformer
END:VEVENT
BEGIN:VEVENT
DTSTART;TZID=Australia/Sydney:20260323T143000
DTEND;TZID=Australia/Sydney:20260323T151500
DTSTAMP:20260424T100753
CREATED:20241204T020616Z
LAST-MODIFIED:20250129T032349Z
UID:10104570-1774276200-1774278900@synergyhealthworks.com
SUMMARY:Semi Private Reformer
DESCRIPTION:
URL:https://synergyhealthworks.com/event/semi-private-reformer-13/2026-03-23/
LOCATION:Wagga Wagga | Semi Private Reformer\, 221 Kincaid Street\, Wagga Wagga\, NSW\, 2650\, Australia
CATEGORIES:Semi Private Reformer
END:VEVENT
BEGIN:VEVENT
DTSTART;TZID=Australia/Sydney:20260320T110000
DTEND;TZID=Australia/Sydney:20260320T114500
DTSTAMP:20260424T100753
CREATED:20241204T021255Z
LAST-MODIFIED:20250129T032503Z
UID:10107084-1774004400-1774007100@synergyhealthworks.com
SUMMARY:Semi Private Reformer
DESCRIPTION:
URL:https://synergyhealthworks.com/event/semi-private-reformer-23/2026-03-20/
LOCATION:Wagga Wagga | Semi Private Reformer\, 221 Kincaid Street\, Wagga Wagga\, NSW\, 2650\, Australia
CATEGORIES:Semi Private Reformer
END:VEVENT
BEGIN:VEVENT
DTSTART;TZID=Australia/Sydney:20260320T083000
DTEND;TZID=Australia/Sydney:20260320T091500
DTSTAMP:20260424T100753
CREATED:20241206T014504Z
LAST-MODIFIED:20241206T014814Z
UID:10108593-1773995400-1773998100@synergyhealthworks.com
SUMMARY:Men's Reformer Class
DESCRIPTION:
URL:https://synergyhealthworks.com/event/mens-reformer-class-6/2026-03-20/
LOCATION:Wagga Wagga | Reformer Studio\, 221 Kincaid Street\, Wagga Wagga\, NSW\, 2650\, Australia
CATEGORIES:Mens Reformer Class
END:VEVENT
BEGIN:VEVENT
DTSTART;TZID=Australia/Sydney:20260320T060000
DTEND;TZID=Australia/Sydney:20260320T064500
DTSTAMP:20260424T100753
CREATED:20241204T021239Z
LAST-MODIFIED:20250914T100950Z
UID:10106833-1773986400-1773989100@synergyhealthworks.com
SUMMARY:Semi Private Reformer
DESCRIPTION:
URL:https://synergyhealthworks.com/event/semi-private-reformer-22/2026-03-20/
LOCATION:Wagga Wagga | Semi Private Reformer\, 221 Kincaid Street\, Wagga Wagga\, NSW\, 2650\, Australia
CATEGORIES:Semi Private Reformer
END:VEVENT
BEGIN:VEVENT
DTSTART;TZID=Australia/Sydney:20260319T083000
DTEND;TZID=Australia/Sydney:20260319T091500
DTSTAMP:20260424T100753
CREATED:20241204T015027Z
LAST-MODIFIED:20250129T032030Z
UID:10100804-1773909000-1773911700@synergyhealthworks.com
SUMMARY:Men's Clinical Reformer
DESCRIPTION:
URL:https://synergyhealthworks.com/event/mens-clinical-reformer-2/2026-03-19/
LOCATION:Wagga Wagga | Reformer Studio\, 221 Kincaid Street\, Wagga Wagga\, NSW\, 2650\, Australia
CATEGORIES:Mens Reformer Class
END:VEVENT
BEGIN:VEVENT
DTSTART;TZID=Australia/Sydney:20260319T083000
DTEND;TZID=Australia/Sydney:20260319T091500
DTSTAMP:20260424T100753
CREATED:20240621T045822Z
LAST-MODIFIED:20240909T235129Z
UID:10058537-1773909000-1773911700@synergyhealthworks.com
SUMMARY:Men's Reformer Class
DESCRIPTION:
URL:https://synergyhealthworks.com/event/mens-reformer-class-2/2026-03-19/
LOCATION:Wagga Wagga | Reformer Studio (Draft)\, 221 Kincaid Street\, Wagga Wagga\, NSW\, 2650\, Australia
CATEGORIES:Mens Reformer Class
END:VEVENT
BEGIN:VEVENT
DTSTART;TZID=Australia/Sydney:20260319T073000
DTEND;TZID=Australia/Sydney:20260319T081500
DTSTAMP:20260424T100753
CREATED:20241204T021203Z
LAST-MODIFIED:20250129T032447Z
UID:10106582-1773905400-1773908100@synergyhealthworks.com
SUMMARY:Semi Private Reformer
DESCRIPTION:
URL:https://synergyhealthworks.com/event/semi-private-reformer-21/2026-03-19/
LOCATION:Wagga Wagga | Semi Private Reformer\, 221 Kincaid Street\, Wagga Wagga\, NSW\, 2650\, Australia
CATEGORIES:Semi Private Reformer
END:VEVENT
BEGIN:VEVENT
DTSTART;TZID=Australia/Sydney:20260318T113000
DTEND;TZID=Australia/Sydney:20260318T121500
DTSTAMP:20260424T100753
CREATED:20241204T021129Z
LAST-MODIFIED:20250129T032435Z
UID:10106331-1773833400-1773836100@synergyhealthworks.com
SUMMARY:Semi Private Reformer
DESCRIPTION:
URL:https://synergyhealthworks.com/event/semi-private-reformer-20/2026-03-18/
LOCATION:Wagga Wagga | Semi Private Reformer\, 221 Kincaid Street\, Wagga Wagga\, NSW\, 2650\, Australia
CATEGORIES:Semi Private Reformer
END:VEVENT
BEGIN:VEVENT
DTSTART;TZID=Australia/Sydney:20260318T080000
DTEND;TZID=Australia/Sydney:20260318T084500
DTSTAMP:20260424T100753
CREATED:20241204T021019Z
LAST-MODIFIED:20250129T032427Z
UID:10106080-1773820800-1773823500@synergyhealthworks.com
SUMMARY:Semi Private Reformer
DESCRIPTION:
URL:https://synergyhealthworks.com/event/semi-private-reformer-19/2026-03-18/
LOCATION:Wagga Wagga | Semi Private Reformer\, 221 Kincaid Street\, Wagga Wagga\, NSW\, 2650\, Australia
CATEGORIES:Semi Private Reformer
END:VEVENT
BEGIN:VEVENT
DTSTART;TZID=Australia/Sydney:20260318T070000
DTEND;TZID=Australia/Sydney:20260318T074500
DTSTAMP:20260424T100753
CREATED:20241204T020946Z
LAST-MODIFIED:20250129T032419Z
UID:10105829-1773817200-1773819900@synergyhealthworks.com
SUMMARY:Semi Private Reformer
DESCRIPTION:
URL:https://synergyhealthworks.com/event/semi-private-reformer-18/2026-03-18/
LOCATION:Wagga Wagga | Semi Private Reformer\, 221 Kincaid Street\, Wagga Wagga\, NSW\, 2650\, Australia
CATEGORIES:Semi Private Reformer
END:VEVENT
BEGIN:VEVENT
DTSTART;TZID=Australia/Sydney:20260317T150000
DTEND;TZID=Australia/Sydney:20260317T154500
DTSTAMP:20260424T100753
CREATED:20241204T013027Z
LAST-MODIFIED:20250129T031633Z
UID:10097537-1773759600-1773762300@synergyhealthworks.com
SUMMARY:Reformer For Golfers
DESCRIPTION:
URL:https://synergyhealthworks.com/event/reformer-for-golfers/2026-03-17/
LOCATION:Wagga Wagga | Reformer Studio\, 221 Kincaid Street\, Wagga Wagga\, NSW\, 2650\, Australia
CATEGORIES:Clinical Reformer
END:VEVENT
BEGIN:VEVENT
DTSTART;TZID=Australia/Sydney:20260317T113000
DTEND;TZID=Australia/Sydney:20260317T121500
DTSTAMP:20260424T100753
CREATED:20241204T020929Z
LAST-MODIFIED:20250129T032413Z
UID:10105577-1773747000-1773749700@synergyhealthworks.com
SUMMARY:Semi Private Reformer
DESCRIPTION:
URL:https://synergyhealthworks.com/event/semi-private-reformer-17/2026-03-17/
LOCATION:Wagga Wagga | Semi Private Reformer\, 221 Kincaid Street\, Wagga Wagga\, NSW\, 2650\, Australia
CATEGORIES:Semi Private Reformer
END:VEVENT
BEGIN:VEVENT
DTSTART;TZID=Australia/Sydney:20260317T080000
DTEND;TZID=Australia/Sydney:20260317T084500
DTSTAMP:20260424T100753
CREATED:20241204T012706Z
LAST-MODIFIED:20250129T031600Z
UID:10096277-1773734400-1773737100@synergyhealthworks.com
SUMMARY:Men's Clinical Reformer
DESCRIPTION:
URL:https://synergyhealthworks.com/event/mens-clinical-reformer/2026-03-17/
LOCATION:Wagga Wagga | Reformer Studio\, 221 Kincaid Street\, Wagga Wagga\, NSW\, 2650\, Australia
CATEGORIES:Mens Reformer Class
END:VEVENT
BEGIN:VEVENT
DTSTART;TZID=Australia/Sydney:20260317T080000
DTEND;TZID=Australia/Sydney:20260317T084500
DTSTAMP:20260424T100753
CREATED:20240621T045607Z
LAST-MODIFIED:20240909T235044Z
UID:10058276-1773734400-1773737100@synergyhealthworks.com
SUMMARY:Men's Reformer Class
DESCRIPTION:
URL:https://synergyhealthworks.com/event/mens-reformer-class/2026-03-17/
LOCATION:Wagga Wagga | Reformer Studio (Draft)\, 221 Kincaid Street\, Wagga Wagga\, NSW\, 2650\, Australia
CATEGORIES:Mens Reformer Class
END:VEVENT
BEGIN:VEVENT
DTSTART;TZID=Australia/Sydney:20260317T070000
DTEND;TZID=Australia/Sydney:20260317T074500
DTSTAMP:20260424T100753
CREATED:20241204T020734Z
LAST-MODIFIED:20250129T032401Z
UID:10105073-1773730800-1773733500@synergyhealthworks.com
SUMMARY:Semi Private Reformer
DESCRIPTION:
URL:https://synergyhealthworks.com/event/semi-private-reformer-15/2026-03-17/
LOCATION:Wagga Wagga | Semi Private Reformer\, 221 Kincaid Street\, Wagga Wagga\, NSW\, 2650\, Australia
CATEGORIES:Semi Private Reformer
END:VEVENT
BEGIN:VEVENT
DTSTART;TZID=Australia/Sydney:20260317T060000
DTEND;TZID=Australia/Sydney:20260317T064500
DTSTAMP:20260424T100753
CREATED:20241204T020645Z
LAST-MODIFIED:20250914T101028Z
UID:10104821-1773727200-1773729900@synergyhealthworks.com
SUMMARY:Semi Private Reformer
DESCRIPTION:
URL:https://synergyhealthworks.com/event/semi-private-reformer-14/2026-03-17/
LOCATION:Wagga Wagga | Semi Private Reformer\, 221 Kincaid Street\, Wagga Wagga\, NSW\, 2650\, Australia
CATEGORIES:Semi Private Reformer
END:VEVENT
BEGIN:VEVENT
DTSTART;TZID=Australia/Sydney:20260316T143000
DTEND;TZID=Australia/Sydney:20260316T151500
DTSTAMP:20260424T100753
CREATED:20241204T020616Z
LAST-MODIFIED:20250129T032349Z
UID:10104569-1773671400-1773674100@synergyhealthworks.com
SUMMARY:Semi Private Reformer
DESCRIPTION:
URL:https://synergyhealthworks.com/event/semi-private-reformer-13/2026-03-16/
LOCATION:Wagga Wagga | Semi Private Reformer\, 221 Kincaid Street\, Wagga Wagga\, NSW\, 2650\, Australia
CATEGORIES:Semi Private Reformer
END:VEVENT
BEGIN:VEVENT
DTSTART;TZID=Australia/Sydney:20260313T110000
DTEND;TZID=Australia/Sydney:20260313T114500
DTSTAMP:20260424T100753
CREATED:20241204T021255Z
LAST-MODIFIED:20250129T032503Z
UID:10107083-1773399600-1773402300@synergyhealthworks.com
SUMMARY:Semi Private Reformer
DESCRIPTION:
URL:https://synergyhealthworks.com/event/semi-private-reformer-23/2026-03-13/
LOCATION:Wagga Wagga | Semi Private Reformer\, 221 Kincaid Street\, Wagga Wagga\, NSW\, 2650\, Australia
CATEGORIES:Semi Private Reformer
END:VEVENT
BEGIN:VEVENT
DTSTART;TZID=Australia/Sydney:20260313T083000
DTEND;TZID=Australia/Sydney:20260313T091500
DTSTAMP:20260424T100753
CREATED:20241206T014504Z
LAST-MODIFIED:20241206T014814Z
UID:10108592-1773390600-1773393300@synergyhealthworks.com
SUMMARY:Men's Reformer Class
DESCRIPTION:
URL:https://synergyhealthworks.com/event/mens-reformer-class-6/2026-03-13/
LOCATION:Wagga Wagga | Reformer Studio\, 221 Kincaid Street\, Wagga Wagga\, NSW\, 2650\, Australia
CATEGORIES:Mens Reformer Class
END:VEVENT
BEGIN:VEVENT
DTSTART;TZID=Australia/Sydney:20260313T060000
DTEND;TZID=Australia/Sydney:20260313T064500
DTSTAMP:20260424T100753
CREATED:20241204T021239Z
LAST-MODIFIED:20250914T100950Z
UID:10106832-1773381600-1773384300@synergyhealthworks.com
SUMMARY:Semi Private Reformer
DESCRIPTION:
URL:https://synergyhealthworks.com/event/semi-private-reformer-22/2026-03-13/
LOCATION:Wagga Wagga | Semi Private Reformer\, 221 Kincaid Street\, Wagga Wagga\, NSW\, 2650\, Australia
CATEGORIES:Semi Private Reformer
END:VEVENT
BEGIN:VEVENT
DTSTART;TZID=Australia/Sydney:20260312T083000
DTEND;TZID=Australia/Sydney:20260312T091500
DTSTAMP:20260424T100753
CREATED:20241204T015027Z
LAST-MODIFIED:20250129T032030Z
UID:10100803-1773304200-1773306900@synergyhealthworks.com
SUMMARY:Men's Clinical Reformer
DESCRIPTION:
URL:https://synergyhealthworks.com/event/mens-clinical-reformer-2/2026-03-12/
LOCATION:Wagga Wagga | Reformer Studio\, 221 Kincaid Street\, Wagga Wagga\, NSW\, 2650\, Australia
CATEGORIES:Mens Reformer Class
END:VEVENT
BEGIN:VEVENT
DTSTART;TZID=Australia/Sydney:20260312T083000
DTEND;TZID=Australia/Sydney:20260312T091500
DTSTAMP:20260424T100753
CREATED:20240621T045822Z
LAST-MODIFIED:20240909T235129Z
UID:10058536-1773304200-1773306900@synergyhealthworks.com
SUMMARY:Men's Reformer Class
DESCRIPTION:
URL:https://synergyhealthworks.com/event/mens-reformer-class-2/2026-03-12/
LOCATION:Wagga Wagga | Reformer Studio (Draft)\, 221 Kincaid Street\, Wagga Wagga\, NSW\, 2650\, Australia
CATEGORIES:Mens Reformer Class
END:VEVENT
BEGIN:VEVENT
DTSTART;TZID=Australia/Sydney:20260312T073000
DTEND;TZID=Australia/Sydney:20260312T081500
DTSTAMP:20260424T100753
CREATED:20241204T021203Z
LAST-MODIFIED:20250129T032447Z
UID:10106581-1773300600-1773303300@synergyhealthworks.com
SUMMARY:Semi Private Reformer
DESCRIPTION:
URL:https://synergyhealthworks.com/event/semi-private-reformer-21/2026-03-12/
LOCATION:Wagga Wagga | Semi Private Reformer\, 221 Kincaid Street\, Wagga Wagga\, NSW\, 2650\, Australia
CATEGORIES:Semi Private Reformer
END:VEVENT
BEGIN:VEVENT
DTSTART;TZID=Australia/Sydney:20260311T113000
DTEND;TZID=Australia/Sydney:20260311T121500
DTSTAMP:20260424T100753
CREATED:20241204T021129Z
LAST-MODIFIED:20250129T032435Z
UID:10106330-1773228600-1773231300@synergyhealthworks.com
SUMMARY:Semi Private Reformer
DESCRIPTION:
URL:https://synergyhealthworks.com/event/semi-private-reformer-20/2026-03-11/
LOCATION:Wagga Wagga | Semi Private Reformer\, 221 Kincaid Street\, Wagga Wagga\, NSW\, 2650\, Australia
CATEGORIES:Semi Private Reformer
END:VEVENT
END:VCALENDAR