BEGIN:VCALENDAR
VERSION:2.0
PRODID:-//Synergy Healthworks - ECPv6.15.20//NONSGML v1.0//EN
CALSCALE:GREGORIAN
METHOD:PUBLISH
X-ORIGINAL-URL:https://synergyhealthworks.com
X-WR-CALDESC:Events for Synergy Healthworks
REFRESH-INTERVAL;VALUE=DURATION:PT1H
X-Robots-Tag:noindex
X-PUBLISHED-TTL:PT1H
BEGIN:VTIMEZONE
TZID:Australia/Sydney
BEGIN:STANDARD
TZOFFSETFROM:+1100
TZOFFSETTO:+1000
TZNAME:AEST
DTSTART:20250405T160000
END:STANDARD
BEGIN:DAYLIGHT
TZOFFSETFROM:+1000
TZOFFSETTO:+1100
TZNAME:AEDT
DTSTART:20251004T160000
END:DAYLIGHT
BEGIN:STANDARD
TZOFFSETFROM:+1100
TZOFFSETTO:+1000
TZNAME:AEST
DTSTART:20260404T160000
END:STANDARD
BEGIN:DAYLIGHT
TZOFFSETFROM:+1000
TZOFFSETTO:+1100
TZNAME:AEDT
DTSTART:20261003T160000
END:DAYLIGHT
BEGIN:STANDARD
TZOFFSETFROM:+1100
TZOFFSETTO:+1000
TZNAME:AEST
DTSTART:20270403T160000
END:STANDARD
BEGIN:DAYLIGHT
TZOFFSETFROM:+1000
TZOFFSETTO:+1100
TZNAME:AEDT
DTSTART:20271002T160000
END:DAYLIGHT
BEGIN:STANDARD
TZOFFSETFROM:+1100
TZOFFSETTO:+1000
TZNAME:AEST
DTSTART:20280401T160000
END:STANDARD
BEGIN:DAYLIGHT
TZOFFSETFROM:+1000
TZOFFSETTO:+1100
TZNAME:AEDT
DTSTART:20280930T160000
END:DAYLIGHT
END:VTIMEZONE
BEGIN:VEVENT
DTSTART;TZID=Australia/Sydney:20261223T080000
DTEND;TZID=Australia/Sydney:20261223T084500
DTSTAMP:20260426T074038
CREATED:20241204T021019Z
LAST-MODIFIED:20250129T032427Z
UID:10106120-1798012800-1798015500@synergyhealthworks.com
SUMMARY:Semi Private Reformer
DESCRIPTION:
URL:https://synergyhealthworks.com/event/semi-private-reformer-19/2026-12-23/
LOCATION:Wagga Wagga | Semi Private Reformer\, 221 Kincaid Street\, Wagga Wagga\, NSW\, 2650\, Australia
CATEGORIES:Semi Private Reformer
END:VEVENT
BEGIN:VEVENT
DTSTART;TZID=Australia/Sydney:20261223T113000
DTEND;TZID=Australia/Sydney:20261223T121500
DTSTAMP:20260426T074038
CREATED:20241204T021129Z
LAST-MODIFIED:20250129T032435Z
UID:10106371-1798025400-1798028100@synergyhealthworks.com
SUMMARY:Semi Private Reformer
DESCRIPTION:
URL:https://synergyhealthworks.com/event/semi-private-reformer-20/2026-12-23/
LOCATION:Wagga Wagga | Semi Private Reformer\, 221 Kincaid Street\, Wagga Wagga\, NSW\, 2650\, Australia
CATEGORIES:Semi Private Reformer
END:VEVENT
BEGIN:VEVENT
DTSTART;TZID=Australia/Sydney:20261224T073000
DTEND;TZID=Australia/Sydney:20261224T081500
DTSTAMP:20260426T074038
CREATED:20241204T021203Z
LAST-MODIFIED:20250129T032447Z
UID:10106622-1798097400-1798100100@synergyhealthworks.com
SUMMARY:Semi Private Reformer
DESCRIPTION:
URL:https://synergyhealthworks.com/event/semi-private-reformer-21/2026-12-24/
LOCATION:Wagga Wagga | Semi Private Reformer\, 221 Kincaid Street\, Wagga Wagga\, NSW\, 2650\, Australia
CATEGORIES:Semi Private Reformer
END:VEVENT
BEGIN:VEVENT
DTSTART;TZID=Australia/Sydney:20261224T083000
DTEND;TZID=Australia/Sydney:20261224T091500
DTSTAMP:20260426T074038
CREATED:20240621T045822Z
LAST-MODIFIED:20240909T235129Z
UID:10058577-1798101000-1798103700@synergyhealthworks.com
SUMMARY:Men's Reformer Class
DESCRIPTION:
URL:https://synergyhealthworks.com/event/mens-reformer-class-2/2026-12-24/
LOCATION:Wagga Wagga | Reformer Studio (Draft)\, 221 Kincaid Street\, Wagga Wagga\, NSW\, 2650\, Australia
CATEGORIES:Mens Reformer Class
END:VEVENT
BEGIN:VEVENT
DTSTART;TZID=Australia/Sydney:20261224T083000
DTEND;TZID=Australia/Sydney:20261224T091500
DTSTAMP:20260426T074038
CREATED:20241204T015027Z
LAST-MODIFIED:20250129T032030Z
UID:10100844-1798101000-1798103700@synergyhealthworks.com
SUMMARY:Men's Clinical Reformer
DESCRIPTION:
URL:https://synergyhealthworks.com/event/mens-clinical-reformer-2/2026-12-24/
LOCATION:Wagga Wagga | Reformer Studio\, 221 Kincaid Street\, Wagga Wagga\, NSW\, 2650\, Australia
CATEGORIES:Mens Reformer Class
END:VEVENT
BEGIN:VEVENT
DTSTART;TZID=Australia/Sydney:20261225T060000
DTEND;TZID=Australia/Sydney:20261225T064500
DTSTAMP:20260426T074038
CREATED:20241204T021239Z
LAST-MODIFIED:20250914T100950Z
UID:10106873-1798178400-1798181100@synergyhealthworks.com
SUMMARY:Semi Private Reformer
DESCRIPTION:
URL:https://synergyhealthworks.com/event/semi-private-reformer-22/2026-12-25/
LOCATION:Wagga Wagga | Semi Private Reformer\, 221 Kincaid Street\, Wagga Wagga\, NSW\, 2650\, Australia
CATEGORIES:Semi Private Reformer
END:VEVENT
BEGIN:VEVENT
DTSTART;TZID=Australia/Sydney:20261225T083000
DTEND;TZID=Australia/Sydney:20261225T091500
DTSTAMP:20260426T074038
CREATED:20241206T014504Z
LAST-MODIFIED:20241206T014814Z
UID:10108633-1798187400-1798190100@synergyhealthworks.com
SUMMARY:Men's Reformer Class
DESCRIPTION:
URL:https://synergyhealthworks.com/event/mens-reformer-class-6/2026-12-25/
LOCATION:Wagga Wagga | Reformer Studio\, 221 Kincaid Street\, Wagga Wagga\, NSW\, 2650\, Australia
CATEGORIES:Mens Reformer Class
END:VEVENT
BEGIN:VEVENT
DTSTART;TZID=Australia/Sydney:20261225T110000
DTEND;TZID=Australia/Sydney:20261225T114500
DTSTAMP:20260426T074038
CREATED:20241204T021255Z
LAST-MODIFIED:20250129T032503Z
UID:10107124-1798196400-1798199100@synergyhealthworks.com
SUMMARY:Semi Private Reformer
DESCRIPTION:
URL:https://synergyhealthworks.com/event/semi-private-reformer-23/2026-12-25/
LOCATION:Wagga Wagga | Semi Private Reformer\, 221 Kincaid Street\, Wagga Wagga\, NSW\, 2650\, Australia
CATEGORIES:Semi Private Reformer
END:VEVENT
BEGIN:VEVENT
DTSTART;TZID=Australia/Sydney:20261228T143000
DTEND;TZID=Australia/Sydney:20261228T151500
DTSTAMP:20260426T074038
CREATED:20241204T020616Z
LAST-MODIFIED:20250129T032349Z
UID:10104610-1798468200-1798470900@synergyhealthworks.com
SUMMARY:Semi Private Reformer
DESCRIPTION:
URL:https://synergyhealthworks.com/event/semi-private-reformer-13/2026-12-28/
LOCATION:Wagga Wagga | Semi Private Reformer\, 221 Kincaid Street\, Wagga Wagga\, NSW\, 2650\, Australia
CATEGORIES:Semi Private Reformer
END:VEVENT
BEGIN:VEVENT
DTSTART;TZID=Australia/Sydney:20261229T060000
DTEND;TZID=Australia/Sydney:20261229T064500
DTSTAMP:20260426T074038
CREATED:20241204T020645Z
LAST-MODIFIED:20250914T101028Z
UID:10104862-1798524000-1798526700@synergyhealthworks.com
SUMMARY:Semi Private Reformer
DESCRIPTION:
URL:https://synergyhealthworks.com/event/semi-private-reformer-14/2026-12-29/
LOCATION:Wagga Wagga | Semi Private Reformer\, 221 Kincaid Street\, Wagga Wagga\, NSW\, 2650\, Australia
CATEGORIES:Semi Private Reformer
END:VEVENT
BEGIN:VEVENT
DTSTART;TZID=Australia/Sydney:20261229T070000
DTEND;TZID=Australia/Sydney:20261229T074500
DTSTAMP:20260426T074038
CREATED:20241204T020734Z
LAST-MODIFIED:20250129T032401Z
UID:10105114-1798527600-1798530300@synergyhealthworks.com
SUMMARY:Semi Private Reformer
DESCRIPTION:
URL:https://synergyhealthworks.com/event/semi-private-reformer-15/2026-12-29/
LOCATION:Wagga Wagga | Semi Private Reformer\, 221 Kincaid Street\, Wagga Wagga\, NSW\, 2650\, Australia
CATEGORIES:Semi Private Reformer
END:VEVENT
BEGIN:VEVENT
DTSTART;TZID=Australia/Sydney:20261229T080000
DTEND;TZID=Australia/Sydney:20261229T084500
DTSTAMP:20260426T074038
CREATED:20240621T045607Z
LAST-MODIFIED:20240909T235044Z
UID:10058317-1798531200-1798533900@synergyhealthworks.com
SUMMARY:Men's Reformer Class
DESCRIPTION:
URL:https://synergyhealthworks.com/event/mens-reformer-class/2026-12-29/
LOCATION:Wagga Wagga | Reformer Studio (Draft)\, 221 Kincaid Street\, Wagga Wagga\, NSW\, 2650\, Australia
CATEGORIES:Mens Reformer Class
END:VEVENT
BEGIN:VEVENT
DTSTART;TZID=Australia/Sydney:20261229T080000
DTEND;TZID=Australia/Sydney:20261229T084500
DTSTAMP:20260426T074038
CREATED:20241204T012706Z
LAST-MODIFIED:20250129T031600Z
UID:10096318-1798531200-1798533900@synergyhealthworks.com
SUMMARY:Men's Clinical Reformer
DESCRIPTION:
URL:https://synergyhealthworks.com/event/mens-clinical-reformer/2026-12-29/
LOCATION:Wagga Wagga | Reformer Studio\, 221 Kincaid Street\, Wagga Wagga\, NSW\, 2650\, Australia
CATEGORIES:Mens Reformer Class
END:VEVENT
BEGIN:VEVENT
DTSTART;TZID=Australia/Sydney:20261229T113000
DTEND;TZID=Australia/Sydney:20261229T121500
DTSTAMP:20260426T074038
CREATED:20241204T020929Z
LAST-MODIFIED:20250129T032413Z
UID:10105618-1798543800-1798546500@synergyhealthworks.com
SUMMARY:Semi Private Reformer
DESCRIPTION:
URL:https://synergyhealthworks.com/event/semi-private-reformer-17/2026-12-29/
LOCATION:Wagga Wagga | Semi Private Reformer\, 221 Kincaid Street\, Wagga Wagga\, NSW\, 2650\, Australia
CATEGORIES:Semi Private Reformer
END:VEVENT
BEGIN:VEVENT
DTSTART;TZID=Australia/Sydney:20261229T150000
DTEND;TZID=Australia/Sydney:20261229T154500
DTSTAMP:20260426T074038
CREATED:20241204T013027Z
LAST-MODIFIED:20250129T031633Z
UID:10097578-1798556400-1798559100@synergyhealthworks.com
SUMMARY:Reformer For Golfers
DESCRIPTION:
URL:https://synergyhealthworks.com/event/reformer-for-golfers/2026-12-29/
LOCATION:Wagga Wagga | Reformer Studio\, 221 Kincaid Street\, Wagga Wagga\, NSW\, 2650\, Australia
CATEGORIES:Clinical Reformer
END:VEVENT
BEGIN:VEVENT
DTSTART;TZID=Australia/Sydney:20261230T070000
DTEND;TZID=Australia/Sydney:20261230T074500
DTSTAMP:20260426T074038
CREATED:20241204T020946Z
LAST-MODIFIED:20250129T032419Z
UID:10105870-1798614000-1798616700@synergyhealthworks.com
SUMMARY:Semi Private Reformer
DESCRIPTION:
URL:https://synergyhealthworks.com/event/semi-private-reformer-18/2026-12-30/
LOCATION:Wagga Wagga | Semi Private Reformer\, 221 Kincaid Street\, Wagga Wagga\, NSW\, 2650\, Australia
CATEGORIES:Semi Private Reformer
END:VEVENT
BEGIN:VEVENT
DTSTART;TZID=Australia/Sydney:20261230T080000
DTEND;TZID=Australia/Sydney:20261230T084500
DTSTAMP:20260426T074038
CREATED:20241204T021019Z
LAST-MODIFIED:20250129T032427Z
UID:10106121-1798617600-1798620300@synergyhealthworks.com
SUMMARY:Semi Private Reformer
DESCRIPTION:
URL:https://synergyhealthworks.com/event/semi-private-reformer-19/2026-12-30/
LOCATION:Wagga Wagga | Semi Private Reformer\, 221 Kincaid Street\, Wagga Wagga\, NSW\, 2650\, Australia
CATEGORIES:Semi Private Reformer
END:VEVENT
BEGIN:VEVENT
DTSTART;TZID=Australia/Sydney:20261230T113000
DTEND;TZID=Australia/Sydney:20261230T121500
DTSTAMP:20260426T074038
CREATED:20241204T021129Z
LAST-MODIFIED:20250129T032435Z
UID:10106372-1798630200-1798632900@synergyhealthworks.com
SUMMARY:Semi Private Reformer
DESCRIPTION:
URL:https://synergyhealthworks.com/event/semi-private-reformer-20/2026-12-30/
LOCATION:Wagga Wagga | Semi Private Reformer\, 221 Kincaid Street\, Wagga Wagga\, NSW\, 2650\, Australia
CATEGORIES:Semi Private Reformer
END:VEVENT
BEGIN:VEVENT
DTSTART;TZID=Australia/Sydney:20261231T073000
DTEND;TZID=Australia/Sydney:20261231T081500
DTSTAMP:20260426T074038
CREATED:20241204T021203Z
LAST-MODIFIED:20250129T032447Z
UID:10106623-1798702200-1798704900@synergyhealthworks.com
SUMMARY:Semi Private Reformer
DESCRIPTION:
URL:https://synergyhealthworks.com/event/semi-private-reformer-21/2026-12-31/
LOCATION:Wagga Wagga | Semi Private Reformer\, 221 Kincaid Street\, Wagga Wagga\, NSW\, 2650\, Australia
CATEGORIES:Semi Private Reformer
END:VEVENT
BEGIN:VEVENT
DTSTART;TZID=Australia/Sydney:20261231T083000
DTEND;TZID=Australia/Sydney:20261231T091500
DTSTAMP:20260426T074038
CREATED:20240621T045822Z
LAST-MODIFIED:20240909T235129Z
UID:10058578-1798705800-1798708500@synergyhealthworks.com
SUMMARY:Men's Reformer Class
DESCRIPTION:
URL:https://synergyhealthworks.com/event/mens-reformer-class-2/2026-12-31/
LOCATION:Wagga Wagga | Reformer Studio (Draft)\, 221 Kincaid Street\, Wagga Wagga\, NSW\, 2650\, Australia
CATEGORIES:Mens Reformer Class
END:VEVENT
BEGIN:VEVENT
DTSTART;TZID=Australia/Sydney:20261231T083000
DTEND;TZID=Australia/Sydney:20261231T091500
DTSTAMP:20260426T074038
CREATED:20241204T015027Z
LAST-MODIFIED:20250129T032030Z
UID:10100845-1798705800-1798708500@synergyhealthworks.com
SUMMARY:Men's Clinical Reformer
DESCRIPTION:
URL:https://synergyhealthworks.com/event/mens-clinical-reformer-2/2026-12-31/
LOCATION:Wagga Wagga | Reformer Studio\, 221 Kincaid Street\, Wagga Wagga\, NSW\, 2650\, Australia
CATEGORIES:Mens Reformer Class
END:VEVENT
BEGIN:VEVENT
DTSTART;TZID=Australia/Sydney:20270101T060000
DTEND;TZID=Australia/Sydney:20270101T064500
DTSTAMP:20260426T074038
CREATED:20241204T021239Z
LAST-MODIFIED:20250914T100950Z
UID:10106874-1798783200-1798785900@synergyhealthworks.com
SUMMARY:Semi Private Reformer
DESCRIPTION:
URL:https://synergyhealthworks.com/event/semi-private-reformer-22/2027-01-01/
LOCATION:Wagga Wagga | Semi Private Reformer\, 221 Kincaid Street\, Wagga Wagga\, NSW\, 2650\, Australia
CATEGORIES:Semi Private Reformer
END:VEVENT
BEGIN:VEVENT
DTSTART;TZID=Australia/Sydney:20270101T083000
DTEND;TZID=Australia/Sydney:20270101T091500
DTSTAMP:20260426T074038
CREATED:20241206T014504Z
LAST-MODIFIED:20241206T014814Z
UID:10108634-1798792200-1798794900@synergyhealthworks.com
SUMMARY:Men's Reformer Class
DESCRIPTION:
URL:https://synergyhealthworks.com/event/mens-reformer-class-6/2027-01-01/
LOCATION:Wagga Wagga | Reformer Studio\, 221 Kincaid Street\, Wagga Wagga\, NSW\, 2650\, Australia
CATEGORIES:Mens Reformer Class
END:VEVENT
BEGIN:VEVENT
DTSTART;TZID=Australia/Sydney:20270101T110000
DTEND;TZID=Australia/Sydney:20270101T114500
DTSTAMP:20260426T074038
CREATED:20241204T021255Z
LAST-MODIFIED:20250129T032503Z
UID:10107125-1798801200-1798803900@synergyhealthworks.com
SUMMARY:Semi Private Reformer
DESCRIPTION:
URL:https://synergyhealthworks.com/event/semi-private-reformer-23/2027-01-01/
LOCATION:Wagga Wagga | Semi Private Reformer\, 221 Kincaid Street\, Wagga Wagga\, NSW\, 2650\, Australia
CATEGORIES:Semi Private Reformer
END:VEVENT
BEGIN:VEVENT
DTSTART;TZID=Australia/Sydney:20270104T143000
DTEND;TZID=Australia/Sydney:20270104T151500
DTSTAMP:20260426T074038
CREATED:20241204T020616Z
LAST-MODIFIED:20250129T032349Z
UID:10104611-1799073000-1799075700@synergyhealthworks.com
SUMMARY:Semi Private Reformer
DESCRIPTION:
URL:https://synergyhealthworks.com/event/semi-private-reformer-13/2027-01-04/
LOCATION:Wagga Wagga | Semi Private Reformer\, 221 Kincaid Street\, Wagga Wagga\, NSW\, 2650\, Australia
CATEGORIES:Semi Private Reformer
END:VEVENT
BEGIN:VEVENT
DTSTART;TZID=Australia/Sydney:20270105T060000
DTEND;TZID=Australia/Sydney:20270105T064500
DTSTAMP:20260426T074038
CREATED:20241204T020645Z
LAST-MODIFIED:20250914T101028Z
UID:10104863-1799128800-1799131500@synergyhealthworks.com
SUMMARY:Semi Private Reformer
DESCRIPTION:
URL:https://synergyhealthworks.com/event/semi-private-reformer-14/2027-01-05/
LOCATION:Wagga Wagga | Semi Private Reformer\, 221 Kincaid Street\, Wagga Wagga\, NSW\, 2650\, Australia
CATEGORIES:Semi Private Reformer
END:VEVENT
BEGIN:VEVENT
DTSTART;TZID=Australia/Sydney:20270105T070000
DTEND;TZID=Australia/Sydney:20270105T074500
DTSTAMP:20260426T074038
CREATED:20241204T020734Z
LAST-MODIFIED:20250129T032401Z
UID:10105115-1799132400-1799135100@synergyhealthworks.com
SUMMARY:Semi Private Reformer
DESCRIPTION:
URL:https://synergyhealthworks.com/event/semi-private-reformer-15/2027-01-05/
LOCATION:Wagga Wagga | Semi Private Reformer\, 221 Kincaid Street\, Wagga Wagga\, NSW\, 2650\, Australia
CATEGORIES:Semi Private Reformer
END:VEVENT
BEGIN:VEVENT
DTSTART;TZID=Australia/Sydney:20270105T080000
DTEND;TZID=Australia/Sydney:20270105T084500
DTSTAMP:20260426T074038
CREATED:20240621T045607Z
LAST-MODIFIED:20240909T235044Z
UID:10058318-1799136000-1799138700@synergyhealthworks.com
SUMMARY:Men's Reformer Class
DESCRIPTION:
URL:https://synergyhealthworks.com/event/mens-reformer-class/2027-01-05/
LOCATION:Wagga Wagga | Reformer Studio (Draft)\, 221 Kincaid Street\, Wagga Wagga\, NSW\, 2650\, Australia
CATEGORIES:Mens Reformer Class
END:VEVENT
BEGIN:VEVENT
DTSTART;TZID=Australia/Sydney:20270105T080000
DTEND;TZID=Australia/Sydney:20270105T084500
DTSTAMP:20260426T074038
CREATED:20241204T012706Z
LAST-MODIFIED:20250129T031600Z
UID:10096319-1799136000-1799138700@synergyhealthworks.com
SUMMARY:Men's Clinical Reformer
DESCRIPTION:
URL:https://synergyhealthworks.com/event/mens-clinical-reformer/2027-01-05/
LOCATION:Wagga Wagga | Reformer Studio\, 221 Kincaid Street\, Wagga Wagga\, NSW\, 2650\, Australia
CATEGORIES:Mens Reformer Class
END:VEVENT
BEGIN:VEVENT
DTSTART;TZID=Australia/Sydney:20270105T113000
DTEND;TZID=Australia/Sydney:20270105T121500
DTSTAMP:20260426T074038
CREATED:20241204T020929Z
LAST-MODIFIED:20250129T032413Z
UID:10105619-1799148600-1799151300@synergyhealthworks.com
SUMMARY:Semi Private Reformer
DESCRIPTION:
URL:https://synergyhealthworks.com/event/semi-private-reformer-17/2027-01-05/
LOCATION:Wagga Wagga | Semi Private Reformer\, 221 Kincaid Street\, Wagga Wagga\, NSW\, 2650\, Australia
CATEGORIES:Semi Private Reformer
END:VEVENT
END:VCALENDAR