BEGIN:VCALENDAR
VERSION:2.0
PRODID:-//Synergy Healthworks - ECPv6.15.20//NONSGML v1.0//EN
CALSCALE:GREGORIAN
METHOD:PUBLISH
X-WR-CALNAME:Synergy Healthworks
X-ORIGINAL-URL:https://synergyhealthworks.com
X-WR-CALDESC:Events for Synergy Healthworks
REFRESH-INTERVAL;VALUE=DURATION:PT1H
X-Robots-Tag:noindex
X-PUBLISHED-TTL:PT1H
BEGIN:VTIMEZONE
TZID:Australia/Sydney
BEGIN:STANDARD
TZOFFSETFROM:+1100
TZOFFSETTO:+1000
TZNAME:AEST
DTSTART:20250405T160000
END:STANDARD
BEGIN:DAYLIGHT
TZOFFSETFROM:+1000
TZOFFSETTO:+1100
TZNAME:AEDT
DTSTART:20251004T160000
END:DAYLIGHT
BEGIN:STANDARD
TZOFFSETFROM:+1100
TZOFFSETTO:+1000
TZNAME:AEST
DTSTART:20260404T160000
END:STANDARD
BEGIN:DAYLIGHT
TZOFFSETFROM:+1000
TZOFFSETTO:+1100
TZNAME:AEDT
DTSTART:20261003T160000
END:DAYLIGHT
BEGIN:STANDARD
TZOFFSETFROM:+1100
TZOFFSETTO:+1000
TZNAME:AEST
DTSTART:20270403T160000
END:STANDARD
BEGIN:DAYLIGHT
TZOFFSETFROM:+1000
TZOFFSETTO:+1100
TZNAME:AEDT
DTSTART:20271002T160000
END:DAYLIGHT
END:VTIMEZONE
BEGIN:VEVENT
DTSTART;TZID=Australia/Sydney:20260414T080000
DTEND;TZID=Australia/Sydney:20260414T084500
DTSTAMP:20260424T025513
CREATED:20241204T012706Z
LAST-MODIFIED:20250129T031600Z
UID:10096281-1776153600-1776156300@synergyhealthworks.com
SUMMARY:Men's Clinical Reformer
DESCRIPTION:
URL:https://synergyhealthworks.com/event/mens-clinical-reformer/2026-04-14/
LOCATION:Wagga Wagga | Reformer Studio\, 221 Kincaid Street\, Wagga Wagga\, NSW\, 2650\, Australia
CATEGORIES:Mens Reformer Class
END:VEVENT
BEGIN:VEVENT
DTSTART;TZID=Australia/Sydney:20260414T080000
DTEND;TZID=Australia/Sydney:20260414T084500
DTSTAMP:20260424T025513
CREATED:20240621T045607Z
LAST-MODIFIED:20240909T235044Z
UID:10058280-1776153600-1776156300@synergyhealthworks.com
SUMMARY:Men's Reformer Class
DESCRIPTION:
URL:https://synergyhealthworks.com/event/mens-reformer-class/2026-04-14/
LOCATION:Wagga Wagga | Reformer Studio (Draft)\, 221 Kincaid Street\, Wagga Wagga\, NSW\, 2650\, Australia
CATEGORIES:Mens Reformer Class
END:VEVENT
BEGIN:VEVENT
DTSTART;TZID=Australia/Sydney:20260414T070000
DTEND;TZID=Australia/Sydney:20260414T074500
DTSTAMP:20260424T025513
CREATED:20241204T020734Z
LAST-MODIFIED:20250129T032401Z
UID:10105077-1776150000-1776152700@synergyhealthworks.com
SUMMARY:Semi Private Reformer
DESCRIPTION:
URL:https://synergyhealthworks.com/event/semi-private-reformer-15/2026-04-14/
LOCATION:Wagga Wagga | Semi Private Reformer\, 221 Kincaid Street\, Wagga Wagga\, NSW\, 2650\, Australia
CATEGORIES:Semi Private Reformer
END:VEVENT
BEGIN:VEVENT
DTSTART;TZID=Australia/Sydney:20260414T060000
DTEND;TZID=Australia/Sydney:20260414T064500
DTSTAMP:20260424T025513
CREATED:20241204T020645Z
LAST-MODIFIED:20250914T101028Z
UID:10104825-1776146400-1776149100@synergyhealthworks.com
SUMMARY:Semi Private Reformer
DESCRIPTION:
URL:https://synergyhealthworks.com/event/semi-private-reformer-14/2026-04-14/
LOCATION:Wagga Wagga | Semi Private Reformer\, 221 Kincaid Street\, Wagga Wagga\, NSW\, 2650\, Australia
CATEGORIES:Semi Private Reformer
END:VEVENT
BEGIN:VEVENT
DTSTART;TZID=Australia/Sydney:20260413T143000
DTEND;TZID=Australia/Sydney:20260413T151500
DTSTAMP:20260424T025513
CREATED:20241204T020616Z
LAST-MODIFIED:20250129T032349Z
UID:10104573-1776090600-1776093300@synergyhealthworks.com
SUMMARY:Semi Private Reformer
DESCRIPTION:
URL:https://synergyhealthworks.com/event/semi-private-reformer-13/2026-04-13/
LOCATION:Wagga Wagga | Semi Private Reformer\, 221 Kincaid Street\, Wagga Wagga\, NSW\, 2650\, Australia
CATEGORIES:Semi Private Reformer
END:VEVENT
BEGIN:VEVENT
DTSTART;TZID=Australia/Sydney:20260410T110000
DTEND;TZID=Australia/Sydney:20260410T114500
DTSTAMP:20260424T025513
CREATED:20241204T021255Z
LAST-MODIFIED:20250129T032503Z
UID:10107087-1775818800-1775821500@synergyhealthworks.com
SUMMARY:Semi Private Reformer
DESCRIPTION:
URL:https://synergyhealthworks.com/event/semi-private-reformer-23/2026-04-10/
LOCATION:Wagga Wagga | Semi Private Reformer\, 221 Kincaid Street\, Wagga Wagga\, NSW\, 2650\, Australia
CATEGORIES:Semi Private Reformer
END:VEVENT
BEGIN:VEVENT
DTSTART;TZID=Australia/Sydney:20260410T083000
DTEND;TZID=Australia/Sydney:20260410T091500
DTSTAMP:20260424T025513
CREATED:20241206T014504Z
LAST-MODIFIED:20241206T014814Z
UID:10108596-1775809800-1775812500@synergyhealthworks.com
SUMMARY:Men's Reformer Class
DESCRIPTION:
URL:https://synergyhealthworks.com/event/mens-reformer-class-6/2026-04-10/
LOCATION:Wagga Wagga | Reformer Studio\, 221 Kincaid Street\, Wagga Wagga\, NSW\, 2650\, Australia
CATEGORIES:Mens Reformer Class
END:VEVENT
BEGIN:VEVENT
DTSTART;TZID=Australia/Sydney:20260410T060000
DTEND;TZID=Australia/Sydney:20260410T064500
DTSTAMP:20260424T025513
CREATED:20241204T021239Z
LAST-MODIFIED:20250914T100950Z
UID:10106836-1775800800-1775803500@synergyhealthworks.com
SUMMARY:Semi Private Reformer
DESCRIPTION:
URL:https://synergyhealthworks.com/event/semi-private-reformer-22/2026-04-10/
LOCATION:Wagga Wagga | Semi Private Reformer\, 221 Kincaid Street\, Wagga Wagga\, NSW\, 2650\, Australia
CATEGORIES:Semi Private Reformer
END:VEVENT
BEGIN:VEVENT
DTSTART;TZID=Australia/Sydney:20260409T083000
DTEND;TZID=Australia/Sydney:20260409T091500
DTSTAMP:20260424T025513
CREATED:20241204T015027Z
LAST-MODIFIED:20250129T032030Z
UID:10100807-1775723400-1775726100@synergyhealthworks.com
SUMMARY:Men's Clinical Reformer
DESCRIPTION:
URL:https://synergyhealthworks.com/event/mens-clinical-reformer-2/2026-04-09/
LOCATION:Wagga Wagga | Reformer Studio\, 221 Kincaid Street\, Wagga Wagga\, NSW\, 2650\, Australia
CATEGORIES:Mens Reformer Class
END:VEVENT
BEGIN:VEVENT
DTSTART;TZID=Australia/Sydney:20260409T083000
DTEND;TZID=Australia/Sydney:20260409T091500
DTSTAMP:20260424T025513
CREATED:20240621T045822Z
LAST-MODIFIED:20240909T235129Z
UID:10058540-1775723400-1775726100@synergyhealthworks.com
SUMMARY:Men's Reformer Class
DESCRIPTION:
URL:https://synergyhealthworks.com/event/mens-reformer-class-2/2026-04-09/
LOCATION:Wagga Wagga | Reformer Studio (Draft)\, 221 Kincaid Street\, Wagga Wagga\, NSW\, 2650\, Australia
CATEGORIES:Mens Reformer Class
END:VEVENT
BEGIN:VEVENT
DTSTART;TZID=Australia/Sydney:20260409T073000
DTEND;TZID=Australia/Sydney:20260409T081500
DTSTAMP:20260424T025513
CREATED:20241204T021203Z
LAST-MODIFIED:20250129T032447Z
UID:10106585-1775719800-1775722500@synergyhealthworks.com
SUMMARY:Semi Private Reformer
DESCRIPTION:
URL:https://synergyhealthworks.com/event/semi-private-reformer-21/2026-04-09/
LOCATION:Wagga Wagga | Semi Private Reformer\, 221 Kincaid Street\, Wagga Wagga\, NSW\, 2650\, Australia
CATEGORIES:Semi Private Reformer
END:VEVENT
BEGIN:VEVENT
DTSTART;TZID=Australia/Sydney:20260408T113000
DTEND;TZID=Australia/Sydney:20260408T121500
DTSTAMP:20260424T025513
CREATED:20241204T021129Z
LAST-MODIFIED:20250129T032435Z
UID:10106334-1775647800-1775650500@synergyhealthworks.com
SUMMARY:Semi Private Reformer
DESCRIPTION:
URL:https://synergyhealthworks.com/event/semi-private-reformer-20/2026-04-08/
LOCATION:Wagga Wagga | Semi Private Reformer\, 221 Kincaid Street\, Wagga Wagga\, NSW\, 2650\, Australia
CATEGORIES:Semi Private Reformer
END:VEVENT
BEGIN:VEVENT
DTSTART;TZID=Australia/Sydney:20260408T080000
DTEND;TZID=Australia/Sydney:20260408T084500
DTSTAMP:20260424T025513
CREATED:20241204T021019Z
LAST-MODIFIED:20250129T032427Z
UID:10106083-1775635200-1775637900@synergyhealthworks.com
SUMMARY:Semi Private Reformer
DESCRIPTION:
URL:https://synergyhealthworks.com/event/semi-private-reformer-19/2026-04-08/
LOCATION:Wagga Wagga | Semi Private Reformer\, 221 Kincaid Street\, Wagga Wagga\, NSW\, 2650\, Australia
CATEGORIES:Semi Private Reformer
END:VEVENT
BEGIN:VEVENT
DTSTART;TZID=Australia/Sydney:20260408T070000
DTEND;TZID=Australia/Sydney:20260408T074500
DTSTAMP:20260424T025513
CREATED:20241204T020946Z
LAST-MODIFIED:20250129T032419Z
UID:10105832-1775631600-1775634300@synergyhealthworks.com
SUMMARY:Semi Private Reformer
DESCRIPTION:
URL:https://synergyhealthworks.com/event/semi-private-reformer-18/2026-04-08/
LOCATION:Wagga Wagga | Semi Private Reformer\, 221 Kincaid Street\, Wagga Wagga\, NSW\, 2650\, Australia
CATEGORIES:Semi Private Reformer
END:VEVENT
BEGIN:VEVENT
DTSTART;TZID=Australia/Sydney:20260407T150000
DTEND;TZID=Australia/Sydney:20260407T154500
DTSTAMP:20260424T025513
CREATED:20241204T013027Z
LAST-MODIFIED:20250129T031633Z
UID:10097540-1775574000-1775576700@synergyhealthworks.com
SUMMARY:Reformer For Golfers
DESCRIPTION:
URL:https://synergyhealthworks.com/event/reformer-for-golfers/2026-04-07/
LOCATION:Wagga Wagga | Reformer Studio\, 221 Kincaid Street\, Wagga Wagga\, NSW\, 2650\, Australia
CATEGORIES:Clinical Reformer
END:VEVENT
BEGIN:VEVENT
DTSTART;TZID=Australia/Sydney:20260407T113000
DTEND;TZID=Australia/Sydney:20260407T121500
DTSTAMP:20260424T025513
CREATED:20241204T020929Z
LAST-MODIFIED:20250129T032413Z
UID:10105580-1775561400-1775564100@synergyhealthworks.com
SUMMARY:Semi Private Reformer
DESCRIPTION:
URL:https://synergyhealthworks.com/event/semi-private-reformer-17/2026-04-07/
LOCATION:Wagga Wagga | Semi Private Reformer\, 221 Kincaid Street\, Wagga Wagga\, NSW\, 2650\, Australia
CATEGORIES:Semi Private Reformer
END:VEVENT
BEGIN:VEVENT
DTSTART;TZID=Australia/Sydney:20260407T080000
DTEND;TZID=Australia/Sydney:20260407T084500
DTSTAMP:20260424T025513
CREATED:20241204T012706Z
LAST-MODIFIED:20250129T031600Z
UID:10096280-1775548800-1775551500@synergyhealthworks.com
SUMMARY:Men's Clinical Reformer
DESCRIPTION:
URL:https://synergyhealthworks.com/event/mens-clinical-reformer/2026-04-07/
LOCATION:Wagga Wagga | Reformer Studio\, 221 Kincaid Street\, Wagga Wagga\, NSW\, 2650\, Australia
CATEGORIES:Mens Reformer Class
END:VEVENT
BEGIN:VEVENT
DTSTART;TZID=Australia/Sydney:20260407T080000
DTEND;TZID=Australia/Sydney:20260407T084500
DTSTAMP:20260424T025513
CREATED:20240621T045607Z
LAST-MODIFIED:20240909T235044Z
UID:10058279-1775548800-1775551500@synergyhealthworks.com
SUMMARY:Men's Reformer Class
DESCRIPTION:
URL:https://synergyhealthworks.com/event/mens-reformer-class/2026-04-07/
LOCATION:Wagga Wagga | Reformer Studio (Draft)\, 221 Kincaid Street\, Wagga Wagga\, NSW\, 2650\, Australia
CATEGORIES:Mens Reformer Class
END:VEVENT
BEGIN:VEVENT
DTSTART;TZID=Australia/Sydney:20260407T070000
DTEND;TZID=Australia/Sydney:20260407T074500
DTSTAMP:20260424T025513
CREATED:20241204T020734Z
LAST-MODIFIED:20250129T032401Z
UID:10105076-1775545200-1775547900@synergyhealthworks.com
SUMMARY:Semi Private Reformer
DESCRIPTION:
URL:https://synergyhealthworks.com/event/semi-private-reformer-15/2026-04-07/
LOCATION:Wagga Wagga | Semi Private Reformer\, 221 Kincaid Street\, Wagga Wagga\, NSW\, 2650\, Australia
CATEGORIES:Semi Private Reformer
END:VEVENT
BEGIN:VEVENT
DTSTART;TZID=Australia/Sydney:20260407T060000
DTEND;TZID=Australia/Sydney:20260407T064500
DTSTAMP:20260424T025513
CREATED:20241204T020645Z
LAST-MODIFIED:20250914T101028Z
UID:10104824-1775541600-1775544300@synergyhealthworks.com
SUMMARY:Semi Private Reformer
DESCRIPTION:
URL:https://synergyhealthworks.com/event/semi-private-reformer-14/2026-04-07/
LOCATION:Wagga Wagga | Semi Private Reformer\, 221 Kincaid Street\, Wagga Wagga\, NSW\, 2650\, Australia
CATEGORIES:Semi Private Reformer
END:VEVENT
BEGIN:VEVENT
DTSTART;TZID=Australia/Sydney:20260406T143000
DTEND;TZID=Australia/Sydney:20260406T151500
DTSTAMP:20260424T025513
CREATED:20241204T020616Z
LAST-MODIFIED:20250129T032349Z
UID:10104572-1775485800-1775488500@synergyhealthworks.com
SUMMARY:Semi Private Reformer
DESCRIPTION:
URL:https://synergyhealthworks.com/event/semi-private-reformer-13/2026-04-06/
LOCATION:Wagga Wagga | Semi Private Reformer\, 221 Kincaid Street\, Wagga Wagga\, NSW\, 2650\, Australia
CATEGORIES:Semi Private Reformer
END:VEVENT
BEGIN:VEVENT
DTSTART;TZID=Australia/Sydney:20260403T110000
DTEND;TZID=Australia/Sydney:20260403T114500
DTSTAMP:20260424T025513
CREATED:20241204T021255Z
LAST-MODIFIED:20250129T032503Z
UID:10107086-1775214000-1775216700@synergyhealthworks.com
SUMMARY:Semi Private Reformer
DESCRIPTION:
URL:https://synergyhealthworks.com/event/semi-private-reformer-23/2026-04-03/
LOCATION:Wagga Wagga | Semi Private Reformer\, 221 Kincaid Street\, Wagga Wagga\, NSW\, 2650\, Australia
CATEGORIES:Semi Private Reformer
END:VEVENT
BEGIN:VEVENT
DTSTART;TZID=Australia/Sydney:20260403T083000
DTEND;TZID=Australia/Sydney:20260403T091500
DTSTAMP:20260424T025513
CREATED:20241206T014504Z
LAST-MODIFIED:20241206T014814Z
UID:10108595-1775205000-1775207700@synergyhealthworks.com
SUMMARY:Men's Reformer Class
DESCRIPTION:
URL:https://synergyhealthworks.com/event/mens-reformer-class-6/2026-04-03/
LOCATION:Wagga Wagga | Reformer Studio\, 221 Kincaid Street\, Wagga Wagga\, NSW\, 2650\, Australia
CATEGORIES:Mens Reformer Class
END:VEVENT
BEGIN:VEVENT
DTSTART;TZID=Australia/Sydney:20260403T060000
DTEND;TZID=Australia/Sydney:20260403T064500
DTSTAMP:20260424T025513
CREATED:20241204T021239Z
LAST-MODIFIED:20250914T100950Z
UID:10106835-1775196000-1775198700@synergyhealthworks.com
SUMMARY:Semi Private Reformer
DESCRIPTION:
URL:https://synergyhealthworks.com/event/semi-private-reformer-22/2026-04-03/
LOCATION:Wagga Wagga | Semi Private Reformer\, 221 Kincaid Street\, Wagga Wagga\, NSW\, 2650\, Australia
CATEGORIES:Semi Private Reformer
END:VEVENT
BEGIN:VEVENT
DTSTART;TZID=Australia/Sydney:20260402T083000
DTEND;TZID=Australia/Sydney:20260402T091500
DTSTAMP:20260424T025513
CREATED:20241204T015027Z
LAST-MODIFIED:20250129T032030Z
UID:10100806-1775118600-1775121300@synergyhealthworks.com
SUMMARY:Men's Clinical Reformer
DESCRIPTION:
URL:https://synergyhealthworks.com/event/mens-clinical-reformer-2/2026-04-02/
LOCATION:Wagga Wagga | Reformer Studio\, 221 Kincaid Street\, Wagga Wagga\, NSW\, 2650\, Australia
CATEGORIES:Mens Reformer Class
END:VEVENT
BEGIN:VEVENT
DTSTART;TZID=Australia/Sydney:20260402T083000
DTEND;TZID=Australia/Sydney:20260402T091500
DTSTAMP:20260424T025513
CREATED:20240621T045822Z
LAST-MODIFIED:20240909T235129Z
UID:10058539-1775118600-1775121300@synergyhealthworks.com
SUMMARY:Men's Reformer Class
DESCRIPTION:
URL:https://synergyhealthworks.com/event/mens-reformer-class-2/2026-04-02/
LOCATION:Wagga Wagga | Reformer Studio (Draft)\, 221 Kincaid Street\, Wagga Wagga\, NSW\, 2650\, Australia
CATEGORIES:Mens Reformer Class
END:VEVENT
BEGIN:VEVENT
DTSTART;TZID=Australia/Sydney:20260402T073000
DTEND;TZID=Australia/Sydney:20260402T081500
DTSTAMP:20260424T025513
CREATED:20241204T021203Z
LAST-MODIFIED:20250129T032447Z
UID:10106584-1775115000-1775117700@synergyhealthworks.com
SUMMARY:Semi Private Reformer
DESCRIPTION:
URL:https://synergyhealthworks.com/event/semi-private-reformer-21/2026-04-02/
LOCATION:Wagga Wagga | Semi Private Reformer\, 221 Kincaid Street\, Wagga Wagga\, NSW\, 2650\, Australia
CATEGORIES:Semi Private Reformer
END:VEVENT
BEGIN:VEVENT
DTSTART;TZID=Australia/Sydney:20260401T113000
DTEND;TZID=Australia/Sydney:20260401T121500
DTSTAMP:20260424T025513
CREATED:20241204T021129Z
LAST-MODIFIED:20250129T032435Z
UID:10106333-1775043000-1775045700@synergyhealthworks.com
SUMMARY:Semi Private Reformer
DESCRIPTION:
URL:https://synergyhealthworks.com/event/semi-private-reformer-20/2026-04-01/
LOCATION:Wagga Wagga | Semi Private Reformer\, 221 Kincaid Street\, Wagga Wagga\, NSW\, 2650\, Australia
CATEGORIES:Semi Private Reformer
END:VEVENT
BEGIN:VEVENT
DTSTART;TZID=Australia/Sydney:20260401T080000
DTEND;TZID=Australia/Sydney:20260401T084500
DTSTAMP:20260424T025513
CREATED:20241204T021019Z
LAST-MODIFIED:20250129T032427Z
UID:10106082-1775030400-1775033100@synergyhealthworks.com
SUMMARY:Semi Private Reformer
DESCRIPTION:
URL:https://synergyhealthworks.com/event/semi-private-reformer-19/2026-04-01/
LOCATION:Wagga Wagga | Semi Private Reformer\, 221 Kincaid Street\, Wagga Wagga\, NSW\, 2650\, Australia
CATEGORIES:Semi Private Reformer
END:VEVENT
BEGIN:VEVENT
DTSTART;TZID=Australia/Sydney:20260401T070000
DTEND;TZID=Australia/Sydney:20260401T074500
DTSTAMP:20260424T025513
CREATED:20241204T020946Z
LAST-MODIFIED:20250129T032419Z
UID:10105831-1775026800-1775029500@synergyhealthworks.com
SUMMARY:Semi Private Reformer
DESCRIPTION:
URL:https://synergyhealthworks.com/event/semi-private-reformer-18/2026-04-01/
LOCATION:Wagga Wagga | Semi Private Reformer\, 221 Kincaid Street\, Wagga Wagga\, NSW\, 2650\, Australia
CATEGORIES:Semi Private Reformer
END:VEVENT
END:VCALENDAR