BEGIN:VCALENDAR
VERSION:2.0
PRODID:-//Synergy Healthworks - ECPv6.15.20//NONSGML v1.0//EN
CALSCALE:GREGORIAN
METHOD:PUBLISH
X-WR-CALNAME:Synergy Healthworks
X-ORIGINAL-URL:https://synergyhealthworks.com
X-WR-CALDESC:Events for Synergy Healthworks
REFRESH-INTERVAL;VALUE=DURATION:PT1H
X-Robots-Tag:noindex
X-PUBLISHED-TTL:PT1H
BEGIN:VTIMEZONE
TZID:Australia/Sydney
BEGIN:STANDARD
TZOFFSETFROM:+1100
TZOFFSETTO:+1000
TZNAME:AEST
DTSTART:20250405T160000
END:STANDARD
BEGIN:DAYLIGHT
TZOFFSETFROM:+1000
TZOFFSETTO:+1100
TZNAME:AEDT
DTSTART:20251004T160000
END:DAYLIGHT
BEGIN:STANDARD
TZOFFSETFROM:+1100
TZOFFSETTO:+1000
TZNAME:AEST
DTSTART:20260404T160000
END:STANDARD
BEGIN:DAYLIGHT
TZOFFSETFROM:+1000
TZOFFSETTO:+1100
TZNAME:AEDT
DTSTART:20261003T160000
END:DAYLIGHT
BEGIN:STANDARD
TZOFFSETFROM:+1100
TZOFFSETTO:+1000
TZNAME:AEST
DTSTART:20270403T160000
END:STANDARD
BEGIN:DAYLIGHT
TZOFFSETFROM:+1000
TZOFFSETTO:+1100
TZNAME:AEDT
DTSTART:20271002T160000
END:DAYLIGHT
END:VTIMEZONE
BEGIN:VEVENT
DTSTART;TZID=Australia/Sydney:20260423T083000
DTEND;TZID=Australia/Sydney:20260423T091500
DTSTAMP:20260423T234308
CREATED:20241204T015027Z
LAST-MODIFIED:20250129T032030Z
UID:10100809-1776933000-1776935700@synergyhealthworks.com
SUMMARY:Men's Clinical Reformer
DESCRIPTION:
URL:https://synergyhealthworks.com/event/mens-clinical-reformer-2/2026-04-23/
LOCATION:Wagga Wagga | Reformer Studio\, 221 Kincaid Street\, Wagga Wagga\, NSW\, 2650\, Australia
CATEGORIES:Mens Reformer Class
END:VEVENT
BEGIN:VEVENT
DTSTART;TZID=Australia/Sydney:20260423T083000
DTEND;TZID=Australia/Sydney:20260423T091500
DTSTAMP:20260423T234308
CREATED:20240621T045822Z
LAST-MODIFIED:20240909T235129Z
UID:10058542-1776933000-1776935700@synergyhealthworks.com
SUMMARY:Men's Reformer Class
DESCRIPTION:
URL:https://synergyhealthworks.com/event/mens-reformer-class-2/2026-04-23/
LOCATION:Wagga Wagga | Reformer Studio (Draft)\, 221 Kincaid Street\, Wagga Wagga\, NSW\, 2650\, Australia
CATEGORIES:Mens Reformer Class
END:VEVENT
BEGIN:VEVENT
DTSTART;TZID=Australia/Sydney:20260423T073000
DTEND;TZID=Australia/Sydney:20260423T081500
DTSTAMP:20260423T234308
CREATED:20241204T021203Z
LAST-MODIFIED:20250129T032447Z
UID:10106587-1776929400-1776932100@synergyhealthworks.com
SUMMARY:Semi Private Reformer
DESCRIPTION:
URL:https://synergyhealthworks.com/event/semi-private-reformer-21/2026-04-23/
LOCATION:Wagga Wagga | Semi Private Reformer\, 221 Kincaid Street\, Wagga Wagga\, NSW\, 2650\, Australia
CATEGORIES:Semi Private Reformer
END:VEVENT
BEGIN:VEVENT
DTSTART;TZID=Australia/Sydney:20260422T113000
DTEND;TZID=Australia/Sydney:20260422T121500
DTSTAMP:20260423T234308
CREATED:20241204T021129Z
LAST-MODIFIED:20250129T032435Z
UID:10106336-1776857400-1776860100@synergyhealthworks.com
SUMMARY:Semi Private Reformer
DESCRIPTION:
URL:https://synergyhealthworks.com/event/semi-private-reformer-20/2026-04-22/
LOCATION:Wagga Wagga | Semi Private Reformer\, 221 Kincaid Street\, Wagga Wagga\, NSW\, 2650\, Australia
CATEGORIES:Semi Private Reformer
END:VEVENT
BEGIN:VEVENT
DTSTART;TZID=Australia/Sydney:20260422T080000
DTEND;TZID=Australia/Sydney:20260422T084500
DTSTAMP:20260423T234308
CREATED:20241204T021019Z
LAST-MODIFIED:20250129T032427Z
UID:10106085-1776844800-1776847500@synergyhealthworks.com
SUMMARY:Semi Private Reformer
DESCRIPTION:
URL:https://synergyhealthworks.com/event/semi-private-reformer-19/2026-04-22/
LOCATION:Wagga Wagga | Semi Private Reformer\, 221 Kincaid Street\, Wagga Wagga\, NSW\, 2650\, Australia
CATEGORIES:Semi Private Reformer
END:VEVENT
BEGIN:VEVENT
DTSTART;TZID=Australia/Sydney:20260422T070000
DTEND;TZID=Australia/Sydney:20260422T074500
DTSTAMP:20260423T234308
CREATED:20241204T020946Z
LAST-MODIFIED:20250129T032419Z
UID:10105834-1776841200-1776843900@synergyhealthworks.com
SUMMARY:Semi Private Reformer
DESCRIPTION:
URL:https://synergyhealthworks.com/event/semi-private-reformer-18/2026-04-22/
LOCATION:Wagga Wagga | Semi Private Reformer\, 221 Kincaid Street\, Wagga Wagga\, NSW\, 2650\, Australia
CATEGORIES:Semi Private Reformer
END:VEVENT
BEGIN:VEVENT
DTSTART;TZID=Australia/Sydney:20260421T150000
DTEND;TZID=Australia/Sydney:20260421T154500
DTSTAMP:20260423T234308
CREATED:20241204T013027Z
LAST-MODIFIED:20250129T031633Z
UID:10097542-1776783600-1776786300@synergyhealthworks.com
SUMMARY:Reformer For Golfers
DESCRIPTION:
URL:https://synergyhealthworks.com/event/reformer-for-golfers/2026-04-21/
LOCATION:Wagga Wagga | Reformer Studio\, 221 Kincaid Street\, Wagga Wagga\, NSW\, 2650\, Australia
CATEGORIES:Clinical Reformer
END:VEVENT
BEGIN:VEVENT
DTSTART;TZID=Australia/Sydney:20260421T113000
DTEND;TZID=Australia/Sydney:20260421T121500
DTSTAMP:20260423T234308
CREATED:20241204T020929Z
LAST-MODIFIED:20250129T032413Z
UID:10105582-1776771000-1776773700@synergyhealthworks.com
SUMMARY:Semi Private Reformer
DESCRIPTION:
URL:https://synergyhealthworks.com/event/semi-private-reformer-17/2026-04-21/
LOCATION:Wagga Wagga | Semi Private Reformer\, 221 Kincaid Street\, Wagga Wagga\, NSW\, 2650\, Australia
CATEGORIES:Semi Private Reformer
END:VEVENT
BEGIN:VEVENT
DTSTART;TZID=Australia/Sydney:20260421T080000
DTEND;TZID=Australia/Sydney:20260421T084500
DTSTAMP:20260423T234308
CREATED:20241204T012706Z
LAST-MODIFIED:20250129T031600Z
UID:10096282-1776758400-1776761100@synergyhealthworks.com
SUMMARY:Men's Clinical Reformer
DESCRIPTION:
URL:https://synergyhealthworks.com/event/mens-clinical-reformer/2026-04-21/
LOCATION:Wagga Wagga | Reformer Studio\, 221 Kincaid Street\, Wagga Wagga\, NSW\, 2650\, Australia
CATEGORIES:Mens Reformer Class
END:VEVENT
BEGIN:VEVENT
DTSTART;TZID=Australia/Sydney:20260421T080000
DTEND;TZID=Australia/Sydney:20260421T084500
DTSTAMP:20260423T234308
CREATED:20240621T045607Z
LAST-MODIFIED:20240909T235044Z
UID:10058281-1776758400-1776761100@synergyhealthworks.com
SUMMARY:Men's Reformer Class
DESCRIPTION:
URL:https://synergyhealthworks.com/event/mens-reformer-class/2026-04-21/
LOCATION:Wagga Wagga | Reformer Studio (Draft)\, 221 Kincaid Street\, Wagga Wagga\, NSW\, 2650\, Australia
CATEGORIES:Mens Reformer Class
END:VEVENT
BEGIN:VEVENT
DTSTART;TZID=Australia/Sydney:20260421T070000
DTEND;TZID=Australia/Sydney:20260421T074500
DTSTAMP:20260423T234308
CREATED:20241204T020734Z
LAST-MODIFIED:20250129T032401Z
UID:10105078-1776754800-1776757500@synergyhealthworks.com
SUMMARY:Semi Private Reformer
DESCRIPTION:
URL:https://synergyhealthworks.com/event/semi-private-reformer-15/2026-04-21/
LOCATION:Wagga Wagga | Semi Private Reformer\, 221 Kincaid Street\, Wagga Wagga\, NSW\, 2650\, Australia
CATEGORIES:Semi Private Reformer
END:VEVENT
BEGIN:VEVENT
DTSTART;TZID=Australia/Sydney:20260421T060000
DTEND;TZID=Australia/Sydney:20260421T064500
DTSTAMP:20260423T234308
CREATED:20241204T020645Z
LAST-MODIFIED:20250914T101028Z
UID:10104826-1776751200-1776753900@synergyhealthworks.com
SUMMARY:Semi Private Reformer
DESCRIPTION:
URL:https://synergyhealthworks.com/event/semi-private-reformer-14/2026-04-21/
LOCATION:Wagga Wagga | Semi Private Reformer\, 221 Kincaid Street\, Wagga Wagga\, NSW\, 2650\, Australia
CATEGORIES:Semi Private Reformer
END:VEVENT
BEGIN:VEVENT
DTSTART;TZID=Australia/Sydney:20260420T143000
DTEND;TZID=Australia/Sydney:20260420T151500
DTSTAMP:20260423T234308
CREATED:20241204T020616Z
LAST-MODIFIED:20250129T032349Z
UID:10104574-1776695400-1776698100@synergyhealthworks.com
SUMMARY:Semi Private Reformer
DESCRIPTION:
URL:https://synergyhealthworks.com/event/semi-private-reformer-13/2026-04-20/
LOCATION:Wagga Wagga | Semi Private Reformer\, 221 Kincaid Street\, Wagga Wagga\, NSW\, 2650\, Australia
CATEGORIES:Semi Private Reformer
END:VEVENT
BEGIN:VEVENT
DTSTART;TZID=Australia/Sydney:20260417T110000
DTEND;TZID=Australia/Sydney:20260417T114500
DTSTAMP:20260423T234308
CREATED:20241204T021255Z
LAST-MODIFIED:20250129T032503Z
UID:10107088-1776423600-1776426300@synergyhealthworks.com
SUMMARY:Semi Private Reformer
DESCRIPTION:
URL:https://synergyhealthworks.com/event/semi-private-reformer-23/2026-04-17/
LOCATION:Wagga Wagga | Semi Private Reformer\, 221 Kincaid Street\, Wagga Wagga\, NSW\, 2650\, Australia
CATEGORIES:Semi Private Reformer
END:VEVENT
BEGIN:VEVENT
DTSTART;TZID=Australia/Sydney:20260417T083000
DTEND;TZID=Australia/Sydney:20260417T091500
DTSTAMP:20260423T234308
CREATED:20241206T014504Z
LAST-MODIFIED:20241206T014814Z
UID:10108597-1776414600-1776417300@synergyhealthworks.com
SUMMARY:Men's Reformer Class
DESCRIPTION:
URL:https://synergyhealthworks.com/event/mens-reformer-class-6/2026-04-17/
LOCATION:Wagga Wagga | Reformer Studio\, 221 Kincaid Street\, Wagga Wagga\, NSW\, 2650\, Australia
CATEGORIES:Mens Reformer Class
END:VEVENT
BEGIN:VEVENT
DTSTART;TZID=Australia/Sydney:20260417T060000
DTEND;TZID=Australia/Sydney:20260417T064500
DTSTAMP:20260423T234308
CREATED:20241204T021239Z
LAST-MODIFIED:20250914T100950Z
UID:10106837-1776405600-1776408300@synergyhealthworks.com
SUMMARY:Semi Private Reformer
DESCRIPTION:
URL:https://synergyhealthworks.com/event/semi-private-reformer-22/2026-04-17/
LOCATION:Wagga Wagga | Semi Private Reformer\, 221 Kincaid Street\, Wagga Wagga\, NSW\, 2650\, Australia
CATEGORIES:Semi Private Reformer
END:VEVENT
BEGIN:VEVENT
DTSTART;TZID=Australia/Sydney:20260416T083000
DTEND;TZID=Australia/Sydney:20260416T091500
DTSTAMP:20260423T234308
CREATED:20241204T015027Z
LAST-MODIFIED:20250129T032030Z
UID:10100808-1776328200-1776330900@synergyhealthworks.com
SUMMARY:Men's Clinical Reformer
DESCRIPTION:
URL:https://synergyhealthworks.com/event/mens-clinical-reformer-2/2026-04-16/
LOCATION:Wagga Wagga | Reformer Studio\, 221 Kincaid Street\, Wagga Wagga\, NSW\, 2650\, Australia
CATEGORIES:Mens Reformer Class
END:VEVENT
BEGIN:VEVENT
DTSTART;TZID=Australia/Sydney:20260416T083000
DTEND;TZID=Australia/Sydney:20260416T091500
DTSTAMP:20260423T234308
CREATED:20240621T045822Z
LAST-MODIFIED:20240909T235129Z
UID:10058541-1776328200-1776330900@synergyhealthworks.com
SUMMARY:Men's Reformer Class
DESCRIPTION:
URL:https://synergyhealthworks.com/event/mens-reformer-class-2/2026-04-16/
LOCATION:Wagga Wagga | Reformer Studio (Draft)\, 221 Kincaid Street\, Wagga Wagga\, NSW\, 2650\, Australia
CATEGORIES:Mens Reformer Class
END:VEVENT
BEGIN:VEVENT
DTSTART;TZID=Australia/Sydney:20260416T073000
DTEND;TZID=Australia/Sydney:20260416T081500
DTSTAMP:20260423T234308
CREATED:20241204T021203Z
LAST-MODIFIED:20250129T032447Z
UID:10106586-1776324600-1776327300@synergyhealthworks.com
SUMMARY:Semi Private Reformer
DESCRIPTION:
URL:https://synergyhealthworks.com/event/semi-private-reformer-21/2026-04-16/
LOCATION:Wagga Wagga | Semi Private Reformer\, 221 Kincaid Street\, Wagga Wagga\, NSW\, 2650\, Australia
CATEGORIES:Semi Private Reformer
END:VEVENT
BEGIN:VEVENT
DTSTART;TZID=Australia/Sydney:20260415T113000
DTEND;TZID=Australia/Sydney:20260415T121500
DTSTAMP:20260423T234308
CREATED:20241204T021129Z
LAST-MODIFIED:20250129T032435Z
UID:10106335-1776252600-1776255300@synergyhealthworks.com
SUMMARY:Semi Private Reformer
DESCRIPTION:
URL:https://synergyhealthworks.com/event/semi-private-reformer-20/2026-04-15/
LOCATION:Wagga Wagga | Semi Private Reformer\, 221 Kincaid Street\, Wagga Wagga\, NSW\, 2650\, Australia
CATEGORIES:Semi Private Reformer
END:VEVENT
BEGIN:VEVENT
DTSTART;TZID=Australia/Sydney:20260415T080000
DTEND;TZID=Australia/Sydney:20260415T084500
DTSTAMP:20260423T234308
CREATED:20241204T021019Z
LAST-MODIFIED:20250129T032427Z
UID:10106084-1776240000-1776242700@synergyhealthworks.com
SUMMARY:Semi Private Reformer
DESCRIPTION:
URL:https://synergyhealthworks.com/event/semi-private-reformer-19/2026-04-15/
LOCATION:Wagga Wagga | Semi Private Reformer\, 221 Kincaid Street\, Wagga Wagga\, NSW\, 2650\, Australia
CATEGORIES:Semi Private Reformer
END:VEVENT
BEGIN:VEVENT
DTSTART;TZID=Australia/Sydney:20260415T070000
DTEND;TZID=Australia/Sydney:20260415T074500
DTSTAMP:20260423T234308
CREATED:20241204T020946Z
LAST-MODIFIED:20250129T032419Z
UID:10105833-1776236400-1776239100@synergyhealthworks.com
SUMMARY:Semi Private Reformer
DESCRIPTION:
URL:https://synergyhealthworks.com/event/semi-private-reformer-18/2026-04-15/
LOCATION:Wagga Wagga | Semi Private Reformer\, 221 Kincaid Street\, Wagga Wagga\, NSW\, 2650\, Australia
CATEGORIES:Semi Private Reformer
END:VEVENT
BEGIN:VEVENT
DTSTART;TZID=Australia/Sydney:20260414T150000
DTEND;TZID=Australia/Sydney:20260414T154500
DTSTAMP:20260423T234308
CREATED:20241204T013027Z
LAST-MODIFIED:20250129T031633Z
UID:10097541-1776178800-1776181500@synergyhealthworks.com
SUMMARY:Reformer For Golfers
DESCRIPTION:
URL:https://synergyhealthworks.com/event/reformer-for-golfers/2026-04-14/
LOCATION:Wagga Wagga | Reformer Studio\, 221 Kincaid Street\, Wagga Wagga\, NSW\, 2650\, Australia
CATEGORIES:Clinical Reformer
END:VEVENT
BEGIN:VEVENT
DTSTART;TZID=Australia/Sydney:20260414T113000
DTEND;TZID=Australia/Sydney:20260414T121500
DTSTAMP:20260423T234308
CREATED:20241204T020929Z
LAST-MODIFIED:20250129T032413Z
UID:10105581-1776166200-1776168900@synergyhealthworks.com
SUMMARY:Semi Private Reformer
DESCRIPTION:
URL:https://synergyhealthworks.com/event/semi-private-reformer-17/2026-04-14/
LOCATION:Wagga Wagga | Semi Private Reformer\, 221 Kincaid Street\, Wagga Wagga\, NSW\, 2650\, Australia
CATEGORIES:Semi Private Reformer
END:VEVENT
BEGIN:VEVENT
DTSTART;TZID=Australia/Sydney:20260414T080000
DTEND;TZID=Australia/Sydney:20260414T084500
DTSTAMP:20260423T234308
CREATED:20241204T012706Z
LAST-MODIFIED:20250129T031600Z
UID:10096281-1776153600-1776156300@synergyhealthworks.com
SUMMARY:Men's Clinical Reformer
DESCRIPTION:
URL:https://synergyhealthworks.com/event/mens-clinical-reformer/2026-04-14/
LOCATION:Wagga Wagga | Reformer Studio\, 221 Kincaid Street\, Wagga Wagga\, NSW\, 2650\, Australia
CATEGORIES:Mens Reformer Class
END:VEVENT
BEGIN:VEVENT
DTSTART;TZID=Australia/Sydney:20260414T080000
DTEND;TZID=Australia/Sydney:20260414T084500
DTSTAMP:20260423T234308
CREATED:20240621T045607Z
LAST-MODIFIED:20240909T235044Z
UID:10058280-1776153600-1776156300@synergyhealthworks.com
SUMMARY:Men's Reformer Class
DESCRIPTION:
URL:https://synergyhealthworks.com/event/mens-reformer-class/2026-04-14/
LOCATION:Wagga Wagga | Reformer Studio (Draft)\, 221 Kincaid Street\, Wagga Wagga\, NSW\, 2650\, Australia
CATEGORIES:Mens Reformer Class
END:VEVENT
BEGIN:VEVENT
DTSTART;TZID=Australia/Sydney:20260414T070000
DTEND;TZID=Australia/Sydney:20260414T074500
DTSTAMP:20260423T234308
CREATED:20241204T020734Z
LAST-MODIFIED:20250129T032401Z
UID:10105077-1776150000-1776152700@synergyhealthworks.com
SUMMARY:Semi Private Reformer
DESCRIPTION:
URL:https://synergyhealthworks.com/event/semi-private-reformer-15/2026-04-14/
LOCATION:Wagga Wagga | Semi Private Reformer\, 221 Kincaid Street\, Wagga Wagga\, NSW\, 2650\, Australia
CATEGORIES:Semi Private Reformer
END:VEVENT
BEGIN:VEVENT
DTSTART;TZID=Australia/Sydney:20260414T060000
DTEND;TZID=Australia/Sydney:20260414T064500
DTSTAMP:20260423T234308
CREATED:20241204T020645Z
LAST-MODIFIED:20250914T101028Z
UID:10104825-1776146400-1776149100@synergyhealthworks.com
SUMMARY:Semi Private Reformer
DESCRIPTION:
URL:https://synergyhealthworks.com/event/semi-private-reformer-14/2026-04-14/
LOCATION:Wagga Wagga | Semi Private Reformer\, 221 Kincaid Street\, Wagga Wagga\, NSW\, 2650\, Australia
CATEGORIES:Semi Private Reformer
END:VEVENT
BEGIN:VEVENT
DTSTART;TZID=Australia/Sydney:20260413T143000
DTEND;TZID=Australia/Sydney:20260413T151500
DTSTAMP:20260423T234308
CREATED:20241204T020616Z
LAST-MODIFIED:20250129T032349Z
UID:10104573-1776090600-1776093300@synergyhealthworks.com
SUMMARY:Semi Private Reformer
DESCRIPTION:
URL:https://synergyhealthworks.com/event/semi-private-reformer-13/2026-04-13/
LOCATION:Wagga Wagga | Semi Private Reformer\, 221 Kincaid Street\, Wagga Wagga\, NSW\, 2650\, Australia
CATEGORIES:Semi Private Reformer
END:VEVENT
BEGIN:VEVENT
DTSTART;TZID=Australia/Sydney:20260410T110000
DTEND;TZID=Australia/Sydney:20260410T114500
DTSTAMP:20260423T234308
CREATED:20241204T021255Z
LAST-MODIFIED:20250129T032503Z
UID:10107087-1775818800-1775821500@synergyhealthworks.com
SUMMARY:Semi Private Reformer
DESCRIPTION:
URL:https://synergyhealthworks.com/event/semi-private-reformer-23/2026-04-10/
LOCATION:Wagga Wagga | Semi Private Reformer\, 221 Kincaid Street\, Wagga Wagga\, NSW\, 2650\, Australia
CATEGORIES:Semi Private Reformer
END:VEVENT
END:VCALENDAR