BEGIN:VCALENDAR
VERSION:2.0
PRODID:-//Synergy Healthworks - ECPv6.15.20//NONSGML v1.0//EN
CALSCALE:GREGORIAN
METHOD:PUBLISH
X-WR-CALNAME:Synergy Healthworks
X-ORIGINAL-URL:https://synergyhealthworks.com
X-WR-CALDESC:Events for Synergy Healthworks
REFRESH-INTERVAL;VALUE=DURATION:PT1H
X-Robots-Tag:noindex
X-PUBLISHED-TTL:PT1H
BEGIN:VTIMEZONE
TZID:Australia/Sydney
BEGIN:STANDARD
TZOFFSETFROM:+1100
TZOFFSETTO:+1000
TZNAME:AEST
DTSTART:20240406T160000
END:STANDARD
BEGIN:DAYLIGHT
TZOFFSETFROM:+1000
TZOFFSETTO:+1100
TZNAME:AEDT
DTSTART:20241005T160000
END:DAYLIGHT
BEGIN:STANDARD
TZOFFSETFROM:+1100
TZOFFSETTO:+1000
TZNAME:AEST
DTSTART:20250405T160000
END:STANDARD
BEGIN:DAYLIGHT
TZOFFSETFROM:+1000
TZOFFSETTO:+1100
TZNAME:AEDT
DTSTART:20251004T160000
END:DAYLIGHT
BEGIN:STANDARD
TZOFFSETFROM:+1100
TZOFFSETTO:+1000
TZNAME:AEST
DTSTART:20260404T160000
END:STANDARD
BEGIN:DAYLIGHT
TZOFFSETFROM:+1000
TZOFFSETTO:+1100
TZNAME:AEDT
DTSTART:20261003T160000
END:DAYLIGHT
BEGIN:STANDARD
TZOFFSETFROM:+1100
TZOFFSETTO:+1000
TZNAME:AEST
DTSTART:20270403T160000
END:STANDARD
BEGIN:DAYLIGHT
TZOFFSETFROM:+1000
TZOFFSETTO:+1100
TZNAME:AEDT
DTSTART:20271002T160000
END:DAYLIGHT
END:VTIMEZONE
BEGIN:VEVENT
DTSTART;TZID=Australia/Sydney:20260114T060000
DTEND;TZID=Australia/Sydney:20260114T064500
DTSTAMP:20260424T113625
CREATED:20241204T014429Z
LAST-MODIFIED:20250914T100515Z
UID:10098536-1768370400-1768373100@synergyhealthworks.com
SUMMARY:Fit Reformer
DESCRIPTION:
URL:https://synergyhealthworks.com/event/fit-reformer-8/2026-01-14/
LOCATION:Wagga Wagga | Reformer Studio\, 221 Kincaid Street\, Wagga Wagga\, NSW\, 2650\, Australia
CATEGORIES:Fit Reformer
END:VEVENT
BEGIN:VEVENT
DTSTART;TZID=Australia/Sydney:20260113T070000
DTEND;TZID=Australia/Sydney:20260113T074500
DTSTAMP:20260424T113625
CREATED:20241204T012619Z
LAST-MODIFIED:20250129T031553Z
UID:10096016-1768287600-1768290300@synergyhealthworks.com
SUMMARY:Clinical Reformer
DESCRIPTION:
URL:https://synergyhealthworks.com/event/clinical-reformer-40/2026-01-13/
LOCATION:Wagga Wagga | Reformer Studio\, 221 Kincaid Street\, Wagga Wagga\, NSW\, 2650\, Australia
CATEGORIES:Clinical Reformer
END:VEVENT
BEGIN:VEVENT
DTSTART;TZID=Australia/Sydney:20260113T060000
DTEND;TZID=Australia/Sydney:20260113T064500
DTSTAMP:20260424T113625
CREATED:20241204T012551Z
LAST-MODIFIED:20250914T095956Z
UID:10095764-1768284000-1768286700@synergyhealthworks.com
SUMMARY:Clinical Reformer
DESCRIPTION:
URL:https://synergyhealthworks.com/event/clinical-reformer-39/2026-01-13/
LOCATION:Wagga Wagga | Reformer Studio\, 221 Kincaid Street\, Wagga Wagga\, NSW\, 2650\, Australia
CATEGORIES:Clinical Reformer
END:VEVENT
BEGIN:VEVENT
DTSTART;TZID=Australia/Sydney:20260112T181500
DTEND;TZID=Australia/Sydney:20260112T190000
DTSTAMP:20260424T113625
CREATED:20241204T012422Z
LAST-MODIFIED:20250914T100622Z
UID:10095512-1768241700-1768244400@synergyhealthworks.com
SUMMARY:Fit Reformer
DESCRIPTION:
URL:https://synergyhealthworks.com/event/fit-reformer-7/2026-01-12/
LOCATION:Wagga Wagga | Reformer Studio\, 221 Kincaid Street\, Wagga Wagga\, NSW\, 2650\, Australia
CATEGORIES:Fit Reformer
END:VEVENT
BEGIN:VEVENT
DTSTART;TZID=Australia/Sydney:20260112T171500
DTEND;TZID=Australia/Sydney:20260112T180000
DTSTAMP:20260424T113625
CREATED:20241204T012357Z
LAST-MODIFIED:20250129T031350Z
UID:10095260-1768238100-1768240800@synergyhealthworks.com
SUMMARY:Fit Reformer
DESCRIPTION:
URL:https://synergyhealthworks.com/event/fit-reformer-6/2026-01-12/
LOCATION:Wagga Wagga | Reformer Studio\, 221 Kincaid Street\, Wagga Wagga\, NSW\, 2650\, Australia
CATEGORIES:Fit Reformer
END:VEVENT
BEGIN:VEVENT
DTSTART;TZID=Australia/Sydney:20260109T130000
DTEND;TZID=Australia/Sydney:20260109T134500
DTSTAMP:20260424T113625
CREATED:20241204T020436Z
LAST-MODIFIED:20241204T020436Z
UID:10104308-1767963600-1767966300@synergyhealthworks.com
SUMMARY:Power Reformer
DESCRIPTION:
URL:https://synergyhealthworks.com/event/power-reformer-2/2026-01-09/
LOCATION:Wagga Wagga | Reformer Studio\, 221 Kincaid Street\, Wagga Wagga\, NSW\, 2650\, Australia
CATEGORIES:Power Reformer
END:VEVENT
BEGIN:VEVENT
DTSTART;TZID=Australia/Sydney:20260107T060000
DTEND;TZID=Australia/Sydney:20260107T064500
DTSTAMP:20260424T113625
CREATED:20241204T014429Z
LAST-MODIFIED:20250914T100515Z
UID:10098535-1767765600-1767768300@synergyhealthworks.com
SUMMARY:Fit Reformer
DESCRIPTION:
URL:https://synergyhealthworks.com/event/fit-reformer-8/2026-01-07/
LOCATION:Wagga Wagga | Reformer Studio\, 221 Kincaid Street\, Wagga Wagga\, NSW\, 2650\, Australia
CATEGORIES:Fit Reformer
END:VEVENT
BEGIN:VEVENT
DTSTART;TZID=Australia/Sydney:20260106T070000
DTEND;TZID=Australia/Sydney:20260106T074500
DTSTAMP:20260424T113625
CREATED:20241204T012619Z
LAST-MODIFIED:20250129T031553Z
UID:10096015-1767682800-1767685500@synergyhealthworks.com
SUMMARY:Clinical Reformer
DESCRIPTION:
URL:https://synergyhealthworks.com/event/clinical-reformer-40/2026-01-06/
LOCATION:Wagga Wagga | Reformer Studio\, 221 Kincaid Street\, Wagga Wagga\, NSW\, 2650\, Australia
CATEGORIES:Clinical Reformer
END:VEVENT
BEGIN:VEVENT
DTSTART;TZID=Australia/Sydney:20260106T060000
DTEND;TZID=Australia/Sydney:20260106T064500
DTSTAMP:20260424T113625
CREATED:20241204T012551Z
LAST-MODIFIED:20250914T095956Z
UID:10095763-1767679200-1767681900@synergyhealthworks.com
SUMMARY:Clinical Reformer
DESCRIPTION:
URL:https://synergyhealthworks.com/event/clinical-reformer-39/2026-01-06/
LOCATION:Wagga Wagga | Reformer Studio\, 221 Kincaid Street\, Wagga Wagga\, NSW\, 2650\, Australia
CATEGORIES:Clinical Reformer
END:VEVENT
BEGIN:VEVENT
DTSTART;TZID=Australia/Sydney:20260105T181500
DTEND;TZID=Australia/Sydney:20260105T190000
DTSTAMP:20260424T113625
CREATED:20241204T012422Z
LAST-MODIFIED:20250914T100622Z
UID:10095511-1767636900-1767639600@synergyhealthworks.com
SUMMARY:Fit Reformer
DESCRIPTION:
URL:https://synergyhealthworks.com/event/fit-reformer-7/2026-01-05/
LOCATION:Wagga Wagga | Reformer Studio\, 221 Kincaid Street\, Wagga Wagga\, NSW\, 2650\, Australia
CATEGORIES:Fit Reformer
END:VEVENT
BEGIN:VEVENT
DTSTART;TZID=Australia/Sydney:20260105T171500
DTEND;TZID=Australia/Sydney:20260105T180000
DTSTAMP:20260424T113625
CREATED:20241204T012357Z
LAST-MODIFIED:20250129T031350Z
UID:10095259-1767633300-1767636000@synergyhealthworks.com
SUMMARY:Fit Reformer
DESCRIPTION:
URL:https://synergyhealthworks.com/event/fit-reformer-6/2026-01-05/
LOCATION:Wagga Wagga | Reformer Studio\, 221 Kincaid Street\, Wagga Wagga\, NSW\, 2650\, Australia
CATEGORIES:Fit Reformer
END:VEVENT
BEGIN:VEVENT
DTSTART;TZID=Australia/Sydney:20260102T130000
DTEND;TZID=Australia/Sydney:20260102T134500
DTSTAMP:20260424T113625
CREATED:20241204T020436Z
LAST-MODIFIED:20241204T020436Z
UID:10104307-1767358800-1767361500@synergyhealthworks.com
SUMMARY:Power Reformer
DESCRIPTION:
URL:https://synergyhealthworks.com/event/power-reformer-2/2026-01-02/
LOCATION:Wagga Wagga | Reformer Studio\, 221 Kincaid Street\, Wagga Wagga\, NSW\, 2650\, Australia
CATEGORIES:Power Reformer
END:VEVENT
BEGIN:VEVENT
DTSTART;TZID=Australia/Sydney:20251231T060000
DTEND;TZID=Australia/Sydney:20251231T064500
DTSTAMP:20260424T113625
CREATED:20241204T014429Z
LAST-MODIFIED:20250914T100515Z
UID:10098534-1767160800-1767163500@synergyhealthworks.com
SUMMARY:Fit Reformer
DESCRIPTION:
URL:https://synergyhealthworks.com/event/fit-reformer-8/2025-12-31/
LOCATION:Wagga Wagga | Reformer Studio\, 221 Kincaid Street\, Wagga Wagga\, NSW\, 2650\, Australia
CATEGORIES:Fit Reformer
END:VEVENT
BEGIN:VEVENT
DTSTART;TZID=Australia/Sydney:20251230T070000
DTEND;TZID=Australia/Sydney:20251230T074500
DTSTAMP:20260424T113625
CREATED:20241204T012619Z
LAST-MODIFIED:20250129T031553Z
UID:10096014-1767078000-1767080700@synergyhealthworks.com
SUMMARY:Clinical Reformer
DESCRIPTION:
URL:https://synergyhealthworks.com/event/clinical-reformer-40/2025-12-30/
LOCATION:Wagga Wagga | Reformer Studio\, 221 Kincaid Street\, Wagga Wagga\, NSW\, 2650\, Australia
CATEGORIES:Clinical Reformer
END:VEVENT
BEGIN:VEVENT
DTSTART;TZID=Australia/Sydney:20251230T060000
DTEND;TZID=Australia/Sydney:20251230T064500
DTSTAMP:20260424T113625
CREATED:20241204T012551Z
LAST-MODIFIED:20250914T095956Z
UID:10095762-1767074400-1767077100@synergyhealthworks.com
SUMMARY:Clinical Reformer
DESCRIPTION:
URL:https://synergyhealthworks.com/event/clinical-reformer-39/2025-12-30/
LOCATION:Wagga Wagga | Reformer Studio\, 221 Kincaid Street\, Wagga Wagga\, NSW\, 2650\, Australia
CATEGORIES:Clinical Reformer
END:VEVENT
BEGIN:VEVENT
DTSTART;TZID=Australia/Sydney:20251229T181500
DTEND;TZID=Australia/Sydney:20251229T190000
DTSTAMP:20260424T113625
CREATED:20241204T012422Z
LAST-MODIFIED:20250914T100622Z
UID:10095510-1767032100-1767034800@synergyhealthworks.com
SUMMARY:Fit Reformer
DESCRIPTION:
URL:https://synergyhealthworks.com/event/fit-reformer-7/2025-12-29/
LOCATION:Wagga Wagga | Reformer Studio\, 221 Kincaid Street\, Wagga Wagga\, NSW\, 2650\, Australia
CATEGORIES:Fit Reformer
END:VEVENT
BEGIN:VEVENT
DTSTART;TZID=Australia/Sydney:20251229T171500
DTEND;TZID=Australia/Sydney:20251229T180000
DTSTAMP:20260424T113625
CREATED:20241204T012357Z
LAST-MODIFIED:20250129T031350Z
UID:10095258-1767028500-1767031200@synergyhealthworks.com
SUMMARY:Fit Reformer
DESCRIPTION:
URL:https://synergyhealthworks.com/event/fit-reformer-6/2025-12-29/
LOCATION:Wagga Wagga | Reformer Studio\, 221 Kincaid Street\, Wagga Wagga\, NSW\, 2650\, Australia
CATEGORIES:Fit Reformer
END:VEVENT
BEGIN:VEVENT
DTSTART;TZID=Australia/Sydney:20251226T130000
DTEND;TZID=Australia/Sydney:20251226T134500
DTSTAMP:20260424T113625
CREATED:20241204T020436Z
LAST-MODIFIED:20241204T020436Z
UID:10104306-1766754000-1766756700@synergyhealthworks.com
SUMMARY:Power Reformer
DESCRIPTION:
URL:https://synergyhealthworks.com/event/power-reformer-2/2025-12-26/
LOCATION:Wagga Wagga | Reformer Studio\, 221 Kincaid Street\, Wagga Wagga\, NSW\, 2650\, Australia
CATEGORIES:Power Reformer
END:VEVENT
BEGIN:VEVENT
DTSTART;TZID=Australia/Sydney:20251224T060000
DTEND;TZID=Australia/Sydney:20251224T064500
DTSTAMP:20260424T113625
CREATED:20241204T014429Z
LAST-MODIFIED:20250914T100515Z
UID:10098533-1766556000-1766558700@synergyhealthworks.com
SUMMARY:Fit Reformer
DESCRIPTION:
URL:https://synergyhealthworks.com/event/fit-reformer-8/2025-12-24/
LOCATION:Wagga Wagga | Reformer Studio\, 221 Kincaid Street\, Wagga Wagga\, NSW\, 2650\, Australia
CATEGORIES:Fit Reformer
END:VEVENT
BEGIN:VEVENT
DTSTART;TZID=Australia/Sydney:20251223T070000
DTEND;TZID=Australia/Sydney:20251223T074500
DTSTAMP:20260424T113625
CREATED:20241204T012619Z
LAST-MODIFIED:20250129T031553Z
UID:10096013-1766473200-1766475900@synergyhealthworks.com
SUMMARY:Clinical Reformer
DESCRIPTION:
URL:https://synergyhealthworks.com/event/clinical-reformer-40/2025-12-23/
LOCATION:Wagga Wagga | Reformer Studio\, 221 Kincaid Street\, Wagga Wagga\, NSW\, 2650\, Australia
CATEGORIES:Clinical Reformer
END:VEVENT
BEGIN:VEVENT
DTSTART;TZID=Australia/Sydney:20251223T060000
DTEND;TZID=Australia/Sydney:20251223T064500
DTSTAMP:20260424T113625
CREATED:20241204T012551Z
LAST-MODIFIED:20250914T095956Z
UID:10095761-1766469600-1766472300@synergyhealthworks.com
SUMMARY:Clinical Reformer
DESCRIPTION:
URL:https://synergyhealthworks.com/event/clinical-reformer-39/2025-12-23/
LOCATION:Wagga Wagga | Reformer Studio\, 221 Kincaid Street\, Wagga Wagga\, NSW\, 2650\, Australia
CATEGORIES:Clinical Reformer
END:VEVENT
BEGIN:VEVENT
DTSTART;TZID=Australia/Sydney:20251222T181500
DTEND;TZID=Australia/Sydney:20251222T190000
DTSTAMP:20260424T113625
CREATED:20241204T012422Z
LAST-MODIFIED:20250914T100622Z
UID:10095509-1766427300-1766430000@synergyhealthworks.com
SUMMARY:Fit Reformer
DESCRIPTION:
URL:https://synergyhealthworks.com/event/fit-reformer-7/2025-12-22/
LOCATION:Wagga Wagga | Reformer Studio\, 221 Kincaid Street\, Wagga Wagga\, NSW\, 2650\, Australia
CATEGORIES:Fit Reformer
END:VEVENT
BEGIN:VEVENT
DTSTART;TZID=Australia/Sydney:20251222T171500
DTEND;TZID=Australia/Sydney:20251222T180000
DTSTAMP:20260424T113625
CREATED:20241204T012357Z
LAST-MODIFIED:20250129T031350Z
UID:10095257-1766423700-1766426400@synergyhealthworks.com
SUMMARY:Fit Reformer
DESCRIPTION:
URL:https://synergyhealthworks.com/event/fit-reformer-6/2025-12-22/
LOCATION:Wagga Wagga | Reformer Studio\, 221 Kincaid Street\, Wagga Wagga\, NSW\, 2650\, Australia
CATEGORIES:Fit Reformer
END:VEVENT
BEGIN:VEVENT
DTSTART;TZID=Australia/Sydney:20251219T130000
DTEND;TZID=Australia/Sydney:20251219T134500
DTSTAMP:20260424T113625
CREATED:20241204T020436Z
LAST-MODIFIED:20241204T020436Z
UID:10104305-1766149200-1766151900@synergyhealthworks.com
SUMMARY:Power Reformer
DESCRIPTION:
URL:https://synergyhealthworks.com/event/power-reformer-2/2025-12-19/
LOCATION:Wagga Wagga | Reformer Studio\, 221 Kincaid Street\, Wagga Wagga\, NSW\, 2650\, Australia
CATEGORIES:Power Reformer
END:VEVENT
BEGIN:VEVENT
DTSTART;TZID=Australia/Sydney:20251217T060000
DTEND;TZID=Australia/Sydney:20251217T064500
DTSTAMP:20260424T113625
CREATED:20241204T014429Z
LAST-MODIFIED:20250914T100515Z
UID:10098532-1765951200-1765953900@synergyhealthworks.com
SUMMARY:Fit Reformer
DESCRIPTION:
URL:https://synergyhealthworks.com/event/fit-reformer-8/2025-12-17/
LOCATION:Wagga Wagga | Reformer Studio\, 221 Kincaid Street\, Wagga Wagga\, NSW\, 2650\, Australia
CATEGORIES:Fit Reformer
END:VEVENT
BEGIN:VEVENT
DTSTART;TZID=Australia/Sydney:20251216T070000
DTEND;TZID=Australia/Sydney:20251216T074500
DTSTAMP:20260424T113625
CREATED:20241204T012619Z
LAST-MODIFIED:20250129T031553Z
UID:10096012-1765868400-1765871100@synergyhealthworks.com
SUMMARY:Clinical Reformer
DESCRIPTION:
URL:https://synergyhealthworks.com/event/clinical-reformer-40/2025-12-16/
LOCATION:Wagga Wagga | Reformer Studio\, 221 Kincaid Street\, Wagga Wagga\, NSW\, 2650\, Australia
CATEGORIES:Clinical Reformer
END:VEVENT
BEGIN:VEVENT
DTSTART;TZID=Australia/Sydney:20251216T060000
DTEND;TZID=Australia/Sydney:20251216T064500
DTSTAMP:20260424T113625
CREATED:20241204T012551Z
LAST-MODIFIED:20250914T095956Z
UID:10095760-1765864800-1765867500@synergyhealthworks.com
SUMMARY:Clinical Reformer
DESCRIPTION:
URL:https://synergyhealthworks.com/event/clinical-reformer-39/2025-12-16/
LOCATION:Wagga Wagga | Reformer Studio\, 221 Kincaid Street\, Wagga Wagga\, NSW\, 2650\, Australia
CATEGORIES:Clinical Reformer
END:VEVENT
BEGIN:VEVENT
DTSTART;TZID=Australia/Sydney:20251215T181500
DTEND;TZID=Australia/Sydney:20251215T190000
DTSTAMP:20260424T113625
CREATED:20241204T012422Z
LAST-MODIFIED:20250914T100622Z
UID:10095508-1765822500-1765825200@synergyhealthworks.com
SUMMARY:Fit Reformer
DESCRIPTION:
URL:https://synergyhealthworks.com/event/fit-reformer-7/2025-12-15/
LOCATION:Wagga Wagga | Reformer Studio\, 221 Kincaid Street\, Wagga Wagga\, NSW\, 2650\, Australia
CATEGORIES:Fit Reformer
END:VEVENT
BEGIN:VEVENT
DTSTART;TZID=Australia/Sydney:20251215T171500
DTEND;TZID=Australia/Sydney:20251215T180000
DTSTAMP:20260424T113625
CREATED:20241204T012357Z
LAST-MODIFIED:20250129T031350Z
UID:10095256-1765818900-1765821600@synergyhealthworks.com
SUMMARY:Fit Reformer
DESCRIPTION:
URL:https://synergyhealthworks.com/event/fit-reformer-6/2025-12-15/
LOCATION:Wagga Wagga | Reformer Studio\, 221 Kincaid Street\, Wagga Wagga\, NSW\, 2650\, Australia
CATEGORIES:Fit Reformer
END:VEVENT
BEGIN:VEVENT
DTSTART;TZID=Australia/Sydney:20251212T130000
DTEND;TZID=Australia/Sydney:20251212T134500
DTSTAMP:20260424T113625
CREATED:20241204T020436Z
LAST-MODIFIED:20241204T020436Z
UID:10104304-1765544400-1765547100@synergyhealthworks.com
SUMMARY:Power Reformer
DESCRIPTION:
URL:https://synergyhealthworks.com/event/power-reformer-2/2025-12-12/
LOCATION:Wagga Wagga | Reformer Studio\, 221 Kincaid Street\, Wagga Wagga\, NSW\, 2650\, Australia
CATEGORIES:Power Reformer
END:VEVENT
END:VCALENDAR