BEGIN:VCALENDAR
VERSION:2.0
PRODID:-//Synergy Healthworks - ECPv6.15.20//NONSGML v1.0//EN
CALSCALE:GREGORIAN
METHOD:PUBLISH
X-WR-CALNAME:Synergy Healthworks
X-ORIGINAL-URL:https://synergyhealthworks.com
X-WR-CALDESC:Events for Synergy Healthworks
REFRESH-INTERVAL;VALUE=DURATION:PT1H
X-Robots-Tag:noindex
X-PUBLISHED-TTL:PT1H
BEGIN:VTIMEZONE
TZID:Australia/Sydney
BEGIN:STANDARD
TZOFFSETFROM:+1100
TZOFFSETTO:+1000
TZNAME:AEST
DTSTART:20250405T160000
END:STANDARD
BEGIN:DAYLIGHT
TZOFFSETFROM:+1000
TZOFFSETTO:+1100
TZNAME:AEDT
DTSTART:20251004T160000
END:DAYLIGHT
BEGIN:STANDARD
TZOFFSETFROM:+1100
TZOFFSETTO:+1000
TZNAME:AEST
DTSTART:20260404T160000
END:STANDARD
BEGIN:DAYLIGHT
TZOFFSETFROM:+1000
TZOFFSETTO:+1100
TZNAME:AEDT
DTSTART:20261003T160000
END:DAYLIGHT
BEGIN:STANDARD
TZOFFSETFROM:+1100
TZOFFSETTO:+1000
TZNAME:AEST
DTSTART:20270403T160000
END:STANDARD
BEGIN:DAYLIGHT
TZOFFSETFROM:+1000
TZOFFSETTO:+1100
TZNAME:AEDT
DTSTART:20271002T160000
END:DAYLIGHT
END:VTIMEZONE
BEGIN:VEVENT
DTSTART;TZID=Australia/Sydney:20260211T060000
DTEND;TZID=Australia/Sydney:20260211T064500
DTSTAMP:20260424T075922
CREATED:20241204T014429Z
LAST-MODIFIED:20250914T100515Z
UID:10098540-1770789600-1770792300@synergyhealthworks.com
SUMMARY:Fit Reformer
DESCRIPTION:
URL:https://synergyhealthworks.com/event/fit-reformer-8/2026-02-11/
LOCATION:Wagga Wagga | Reformer Studio\, 221 Kincaid Street\, Wagga Wagga\, NSW\, 2650\, Australia
CATEGORIES:Fit Reformer
END:VEVENT
BEGIN:VEVENT
DTSTART;TZID=Australia/Sydney:20260210T070000
DTEND;TZID=Australia/Sydney:20260210T074500
DTSTAMP:20260424T075922
CREATED:20241204T012619Z
LAST-MODIFIED:20250129T031553Z
UID:10096020-1770706800-1770709500@synergyhealthworks.com
SUMMARY:Clinical Reformer
DESCRIPTION:
URL:https://synergyhealthworks.com/event/clinical-reformer-40/2026-02-10/
LOCATION:Wagga Wagga | Reformer Studio\, 221 Kincaid Street\, Wagga Wagga\, NSW\, 2650\, Australia
CATEGORIES:Clinical Reformer
END:VEVENT
BEGIN:VEVENT
DTSTART;TZID=Australia/Sydney:20260210T060000
DTEND;TZID=Australia/Sydney:20260210T064500
DTSTAMP:20260424T075922
CREATED:20241204T012551Z
LAST-MODIFIED:20250914T095956Z
UID:10095768-1770703200-1770705900@synergyhealthworks.com
SUMMARY:Clinical Reformer
DESCRIPTION:
URL:https://synergyhealthworks.com/event/clinical-reformer-39/2026-02-10/
LOCATION:Wagga Wagga | Reformer Studio\, 221 Kincaid Street\, Wagga Wagga\, NSW\, 2650\, Australia
CATEGORIES:Clinical Reformer
END:VEVENT
BEGIN:VEVENT
DTSTART;TZID=Australia/Sydney:20260209T181500
DTEND;TZID=Australia/Sydney:20260209T190000
DTSTAMP:20260424T075922
CREATED:20241204T012422Z
LAST-MODIFIED:20250914T100622Z
UID:10095516-1770660900-1770663600@synergyhealthworks.com
SUMMARY:Fit Reformer
DESCRIPTION:
URL:https://synergyhealthworks.com/event/fit-reformer-7/2026-02-09/
LOCATION:Wagga Wagga | Reformer Studio\, 221 Kincaid Street\, Wagga Wagga\, NSW\, 2650\, Australia
CATEGORIES:Fit Reformer
END:VEVENT
BEGIN:VEVENT
DTSTART;TZID=Australia/Sydney:20260209T171500
DTEND;TZID=Australia/Sydney:20260209T180000
DTSTAMP:20260424T075922
CREATED:20241204T012357Z
LAST-MODIFIED:20250129T031350Z
UID:10095264-1770657300-1770660000@synergyhealthworks.com
SUMMARY:Fit Reformer
DESCRIPTION:
URL:https://synergyhealthworks.com/event/fit-reformer-6/2026-02-09/
LOCATION:Wagga Wagga | Reformer Studio\, 221 Kincaid Street\, Wagga Wagga\, NSW\, 2650\, Australia
CATEGORIES:Fit Reformer
END:VEVENT
BEGIN:VEVENT
DTSTART;TZID=Australia/Sydney:20260206T130000
DTEND;TZID=Australia/Sydney:20260206T134500
DTSTAMP:20260424T075922
CREATED:20241204T020436Z
LAST-MODIFIED:20241204T020436Z
UID:10104312-1770382800-1770385500@synergyhealthworks.com
SUMMARY:Power Reformer
DESCRIPTION:
URL:https://synergyhealthworks.com/event/power-reformer-2/2026-02-06/
LOCATION:Wagga Wagga | Reformer Studio\, 221 Kincaid Street\, Wagga Wagga\, NSW\, 2650\, Australia
CATEGORIES:Power Reformer
END:VEVENT
BEGIN:VEVENT
DTSTART;TZID=Australia/Sydney:20260204T060000
DTEND;TZID=Australia/Sydney:20260204T064500
DTSTAMP:20260424T075922
CREATED:20241204T014429Z
LAST-MODIFIED:20250914T100515Z
UID:10098539-1770184800-1770187500@synergyhealthworks.com
SUMMARY:Fit Reformer
DESCRIPTION:
URL:https://synergyhealthworks.com/event/fit-reformer-8/2026-02-04/
LOCATION:Wagga Wagga | Reformer Studio\, 221 Kincaid Street\, Wagga Wagga\, NSW\, 2650\, Australia
CATEGORIES:Fit Reformer
END:VEVENT
BEGIN:VEVENT
DTSTART;TZID=Australia/Sydney:20260203T070000
DTEND;TZID=Australia/Sydney:20260203T074500
DTSTAMP:20260424T075922
CREATED:20241204T012619Z
LAST-MODIFIED:20250129T031553Z
UID:10096019-1770102000-1770104700@synergyhealthworks.com
SUMMARY:Clinical Reformer
DESCRIPTION:
URL:https://synergyhealthworks.com/event/clinical-reformer-40/2026-02-03/
LOCATION:Wagga Wagga | Reformer Studio\, 221 Kincaid Street\, Wagga Wagga\, NSW\, 2650\, Australia
CATEGORIES:Clinical Reformer
END:VEVENT
BEGIN:VEVENT
DTSTART;TZID=Australia/Sydney:20260203T060000
DTEND;TZID=Australia/Sydney:20260203T064500
DTSTAMP:20260424T075922
CREATED:20241204T012551Z
LAST-MODIFIED:20250914T095956Z
UID:10095767-1770098400-1770101100@synergyhealthworks.com
SUMMARY:Clinical Reformer
DESCRIPTION:
URL:https://synergyhealthworks.com/event/clinical-reformer-39/2026-02-03/
LOCATION:Wagga Wagga | Reformer Studio\, 221 Kincaid Street\, Wagga Wagga\, NSW\, 2650\, Australia
CATEGORIES:Clinical Reformer
END:VEVENT
BEGIN:VEVENT
DTSTART;TZID=Australia/Sydney:20260202T181500
DTEND;TZID=Australia/Sydney:20260202T190000
DTSTAMP:20260424T075922
CREATED:20241204T012422Z
LAST-MODIFIED:20250914T100622Z
UID:10095515-1770056100-1770058800@synergyhealthworks.com
SUMMARY:Fit Reformer
DESCRIPTION:
URL:https://synergyhealthworks.com/event/fit-reformer-7/2026-02-02/
LOCATION:Wagga Wagga | Reformer Studio\, 221 Kincaid Street\, Wagga Wagga\, NSW\, 2650\, Australia
CATEGORIES:Fit Reformer
END:VEVENT
BEGIN:VEVENT
DTSTART;TZID=Australia/Sydney:20260202T171500
DTEND;TZID=Australia/Sydney:20260202T180000
DTSTAMP:20260424T075922
CREATED:20241204T012357Z
LAST-MODIFIED:20250129T031350Z
UID:10095263-1770052500-1770055200@synergyhealthworks.com
SUMMARY:Fit Reformer
DESCRIPTION:
URL:https://synergyhealthworks.com/event/fit-reformer-6/2026-02-02/
LOCATION:Wagga Wagga | Reformer Studio\, 221 Kincaid Street\, Wagga Wagga\, NSW\, 2650\, Australia
CATEGORIES:Fit Reformer
END:VEVENT
BEGIN:VEVENT
DTSTART;TZID=Australia/Sydney:20260130T130000
DTEND;TZID=Australia/Sydney:20260130T134500
DTSTAMP:20260424T075922
CREATED:20241204T020436Z
LAST-MODIFIED:20241204T020436Z
UID:10104311-1769778000-1769780700@synergyhealthworks.com
SUMMARY:Power Reformer
DESCRIPTION:
URL:https://synergyhealthworks.com/event/power-reformer-2/2026-01-30/
LOCATION:Wagga Wagga | Reformer Studio\, 221 Kincaid Street\, Wagga Wagga\, NSW\, 2650\, Australia
CATEGORIES:Power Reformer
END:VEVENT
BEGIN:VEVENT
DTSTART;TZID=Australia/Sydney:20260128T060000
DTEND;TZID=Australia/Sydney:20260128T064500
DTSTAMP:20260424T075922
CREATED:20241204T014429Z
LAST-MODIFIED:20250914T100515Z
UID:10098538-1769580000-1769582700@synergyhealthworks.com
SUMMARY:Fit Reformer
DESCRIPTION:
URL:https://synergyhealthworks.com/event/fit-reformer-8/2026-01-28/
LOCATION:Wagga Wagga | Reformer Studio\, 221 Kincaid Street\, Wagga Wagga\, NSW\, 2650\, Australia
CATEGORIES:Fit Reformer
END:VEVENT
BEGIN:VEVENT
DTSTART;TZID=Australia/Sydney:20260127T070000
DTEND;TZID=Australia/Sydney:20260127T074500
DTSTAMP:20260424T075922
CREATED:20241204T012619Z
LAST-MODIFIED:20250129T031553Z
UID:10096018-1769497200-1769499900@synergyhealthworks.com
SUMMARY:Clinical Reformer
DESCRIPTION:
URL:https://synergyhealthworks.com/event/clinical-reformer-40/2026-01-27/
LOCATION:Wagga Wagga | Reformer Studio\, 221 Kincaid Street\, Wagga Wagga\, NSW\, 2650\, Australia
CATEGORIES:Clinical Reformer
END:VEVENT
BEGIN:VEVENT
DTSTART;TZID=Australia/Sydney:20260127T060000
DTEND;TZID=Australia/Sydney:20260127T064500
DTSTAMP:20260424T075922
CREATED:20241204T012551Z
LAST-MODIFIED:20250914T095956Z
UID:10095766-1769493600-1769496300@synergyhealthworks.com
SUMMARY:Clinical Reformer
DESCRIPTION:
URL:https://synergyhealthworks.com/event/clinical-reformer-39/2026-01-27/
LOCATION:Wagga Wagga | Reformer Studio\, 221 Kincaid Street\, Wagga Wagga\, NSW\, 2650\, Australia
CATEGORIES:Clinical Reformer
END:VEVENT
BEGIN:VEVENT
DTSTART;TZID=Australia/Sydney:20260126T181500
DTEND;TZID=Australia/Sydney:20260126T190000
DTSTAMP:20260424T075922
CREATED:20241204T012422Z
LAST-MODIFIED:20250914T100622Z
UID:10095514-1769451300-1769454000@synergyhealthworks.com
SUMMARY:Fit Reformer
DESCRIPTION:
URL:https://synergyhealthworks.com/event/fit-reformer-7/2026-01-26/
LOCATION:Wagga Wagga | Reformer Studio\, 221 Kincaid Street\, Wagga Wagga\, NSW\, 2650\, Australia
CATEGORIES:Fit Reformer
END:VEVENT
BEGIN:VEVENT
DTSTART;TZID=Australia/Sydney:20260126T171500
DTEND;TZID=Australia/Sydney:20260126T180000
DTSTAMP:20260424T075922
CREATED:20241204T012357Z
LAST-MODIFIED:20250129T031350Z
UID:10095262-1769447700-1769450400@synergyhealthworks.com
SUMMARY:Fit Reformer
DESCRIPTION:
URL:https://synergyhealthworks.com/event/fit-reformer-6/2026-01-26/
LOCATION:Wagga Wagga | Reformer Studio\, 221 Kincaid Street\, Wagga Wagga\, NSW\, 2650\, Australia
CATEGORIES:Fit Reformer
END:VEVENT
BEGIN:VEVENT
DTSTART;TZID=Australia/Sydney:20260123T130000
DTEND;TZID=Australia/Sydney:20260123T134500
DTSTAMP:20260424T075922
CREATED:20241204T020436Z
LAST-MODIFIED:20241204T020436Z
UID:10104310-1769173200-1769175900@synergyhealthworks.com
SUMMARY:Power Reformer
DESCRIPTION:
URL:https://synergyhealthworks.com/event/power-reformer-2/2026-01-23/
LOCATION:Wagga Wagga | Reformer Studio\, 221 Kincaid Street\, Wagga Wagga\, NSW\, 2650\, Australia
CATEGORIES:Power Reformer
END:VEVENT
BEGIN:VEVENT
DTSTART;TZID=Australia/Sydney:20260121T060000
DTEND;TZID=Australia/Sydney:20260121T064500
DTSTAMP:20260424T075922
CREATED:20241204T014429Z
LAST-MODIFIED:20250914T100515Z
UID:10098537-1768975200-1768977900@synergyhealthworks.com
SUMMARY:Fit Reformer
DESCRIPTION:
URL:https://synergyhealthworks.com/event/fit-reformer-8/2026-01-21/
LOCATION:Wagga Wagga | Reformer Studio\, 221 Kincaid Street\, Wagga Wagga\, NSW\, 2650\, Australia
CATEGORIES:Fit Reformer
END:VEVENT
BEGIN:VEVENT
DTSTART;TZID=Australia/Sydney:20260120T070000
DTEND;TZID=Australia/Sydney:20260120T074500
DTSTAMP:20260424T075922
CREATED:20241204T012619Z
LAST-MODIFIED:20250129T031553Z
UID:10096017-1768892400-1768895100@synergyhealthworks.com
SUMMARY:Clinical Reformer
DESCRIPTION:
URL:https://synergyhealthworks.com/event/clinical-reformer-40/2026-01-20/
LOCATION:Wagga Wagga | Reformer Studio\, 221 Kincaid Street\, Wagga Wagga\, NSW\, 2650\, Australia
CATEGORIES:Clinical Reformer
END:VEVENT
BEGIN:VEVENT
DTSTART;TZID=Australia/Sydney:20260120T060000
DTEND;TZID=Australia/Sydney:20260120T064500
DTSTAMP:20260424T075922
CREATED:20241204T012551Z
LAST-MODIFIED:20250914T095956Z
UID:10095765-1768888800-1768891500@synergyhealthworks.com
SUMMARY:Clinical Reformer
DESCRIPTION:
URL:https://synergyhealthworks.com/event/clinical-reformer-39/2026-01-20/
LOCATION:Wagga Wagga | Reformer Studio\, 221 Kincaid Street\, Wagga Wagga\, NSW\, 2650\, Australia
CATEGORIES:Clinical Reformer
END:VEVENT
BEGIN:VEVENT
DTSTART;TZID=Australia/Sydney:20260119T181500
DTEND;TZID=Australia/Sydney:20260119T190000
DTSTAMP:20260424T075922
CREATED:20241204T012422Z
LAST-MODIFIED:20250914T100622Z
UID:10095513-1768846500-1768849200@synergyhealthworks.com
SUMMARY:Fit Reformer
DESCRIPTION:
URL:https://synergyhealthworks.com/event/fit-reformer-7/2026-01-19/
LOCATION:Wagga Wagga | Reformer Studio\, 221 Kincaid Street\, Wagga Wagga\, NSW\, 2650\, Australia
CATEGORIES:Fit Reformer
END:VEVENT
BEGIN:VEVENT
DTSTART;TZID=Australia/Sydney:20260119T171500
DTEND;TZID=Australia/Sydney:20260119T180000
DTSTAMP:20260424T075922
CREATED:20241204T012357Z
LAST-MODIFIED:20250129T031350Z
UID:10095261-1768842900-1768845600@synergyhealthworks.com
SUMMARY:Fit Reformer
DESCRIPTION:
URL:https://synergyhealthworks.com/event/fit-reformer-6/2026-01-19/
LOCATION:Wagga Wagga | Reformer Studio\, 221 Kincaid Street\, Wagga Wagga\, NSW\, 2650\, Australia
CATEGORIES:Fit Reformer
END:VEVENT
BEGIN:VEVENT
DTSTART;TZID=Australia/Sydney:20260116T130000
DTEND;TZID=Australia/Sydney:20260116T134500
DTSTAMP:20260424T075922
CREATED:20241204T020436Z
LAST-MODIFIED:20241204T020436Z
UID:10104309-1768568400-1768571100@synergyhealthworks.com
SUMMARY:Power Reformer
DESCRIPTION:
URL:https://synergyhealthworks.com/event/power-reformer-2/2026-01-16/
LOCATION:Wagga Wagga | Reformer Studio\, 221 Kincaid Street\, Wagga Wagga\, NSW\, 2650\, Australia
CATEGORIES:Power Reformer
END:VEVENT
BEGIN:VEVENT
DTSTART;TZID=Australia/Sydney:20260114T060000
DTEND;TZID=Australia/Sydney:20260114T064500
DTSTAMP:20260424T075922
CREATED:20241204T014429Z
LAST-MODIFIED:20250914T100515Z
UID:10098536-1768370400-1768373100@synergyhealthworks.com
SUMMARY:Fit Reformer
DESCRIPTION:
URL:https://synergyhealthworks.com/event/fit-reformer-8/2026-01-14/
LOCATION:Wagga Wagga | Reformer Studio\, 221 Kincaid Street\, Wagga Wagga\, NSW\, 2650\, Australia
CATEGORIES:Fit Reformer
END:VEVENT
BEGIN:VEVENT
DTSTART;TZID=Australia/Sydney:20260113T070000
DTEND;TZID=Australia/Sydney:20260113T074500
DTSTAMP:20260424T075922
CREATED:20241204T012619Z
LAST-MODIFIED:20250129T031553Z
UID:10096016-1768287600-1768290300@synergyhealthworks.com
SUMMARY:Clinical Reformer
DESCRIPTION:
URL:https://synergyhealthworks.com/event/clinical-reformer-40/2026-01-13/
LOCATION:Wagga Wagga | Reformer Studio\, 221 Kincaid Street\, Wagga Wagga\, NSW\, 2650\, Australia
CATEGORIES:Clinical Reformer
END:VEVENT
BEGIN:VEVENT
DTSTART;TZID=Australia/Sydney:20260113T060000
DTEND;TZID=Australia/Sydney:20260113T064500
DTSTAMP:20260424T075922
CREATED:20241204T012551Z
LAST-MODIFIED:20250914T095956Z
UID:10095764-1768284000-1768286700@synergyhealthworks.com
SUMMARY:Clinical Reformer
DESCRIPTION:
URL:https://synergyhealthworks.com/event/clinical-reformer-39/2026-01-13/
LOCATION:Wagga Wagga | Reformer Studio\, 221 Kincaid Street\, Wagga Wagga\, NSW\, 2650\, Australia
CATEGORIES:Clinical Reformer
END:VEVENT
BEGIN:VEVENT
DTSTART;TZID=Australia/Sydney:20260112T181500
DTEND;TZID=Australia/Sydney:20260112T190000
DTSTAMP:20260424T075922
CREATED:20241204T012422Z
LAST-MODIFIED:20250914T100622Z
UID:10095512-1768241700-1768244400@synergyhealthworks.com
SUMMARY:Fit Reformer
DESCRIPTION:
URL:https://synergyhealthworks.com/event/fit-reformer-7/2026-01-12/
LOCATION:Wagga Wagga | Reformer Studio\, 221 Kincaid Street\, Wagga Wagga\, NSW\, 2650\, Australia
CATEGORIES:Fit Reformer
END:VEVENT
BEGIN:VEVENT
DTSTART;TZID=Australia/Sydney:20260112T171500
DTEND;TZID=Australia/Sydney:20260112T180000
DTSTAMP:20260424T075922
CREATED:20241204T012357Z
LAST-MODIFIED:20250129T031350Z
UID:10095260-1768238100-1768240800@synergyhealthworks.com
SUMMARY:Fit Reformer
DESCRIPTION:
URL:https://synergyhealthworks.com/event/fit-reformer-6/2026-01-12/
LOCATION:Wagga Wagga | Reformer Studio\, 221 Kincaid Street\, Wagga Wagga\, NSW\, 2650\, Australia
CATEGORIES:Fit Reformer
END:VEVENT
BEGIN:VEVENT
DTSTART;TZID=Australia/Sydney:20260109T130000
DTEND;TZID=Australia/Sydney:20260109T134500
DTSTAMP:20260424T075922
CREATED:20241204T020436Z
LAST-MODIFIED:20241204T020436Z
UID:10104308-1767963600-1767966300@synergyhealthworks.com
SUMMARY:Power Reformer
DESCRIPTION:
URL:https://synergyhealthworks.com/event/power-reformer-2/2026-01-09/
LOCATION:Wagga Wagga | Reformer Studio\, 221 Kincaid Street\, Wagga Wagga\, NSW\, 2650\, Australia
CATEGORIES:Power Reformer
END:VEVENT
END:VCALENDAR