BEGIN:VCALENDAR
VERSION:2.0
PRODID:-//Synergy Healthworks - ECPv6.15.20//NONSGML v1.0//EN
CALSCALE:GREGORIAN
METHOD:PUBLISH
X-ORIGINAL-URL:https://synergyhealthworks.com
X-WR-CALDESC:Events for Synergy Healthworks
REFRESH-INTERVAL;VALUE=DURATION:PT1H
X-Robots-Tag:noindex
X-PUBLISHED-TTL:PT1H
BEGIN:VTIMEZONE
TZID:Australia/Sydney
BEGIN:STANDARD
TZOFFSETFROM:+1100
TZOFFSETTO:+1000
TZNAME:AEST
DTSTART:20250405T160000
END:STANDARD
BEGIN:DAYLIGHT
TZOFFSETFROM:+1000
TZOFFSETTO:+1100
TZNAME:AEDT
DTSTART:20251004T160000
END:DAYLIGHT
BEGIN:STANDARD
TZOFFSETFROM:+1100
TZOFFSETTO:+1000
TZNAME:AEST
DTSTART:20260404T160000
END:STANDARD
BEGIN:DAYLIGHT
TZOFFSETFROM:+1000
TZOFFSETTO:+1100
TZNAME:AEDT
DTSTART:20261003T160000
END:DAYLIGHT
BEGIN:STANDARD
TZOFFSETFROM:+1100
TZOFFSETTO:+1000
TZNAME:AEST
DTSTART:20270403T160000
END:STANDARD
BEGIN:DAYLIGHT
TZOFFSETFROM:+1000
TZOFFSETTO:+1100
TZNAME:AEDT
DTSTART:20271002T160000
END:DAYLIGHT
END:VTIMEZONE
BEGIN:VEVENT
DTSTART;TZID=Australia/Sydney:20260311T060000
DTEND;TZID=Australia/Sydney:20260311T064500
DTSTAMP:20260424T043619
CREATED:20241204T014429Z
LAST-MODIFIED:20250914T100515Z
UID:10098544-1773208800-1773211500@synergyhealthworks.com
SUMMARY:Fit Reformer
DESCRIPTION:
URL:https://synergyhealthworks.com/event/fit-reformer-8/2026-03-11/
LOCATION:Wagga Wagga | Reformer Studio\, 221 Kincaid Street\, Wagga Wagga\, NSW\, 2650\, Australia
CATEGORIES:Fit Reformer
END:VEVENT
BEGIN:VEVENT
DTSTART;TZID=Australia/Sydney:20260310T070000
DTEND;TZID=Australia/Sydney:20260310T074500
DTSTAMP:20260424T043619
CREATED:20241204T012619Z
LAST-MODIFIED:20250129T031553Z
UID:10096024-1773126000-1773128700@synergyhealthworks.com
SUMMARY:Clinical Reformer
DESCRIPTION:
URL:https://synergyhealthworks.com/event/clinical-reformer-40/2026-03-10/
LOCATION:Wagga Wagga | Reformer Studio\, 221 Kincaid Street\, Wagga Wagga\, NSW\, 2650\, Australia
CATEGORIES:Clinical Reformer
END:VEVENT
BEGIN:VEVENT
DTSTART;TZID=Australia/Sydney:20260310T060000
DTEND;TZID=Australia/Sydney:20260310T064500
DTSTAMP:20260424T043619
CREATED:20241204T012551Z
LAST-MODIFIED:20250914T095956Z
UID:10095772-1773122400-1773125100@synergyhealthworks.com
SUMMARY:Clinical Reformer
DESCRIPTION:
URL:https://synergyhealthworks.com/event/clinical-reformer-39/2026-03-10/
LOCATION:Wagga Wagga | Reformer Studio\, 221 Kincaid Street\, Wagga Wagga\, NSW\, 2650\, Australia
CATEGORIES:Clinical Reformer
END:VEVENT
BEGIN:VEVENT
DTSTART;TZID=Australia/Sydney:20260309T181500
DTEND;TZID=Australia/Sydney:20260309T190000
DTSTAMP:20260424T043619
CREATED:20241204T012422Z
LAST-MODIFIED:20250914T100622Z
UID:10095520-1773080100-1773082800@synergyhealthworks.com
SUMMARY:Fit Reformer
DESCRIPTION:
URL:https://synergyhealthworks.com/event/fit-reformer-7/2026-03-09/
LOCATION:Wagga Wagga | Reformer Studio\, 221 Kincaid Street\, Wagga Wagga\, NSW\, 2650\, Australia
CATEGORIES:Fit Reformer
END:VEVENT
BEGIN:VEVENT
DTSTART;TZID=Australia/Sydney:20260309T171500
DTEND;TZID=Australia/Sydney:20260309T180000
DTSTAMP:20260424T043619
CREATED:20241204T012357Z
LAST-MODIFIED:20250129T031350Z
UID:10095268-1773076500-1773079200@synergyhealthworks.com
SUMMARY:Fit Reformer
DESCRIPTION:
URL:https://synergyhealthworks.com/event/fit-reformer-6/2026-03-09/
LOCATION:Wagga Wagga | Reformer Studio\, 221 Kincaid Street\, Wagga Wagga\, NSW\, 2650\, Australia
CATEGORIES:Fit Reformer
END:VEVENT
BEGIN:VEVENT
DTSTART;TZID=Australia/Sydney:20260306T130000
DTEND;TZID=Australia/Sydney:20260306T134500
DTSTAMP:20260424T043619
CREATED:20241204T020436Z
LAST-MODIFIED:20241204T020436Z
UID:10104316-1772802000-1772804700@synergyhealthworks.com
SUMMARY:Power Reformer
DESCRIPTION:
URL:https://synergyhealthworks.com/event/power-reformer-2/2026-03-06/
LOCATION:Wagga Wagga | Reformer Studio\, 221 Kincaid Street\, Wagga Wagga\, NSW\, 2650\, Australia
CATEGORIES:Power Reformer
END:VEVENT
BEGIN:VEVENT
DTSTART;TZID=Australia/Sydney:20260304T060000
DTEND;TZID=Australia/Sydney:20260304T064500
DTSTAMP:20260424T043619
CREATED:20241204T014429Z
LAST-MODIFIED:20250914T100515Z
UID:10098543-1772604000-1772606700@synergyhealthworks.com
SUMMARY:Fit Reformer
DESCRIPTION:
URL:https://synergyhealthworks.com/event/fit-reformer-8/2026-03-04/
LOCATION:Wagga Wagga | Reformer Studio\, 221 Kincaid Street\, Wagga Wagga\, NSW\, 2650\, Australia
CATEGORIES:Fit Reformer
END:VEVENT
BEGIN:VEVENT
DTSTART;TZID=Australia/Sydney:20260303T070000
DTEND;TZID=Australia/Sydney:20260303T074500
DTSTAMP:20260424T043619
CREATED:20241204T012619Z
LAST-MODIFIED:20250129T031553Z
UID:10096023-1772521200-1772523900@synergyhealthworks.com
SUMMARY:Clinical Reformer
DESCRIPTION:
URL:https://synergyhealthworks.com/event/clinical-reformer-40/2026-03-03/
LOCATION:Wagga Wagga | Reformer Studio\, 221 Kincaid Street\, Wagga Wagga\, NSW\, 2650\, Australia
CATEGORIES:Clinical Reformer
END:VEVENT
BEGIN:VEVENT
DTSTART;TZID=Australia/Sydney:20260303T060000
DTEND;TZID=Australia/Sydney:20260303T064500
DTSTAMP:20260424T043619
CREATED:20241204T012551Z
LAST-MODIFIED:20250914T095956Z
UID:10095771-1772517600-1772520300@synergyhealthworks.com
SUMMARY:Clinical Reformer
DESCRIPTION:
URL:https://synergyhealthworks.com/event/clinical-reformer-39/2026-03-03/
LOCATION:Wagga Wagga | Reformer Studio\, 221 Kincaid Street\, Wagga Wagga\, NSW\, 2650\, Australia
CATEGORIES:Clinical Reformer
END:VEVENT
BEGIN:VEVENT
DTSTART;TZID=Australia/Sydney:20260302T181500
DTEND;TZID=Australia/Sydney:20260302T190000
DTSTAMP:20260424T043619
CREATED:20241204T012422Z
LAST-MODIFIED:20250914T100622Z
UID:10095519-1772475300-1772478000@synergyhealthworks.com
SUMMARY:Fit Reformer
DESCRIPTION:
URL:https://synergyhealthworks.com/event/fit-reformer-7/2026-03-02/
LOCATION:Wagga Wagga | Reformer Studio\, 221 Kincaid Street\, Wagga Wagga\, NSW\, 2650\, Australia
CATEGORIES:Fit Reformer
END:VEVENT
BEGIN:VEVENT
DTSTART;TZID=Australia/Sydney:20260302T171500
DTEND;TZID=Australia/Sydney:20260302T180000
DTSTAMP:20260424T043619
CREATED:20241204T012357Z
LAST-MODIFIED:20250129T031350Z
UID:10095267-1772471700-1772474400@synergyhealthworks.com
SUMMARY:Fit Reformer
DESCRIPTION:
URL:https://synergyhealthworks.com/event/fit-reformer-6/2026-03-02/
LOCATION:Wagga Wagga | Reformer Studio\, 221 Kincaid Street\, Wagga Wagga\, NSW\, 2650\, Australia
CATEGORIES:Fit Reformer
END:VEVENT
BEGIN:VEVENT
DTSTART;TZID=Australia/Sydney:20260227T130000
DTEND;TZID=Australia/Sydney:20260227T134500
DTSTAMP:20260424T043619
CREATED:20241204T020436Z
LAST-MODIFIED:20241204T020436Z
UID:10104315-1772197200-1772199900@synergyhealthworks.com
SUMMARY:Power Reformer
DESCRIPTION:
URL:https://synergyhealthworks.com/event/power-reformer-2/2026-02-27/
LOCATION:Wagga Wagga | Reformer Studio\, 221 Kincaid Street\, Wagga Wagga\, NSW\, 2650\, Australia
CATEGORIES:Power Reformer
END:VEVENT
BEGIN:VEVENT
DTSTART;TZID=Australia/Sydney:20260225T060000
DTEND;TZID=Australia/Sydney:20260225T064500
DTSTAMP:20260424T043619
CREATED:20241204T014429Z
LAST-MODIFIED:20250914T100515Z
UID:10098542-1771999200-1772001900@synergyhealthworks.com
SUMMARY:Fit Reformer
DESCRIPTION:
URL:https://synergyhealthworks.com/event/fit-reformer-8/2026-02-25/
LOCATION:Wagga Wagga | Reformer Studio\, 221 Kincaid Street\, Wagga Wagga\, NSW\, 2650\, Australia
CATEGORIES:Fit Reformer
END:VEVENT
BEGIN:VEVENT
DTSTART;TZID=Australia/Sydney:20260224T070000
DTEND;TZID=Australia/Sydney:20260224T074500
DTSTAMP:20260424T043619
CREATED:20241204T012619Z
LAST-MODIFIED:20250129T031553Z
UID:10096022-1771916400-1771919100@synergyhealthworks.com
SUMMARY:Clinical Reformer
DESCRIPTION:
URL:https://synergyhealthworks.com/event/clinical-reformer-40/2026-02-24/
LOCATION:Wagga Wagga | Reformer Studio\, 221 Kincaid Street\, Wagga Wagga\, NSW\, 2650\, Australia
CATEGORIES:Clinical Reformer
END:VEVENT
BEGIN:VEVENT
DTSTART;TZID=Australia/Sydney:20260224T060000
DTEND;TZID=Australia/Sydney:20260224T064500
DTSTAMP:20260424T043619
CREATED:20241204T012551Z
LAST-MODIFIED:20250914T095956Z
UID:10095770-1771912800-1771915500@synergyhealthworks.com
SUMMARY:Clinical Reformer
DESCRIPTION:
URL:https://synergyhealthworks.com/event/clinical-reformer-39/2026-02-24/
LOCATION:Wagga Wagga | Reformer Studio\, 221 Kincaid Street\, Wagga Wagga\, NSW\, 2650\, Australia
CATEGORIES:Clinical Reformer
END:VEVENT
BEGIN:VEVENT
DTSTART;TZID=Australia/Sydney:20260223T181500
DTEND;TZID=Australia/Sydney:20260223T190000
DTSTAMP:20260424T043619
CREATED:20241204T012422Z
LAST-MODIFIED:20250914T100622Z
UID:10095518-1771870500-1771873200@synergyhealthworks.com
SUMMARY:Fit Reformer
DESCRIPTION:
URL:https://synergyhealthworks.com/event/fit-reformer-7/2026-02-23/
LOCATION:Wagga Wagga | Reformer Studio\, 221 Kincaid Street\, Wagga Wagga\, NSW\, 2650\, Australia
CATEGORIES:Fit Reformer
END:VEVENT
BEGIN:VEVENT
DTSTART;TZID=Australia/Sydney:20260223T171500
DTEND;TZID=Australia/Sydney:20260223T180000
DTSTAMP:20260424T043619
CREATED:20241204T012357Z
LAST-MODIFIED:20250129T031350Z
UID:10095266-1771866900-1771869600@synergyhealthworks.com
SUMMARY:Fit Reformer
DESCRIPTION:
URL:https://synergyhealthworks.com/event/fit-reformer-6/2026-02-23/
LOCATION:Wagga Wagga | Reformer Studio\, 221 Kincaid Street\, Wagga Wagga\, NSW\, 2650\, Australia
CATEGORIES:Fit Reformer
END:VEVENT
BEGIN:VEVENT
DTSTART;TZID=Australia/Sydney:20260220T130000
DTEND;TZID=Australia/Sydney:20260220T134500
DTSTAMP:20260424T043619
CREATED:20241204T020436Z
LAST-MODIFIED:20241204T020436Z
UID:10104314-1771592400-1771595100@synergyhealthworks.com
SUMMARY:Power Reformer
DESCRIPTION:
URL:https://synergyhealthworks.com/event/power-reformer-2/2026-02-20/
LOCATION:Wagga Wagga | Reformer Studio\, 221 Kincaid Street\, Wagga Wagga\, NSW\, 2650\, Australia
CATEGORIES:Power Reformer
END:VEVENT
BEGIN:VEVENT
DTSTART;TZID=Australia/Sydney:20260218T060000
DTEND;TZID=Australia/Sydney:20260218T064500
DTSTAMP:20260424T043619
CREATED:20241204T014429Z
LAST-MODIFIED:20250914T100515Z
UID:10098541-1771394400-1771397100@synergyhealthworks.com
SUMMARY:Fit Reformer
DESCRIPTION:
URL:https://synergyhealthworks.com/event/fit-reformer-8/2026-02-18/
LOCATION:Wagga Wagga | Reformer Studio\, 221 Kincaid Street\, Wagga Wagga\, NSW\, 2650\, Australia
CATEGORIES:Fit Reformer
END:VEVENT
BEGIN:VEVENT
DTSTART;TZID=Australia/Sydney:20260217T070000
DTEND;TZID=Australia/Sydney:20260217T074500
DTSTAMP:20260424T043619
CREATED:20241204T012619Z
LAST-MODIFIED:20250129T031553Z
UID:10096021-1771311600-1771314300@synergyhealthworks.com
SUMMARY:Clinical Reformer
DESCRIPTION:
URL:https://synergyhealthworks.com/event/clinical-reformer-40/2026-02-17/
LOCATION:Wagga Wagga | Reformer Studio\, 221 Kincaid Street\, Wagga Wagga\, NSW\, 2650\, Australia
CATEGORIES:Clinical Reformer
END:VEVENT
BEGIN:VEVENT
DTSTART;TZID=Australia/Sydney:20260217T060000
DTEND;TZID=Australia/Sydney:20260217T064500
DTSTAMP:20260424T043619
CREATED:20241204T012551Z
LAST-MODIFIED:20250914T095956Z
UID:10095769-1771308000-1771310700@synergyhealthworks.com
SUMMARY:Clinical Reformer
DESCRIPTION:
URL:https://synergyhealthworks.com/event/clinical-reformer-39/2026-02-17/
LOCATION:Wagga Wagga | Reformer Studio\, 221 Kincaid Street\, Wagga Wagga\, NSW\, 2650\, Australia
CATEGORIES:Clinical Reformer
END:VEVENT
BEGIN:VEVENT
DTSTART;TZID=Australia/Sydney:20260216T181500
DTEND;TZID=Australia/Sydney:20260216T190000
DTSTAMP:20260424T043619
CREATED:20241204T012422Z
LAST-MODIFIED:20250914T100622Z
UID:10095517-1771265700-1771268400@synergyhealthworks.com
SUMMARY:Fit Reformer
DESCRIPTION:
URL:https://synergyhealthworks.com/event/fit-reformer-7/2026-02-16/
LOCATION:Wagga Wagga | Reformer Studio\, 221 Kincaid Street\, Wagga Wagga\, NSW\, 2650\, Australia
CATEGORIES:Fit Reformer
END:VEVENT
BEGIN:VEVENT
DTSTART;TZID=Australia/Sydney:20260216T171500
DTEND;TZID=Australia/Sydney:20260216T180000
DTSTAMP:20260424T043619
CREATED:20241204T012357Z
LAST-MODIFIED:20250129T031350Z
UID:10095265-1771262100-1771264800@synergyhealthworks.com
SUMMARY:Fit Reformer
DESCRIPTION:
URL:https://synergyhealthworks.com/event/fit-reformer-6/2026-02-16/
LOCATION:Wagga Wagga | Reformer Studio\, 221 Kincaid Street\, Wagga Wagga\, NSW\, 2650\, Australia
CATEGORIES:Fit Reformer
END:VEVENT
BEGIN:VEVENT
DTSTART;TZID=Australia/Sydney:20260213T130000
DTEND;TZID=Australia/Sydney:20260213T134500
DTSTAMP:20260424T043619
CREATED:20241204T020436Z
LAST-MODIFIED:20241204T020436Z
UID:10104313-1770987600-1770990300@synergyhealthworks.com
SUMMARY:Power Reformer
DESCRIPTION:
URL:https://synergyhealthworks.com/event/power-reformer-2/2026-02-13/
LOCATION:Wagga Wagga | Reformer Studio\, 221 Kincaid Street\, Wagga Wagga\, NSW\, 2650\, Australia
CATEGORIES:Power Reformer
END:VEVENT
BEGIN:VEVENT
DTSTART;TZID=Australia/Sydney:20260211T060000
DTEND;TZID=Australia/Sydney:20260211T064500
DTSTAMP:20260424T043619
CREATED:20241204T014429Z
LAST-MODIFIED:20250914T100515Z
UID:10098540-1770789600-1770792300@synergyhealthworks.com
SUMMARY:Fit Reformer
DESCRIPTION:
URL:https://synergyhealthworks.com/event/fit-reformer-8/2026-02-11/
LOCATION:Wagga Wagga | Reformer Studio\, 221 Kincaid Street\, Wagga Wagga\, NSW\, 2650\, Australia
CATEGORIES:Fit Reformer
END:VEVENT
BEGIN:VEVENT
DTSTART;TZID=Australia/Sydney:20260210T070000
DTEND;TZID=Australia/Sydney:20260210T074500
DTSTAMP:20260424T043619
CREATED:20241204T012619Z
LAST-MODIFIED:20250129T031553Z
UID:10096020-1770706800-1770709500@synergyhealthworks.com
SUMMARY:Clinical Reformer
DESCRIPTION:
URL:https://synergyhealthworks.com/event/clinical-reformer-40/2026-02-10/
LOCATION:Wagga Wagga | Reformer Studio\, 221 Kincaid Street\, Wagga Wagga\, NSW\, 2650\, Australia
CATEGORIES:Clinical Reformer
END:VEVENT
BEGIN:VEVENT
DTSTART;TZID=Australia/Sydney:20260210T060000
DTEND;TZID=Australia/Sydney:20260210T064500
DTSTAMP:20260424T043619
CREATED:20241204T012551Z
LAST-MODIFIED:20250914T095956Z
UID:10095768-1770703200-1770705900@synergyhealthworks.com
SUMMARY:Clinical Reformer
DESCRIPTION:
URL:https://synergyhealthworks.com/event/clinical-reformer-39/2026-02-10/
LOCATION:Wagga Wagga | Reformer Studio\, 221 Kincaid Street\, Wagga Wagga\, NSW\, 2650\, Australia
CATEGORIES:Clinical Reformer
END:VEVENT
BEGIN:VEVENT
DTSTART;TZID=Australia/Sydney:20260209T181500
DTEND;TZID=Australia/Sydney:20260209T190000
DTSTAMP:20260424T043619
CREATED:20241204T012422Z
LAST-MODIFIED:20250914T100622Z
UID:10095516-1770660900-1770663600@synergyhealthworks.com
SUMMARY:Fit Reformer
DESCRIPTION:
URL:https://synergyhealthworks.com/event/fit-reformer-7/2026-02-09/
LOCATION:Wagga Wagga | Reformer Studio\, 221 Kincaid Street\, Wagga Wagga\, NSW\, 2650\, Australia
CATEGORIES:Fit Reformer
END:VEVENT
BEGIN:VEVENT
DTSTART;TZID=Australia/Sydney:20260209T171500
DTEND;TZID=Australia/Sydney:20260209T180000
DTSTAMP:20260424T043619
CREATED:20241204T012357Z
LAST-MODIFIED:20250129T031350Z
UID:10095264-1770657300-1770660000@synergyhealthworks.com
SUMMARY:Fit Reformer
DESCRIPTION:
URL:https://synergyhealthworks.com/event/fit-reformer-6/2026-02-09/
LOCATION:Wagga Wagga | Reformer Studio\, 221 Kincaid Street\, Wagga Wagga\, NSW\, 2650\, Australia
CATEGORIES:Fit Reformer
END:VEVENT
BEGIN:VEVENT
DTSTART;TZID=Australia/Sydney:20260206T130000
DTEND;TZID=Australia/Sydney:20260206T134500
DTSTAMP:20260424T043619
CREATED:20241204T020436Z
LAST-MODIFIED:20241204T020436Z
UID:10104312-1770382800-1770385500@synergyhealthworks.com
SUMMARY:Power Reformer
DESCRIPTION:
URL:https://synergyhealthworks.com/event/power-reformer-2/2026-02-06/
LOCATION:Wagga Wagga | Reformer Studio\, 221 Kincaid Street\, Wagga Wagga\, NSW\, 2650\, Australia
CATEGORIES:Power Reformer
END:VEVENT
END:VCALENDAR