BEGIN:VCALENDAR
VERSION:2.0
PRODID:-//Synergy Healthworks - ECPv6.15.20//NONSGML v1.0//EN
CALSCALE:GREGORIAN
METHOD:PUBLISH
X-ORIGINAL-URL:https://synergyhealthworks.com
X-WR-CALDESC:Events for Synergy Healthworks
REFRESH-INTERVAL;VALUE=DURATION:PT1H
X-Robots-Tag:noindex
X-PUBLISHED-TTL:PT1H
BEGIN:VTIMEZONE
TZID:Australia/Sydney
BEGIN:STANDARD
TZOFFSETFROM:+1100
TZOFFSETTO:+1000
TZNAME:AEST
DTSTART:20240406T160000
END:STANDARD
BEGIN:DAYLIGHT
TZOFFSETFROM:+1000
TZOFFSETTO:+1100
TZNAME:AEDT
DTSTART:20241005T160000
END:DAYLIGHT
BEGIN:STANDARD
TZOFFSETFROM:+1100
TZOFFSETTO:+1000
TZNAME:AEST
DTSTART:20250405T160000
END:STANDARD
BEGIN:DAYLIGHT
TZOFFSETFROM:+1000
TZOFFSETTO:+1100
TZNAME:AEDT
DTSTART:20251004T160000
END:DAYLIGHT
BEGIN:STANDARD
TZOFFSETFROM:+1100
TZOFFSETTO:+1000
TZNAME:AEST
DTSTART:20260404T160000
END:STANDARD
BEGIN:DAYLIGHT
TZOFFSETFROM:+1000
TZOFFSETTO:+1100
TZNAME:AEDT
DTSTART:20261003T160000
END:DAYLIGHT
END:VTIMEZONE
BEGIN:VEVENT
DTSTART;TZID=Australia/Sydney:20250314T130000
DTEND;TZID=Australia/Sydney:20250314T134500
DTSTAMP:20260426T001415
CREATED:20241204T020436Z
LAST-MODIFIED:20241204T020436Z
UID:10104265-1741957200-1741959900@synergyhealthworks.com
SUMMARY:Power Reformer
DESCRIPTION:
URL:https://synergyhealthworks.com/event/power-reformer-2/2025-03-14/
LOCATION:Wagga Wagga | Reformer Studio\, 221 Kincaid Street\, Wagga Wagga\, NSW\, 2650\, Australia
CATEGORIES:Power Reformer
END:VEVENT
BEGIN:VEVENT
DTSTART;TZID=Australia/Sydney:20250312T060000
DTEND;TZID=Australia/Sydney:20250312T064500
DTSTAMP:20260426T001415
CREATED:20241204T014429Z
LAST-MODIFIED:20250914T100515Z
UID:10098492-1741759200-1741761900@synergyhealthworks.com
SUMMARY:Fit Reformer
DESCRIPTION:
URL:https://synergyhealthworks.com/event/fit-reformer-8/2025-03-12/
LOCATION:Wagga Wagga | Reformer Studio\, 221 Kincaid Street\, Wagga Wagga\, NSW\, 2650\, Australia
CATEGORIES:Fit Reformer
END:VEVENT
BEGIN:VEVENT
DTSTART;TZID=Australia/Sydney:20250311T070000
DTEND;TZID=Australia/Sydney:20250311T074500
DTSTAMP:20260426T001415
CREATED:20241204T012619Z
LAST-MODIFIED:20250129T031553Z
UID:10095972-1741676400-1741679100@synergyhealthworks.com
SUMMARY:Clinical Reformer
DESCRIPTION:
URL:https://synergyhealthworks.com/event/clinical-reformer-40/2025-03-11/
LOCATION:Wagga Wagga | Reformer Studio\, 221 Kincaid Street\, Wagga Wagga\, NSW\, 2650\, Australia
CATEGORIES:Clinical Reformer
END:VEVENT
BEGIN:VEVENT
DTSTART;TZID=Australia/Sydney:20250311T060000
DTEND;TZID=Australia/Sydney:20250311T064500
DTSTAMP:20260426T001415
CREATED:20241204T012551Z
LAST-MODIFIED:20250914T095956Z
UID:10095720-1741672800-1741675500@synergyhealthworks.com
SUMMARY:Clinical Reformer
DESCRIPTION:
URL:https://synergyhealthworks.com/event/clinical-reformer-39/2025-03-11/
LOCATION:Wagga Wagga | Reformer Studio\, 221 Kincaid Street\, Wagga Wagga\, NSW\, 2650\, Australia
CATEGORIES:Clinical Reformer
END:VEVENT
BEGIN:VEVENT
DTSTART;TZID=Australia/Sydney:20250310T181500
DTEND;TZID=Australia/Sydney:20250310T190000
DTSTAMP:20260426T001415
CREATED:20241204T012422Z
LAST-MODIFIED:20250914T100622Z
UID:10095468-1741630500-1741633200@synergyhealthworks.com
SUMMARY:Fit Reformer
DESCRIPTION:
URL:https://synergyhealthworks.com/event/fit-reformer-7/2025-03-10/
LOCATION:Wagga Wagga | Reformer Studio\, 221 Kincaid Street\, Wagga Wagga\, NSW\, 2650\, Australia
CATEGORIES:Fit Reformer
END:VEVENT
BEGIN:VEVENT
DTSTART;TZID=Australia/Sydney:20250310T171500
DTEND;TZID=Australia/Sydney:20250310T180000
DTSTAMP:20260426T001415
CREATED:20241204T012357Z
LAST-MODIFIED:20250129T031350Z
UID:10095216-1741626900-1741629600@synergyhealthworks.com
SUMMARY:Fit Reformer
DESCRIPTION:
URL:https://synergyhealthworks.com/event/fit-reformer-6/2025-03-10/
LOCATION:Wagga Wagga | Reformer Studio\, 221 Kincaid Street\, Wagga Wagga\, NSW\, 2650\, Australia
CATEGORIES:Fit Reformer
END:VEVENT
BEGIN:VEVENT
DTSTART;TZID=Australia/Sydney:20250307T130000
DTEND;TZID=Australia/Sydney:20250307T134500
DTSTAMP:20260426T001415
CREATED:20241204T020436Z
LAST-MODIFIED:20241204T020436Z
UID:10104264-1741352400-1741355100@synergyhealthworks.com
SUMMARY:Power Reformer
DESCRIPTION:
URL:https://synergyhealthworks.com/event/power-reformer-2/2025-03-07/
LOCATION:Wagga Wagga | Reformer Studio\, 221 Kincaid Street\, Wagga Wagga\, NSW\, 2650\, Australia
CATEGORIES:Power Reformer
END:VEVENT
BEGIN:VEVENT
DTSTART;TZID=Australia/Sydney:20250305T060000
DTEND;TZID=Australia/Sydney:20250305T064500
DTSTAMP:20260426T001415
CREATED:20241204T014429Z
LAST-MODIFIED:20250914T100515Z
UID:10098491-1741154400-1741157100@synergyhealthworks.com
SUMMARY:Fit Reformer
DESCRIPTION:
URL:https://synergyhealthworks.com/event/fit-reformer-8/2025-03-05/
LOCATION:Wagga Wagga | Reformer Studio\, 221 Kincaid Street\, Wagga Wagga\, NSW\, 2650\, Australia
CATEGORIES:Fit Reformer
END:VEVENT
BEGIN:VEVENT
DTSTART;TZID=Australia/Sydney:20250304T070000
DTEND;TZID=Australia/Sydney:20250304T074500
DTSTAMP:20260426T001415
CREATED:20241204T012619Z
LAST-MODIFIED:20250129T031553Z
UID:10095971-1741071600-1741074300@synergyhealthworks.com
SUMMARY:Clinical Reformer
DESCRIPTION:
URL:https://synergyhealthworks.com/event/clinical-reformer-40/2025-03-04/
LOCATION:Wagga Wagga | Reformer Studio\, 221 Kincaid Street\, Wagga Wagga\, NSW\, 2650\, Australia
CATEGORIES:Clinical Reformer
END:VEVENT
BEGIN:VEVENT
DTSTART;TZID=Australia/Sydney:20250304T060000
DTEND;TZID=Australia/Sydney:20250304T064500
DTSTAMP:20260426T001415
CREATED:20241204T012551Z
LAST-MODIFIED:20250914T095956Z
UID:10095719-1741068000-1741070700@synergyhealthworks.com
SUMMARY:Clinical Reformer
DESCRIPTION:
URL:https://synergyhealthworks.com/event/clinical-reformer-39/2025-03-04/
LOCATION:Wagga Wagga | Reformer Studio\, 221 Kincaid Street\, Wagga Wagga\, NSW\, 2650\, Australia
CATEGORIES:Clinical Reformer
END:VEVENT
BEGIN:VEVENT
DTSTART;TZID=Australia/Sydney:20250303T181500
DTEND;TZID=Australia/Sydney:20250303T190000
DTSTAMP:20260426T001415
CREATED:20241204T012422Z
LAST-MODIFIED:20250914T100622Z
UID:10095467-1741025700-1741028400@synergyhealthworks.com
SUMMARY:Fit Reformer
DESCRIPTION:
URL:https://synergyhealthworks.com/event/fit-reformer-7/2025-03-03/
LOCATION:Wagga Wagga | Reformer Studio\, 221 Kincaid Street\, Wagga Wagga\, NSW\, 2650\, Australia
CATEGORIES:Fit Reformer
END:VEVENT
BEGIN:VEVENT
DTSTART;TZID=Australia/Sydney:20250303T171500
DTEND;TZID=Australia/Sydney:20250303T180000
DTSTAMP:20260426T001415
CREATED:20241204T012357Z
LAST-MODIFIED:20250129T031350Z
UID:10095215-1741022100-1741024800@synergyhealthworks.com
SUMMARY:Fit Reformer
DESCRIPTION:
URL:https://synergyhealthworks.com/event/fit-reformer-6/2025-03-03/
LOCATION:Wagga Wagga | Reformer Studio\, 221 Kincaid Street\, Wagga Wagga\, NSW\, 2650\, Australia
CATEGORIES:Fit Reformer
END:VEVENT
BEGIN:VEVENT
DTSTART;TZID=Australia/Sydney:20250228T130000
DTEND;TZID=Australia/Sydney:20250228T134500
DTSTAMP:20260426T001415
CREATED:20241204T020436Z
LAST-MODIFIED:20241204T020436Z
UID:10104263-1740747600-1740750300@synergyhealthworks.com
SUMMARY:Power Reformer
DESCRIPTION:
URL:https://synergyhealthworks.com/event/power-reformer-2/2025-02-28/
LOCATION:Wagga Wagga | Reformer Studio\, 221 Kincaid Street\, Wagga Wagga\, NSW\, 2650\, Australia
CATEGORIES:Power Reformer
END:VEVENT
BEGIN:VEVENT
DTSTART;TZID=Australia/Sydney:20250226T060000
DTEND;TZID=Australia/Sydney:20250226T064500
DTSTAMP:20260426T001415
CREATED:20241204T014429Z
LAST-MODIFIED:20250914T100515Z
UID:10098490-1740549600-1740552300@synergyhealthworks.com
SUMMARY:Fit Reformer
DESCRIPTION:
URL:https://synergyhealthworks.com/event/fit-reformer-8/2025-02-26/
LOCATION:Wagga Wagga | Reformer Studio\, 221 Kincaid Street\, Wagga Wagga\, NSW\, 2650\, Australia
CATEGORIES:Fit Reformer
END:VEVENT
BEGIN:VEVENT
DTSTART;TZID=Australia/Sydney:20250225T070000
DTEND;TZID=Australia/Sydney:20250225T074500
DTSTAMP:20260426T001415
CREATED:20241204T012619Z
LAST-MODIFIED:20250129T031553Z
UID:10095970-1740466800-1740469500@synergyhealthworks.com
SUMMARY:Clinical Reformer
DESCRIPTION:
URL:https://synergyhealthworks.com/event/clinical-reformer-40/2025-02-25/
LOCATION:Wagga Wagga | Reformer Studio\, 221 Kincaid Street\, Wagga Wagga\, NSW\, 2650\, Australia
CATEGORIES:Clinical Reformer
END:VEVENT
BEGIN:VEVENT
DTSTART;TZID=Australia/Sydney:20250225T060000
DTEND;TZID=Australia/Sydney:20250225T064500
DTSTAMP:20260426T001415
CREATED:20241204T012551Z
LAST-MODIFIED:20250914T095956Z
UID:10095718-1740463200-1740465900@synergyhealthworks.com
SUMMARY:Clinical Reformer
DESCRIPTION:
URL:https://synergyhealthworks.com/event/clinical-reformer-39/2025-02-25/
LOCATION:Wagga Wagga | Reformer Studio\, 221 Kincaid Street\, Wagga Wagga\, NSW\, 2650\, Australia
CATEGORIES:Clinical Reformer
END:VEVENT
BEGIN:VEVENT
DTSTART;TZID=Australia/Sydney:20250224T181500
DTEND;TZID=Australia/Sydney:20250224T190000
DTSTAMP:20260426T001415
CREATED:20241204T012422Z
LAST-MODIFIED:20250914T100622Z
UID:10095466-1740420900-1740423600@synergyhealthworks.com
SUMMARY:Fit Reformer
DESCRIPTION:
URL:https://synergyhealthworks.com/event/fit-reformer-7/2025-02-24/
LOCATION:Wagga Wagga | Reformer Studio\, 221 Kincaid Street\, Wagga Wagga\, NSW\, 2650\, Australia
CATEGORIES:Fit Reformer
END:VEVENT
BEGIN:VEVENT
DTSTART;TZID=Australia/Sydney:20250224T171500
DTEND;TZID=Australia/Sydney:20250224T180000
DTSTAMP:20260426T001415
CREATED:20241204T012357Z
LAST-MODIFIED:20250129T031350Z
UID:10095214-1740417300-1740420000@synergyhealthworks.com
SUMMARY:Fit Reformer
DESCRIPTION:
URL:https://synergyhealthworks.com/event/fit-reformer-6/2025-02-24/
LOCATION:Wagga Wagga | Reformer Studio\, 221 Kincaid Street\, Wagga Wagga\, NSW\, 2650\, Australia
CATEGORIES:Fit Reformer
END:VEVENT
BEGIN:VEVENT
DTSTART;TZID=Australia/Sydney:20250221T130000
DTEND;TZID=Australia/Sydney:20250221T134500
DTSTAMP:20260426T001415
CREATED:20241204T020436Z
LAST-MODIFIED:20241204T020436Z
UID:10104262-1740142800-1740145500@synergyhealthworks.com
SUMMARY:Power Reformer
DESCRIPTION:
URL:https://synergyhealthworks.com/event/power-reformer-2/2025-02-21/
LOCATION:Wagga Wagga | Reformer Studio\, 221 Kincaid Street\, Wagga Wagga\, NSW\, 2650\, Australia
CATEGORIES:Power Reformer
END:VEVENT
BEGIN:VEVENT
DTSTART;TZID=Australia/Sydney:20250219T060000
DTEND;TZID=Australia/Sydney:20250219T064500
DTSTAMP:20260426T001415
CREATED:20241204T014429Z
LAST-MODIFIED:20250914T100515Z
UID:10098489-1739944800-1739947500@synergyhealthworks.com
SUMMARY:Fit Reformer
DESCRIPTION:
URL:https://synergyhealthworks.com/event/fit-reformer-8/2025-02-19/
LOCATION:Wagga Wagga | Reformer Studio\, 221 Kincaid Street\, Wagga Wagga\, NSW\, 2650\, Australia
CATEGORIES:Fit Reformer
END:VEVENT
BEGIN:VEVENT
DTSTART;TZID=Australia/Sydney:20250218T070000
DTEND;TZID=Australia/Sydney:20250218T074500
DTSTAMP:20260426T001415
CREATED:20241204T012619Z
LAST-MODIFIED:20250129T031553Z
UID:10095969-1739862000-1739864700@synergyhealthworks.com
SUMMARY:Clinical Reformer
DESCRIPTION:
URL:https://synergyhealthworks.com/event/clinical-reformer-40/2025-02-18/
LOCATION:Wagga Wagga | Reformer Studio\, 221 Kincaid Street\, Wagga Wagga\, NSW\, 2650\, Australia
CATEGORIES:Clinical Reformer
END:VEVENT
BEGIN:VEVENT
DTSTART;TZID=Australia/Sydney:20250218T060000
DTEND;TZID=Australia/Sydney:20250218T064500
DTSTAMP:20260426T001415
CREATED:20241204T012551Z
LAST-MODIFIED:20250914T095956Z
UID:10095717-1739858400-1739861100@synergyhealthworks.com
SUMMARY:Clinical Reformer
DESCRIPTION:
URL:https://synergyhealthworks.com/event/clinical-reformer-39/2025-02-18/
LOCATION:Wagga Wagga | Reformer Studio\, 221 Kincaid Street\, Wagga Wagga\, NSW\, 2650\, Australia
CATEGORIES:Clinical Reformer
END:VEVENT
BEGIN:VEVENT
DTSTART;TZID=Australia/Sydney:20250217T181500
DTEND;TZID=Australia/Sydney:20250217T190000
DTSTAMP:20260426T001415
CREATED:20241204T012422Z
LAST-MODIFIED:20250914T100622Z
UID:10095465-1739816100-1739818800@synergyhealthworks.com
SUMMARY:Fit Reformer
DESCRIPTION:
URL:https://synergyhealthworks.com/event/fit-reformer-7/2025-02-17/
LOCATION:Wagga Wagga | Reformer Studio\, 221 Kincaid Street\, Wagga Wagga\, NSW\, 2650\, Australia
CATEGORIES:Fit Reformer
END:VEVENT
BEGIN:VEVENT
DTSTART;TZID=Australia/Sydney:20250217T171500
DTEND;TZID=Australia/Sydney:20250217T180000
DTSTAMP:20260426T001415
CREATED:20241204T012357Z
LAST-MODIFIED:20250129T031350Z
UID:10095213-1739812500-1739815200@synergyhealthworks.com
SUMMARY:Fit Reformer
DESCRIPTION:
URL:https://synergyhealthworks.com/event/fit-reformer-6/2025-02-17/
LOCATION:Wagga Wagga | Reformer Studio\, 221 Kincaid Street\, Wagga Wagga\, NSW\, 2650\, Australia
CATEGORIES:Fit Reformer
END:VEVENT
BEGIN:VEVENT
DTSTART;TZID=Australia/Sydney:20250214T130000
DTEND;TZID=Australia/Sydney:20250214T134500
DTSTAMP:20260426T001415
CREATED:20241204T020436Z
LAST-MODIFIED:20241204T020436Z
UID:10104261-1739538000-1739540700@synergyhealthworks.com
SUMMARY:Power Reformer
DESCRIPTION:
URL:https://synergyhealthworks.com/event/power-reformer-2/2025-02-14/
LOCATION:Wagga Wagga | Reformer Studio\, 221 Kincaid Street\, Wagga Wagga\, NSW\, 2650\, Australia
CATEGORIES:Power Reformer
END:VEVENT
BEGIN:VEVENT
DTSTART;TZID=Australia/Sydney:20250212T060000
DTEND;TZID=Australia/Sydney:20250212T064500
DTSTAMP:20260426T001415
CREATED:20241204T014429Z
LAST-MODIFIED:20250914T100515Z
UID:10098488-1739340000-1739342700@synergyhealthworks.com
SUMMARY:Fit Reformer
DESCRIPTION:
URL:https://synergyhealthworks.com/event/fit-reformer-8/2025-02-12/
LOCATION:Wagga Wagga | Reformer Studio\, 221 Kincaid Street\, Wagga Wagga\, NSW\, 2650\, Australia
CATEGORIES:Fit Reformer
END:VEVENT
BEGIN:VEVENT
DTSTART;TZID=Australia/Sydney:20250211T070000
DTEND;TZID=Australia/Sydney:20250211T074500
DTSTAMP:20260426T001415
CREATED:20241204T012619Z
LAST-MODIFIED:20250129T031553Z
UID:10095968-1739257200-1739259900@synergyhealthworks.com
SUMMARY:Clinical Reformer
DESCRIPTION:
URL:https://synergyhealthworks.com/event/clinical-reformer-40/2025-02-11/
LOCATION:Wagga Wagga | Reformer Studio\, 221 Kincaid Street\, Wagga Wagga\, NSW\, 2650\, Australia
CATEGORIES:Clinical Reformer
END:VEVENT
BEGIN:VEVENT
DTSTART;TZID=Australia/Sydney:20250211T060000
DTEND;TZID=Australia/Sydney:20250211T064500
DTSTAMP:20260426T001415
CREATED:20241204T012551Z
LAST-MODIFIED:20250914T095956Z
UID:10095716-1739253600-1739256300@synergyhealthworks.com
SUMMARY:Clinical Reformer
DESCRIPTION:
URL:https://synergyhealthworks.com/event/clinical-reformer-39/2025-02-11/
LOCATION:Wagga Wagga | Reformer Studio\, 221 Kincaid Street\, Wagga Wagga\, NSW\, 2650\, Australia
CATEGORIES:Clinical Reformer
END:VEVENT
BEGIN:VEVENT
DTSTART;TZID=Australia/Sydney:20250210T181500
DTEND;TZID=Australia/Sydney:20250210T190000
DTSTAMP:20260426T001415
CREATED:20241204T012422Z
LAST-MODIFIED:20250914T100622Z
UID:10095464-1739211300-1739214000@synergyhealthworks.com
SUMMARY:Fit Reformer
DESCRIPTION:
URL:https://synergyhealthworks.com/event/fit-reformer-7/2025-02-10/
LOCATION:Wagga Wagga | Reformer Studio\, 221 Kincaid Street\, Wagga Wagga\, NSW\, 2650\, Australia
CATEGORIES:Fit Reformer
END:VEVENT
BEGIN:VEVENT
DTSTART;TZID=Australia/Sydney:20250210T171500
DTEND;TZID=Australia/Sydney:20250210T180000
DTSTAMP:20260426T001415
CREATED:20241204T012357Z
LAST-MODIFIED:20250129T031350Z
UID:10095212-1739207700-1739210400@synergyhealthworks.com
SUMMARY:Fit Reformer
DESCRIPTION:
URL:https://synergyhealthworks.com/event/fit-reformer-6/2025-02-10/
LOCATION:Wagga Wagga | Reformer Studio\, 221 Kincaid Street\, Wagga Wagga\, NSW\, 2650\, Australia
CATEGORIES:Fit Reformer
END:VEVENT
END:VCALENDAR