BEGIN:VCALENDAR
VERSION:2.0
PRODID:-//Synergy Healthworks - ECPv6.15.20//NONSGML v1.0//EN
CALSCALE:GREGORIAN
METHOD:PUBLISH
X-ORIGINAL-URL:https://synergyhealthworks.com
X-WR-CALDESC:Events for Synergy Healthworks
REFRESH-INTERVAL;VALUE=DURATION:PT1H
X-Robots-Tag:noindex
X-PUBLISHED-TTL:PT1H
BEGIN:VTIMEZONE
TZID:Australia/Sydney
BEGIN:STANDARD
TZOFFSETFROM:+1100
TZOFFSETTO:+1000
TZNAME:AEST
DTSTART:20240406T160000
END:STANDARD
BEGIN:DAYLIGHT
TZOFFSETFROM:+1000
TZOFFSETTO:+1100
TZNAME:AEDT
DTSTART:20241005T160000
END:DAYLIGHT
BEGIN:STANDARD
TZOFFSETFROM:+1100
TZOFFSETTO:+1000
TZNAME:AEST
DTSTART:20250405T160000
END:STANDARD
BEGIN:DAYLIGHT
TZOFFSETFROM:+1000
TZOFFSETTO:+1100
TZNAME:AEDT
DTSTART:20251004T160000
END:DAYLIGHT
BEGIN:STANDARD
TZOFFSETFROM:+1100
TZOFFSETTO:+1000
TZNAME:AEST
DTSTART:20260404T160000
END:STANDARD
BEGIN:DAYLIGHT
TZOFFSETFROM:+1000
TZOFFSETTO:+1100
TZNAME:AEDT
DTSTART:20261003T160000
END:DAYLIGHT
END:VTIMEZONE
BEGIN:VEVENT
DTSTART;TZID=Australia/Sydney:20250606T130000
DTEND;TZID=Australia/Sydney:20250606T134500
DTSTAMP:20260425T143057
CREATED:20241204T020436Z
LAST-MODIFIED:20241204T020436Z
UID:10104277-1749214800-1749217500@synergyhealthworks.com
SUMMARY:Power Reformer
DESCRIPTION:
URL:https://synergyhealthworks.com/event/power-reformer-2/2025-06-06/
LOCATION:Wagga Wagga | Reformer Studio\, 221 Kincaid Street\, Wagga Wagga\, NSW\, 2650\, Australia
CATEGORIES:Power Reformer
END:VEVENT
BEGIN:VEVENT
DTSTART;TZID=Australia/Sydney:20250604T060000
DTEND;TZID=Australia/Sydney:20250604T064500
DTSTAMP:20260425T143057
CREATED:20241204T014429Z
LAST-MODIFIED:20250914T100515Z
UID:10098504-1749016800-1749019500@synergyhealthworks.com
SUMMARY:Fit Reformer
DESCRIPTION:
URL:https://synergyhealthworks.com/event/fit-reformer-8/2025-06-04/
LOCATION:Wagga Wagga | Reformer Studio\, 221 Kincaid Street\, Wagga Wagga\, NSW\, 2650\, Australia
CATEGORIES:Fit Reformer
END:VEVENT
BEGIN:VEVENT
DTSTART;TZID=Australia/Sydney:20250603T070000
DTEND;TZID=Australia/Sydney:20250603T074500
DTSTAMP:20260425T143057
CREATED:20241204T012619Z
LAST-MODIFIED:20250129T031553Z
UID:10095984-1748934000-1748936700@synergyhealthworks.com
SUMMARY:Clinical Reformer
DESCRIPTION:
URL:https://synergyhealthworks.com/event/clinical-reformer-40/2025-06-03/
LOCATION:Wagga Wagga | Reformer Studio\, 221 Kincaid Street\, Wagga Wagga\, NSW\, 2650\, Australia
CATEGORIES:Clinical Reformer
END:VEVENT
BEGIN:VEVENT
DTSTART;TZID=Australia/Sydney:20250603T060000
DTEND;TZID=Australia/Sydney:20250603T064500
DTSTAMP:20260425T143057
CREATED:20241204T012551Z
LAST-MODIFIED:20250914T095956Z
UID:10095732-1748930400-1748933100@synergyhealthworks.com
SUMMARY:Clinical Reformer
DESCRIPTION:
URL:https://synergyhealthworks.com/event/clinical-reformer-39/2025-06-03/
LOCATION:Wagga Wagga | Reformer Studio\, 221 Kincaid Street\, Wagga Wagga\, NSW\, 2650\, Australia
CATEGORIES:Clinical Reformer
END:VEVENT
BEGIN:VEVENT
DTSTART;TZID=Australia/Sydney:20250602T181500
DTEND;TZID=Australia/Sydney:20250602T190000
DTSTAMP:20260425T143057
CREATED:20241204T012422Z
LAST-MODIFIED:20250914T100622Z
UID:10095480-1748888100-1748890800@synergyhealthworks.com
SUMMARY:Fit Reformer
DESCRIPTION:
URL:https://synergyhealthworks.com/event/fit-reformer-7/2025-06-02/
LOCATION:Wagga Wagga | Reformer Studio\, 221 Kincaid Street\, Wagga Wagga\, NSW\, 2650\, Australia
CATEGORIES:Fit Reformer
END:VEVENT
BEGIN:VEVENT
DTSTART;TZID=Australia/Sydney:20250602T171500
DTEND;TZID=Australia/Sydney:20250602T180000
DTSTAMP:20260425T143057
CREATED:20241204T012357Z
LAST-MODIFIED:20250129T031350Z
UID:10095228-1748884500-1748887200@synergyhealthworks.com
SUMMARY:Fit Reformer
DESCRIPTION:
URL:https://synergyhealthworks.com/event/fit-reformer-6/2025-06-02/
LOCATION:Wagga Wagga | Reformer Studio\, 221 Kincaid Street\, Wagga Wagga\, NSW\, 2650\, Australia
CATEGORIES:Fit Reformer
END:VEVENT
BEGIN:VEVENT
DTSTART;TZID=Australia/Sydney:20250530T130000
DTEND;TZID=Australia/Sydney:20250530T134500
DTSTAMP:20260425T143057
CREATED:20241204T020436Z
LAST-MODIFIED:20241204T020436Z
UID:10104276-1748610000-1748612700@synergyhealthworks.com
SUMMARY:Power Reformer
DESCRIPTION:
URL:https://synergyhealthworks.com/event/power-reformer-2/2025-05-30/
LOCATION:Wagga Wagga | Reformer Studio\, 221 Kincaid Street\, Wagga Wagga\, NSW\, 2650\, Australia
CATEGORIES:Power Reformer
END:VEVENT
BEGIN:VEVENT
DTSTART;TZID=Australia/Sydney:20250528T060000
DTEND;TZID=Australia/Sydney:20250528T064500
DTSTAMP:20260425T143057
CREATED:20241204T014429Z
LAST-MODIFIED:20250914T100515Z
UID:10098503-1748412000-1748414700@synergyhealthworks.com
SUMMARY:Fit Reformer
DESCRIPTION:
URL:https://synergyhealthworks.com/event/fit-reformer-8/2025-05-28/
LOCATION:Wagga Wagga | Reformer Studio\, 221 Kincaid Street\, Wagga Wagga\, NSW\, 2650\, Australia
CATEGORIES:Fit Reformer
END:VEVENT
BEGIN:VEVENT
DTSTART;TZID=Australia/Sydney:20250527T070000
DTEND;TZID=Australia/Sydney:20250527T074500
DTSTAMP:20260425T143057
CREATED:20241204T012619Z
LAST-MODIFIED:20250129T031553Z
UID:10095983-1748329200-1748331900@synergyhealthworks.com
SUMMARY:Clinical Reformer
DESCRIPTION:
URL:https://synergyhealthworks.com/event/clinical-reformer-40/2025-05-27/
LOCATION:Wagga Wagga | Reformer Studio\, 221 Kincaid Street\, Wagga Wagga\, NSW\, 2650\, Australia
CATEGORIES:Clinical Reformer
END:VEVENT
BEGIN:VEVENT
DTSTART;TZID=Australia/Sydney:20250527T060000
DTEND;TZID=Australia/Sydney:20250527T064500
DTSTAMP:20260425T143057
CREATED:20241204T012551Z
LAST-MODIFIED:20250914T095956Z
UID:10095731-1748325600-1748328300@synergyhealthworks.com
SUMMARY:Clinical Reformer
DESCRIPTION:
URL:https://synergyhealthworks.com/event/clinical-reformer-39/2025-05-27/
LOCATION:Wagga Wagga | Reformer Studio\, 221 Kincaid Street\, Wagga Wagga\, NSW\, 2650\, Australia
CATEGORIES:Clinical Reformer
END:VEVENT
BEGIN:VEVENT
DTSTART;TZID=Australia/Sydney:20250526T181500
DTEND;TZID=Australia/Sydney:20250526T190000
DTSTAMP:20260425T143057
CREATED:20241204T012422Z
LAST-MODIFIED:20250914T100622Z
UID:10095479-1748283300-1748286000@synergyhealthworks.com
SUMMARY:Fit Reformer
DESCRIPTION:
URL:https://synergyhealthworks.com/event/fit-reformer-7/2025-05-26/
LOCATION:Wagga Wagga | Reformer Studio\, 221 Kincaid Street\, Wagga Wagga\, NSW\, 2650\, Australia
CATEGORIES:Fit Reformer
END:VEVENT
BEGIN:VEVENT
DTSTART;TZID=Australia/Sydney:20250526T171500
DTEND;TZID=Australia/Sydney:20250526T180000
DTSTAMP:20260425T143057
CREATED:20241204T012357Z
LAST-MODIFIED:20250129T031350Z
UID:10095227-1748279700-1748282400@synergyhealthworks.com
SUMMARY:Fit Reformer
DESCRIPTION:
URL:https://synergyhealthworks.com/event/fit-reformer-6/2025-05-26/
LOCATION:Wagga Wagga | Reformer Studio\, 221 Kincaid Street\, Wagga Wagga\, NSW\, 2650\, Australia
CATEGORIES:Fit Reformer
END:VEVENT
BEGIN:VEVENT
DTSTART;TZID=Australia/Sydney:20250523T130000
DTEND;TZID=Australia/Sydney:20250523T134500
DTSTAMP:20260425T143057
CREATED:20241204T020436Z
LAST-MODIFIED:20241204T020436Z
UID:10104275-1748005200-1748007900@synergyhealthworks.com
SUMMARY:Power Reformer
DESCRIPTION:
URL:https://synergyhealthworks.com/event/power-reformer-2/2025-05-23/
LOCATION:Wagga Wagga | Reformer Studio\, 221 Kincaid Street\, Wagga Wagga\, NSW\, 2650\, Australia
CATEGORIES:Power Reformer
END:VEVENT
BEGIN:VEVENT
DTSTART;TZID=Australia/Sydney:20250521T060000
DTEND;TZID=Australia/Sydney:20250521T064500
DTSTAMP:20260425T143057
CREATED:20241204T014429Z
LAST-MODIFIED:20250914T100515Z
UID:10098502-1747807200-1747809900@synergyhealthworks.com
SUMMARY:Fit Reformer
DESCRIPTION:
URL:https://synergyhealthworks.com/event/fit-reformer-8/2025-05-21/
LOCATION:Wagga Wagga | Reformer Studio\, 221 Kincaid Street\, Wagga Wagga\, NSW\, 2650\, Australia
CATEGORIES:Fit Reformer
END:VEVENT
BEGIN:VEVENT
DTSTART;TZID=Australia/Sydney:20250520T070000
DTEND;TZID=Australia/Sydney:20250520T074500
DTSTAMP:20260425T143057
CREATED:20241204T012619Z
LAST-MODIFIED:20250129T031553Z
UID:10095982-1747724400-1747727100@synergyhealthworks.com
SUMMARY:Clinical Reformer
DESCRIPTION:
URL:https://synergyhealthworks.com/event/clinical-reformer-40/2025-05-20/
LOCATION:Wagga Wagga | Reformer Studio\, 221 Kincaid Street\, Wagga Wagga\, NSW\, 2650\, Australia
CATEGORIES:Clinical Reformer
END:VEVENT
BEGIN:VEVENT
DTSTART;TZID=Australia/Sydney:20250520T060000
DTEND;TZID=Australia/Sydney:20250520T064500
DTSTAMP:20260425T143057
CREATED:20241204T012551Z
LAST-MODIFIED:20250914T095956Z
UID:10095730-1747720800-1747723500@synergyhealthworks.com
SUMMARY:Clinical Reformer
DESCRIPTION:
URL:https://synergyhealthworks.com/event/clinical-reformer-39/2025-05-20/
LOCATION:Wagga Wagga | Reformer Studio\, 221 Kincaid Street\, Wagga Wagga\, NSW\, 2650\, Australia
CATEGORIES:Clinical Reformer
END:VEVENT
BEGIN:VEVENT
DTSTART;TZID=Australia/Sydney:20250519T181500
DTEND;TZID=Australia/Sydney:20250519T190000
DTSTAMP:20260425T143057
CREATED:20241204T012422Z
LAST-MODIFIED:20250914T100622Z
UID:10095478-1747678500-1747681200@synergyhealthworks.com
SUMMARY:Fit Reformer
DESCRIPTION:
URL:https://synergyhealthworks.com/event/fit-reformer-7/2025-05-19/
LOCATION:Wagga Wagga | Reformer Studio\, 221 Kincaid Street\, Wagga Wagga\, NSW\, 2650\, Australia
CATEGORIES:Fit Reformer
END:VEVENT
BEGIN:VEVENT
DTSTART;TZID=Australia/Sydney:20250519T171500
DTEND;TZID=Australia/Sydney:20250519T180000
DTSTAMP:20260425T143057
CREATED:20241204T012357Z
LAST-MODIFIED:20250129T031350Z
UID:10095226-1747674900-1747677600@synergyhealthworks.com
SUMMARY:Fit Reformer
DESCRIPTION:
URL:https://synergyhealthworks.com/event/fit-reformer-6/2025-05-19/
LOCATION:Wagga Wagga | Reformer Studio\, 221 Kincaid Street\, Wagga Wagga\, NSW\, 2650\, Australia
CATEGORIES:Fit Reformer
END:VEVENT
BEGIN:VEVENT
DTSTART;TZID=Australia/Sydney:20250516T130000
DTEND;TZID=Australia/Sydney:20250516T134500
DTSTAMP:20260425T143057
CREATED:20241204T020436Z
LAST-MODIFIED:20241204T020436Z
UID:10104274-1747400400-1747403100@synergyhealthworks.com
SUMMARY:Power Reformer
DESCRIPTION:
URL:https://synergyhealthworks.com/event/power-reformer-2/2025-05-16/
LOCATION:Wagga Wagga | Reformer Studio\, 221 Kincaid Street\, Wagga Wagga\, NSW\, 2650\, Australia
CATEGORIES:Power Reformer
END:VEVENT
BEGIN:VEVENT
DTSTART;TZID=Australia/Sydney:20250514T060000
DTEND;TZID=Australia/Sydney:20250514T064500
DTSTAMP:20260425T143057
CREATED:20241204T014429Z
LAST-MODIFIED:20250914T100515Z
UID:10098501-1747202400-1747205100@synergyhealthworks.com
SUMMARY:Fit Reformer
DESCRIPTION:
URL:https://synergyhealthworks.com/event/fit-reformer-8/2025-05-14/
LOCATION:Wagga Wagga | Reformer Studio\, 221 Kincaid Street\, Wagga Wagga\, NSW\, 2650\, Australia
CATEGORIES:Fit Reformer
END:VEVENT
BEGIN:VEVENT
DTSTART;TZID=Australia/Sydney:20250513T070000
DTEND;TZID=Australia/Sydney:20250513T074500
DTSTAMP:20260425T143057
CREATED:20241204T012619Z
LAST-MODIFIED:20250129T031553Z
UID:10095981-1747119600-1747122300@synergyhealthworks.com
SUMMARY:Clinical Reformer
DESCRIPTION:
URL:https://synergyhealthworks.com/event/clinical-reformer-40/2025-05-13/
LOCATION:Wagga Wagga | Reformer Studio\, 221 Kincaid Street\, Wagga Wagga\, NSW\, 2650\, Australia
CATEGORIES:Clinical Reformer
END:VEVENT
BEGIN:VEVENT
DTSTART;TZID=Australia/Sydney:20250513T060000
DTEND;TZID=Australia/Sydney:20250513T064500
DTSTAMP:20260425T143057
CREATED:20241204T012551Z
LAST-MODIFIED:20250914T095956Z
UID:10095729-1747116000-1747118700@synergyhealthworks.com
SUMMARY:Clinical Reformer
DESCRIPTION:
URL:https://synergyhealthworks.com/event/clinical-reformer-39/2025-05-13/
LOCATION:Wagga Wagga | Reformer Studio\, 221 Kincaid Street\, Wagga Wagga\, NSW\, 2650\, Australia
CATEGORIES:Clinical Reformer
END:VEVENT
BEGIN:VEVENT
DTSTART;TZID=Australia/Sydney:20250512T181500
DTEND;TZID=Australia/Sydney:20250512T190000
DTSTAMP:20260425T143057
CREATED:20241204T012422Z
LAST-MODIFIED:20250914T100622Z
UID:10095477-1747073700-1747076400@synergyhealthworks.com
SUMMARY:Fit Reformer
DESCRIPTION:
URL:https://synergyhealthworks.com/event/fit-reformer-7/2025-05-12/
LOCATION:Wagga Wagga | Reformer Studio\, 221 Kincaid Street\, Wagga Wagga\, NSW\, 2650\, Australia
CATEGORIES:Fit Reformer
END:VEVENT
BEGIN:VEVENT
DTSTART;TZID=Australia/Sydney:20250512T171500
DTEND;TZID=Australia/Sydney:20250512T180000
DTSTAMP:20260425T143057
CREATED:20241204T012357Z
LAST-MODIFIED:20250129T031350Z
UID:10095225-1747070100-1747072800@synergyhealthworks.com
SUMMARY:Fit Reformer
DESCRIPTION:
URL:https://synergyhealthworks.com/event/fit-reformer-6/2025-05-12/
LOCATION:Wagga Wagga | Reformer Studio\, 221 Kincaid Street\, Wagga Wagga\, NSW\, 2650\, Australia
CATEGORIES:Fit Reformer
END:VEVENT
BEGIN:VEVENT
DTSTART;TZID=Australia/Sydney:20250509T130000
DTEND;TZID=Australia/Sydney:20250509T134500
DTSTAMP:20260425T143057
CREATED:20241204T020436Z
LAST-MODIFIED:20241204T020436Z
UID:10104273-1746795600-1746798300@synergyhealthworks.com
SUMMARY:Power Reformer
DESCRIPTION:
URL:https://synergyhealthworks.com/event/power-reformer-2/2025-05-09/
LOCATION:Wagga Wagga | Reformer Studio\, 221 Kincaid Street\, Wagga Wagga\, NSW\, 2650\, Australia
CATEGORIES:Power Reformer
END:VEVENT
BEGIN:VEVENT
DTSTART;TZID=Australia/Sydney:20250507T060000
DTEND;TZID=Australia/Sydney:20250507T064500
DTSTAMP:20260425T143057
CREATED:20241204T014429Z
LAST-MODIFIED:20250914T100515Z
UID:10098500-1746597600-1746600300@synergyhealthworks.com
SUMMARY:Fit Reformer
DESCRIPTION:
URL:https://synergyhealthworks.com/event/fit-reformer-8/2025-05-07/
LOCATION:Wagga Wagga | Reformer Studio\, 221 Kincaid Street\, Wagga Wagga\, NSW\, 2650\, Australia
CATEGORIES:Fit Reformer
END:VEVENT
BEGIN:VEVENT
DTSTART;TZID=Australia/Sydney:20250506T070000
DTEND;TZID=Australia/Sydney:20250506T074500
DTSTAMP:20260425T143057
CREATED:20241204T012619Z
LAST-MODIFIED:20250129T031553Z
UID:10095980-1746514800-1746517500@synergyhealthworks.com
SUMMARY:Clinical Reformer
DESCRIPTION:
URL:https://synergyhealthworks.com/event/clinical-reformer-40/2025-05-06/
LOCATION:Wagga Wagga | Reformer Studio\, 221 Kincaid Street\, Wagga Wagga\, NSW\, 2650\, Australia
CATEGORIES:Clinical Reformer
END:VEVENT
BEGIN:VEVENT
DTSTART;TZID=Australia/Sydney:20250506T060000
DTEND;TZID=Australia/Sydney:20250506T064500
DTSTAMP:20260425T143057
CREATED:20241204T012551Z
LAST-MODIFIED:20250914T095956Z
UID:10095728-1746511200-1746513900@synergyhealthworks.com
SUMMARY:Clinical Reformer
DESCRIPTION:
URL:https://synergyhealthworks.com/event/clinical-reformer-39/2025-05-06/
LOCATION:Wagga Wagga | Reformer Studio\, 221 Kincaid Street\, Wagga Wagga\, NSW\, 2650\, Australia
CATEGORIES:Clinical Reformer
END:VEVENT
BEGIN:VEVENT
DTSTART;TZID=Australia/Sydney:20250505T181500
DTEND;TZID=Australia/Sydney:20250505T190000
DTSTAMP:20260425T143057
CREATED:20241204T012422Z
LAST-MODIFIED:20250914T100622Z
UID:10095476-1746468900-1746471600@synergyhealthworks.com
SUMMARY:Fit Reformer
DESCRIPTION:
URL:https://synergyhealthworks.com/event/fit-reformer-7/2025-05-05/
LOCATION:Wagga Wagga | Reformer Studio\, 221 Kincaid Street\, Wagga Wagga\, NSW\, 2650\, Australia
CATEGORIES:Fit Reformer
END:VEVENT
BEGIN:VEVENT
DTSTART;TZID=Australia/Sydney:20250505T171500
DTEND;TZID=Australia/Sydney:20250505T180000
DTSTAMP:20260425T143057
CREATED:20241204T012357Z
LAST-MODIFIED:20250129T031350Z
UID:10095224-1746465300-1746468000@synergyhealthworks.com
SUMMARY:Fit Reformer
DESCRIPTION:
URL:https://synergyhealthworks.com/event/fit-reformer-6/2025-05-05/
LOCATION:Wagga Wagga | Reformer Studio\, 221 Kincaid Street\, Wagga Wagga\, NSW\, 2650\, Australia
CATEGORIES:Fit Reformer
END:VEVENT
END:VCALENDAR