BEGIN:VCALENDAR
VERSION:2.0
PRODID:-//Synergy Healthworks - ECPv6.15.20//NONSGML v1.0//EN
CALSCALE:GREGORIAN
METHOD:PUBLISH
X-ORIGINAL-URL:https://synergyhealthworks.com
X-WR-CALDESC:Events for Synergy Healthworks
REFRESH-INTERVAL;VALUE=DURATION:PT1H
X-Robots-Tag:noindex
X-PUBLISHED-TTL:PT1H
BEGIN:VTIMEZONE
TZID:Australia/Sydney
BEGIN:STANDARD
TZOFFSETFROM:+1100
TZOFFSETTO:+1000
TZNAME:AEST
DTSTART:20240406T160000
END:STANDARD
BEGIN:DAYLIGHT
TZOFFSETFROM:+1000
TZOFFSETTO:+1100
TZNAME:AEDT
DTSTART:20241005T160000
END:DAYLIGHT
BEGIN:STANDARD
TZOFFSETFROM:+1100
TZOFFSETTO:+1000
TZNAME:AEST
DTSTART:20250405T160000
END:STANDARD
BEGIN:DAYLIGHT
TZOFFSETFROM:+1000
TZOFFSETTO:+1100
TZNAME:AEDT
DTSTART:20251004T160000
END:DAYLIGHT
BEGIN:STANDARD
TZOFFSETFROM:+1100
TZOFFSETTO:+1000
TZNAME:AEST
DTSTART:20260404T160000
END:STANDARD
BEGIN:DAYLIGHT
TZOFFSETFROM:+1000
TZOFFSETTO:+1100
TZNAME:AEDT
DTSTART:20261003T160000
END:DAYLIGHT
END:VTIMEZONE
BEGIN:VEVENT
DTSTART;TZID=Australia/Sydney:20250801T130000
DTEND;TZID=Australia/Sydney:20250801T134500
DTSTAMP:20260425T075921
CREATED:20241204T020436Z
LAST-MODIFIED:20241204T020436Z
UID:10104285-1754053200-1754055900@synergyhealthworks.com
SUMMARY:Power Reformer
DESCRIPTION:
URL:https://synergyhealthworks.com/event/power-reformer-2/2025-08-01/
LOCATION:Wagga Wagga | Reformer Studio\, 221 Kincaid Street\, Wagga Wagga\, NSW\, 2650\, Australia
CATEGORIES:Power Reformer
END:VEVENT
BEGIN:VEVENT
DTSTART;TZID=Australia/Sydney:20250730T060000
DTEND;TZID=Australia/Sydney:20250730T064500
DTSTAMP:20260425T075921
CREATED:20241204T014429Z
LAST-MODIFIED:20250914T100515Z
UID:10098512-1753855200-1753857900@synergyhealthworks.com
SUMMARY:Fit Reformer
DESCRIPTION:
URL:https://synergyhealthworks.com/event/fit-reformer-8/2025-07-30/
LOCATION:Wagga Wagga | Reformer Studio\, 221 Kincaid Street\, Wagga Wagga\, NSW\, 2650\, Australia
CATEGORIES:Fit Reformer
END:VEVENT
BEGIN:VEVENT
DTSTART;TZID=Australia/Sydney:20250729T070000
DTEND;TZID=Australia/Sydney:20250729T074500
DTSTAMP:20260425T075921
CREATED:20241204T012619Z
LAST-MODIFIED:20250129T031553Z
UID:10095992-1753772400-1753775100@synergyhealthworks.com
SUMMARY:Clinical Reformer
DESCRIPTION:
URL:https://synergyhealthworks.com/event/clinical-reformer-40/2025-07-29/
LOCATION:Wagga Wagga | Reformer Studio\, 221 Kincaid Street\, Wagga Wagga\, NSW\, 2650\, Australia
CATEGORIES:Clinical Reformer
END:VEVENT
BEGIN:VEVENT
DTSTART;TZID=Australia/Sydney:20250729T060000
DTEND;TZID=Australia/Sydney:20250729T064500
DTSTAMP:20260425T075921
CREATED:20241204T012551Z
LAST-MODIFIED:20250914T095956Z
UID:10095740-1753768800-1753771500@synergyhealthworks.com
SUMMARY:Clinical Reformer
DESCRIPTION:
URL:https://synergyhealthworks.com/event/clinical-reformer-39/2025-07-29/
LOCATION:Wagga Wagga | Reformer Studio\, 221 Kincaid Street\, Wagga Wagga\, NSW\, 2650\, Australia
CATEGORIES:Clinical Reformer
END:VEVENT
BEGIN:VEVENT
DTSTART;TZID=Australia/Sydney:20250728T181500
DTEND;TZID=Australia/Sydney:20250728T190000
DTSTAMP:20260425T075921
CREATED:20241204T012422Z
LAST-MODIFIED:20250914T100622Z
UID:10095488-1753726500-1753729200@synergyhealthworks.com
SUMMARY:Fit Reformer
DESCRIPTION:
URL:https://synergyhealthworks.com/event/fit-reformer-7/2025-07-28/
LOCATION:Wagga Wagga | Reformer Studio\, 221 Kincaid Street\, Wagga Wagga\, NSW\, 2650\, Australia
CATEGORIES:Fit Reformer
END:VEVENT
BEGIN:VEVENT
DTSTART;TZID=Australia/Sydney:20250728T171500
DTEND;TZID=Australia/Sydney:20250728T180000
DTSTAMP:20260425T075921
CREATED:20241204T012357Z
LAST-MODIFIED:20250129T031350Z
UID:10095236-1753722900-1753725600@synergyhealthworks.com
SUMMARY:Fit Reformer
DESCRIPTION:
URL:https://synergyhealthworks.com/event/fit-reformer-6/2025-07-28/
LOCATION:Wagga Wagga | Reformer Studio\, 221 Kincaid Street\, Wagga Wagga\, NSW\, 2650\, Australia
CATEGORIES:Fit Reformer
END:VEVENT
BEGIN:VEVENT
DTSTART;TZID=Australia/Sydney:20250725T130000
DTEND;TZID=Australia/Sydney:20250725T134500
DTSTAMP:20260425T075921
CREATED:20241204T020436Z
LAST-MODIFIED:20241204T020436Z
UID:10104284-1753448400-1753451100@synergyhealthworks.com
SUMMARY:Power Reformer
DESCRIPTION:
URL:https://synergyhealthworks.com/event/power-reformer-2/2025-07-25/
LOCATION:Wagga Wagga | Reformer Studio\, 221 Kincaid Street\, Wagga Wagga\, NSW\, 2650\, Australia
CATEGORIES:Power Reformer
END:VEVENT
BEGIN:VEVENT
DTSTART;TZID=Australia/Sydney:20250723T060000
DTEND;TZID=Australia/Sydney:20250723T064500
DTSTAMP:20260425T075921
CREATED:20241204T014429Z
LAST-MODIFIED:20250914T100515Z
UID:10098511-1753250400-1753253100@synergyhealthworks.com
SUMMARY:Fit Reformer
DESCRIPTION:
URL:https://synergyhealthworks.com/event/fit-reformer-8/2025-07-23/
LOCATION:Wagga Wagga | Reformer Studio\, 221 Kincaid Street\, Wagga Wagga\, NSW\, 2650\, Australia
CATEGORIES:Fit Reformer
END:VEVENT
BEGIN:VEVENT
DTSTART;TZID=Australia/Sydney:20250722T070000
DTEND;TZID=Australia/Sydney:20250722T074500
DTSTAMP:20260425T075921
CREATED:20241204T012619Z
LAST-MODIFIED:20250129T031553Z
UID:10095991-1753167600-1753170300@synergyhealthworks.com
SUMMARY:Clinical Reformer
DESCRIPTION:
URL:https://synergyhealthworks.com/event/clinical-reformer-40/2025-07-22/
LOCATION:Wagga Wagga | Reformer Studio\, 221 Kincaid Street\, Wagga Wagga\, NSW\, 2650\, Australia
CATEGORIES:Clinical Reformer
END:VEVENT
BEGIN:VEVENT
DTSTART;TZID=Australia/Sydney:20250722T060000
DTEND;TZID=Australia/Sydney:20250722T064500
DTSTAMP:20260425T075921
CREATED:20241204T012551Z
LAST-MODIFIED:20250914T095956Z
UID:10095739-1753164000-1753166700@synergyhealthworks.com
SUMMARY:Clinical Reformer
DESCRIPTION:
URL:https://synergyhealthworks.com/event/clinical-reformer-39/2025-07-22/
LOCATION:Wagga Wagga | Reformer Studio\, 221 Kincaid Street\, Wagga Wagga\, NSW\, 2650\, Australia
CATEGORIES:Clinical Reformer
END:VEVENT
BEGIN:VEVENT
DTSTART;TZID=Australia/Sydney:20250721T181500
DTEND;TZID=Australia/Sydney:20250721T190000
DTSTAMP:20260425T075921
CREATED:20241204T012422Z
LAST-MODIFIED:20250914T100622Z
UID:10095487-1753121700-1753124400@synergyhealthworks.com
SUMMARY:Fit Reformer
DESCRIPTION:
URL:https://synergyhealthworks.com/event/fit-reformer-7/2025-07-21/
LOCATION:Wagga Wagga | Reformer Studio\, 221 Kincaid Street\, Wagga Wagga\, NSW\, 2650\, Australia
CATEGORIES:Fit Reformer
END:VEVENT
BEGIN:VEVENT
DTSTART;TZID=Australia/Sydney:20250721T171500
DTEND;TZID=Australia/Sydney:20250721T180000
DTSTAMP:20260425T075921
CREATED:20241204T012357Z
LAST-MODIFIED:20250129T031350Z
UID:10095235-1753118100-1753120800@synergyhealthworks.com
SUMMARY:Fit Reformer
DESCRIPTION:
URL:https://synergyhealthworks.com/event/fit-reformer-6/2025-07-21/
LOCATION:Wagga Wagga | Reformer Studio\, 221 Kincaid Street\, Wagga Wagga\, NSW\, 2650\, Australia
CATEGORIES:Fit Reformer
END:VEVENT
BEGIN:VEVENT
DTSTART;TZID=Australia/Sydney:20250718T130000
DTEND;TZID=Australia/Sydney:20250718T134500
DTSTAMP:20260425T075921
CREATED:20241204T020436Z
LAST-MODIFIED:20241204T020436Z
UID:10104283-1752843600-1752846300@synergyhealthworks.com
SUMMARY:Power Reformer
DESCRIPTION:
URL:https://synergyhealthworks.com/event/power-reformer-2/2025-07-18/
LOCATION:Wagga Wagga | Reformer Studio\, 221 Kincaid Street\, Wagga Wagga\, NSW\, 2650\, Australia
CATEGORIES:Power Reformer
END:VEVENT
BEGIN:VEVENT
DTSTART;TZID=Australia/Sydney:20250716T060000
DTEND;TZID=Australia/Sydney:20250716T064500
DTSTAMP:20260425T075921
CREATED:20241204T014429Z
LAST-MODIFIED:20250914T100515Z
UID:10098510-1752645600-1752648300@synergyhealthworks.com
SUMMARY:Fit Reformer
DESCRIPTION:
URL:https://synergyhealthworks.com/event/fit-reformer-8/2025-07-16/
LOCATION:Wagga Wagga | Reformer Studio\, 221 Kincaid Street\, Wagga Wagga\, NSW\, 2650\, Australia
CATEGORIES:Fit Reformer
END:VEVENT
BEGIN:VEVENT
DTSTART;TZID=Australia/Sydney:20250715T070000
DTEND;TZID=Australia/Sydney:20250715T074500
DTSTAMP:20260425T075921
CREATED:20241204T012619Z
LAST-MODIFIED:20250129T031553Z
UID:10095990-1752562800-1752565500@synergyhealthworks.com
SUMMARY:Clinical Reformer
DESCRIPTION:
URL:https://synergyhealthworks.com/event/clinical-reformer-40/2025-07-15/
LOCATION:Wagga Wagga | Reformer Studio\, 221 Kincaid Street\, Wagga Wagga\, NSW\, 2650\, Australia
CATEGORIES:Clinical Reformer
END:VEVENT
BEGIN:VEVENT
DTSTART;TZID=Australia/Sydney:20250715T060000
DTEND;TZID=Australia/Sydney:20250715T064500
DTSTAMP:20260425T075921
CREATED:20241204T012551Z
LAST-MODIFIED:20250914T095956Z
UID:10095738-1752559200-1752561900@synergyhealthworks.com
SUMMARY:Clinical Reformer
DESCRIPTION:
URL:https://synergyhealthworks.com/event/clinical-reformer-39/2025-07-15/
LOCATION:Wagga Wagga | Reformer Studio\, 221 Kincaid Street\, Wagga Wagga\, NSW\, 2650\, Australia
CATEGORIES:Clinical Reformer
END:VEVENT
BEGIN:VEVENT
DTSTART;TZID=Australia/Sydney:20250714T181500
DTEND;TZID=Australia/Sydney:20250714T190000
DTSTAMP:20260425T075921
CREATED:20241204T012422Z
LAST-MODIFIED:20250914T100622Z
UID:10095486-1752516900-1752519600@synergyhealthworks.com
SUMMARY:Fit Reformer
DESCRIPTION:
URL:https://synergyhealthworks.com/event/fit-reformer-7/2025-07-14/
LOCATION:Wagga Wagga | Reformer Studio\, 221 Kincaid Street\, Wagga Wagga\, NSW\, 2650\, Australia
CATEGORIES:Fit Reformer
END:VEVENT
BEGIN:VEVENT
DTSTART;TZID=Australia/Sydney:20250714T171500
DTEND;TZID=Australia/Sydney:20250714T180000
DTSTAMP:20260425T075921
CREATED:20241204T012357Z
LAST-MODIFIED:20250129T031350Z
UID:10095234-1752513300-1752516000@synergyhealthworks.com
SUMMARY:Fit Reformer
DESCRIPTION:
URL:https://synergyhealthworks.com/event/fit-reformer-6/2025-07-14/
LOCATION:Wagga Wagga | Reformer Studio\, 221 Kincaid Street\, Wagga Wagga\, NSW\, 2650\, Australia
CATEGORIES:Fit Reformer
END:VEVENT
BEGIN:VEVENT
DTSTART;TZID=Australia/Sydney:20250711T130000
DTEND;TZID=Australia/Sydney:20250711T134500
DTSTAMP:20260425T075921
CREATED:20241204T020436Z
LAST-MODIFIED:20241204T020436Z
UID:10104282-1752238800-1752241500@synergyhealthworks.com
SUMMARY:Power Reformer
DESCRIPTION:
URL:https://synergyhealthworks.com/event/power-reformer-2/2025-07-11/
LOCATION:Wagga Wagga | Reformer Studio\, 221 Kincaid Street\, Wagga Wagga\, NSW\, 2650\, Australia
CATEGORIES:Power Reformer
END:VEVENT
BEGIN:VEVENT
DTSTART;TZID=Australia/Sydney:20250709T060000
DTEND;TZID=Australia/Sydney:20250709T064500
DTSTAMP:20260425T075921
CREATED:20241204T014429Z
LAST-MODIFIED:20250914T100515Z
UID:10098509-1752040800-1752043500@synergyhealthworks.com
SUMMARY:Fit Reformer
DESCRIPTION:
URL:https://synergyhealthworks.com/event/fit-reformer-8/2025-07-09/
LOCATION:Wagga Wagga | Reformer Studio\, 221 Kincaid Street\, Wagga Wagga\, NSW\, 2650\, Australia
CATEGORIES:Fit Reformer
END:VEVENT
BEGIN:VEVENT
DTSTART;TZID=Australia/Sydney:20250708T070000
DTEND;TZID=Australia/Sydney:20250708T074500
DTSTAMP:20260425T075921
CREATED:20241204T012619Z
LAST-MODIFIED:20250129T031553Z
UID:10095989-1751958000-1751960700@synergyhealthworks.com
SUMMARY:Clinical Reformer
DESCRIPTION:
URL:https://synergyhealthworks.com/event/clinical-reformer-40/2025-07-08/
LOCATION:Wagga Wagga | Reformer Studio\, 221 Kincaid Street\, Wagga Wagga\, NSW\, 2650\, Australia
CATEGORIES:Clinical Reformer
END:VEVENT
BEGIN:VEVENT
DTSTART;TZID=Australia/Sydney:20250708T060000
DTEND;TZID=Australia/Sydney:20250708T064500
DTSTAMP:20260425T075921
CREATED:20241204T012551Z
LAST-MODIFIED:20250914T095956Z
UID:10095737-1751954400-1751957100@synergyhealthworks.com
SUMMARY:Clinical Reformer
DESCRIPTION:
URL:https://synergyhealthworks.com/event/clinical-reformer-39/2025-07-08/
LOCATION:Wagga Wagga | Reformer Studio\, 221 Kincaid Street\, Wagga Wagga\, NSW\, 2650\, Australia
CATEGORIES:Clinical Reformer
END:VEVENT
BEGIN:VEVENT
DTSTART;TZID=Australia/Sydney:20250707T181500
DTEND;TZID=Australia/Sydney:20250707T190000
DTSTAMP:20260425T075921
CREATED:20241204T012422Z
LAST-MODIFIED:20250914T100622Z
UID:10095485-1751912100-1751914800@synergyhealthworks.com
SUMMARY:Fit Reformer
DESCRIPTION:
URL:https://synergyhealthworks.com/event/fit-reformer-7/2025-07-07/
LOCATION:Wagga Wagga | Reformer Studio\, 221 Kincaid Street\, Wagga Wagga\, NSW\, 2650\, Australia
CATEGORIES:Fit Reformer
END:VEVENT
BEGIN:VEVENT
DTSTART;TZID=Australia/Sydney:20250707T171500
DTEND;TZID=Australia/Sydney:20250707T180000
DTSTAMP:20260425T075921
CREATED:20241204T012357Z
LAST-MODIFIED:20250129T031350Z
UID:10095233-1751908500-1751911200@synergyhealthworks.com
SUMMARY:Fit Reformer
DESCRIPTION:
URL:https://synergyhealthworks.com/event/fit-reformer-6/2025-07-07/
LOCATION:Wagga Wagga | Reformer Studio\, 221 Kincaid Street\, Wagga Wagga\, NSW\, 2650\, Australia
CATEGORIES:Fit Reformer
END:VEVENT
BEGIN:VEVENT
DTSTART;TZID=Australia/Sydney:20250704T130000
DTEND;TZID=Australia/Sydney:20250704T134500
DTSTAMP:20260425T075921
CREATED:20241204T020436Z
LAST-MODIFIED:20241204T020436Z
UID:10104281-1751634000-1751636700@synergyhealthworks.com
SUMMARY:Power Reformer
DESCRIPTION:
URL:https://synergyhealthworks.com/event/power-reformer-2/2025-07-04/
LOCATION:Wagga Wagga | Reformer Studio\, 221 Kincaid Street\, Wagga Wagga\, NSW\, 2650\, Australia
CATEGORIES:Power Reformer
END:VEVENT
BEGIN:VEVENT
DTSTART;TZID=Australia/Sydney:20250702T060000
DTEND;TZID=Australia/Sydney:20250702T064500
DTSTAMP:20260425T075921
CREATED:20241204T014429Z
LAST-MODIFIED:20250914T100515Z
UID:10098508-1751436000-1751438700@synergyhealthworks.com
SUMMARY:Fit Reformer
DESCRIPTION:
URL:https://synergyhealthworks.com/event/fit-reformer-8/2025-07-02/
LOCATION:Wagga Wagga | Reformer Studio\, 221 Kincaid Street\, Wagga Wagga\, NSW\, 2650\, Australia
CATEGORIES:Fit Reformer
END:VEVENT
BEGIN:VEVENT
DTSTART;TZID=Australia/Sydney:20250701T070000
DTEND;TZID=Australia/Sydney:20250701T074500
DTSTAMP:20260425T075921
CREATED:20241204T012619Z
LAST-MODIFIED:20250129T031553Z
UID:10095988-1751353200-1751355900@synergyhealthworks.com
SUMMARY:Clinical Reformer
DESCRIPTION:
URL:https://synergyhealthworks.com/event/clinical-reformer-40/2025-07-01/
LOCATION:Wagga Wagga | Reformer Studio\, 221 Kincaid Street\, Wagga Wagga\, NSW\, 2650\, Australia
CATEGORIES:Clinical Reformer
END:VEVENT
BEGIN:VEVENT
DTSTART;TZID=Australia/Sydney:20250701T060000
DTEND;TZID=Australia/Sydney:20250701T064500
DTSTAMP:20260425T075921
CREATED:20241204T012551Z
LAST-MODIFIED:20250914T095956Z
UID:10095736-1751349600-1751352300@synergyhealthworks.com
SUMMARY:Clinical Reformer
DESCRIPTION:
URL:https://synergyhealthworks.com/event/clinical-reformer-39/2025-07-01/
LOCATION:Wagga Wagga | Reformer Studio\, 221 Kincaid Street\, Wagga Wagga\, NSW\, 2650\, Australia
CATEGORIES:Clinical Reformer
END:VEVENT
BEGIN:VEVENT
DTSTART;TZID=Australia/Sydney:20250630T181500
DTEND;TZID=Australia/Sydney:20250630T190000
DTSTAMP:20260425T075921
CREATED:20241204T012422Z
LAST-MODIFIED:20250914T100622Z
UID:10095484-1751307300-1751310000@synergyhealthworks.com
SUMMARY:Fit Reformer
DESCRIPTION:
URL:https://synergyhealthworks.com/event/fit-reformer-7/2025-06-30/
LOCATION:Wagga Wagga | Reformer Studio\, 221 Kincaid Street\, Wagga Wagga\, NSW\, 2650\, Australia
CATEGORIES:Fit Reformer
END:VEVENT
BEGIN:VEVENT
DTSTART;TZID=Australia/Sydney:20250630T171500
DTEND;TZID=Australia/Sydney:20250630T180000
DTSTAMP:20260425T075921
CREATED:20241204T012357Z
LAST-MODIFIED:20250129T031350Z
UID:10095232-1751303700-1751306400@synergyhealthworks.com
SUMMARY:Fit Reformer
DESCRIPTION:
URL:https://synergyhealthworks.com/event/fit-reformer-6/2025-06-30/
LOCATION:Wagga Wagga | Reformer Studio\, 221 Kincaid Street\, Wagga Wagga\, NSW\, 2650\, Australia
CATEGORIES:Fit Reformer
END:VEVENT
END:VCALENDAR