BEGIN:VCALENDAR
VERSION:2.0
PRODID:-//Synergy Healthworks - ECPv6.15.20//NONSGML v1.0//EN
CALSCALE:GREGORIAN
METHOD:PUBLISH
X-ORIGINAL-URL:https://synergyhealthworks.com
X-WR-CALDESC:Events for Synergy Healthworks
REFRESH-INTERVAL;VALUE=DURATION:PT1H
X-Robots-Tag:noindex
X-PUBLISHED-TTL:PT1H
BEGIN:VTIMEZONE
TZID:Australia/Sydney
BEGIN:STANDARD
TZOFFSETFROM:+1100
TZOFFSETTO:+1000
TZNAME:AEST
DTSTART:20240406T160000
END:STANDARD
BEGIN:DAYLIGHT
TZOFFSETFROM:+1000
TZOFFSETTO:+1100
TZNAME:AEDT
DTSTART:20241005T160000
END:DAYLIGHT
BEGIN:STANDARD
TZOFFSETFROM:+1100
TZOFFSETTO:+1000
TZNAME:AEST
DTSTART:20250405T160000
END:STANDARD
BEGIN:DAYLIGHT
TZOFFSETFROM:+1000
TZOFFSETTO:+1100
TZNAME:AEDT
DTSTART:20251004T160000
END:DAYLIGHT
BEGIN:STANDARD
TZOFFSETFROM:+1100
TZOFFSETTO:+1000
TZNAME:AEST
DTSTART:20260404T160000
END:STANDARD
BEGIN:DAYLIGHT
TZOFFSETFROM:+1000
TZOFFSETTO:+1100
TZNAME:AEDT
DTSTART:20261003T160000
END:DAYLIGHT
END:VTIMEZONE
BEGIN:VEVENT
DTSTART;TZID=Australia/Sydney:20250912T130000
DTEND;TZID=Australia/Sydney:20250912T134500
DTSTAMP:20260425T025404
CREATED:20241204T020436Z
LAST-MODIFIED:20241204T020436Z
UID:10104291-1757682000-1757684700@synergyhealthworks.com
SUMMARY:Power Reformer
DESCRIPTION:
URL:https://synergyhealthworks.com/event/power-reformer-2/2025-09-12/
LOCATION:Wagga Wagga | Reformer Studio\, 221 Kincaid Street\, Wagga Wagga\, NSW\, 2650\, Australia
CATEGORIES:Power Reformer
END:VEVENT
BEGIN:VEVENT
DTSTART;TZID=Australia/Sydney:20250910T060000
DTEND;TZID=Australia/Sydney:20250910T064500
DTSTAMP:20260425T025404
CREATED:20241204T014429Z
LAST-MODIFIED:20250914T100515Z
UID:10098518-1757484000-1757486700@synergyhealthworks.com
SUMMARY:Fit Reformer
DESCRIPTION:
URL:https://synergyhealthworks.com/event/fit-reformer-8/2025-09-10/
LOCATION:Wagga Wagga | Reformer Studio\, 221 Kincaid Street\, Wagga Wagga\, NSW\, 2650\, Australia
CATEGORIES:Fit Reformer
END:VEVENT
BEGIN:VEVENT
DTSTART;TZID=Australia/Sydney:20250909T070000
DTEND;TZID=Australia/Sydney:20250909T074500
DTSTAMP:20260425T025404
CREATED:20241204T012619Z
LAST-MODIFIED:20250129T031553Z
UID:10095998-1757401200-1757403900@synergyhealthworks.com
SUMMARY:Clinical Reformer
DESCRIPTION:
URL:https://synergyhealthworks.com/event/clinical-reformer-40/2025-09-09/
LOCATION:Wagga Wagga | Reformer Studio\, 221 Kincaid Street\, Wagga Wagga\, NSW\, 2650\, Australia
CATEGORIES:Clinical Reformer
END:VEVENT
BEGIN:VEVENT
DTSTART;TZID=Australia/Sydney:20250909T060000
DTEND;TZID=Australia/Sydney:20250909T064500
DTSTAMP:20260425T025404
CREATED:20241204T012551Z
LAST-MODIFIED:20250914T095956Z
UID:10095746-1757397600-1757400300@synergyhealthworks.com
SUMMARY:Clinical Reformer
DESCRIPTION:
URL:https://synergyhealthworks.com/event/clinical-reformer-39/2025-09-09/
LOCATION:Wagga Wagga | Reformer Studio\, 221 Kincaid Street\, Wagga Wagga\, NSW\, 2650\, Australia
CATEGORIES:Clinical Reformer
END:VEVENT
BEGIN:VEVENT
DTSTART;TZID=Australia/Sydney:20250908T181500
DTEND;TZID=Australia/Sydney:20250908T190000
DTSTAMP:20260425T025404
CREATED:20241204T012422Z
LAST-MODIFIED:20250914T100622Z
UID:10095494-1757355300-1757358000@synergyhealthworks.com
SUMMARY:Fit Reformer
DESCRIPTION:
URL:https://synergyhealthworks.com/event/fit-reformer-7/2025-09-08/
LOCATION:Wagga Wagga | Reformer Studio\, 221 Kincaid Street\, Wagga Wagga\, NSW\, 2650\, Australia
CATEGORIES:Fit Reformer
END:VEVENT
BEGIN:VEVENT
DTSTART;TZID=Australia/Sydney:20250908T171500
DTEND;TZID=Australia/Sydney:20250908T180000
DTSTAMP:20260425T025404
CREATED:20241204T012357Z
LAST-MODIFIED:20250129T031350Z
UID:10095242-1757351700-1757354400@synergyhealthworks.com
SUMMARY:Fit Reformer
DESCRIPTION:
URL:https://synergyhealthworks.com/event/fit-reformer-6/2025-09-08/
LOCATION:Wagga Wagga | Reformer Studio\, 221 Kincaid Street\, Wagga Wagga\, NSW\, 2650\, Australia
CATEGORIES:Fit Reformer
END:VEVENT
BEGIN:VEVENT
DTSTART;TZID=Australia/Sydney:20250905T130000
DTEND;TZID=Australia/Sydney:20250905T134500
DTSTAMP:20260425T025404
CREATED:20241204T020436Z
LAST-MODIFIED:20241204T020436Z
UID:10104290-1757077200-1757079900@synergyhealthworks.com
SUMMARY:Power Reformer
DESCRIPTION:
URL:https://synergyhealthworks.com/event/power-reformer-2/2025-09-05/
LOCATION:Wagga Wagga | Reformer Studio\, 221 Kincaid Street\, Wagga Wagga\, NSW\, 2650\, Australia
CATEGORIES:Power Reformer
END:VEVENT
BEGIN:VEVENT
DTSTART;TZID=Australia/Sydney:20250903T060000
DTEND;TZID=Australia/Sydney:20250903T064500
DTSTAMP:20260425T025404
CREATED:20241204T014429Z
LAST-MODIFIED:20250914T100515Z
UID:10098517-1756879200-1756881900@synergyhealthworks.com
SUMMARY:Fit Reformer
DESCRIPTION:
URL:https://synergyhealthworks.com/event/fit-reformer-8/2025-09-03/
LOCATION:Wagga Wagga | Reformer Studio\, 221 Kincaid Street\, Wagga Wagga\, NSW\, 2650\, Australia
CATEGORIES:Fit Reformer
END:VEVENT
BEGIN:VEVENT
DTSTART;TZID=Australia/Sydney:20250902T070000
DTEND;TZID=Australia/Sydney:20250902T074500
DTSTAMP:20260425T025404
CREATED:20241204T012619Z
LAST-MODIFIED:20250129T031553Z
UID:10095997-1756796400-1756799100@synergyhealthworks.com
SUMMARY:Clinical Reformer
DESCRIPTION:
URL:https://synergyhealthworks.com/event/clinical-reformer-40/2025-09-02/
LOCATION:Wagga Wagga | Reformer Studio\, 221 Kincaid Street\, Wagga Wagga\, NSW\, 2650\, Australia
CATEGORIES:Clinical Reformer
END:VEVENT
BEGIN:VEVENT
DTSTART;TZID=Australia/Sydney:20250902T060000
DTEND;TZID=Australia/Sydney:20250902T064500
DTSTAMP:20260425T025404
CREATED:20241204T012551Z
LAST-MODIFIED:20250914T095956Z
UID:10095745-1756792800-1756795500@synergyhealthworks.com
SUMMARY:Clinical Reformer
DESCRIPTION:
URL:https://synergyhealthworks.com/event/clinical-reformer-39/2025-09-02/
LOCATION:Wagga Wagga | Reformer Studio\, 221 Kincaid Street\, Wagga Wagga\, NSW\, 2650\, Australia
CATEGORIES:Clinical Reformer
END:VEVENT
BEGIN:VEVENT
DTSTART;TZID=Australia/Sydney:20250901T181500
DTEND;TZID=Australia/Sydney:20250901T190000
DTSTAMP:20260425T025404
CREATED:20241204T012422Z
LAST-MODIFIED:20250914T100622Z
UID:10095493-1756750500-1756753200@synergyhealthworks.com
SUMMARY:Fit Reformer
DESCRIPTION:
URL:https://synergyhealthworks.com/event/fit-reformer-7/2025-09-01/
LOCATION:Wagga Wagga | Reformer Studio\, 221 Kincaid Street\, Wagga Wagga\, NSW\, 2650\, Australia
CATEGORIES:Fit Reformer
END:VEVENT
BEGIN:VEVENT
DTSTART;TZID=Australia/Sydney:20250901T171500
DTEND;TZID=Australia/Sydney:20250901T180000
DTSTAMP:20260425T025404
CREATED:20241204T012357Z
LAST-MODIFIED:20250129T031350Z
UID:10095241-1756746900-1756749600@synergyhealthworks.com
SUMMARY:Fit Reformer
DESCRIPTION:
URL:https://synergyhealthworks.com/event/fit-reformer-6/2025-09-01/
LOCATION:Wagga Wagga | Reformer Studio\, 221 Kincaid Street\, Wagga Wagga\, NSW\, 2650\, Australia
CATEGORIES:Fit Reformer
END:VEVENT
BEGIN:VEVENT
DTSTART;TZID=Australia/Sydney:20250829T130000
DTEND;TZID=Australia/Sydney:20250829T134500
DTSTAMP:20260425T025404
CREATED:20241204T020436Z
LAST-MODIFIED:20241204T020436Z
UID:10104289-1756472400-1756475100@synergyhealthworks.com
SUMMARY:Power Reformer
DESCRIPTION:
URL:https://synergyhealthworks.com/event/power-reformer-2/2025-08-29/
LOCATION:Wagga Wagga | Reformer Studio\, 221 Kincaid Street\, Wagga Wagga\, NSW\, 2650\, Australia
CATEGORIES:Power Reformer
END:VEVENT
BEGIN:VEVENT
DTSTART;TZID=Australia/Sydney:20250827T060000
DTEND;TZID=Australia/Sydney:20250827T064500
DTSTAMP:20260425T025404
CREATED:20241204T014429Z
LAST-MODIFIED:20250914T100515Z
UID:10098516-1756274400-1756277100@synergyhealthworks.com
SUMMARY:Fit Reformer
DESCRIPTION:
URL:https://synergyhealthworks.com/event/fit-reformer-8/2025-08-27/
LOCATION:Wagga Wagga | Reformer Studio\, 221 Kincaid Street\, Wagga Wagga\, NSW\, 2650\, Australia
CATEGORIES:Fit Reformer
END:VEVENT
BEGIN:VEVENT
DTSTART;TZID=Australia/Sydney:20250826T070000
DTEND;TZID=Australia/Sydney:20250826T074500
DTSTAMP:20260425T025404
CREATED:20241204T012619Z
LAST-MODIFIED:20250129T031553Z
UID:10095996-1756191600-1756194300@synergyhealthworks.com
SUMMARY:Clinical Reformer
DESCRIPTION:
URL:https://synergyhealthworks.com/event/clinical-reformer-40/2025-08-26/
LOCATION:Wagga Wagga | Reformer Studio\, 221 Kincaid Street\, Wagga Wagga\, NSW\, 2650\, Australia
CATEGORIES:Clinical Reformer
END:VEVENT
BEGIN:VEVENT
DTSTART;TZID=Australia/Sydney:20250826T060000
DTEND;TZID=Australia/Sydney:20250826T064500
DTSTAMP:20260425T025404
CREATED:20241204T012551Z
LAST-MODIFIED:20250914T095956Z
UID:10095744-1756188000-1756190700@synergyhealthworks.com
SUMMARY:Clinical Reformer
DESCRIPTION:
URL:https://synergyhealthworks.com/event/clinical-reformer-39/2025-08-26/
LOCATION:Wagga Wagga | Reformer Studio\, 221 Kincaid Street\, Wagga Wagga\, NSW\, 2650\, Australia
CATEGORIES:Clinical Reformer
END:VEVENT
BEGIN:VEVENT
DTSTART;TZID=Australia/Sydney:20250825T181500
DTEND;TZID=Australia/Sydney:20250825T190000
DTSTAMP:20260425T025404
CREATED:20241204T012422Z
LAST-MODIFIED:20250914T100622Z
UID:10095492-1756145700-1756148400@synergyhealthworks.com
SUMMARY:Fit Reformer
DESCRIPTION:
URL:https://synergyhealthworks.com/event/fit-reformer-7/2025-08-25/
LOCATION:Wagga Wagga | Reformer Studio\, 221 Kincaid Street\, Wagga Wagga\, NSW\, 2650\, Australia
CATEGORIES:Fit Reformer
END:VEVENT
BEGIN:VEVENT
DTSTART;TZID=Australia/Sydney:20250825T171500
DTEND;TZID=Australia/Sydney:20250825T180000
DTSTAMP:20260425T025404
CREATED:20241204T012357Z
LAST-MODIFIED:20250129T031350Z
UID:10095240-1756142100-1756144800@synergyhealthworks.com
SUMMARY:Fit Reformer
DESCRIPTION:
URL:https://synergyhealthworks.com/event/fit-reformer-6/2025-08-25/
LOCATION:Wagga Wagga | Reformer Studio\, 221 Kincaid Street\, Wagga Wagga\, NSW\, 2650\, Australia
CATEGORIES:Fit Reformer
END:VEVENT
BEGIN:VEVENT
DTSTART;TZID=Australia/Sydney:20250822T130000
DTEND;TZID=Australia/Sydney:20250822T134500
DTSTAMP:20260425T025404
CREATED:20241204T020436Z
LAST-MODIFIED:20241204T020436Z
UID:10104288-1755867600-1755870300@synergyhealthworks.com
SUMMARY:Power Reformer
DESCRIPTION:
URL:https://synergyhealthworks.com/event/power-reformer-2/2025-08-22/
LOCATION:Wagga Wagga | Reformer Studio\, 221 Kincaid Street\, Wagga Wagga\, NSW\, 2650\, Australia
CATEGORIES:Power Reformer
END:VEVENT
BEGIN:VEVENT
DTSTART;TZID=Australia/Sydney:20250820T060000
DTEND;TZID=Australia/Sydney:20250820T064500
DTSTAMP:20260425T025404
CREATED:20241204T014429Z
LAST-MODIFIED:20250914T100515Z
UID:10098515-1755669600-1755672300@synergyhealthworks.com
SUMMARY:Fit Reformer
DESCRIPTION:
URL:https://synergyhealthworks.com/event/fit-reformer-8/2025-08-20/
LOCATION:Wagga Wagga | Reformer Studio\, 221 Kincaid Street\, Wagga Wagga\, NSW\, 2650\, Australia
CATEGORIES:Fit Reformer
END:VEVENT
BEGIN:VEVENT
DTSTART;TZID=Australia/Sydney:20250819T070000
DTEND;TZID=Australia/Sydney:20250819T074500
DTSTAMP:20260425T025404
CREATED:20241204T012619Z
LAST-MODIFIED:20250129T031553Z
UID:10095995-1755586800-1755589500@synergyhealthworks.com
SUMMARY:Clinical Reformer
DESCRIPTION:
URL:https://synergyhealthworks.com/event/clinical-reformer-40/2025-08-19/
LOCATION:Wagga Wagga | Reformer Studio\, 221 Kincaid Street\, Wagga Wagga\, NSW\, 2650\, Australia
CATEGORIES:Clinical Reformer
END:VEVENT
BEGIN:VEVENT
DTSTART;TZID=Australia/Sydney:20250819T060000
DTEND;TZID=Australia/Sydney:20250819T064500
DTSTAMP:20260425T025404
CREATED:20241204T012551Z
LAST-MODIFIED:20250914T095956Z
UID:10095743-1755583200-1755585900@synergyhealthworks.com
SUMMARY:Clinical Reformer
DESCRIPTION:
URL:https://synergyhealthworks.com/event/clinical-reformer-39/2025-08-19/
LOCATION:Wagga Wagga | Reformer Studio\, 221 Kincaid Street\, Wagga Wagga\, NSW\, 2650\, Australia
CATEGORIES:Clinical Reformer
END:VEVENT
BEGIN:VEVENT
DTSTART;TZID=Australia/Sydney:20250818T181500
DTEND;TZID=Australia/Sydney:20250818T190000
DTSTAMP:20260425T025404
CREATED:20241204T012422Z
LAST-MODIFIED:20250914T100622Z
UID:10095491-1755540900-1755543600@synergyhealthworks.com
SUMMARY:Fit Reformer
DESCRIPTION:
URL:https://synergyhealthworks.com/event/fit-reformer-7/2025-08-18/
LOCATION:Wagga Wagga | Reformer Studio\, 221 Kincaid Street\, Wagga Wagga\, NSW\, 2650\, Australia
CATEGORIES:Fit Reformer
END:VEVENT
BEGIN:VEVENT
DTSTART;TZID=Australia/Sydney:20250818T171500
DTEND;TZID=Australia/Sydney:20250818T180000
DTSTAMP:20260425T025404
CREATED:20241204T012357Z
LAST-MODIFIED:20250129T031350Z
UID:10095239-1755537300-1755540000@synergyhealthworks.com
SUMMARY:Fit Reformer
DESCRIPTION:
URL:https://synergyhealthworks.com/event/fit-reformer-6/2025-08-18/
LOCATION:Wagga Wagga | Reformer Studio\, 221 Kincaid Street\, Wagga Wagga\, NSW\, 2650\, Australia
CATEGORIES:Fit Reformer
END:VEVENT
BEGIN:VEVENT
DTSTART;TZID=Australia/Sydney:20250815T130000
DTEND;TZID=Australia/Sydney:20250815T134500
DTSTAMP:20260425T025404
CREATED:20241204T020436Z
LAST-MODIFIED:20241204T020436Z
UID:10104287-1755262800-1755265500@synergyhealthworks.com
SUMMARY:Power Reformer
DESCRIPTION:
URL:https://synergyhealthworks.com/event/power-reformer-2/2025-08-15/
LOCATION:Wagga Wagga | Reformer Studio\, 221 Kincaid Street\, Wagga Wagga\, NSW\, 2650\, Australia
CATEGORIES:Power Reformer
END:VEVENT
BEGIN:VEVENT
DTSTART;TZID=Australia/Sydney:20250813T060000
DTEND;TZID=Australia/Sydney:20250813T064500
DTSTAMP:20260425T025404
CREATED:20241204T014429Z
LAST-MODIFIED:20250914T100515Z
UID:10098514-1755064800-1755067500@synergyhealthworks.com
SUMMARY:Fit Reformer
DESCRIPTION:
URL:https://synergyhealthworks.com/event/fit-reformer-8/2025-08-13/
LOCATION:Wagga Wagga | Reformer Studio\, 221 Kincaid Street\, Wagga Wagga\, NSW\, 2650\, Australia
CATEGORIES:Fit Reformer
END:VEVENT
BEGIN:VEVENT
DTSTART;TZID=Australia/Sydney:20250812T070000
DTEND;TZID=Australia/Sydney:20250812T074500
DTSTAMP:20260425T025404
CREATED:20241204T012619Z
LAST-MODIFIED:20250129T031553Z
UID:10095994-1754982000-1754984700@synergyhealthworks.com
SUMMARY:Clinical Reformer
DESCRIPTION:
URL:https://synergyhealthworks.com/event/clinical-reformer-40/2025-08-12/
LOCATION:Wagga Wagga | Reformer Studio\, 221 Kincaid Street\, Wagga Wagga\, NSW\, 2650\, Australia
CATEGORIES:Clinical Reformer
END:VEVENT
BEGIN:VEVENT
DTSTART;TZID=Australia/Sydney:20250812T060000
DTEND;TZID=Australia/Sydney:20250812T064500
DTSTAMP:20260425T025404
CREATED:20241204T012551Z
LAST-MODIFIED:20250914T095956Z
UID:10095742-1754978400-1754981100@synergyhealthworks.com
SUMMARY:Clinical Reformer
DESCRIPTION:
URL:https://synergyhealthworks.com/event/clinical-reformer-39/2025-08-12/
LOCATION:Wagga Wagga | Reformer Studio\, 221 Kincaid Street\, Wagga Wagga\, NSW\, 2650\, Australia
CATEGORIES:Clinical Reformer
END:VEVENT
BEGIN:VEVENT
DTSTART;TZID=Australia/Sydney:20250811T181500
DTEND;TZID=Australia/Sydney:20250811T190000
DTSTAMP:20260425T025404
CREATED:20241204T012422Z
LAST-MODIFIED:20250914T100622Z
UID:10095490-1754936100-1754938800@synergyhealthworks.com
SUMMARY:Fit Reformer
DESCRIPTION:
URL:https://synergyhealthworks.com/event/fit-reformer-7/2025-08-11/
LOCATION:Wagga Wagga | Reformer Studio\, 221 Kincaid Street\, Wagga Wagga\, NSW\, 2650\, Australia
CATEGORIES:Fit Reformer
END:VEVENT
BEGIN:VEVENT
DTSTART;TZID=Australia/Sydney:20250811T171500
DTEND;TZID=Australia/Sydney:20250811T180000
DTSTAMP:20260425T025404
CREATED:20241204T012357Z
LAST-MODIFIED:20250129T031350Z
UID:10095238-1754932500-1754935200@synergyhealthworks.com
SUMMARY:Fit Reformer
DESCRIPTION:
URL:https://synergyhealthworks.com/event/fit-reformer-6/2025-08-11/
LOCATION:Wagga Wagga | Reformer Studio\, 221 Kincaid Street\, Wagga Wagga\, NSW\, 2650\, Australia
CATEGORIES:Fit Reformer
END:VEVENT
END:VCALENDAR