BEGIN:VCALENDAR
VERSION:2.0
PRODID:-//Synergy Healthworks - ECPv6.15.20//NONSGML v1.0//EN
CALSCALE:GREGORIAN
METHOD:PUBLISH
X-ORIGINAL-URL:https://synergyhealthworks.com
X-WR-CALDESC:Events for Synergy Healthworks
REFRESH-INTERVAL;VALUE=DURATION:PT1H
X-Robots-Tag:noindex
X-PUBLISHED-TTL:PT1H
BEGIN:VTIMEZONE
TZID:Australia/Sydney
BEGIN:STANDARD
TZOFFSETFROM:+1100
TZOFFSETTO:+1000
TZNAME:AEST
DTSTART:20240406T160000
END:STANDARD
BEGIN:DAYLIGHT
TZOFFSETFROM:+1000
TZOFFSETTO:+1100
TZNAME:AEDT
DTSTART:20241005T160000
END:DAYLIGHT
BEGIN:STANDARD
TZOFFSETFROM:+1100
TZOFFSETTO:+1000
TZNAME:AEST
DTSTART:20250405T160000
END:STANDARD
BEGIN:DAYLIGHT
TZOFFSETFROM:+1000
TZOFFSETTO:+1100
TZNAME:AEDT
DTSTART:20251004T160000
END:DAYLIGHT
BEGIN:STANDARD
TZOFFSETFROM:+1100
TZOFFSETTO:+1000
TZNAME:AEST
DTSTART:20260404T160000
END:STANDARD
BEGIN:DAYLIGHT
TZOFFSETFROM:+1000
TZOFFSETTO:+1100
TZNAME:AEDT
DTSTART:20261003T160000
END:DAYLIGHT
END:VTIMEZONE
BEGIN:VEVENT
DTSTART;TZID=Australia/Sydney:20251107T130000
DTEND;TZID=Australia/Sydney:20251107T134500
DTSTAMP:20260424T200930
CREATED:20241204T020436Z
LAST-MODIFIED:20241204T020436Z
UID:10104299-1762520400-1762523100@synergyhealthworks.com
SUMMARY:Power Reformer
DESCRIPTION:
URL:https://synergyhealthworks.com/event/power-reformer-2/2025-11-07/
LOCATION:Wagga Wagga | Reformer Studio\, 221 Kincaid Street\, Wagga Wagga\, NSW\, 2650\, Australia
CATEGORIES:Power Reformer
END:VEVENT
BEGIN:VEVENT
DTSTART;TZID=Australia/Sydney:20251105T060000
DTEND;TZID=Australia/Sydney:20251105T064500
DTSTAMP:20260424T200930
CREATED:20241204T014429Z
LAST-MODIFIED:20250914T100515Z
UID:10098526-1762322400-1762325100@synergyhealthworks.com
SUMMARY:Fit Reformer
DESCRIPTION:
URL:https://synergyhealthworks.com/event/fit-reformer-8/2025-11-05/
LOCATION:Wagga Wagga | Reformer Studio\, 221 Kincaid Street\, Wagga Wagga\, NSW\, 2650\, Australia
CATEGORIES:Fit Reformer
END:VEVENT
BEGIN:VEVENT
DTSTART;TZID=Australia/Sydney:20251104T070000
DTEND;TZID=Australia/Sydney:20251104T074500
DTSTAMP:20260424T200930
CREATED:20241204T012619Z
LAST-MODIFIED:20250129T031553Z
UID:10096006-1762239600-1762242300@synergyhealthworks.com
SUMMARY:Clinical Reformer
DESCRIPTION:
URL:https://synergyhealthworks.com/event/clinical-reformer-40/2025-11-04/
LOCATION:Wagga Wagga | Reformer Studio\, 221 Kincaid Street\, Wagga Wagga\, NSW\, 2650\, Australia
CATEGORIES:Clinical Reformer
END:VEVENT
BEGIN:VEVENT
DTSTART;TZID=Australia/Sydney:20251104T060000
DTEND;TZID=Australia/Sydney:20251104T064500
DTSTAMP:20260424T200930
CREATED:20241204T012551Z
LAST-MODIFIED:20250914T095956Z
UID:10095754-1762236000-1762238700@synergyhealthworks.com
SUMMARY:Clinical Reformer
DESCRIPTION:
URL:https://synergyhealthworks.com/event/clinical-reformer-39/2025-11-04/
LOCATION:Wagga Wagga | Reformer Studio\, 221 Kincaid Street\, Wagga Wagga\, NSW\, 2650\, Australia
CATEGORIES:Clinical Reformer
END:VEVENT
BEGIN:VEVENT
DTSTART;TZID=Australia/Sydney:20251103T181500
DTEND;TZID=Australia/Sydney:20251103T190000
DTSTAMP:20260424T200930
CREATED:20241204T012422Z
LAST-MODIFIED:20250914T100622Z
UID:10095502-1762193700-1762196400@synergyhealthworks.com
SUMMARY:Fit Reformer
DESCRIPTION:
URL:https://synergyhealthworks.com/event/fit-reformer-7/2025-11-03/
LOCATION:Wagga Wagga | Reformer Studio\, 221 Kincaid Street\, Wagga Wagga\, NSW\, 2650\, Australia
CATEGORIES:Fit Reformer
END:VEVENT
BEGIN:VEVENT
DTSTART;TZID=Australia/Sydney:20251103T171500
DTEND;TZID=Australia/Sydney:20251103T180000
DTSTAMP:20260424T200930
CREATED:20241204T012357Z
LAST-MODIFIED:20250129T031350Z
UID:10095250-1762190100-1762192800@synergyhealthworks.com
SUMMARY:Fit Reformer
DESCRIPTION:
URL:https://synergyhealthworks.com/event/fit-reformer-6/2025-11-03/
LOCATION:Wagga Wagga | Reformer Studio\, 221 Kincaid Street\, Wagga Wagga\, NSW\, 2650\, Australia
CATEGORIES:Fit Reformer
END:VEVENT
BEGIN:VEVENT
DTSTART;TZID=Australia/Sydney:20251031T130000
DTEND;TZID=Australia/Sydney:20251031T134500
DTSTAMP:20260424T200930
CREATED:20241204T020436Z
LAST-MODIFIED:20241204T020436Z
UID:10104298-1761915600-1761918300@synergyhealthworks.com
SUMMARY:Power Reformer
DESCRIPTION:
URL:https://synergyhealthworks.com/event/power-reformer-2/2025-10-31/
LOCATION:Wagga Wagga | Reformer Studio\, 221 Kincaid Street\, Wagga Wagga\, NSW\, 2650\, Australia
CATEGORIES:Power Reformer
END:VEVENT
BEGIN:VEVENT
DTSTART;TZID=Australia/Sydney:20251029T060000
DTEND;TZID=Australia/Sydney:20251029T064500
DTSTAMP:20260424T200930
CREATED:20241204T014429Z
LAST-MODIFIED:20250914T100515Z
UID:10098525-1761717600-1761720300@synergyhealthworks.com
SUMMARY:Fit Reformer
DESCRIPTION:
URL:https://synergyhealthworks.com/event/fit-reformer-8/2025-10-29/
LOCATION:Wagga Wagga | Reformer Studio\, 221 Kincaid Street\, Wagga Wagga\, NSW\, 2650\, Australia
CATEGORIES:Fit Reformer
END:VEVENT
BEGIN:VEVENT
DTSTART;TZID=Australia/Sydney:20251028T070000
DTEND;TZID=Australia/Sydney:20251028T074500
DTSTAMP:20260424T200930
CREATED:20241204T012619Z
LAST-MODIFIED:20250129T031553Z
UID:10096005-1761634800-1761637500@synergyhealthworks.com
SUMMARY:Clinical Reformer
DESCRIPTION:
URL:https://synergyhealthworks.com/event/clinical-reformer-40/2025-10-28/
LOCATION:Wagga Wagga | Reformer Studio\, 221 Kincaid Street\, Wagga Wagga\, NSW\, 2650\, Australia
CATEGORIES:Clinical Reformer
END:VEVENT
BEGIN:VEVENT
DTSTART;TZID=Australia/Sydney:20251028T060000
DTEND;TZID=Australia/Sydney:20251028T064500
DTSTAMP:20260424T200930
CREATED:20241204T012551Z
LAST-MODIFIED:20250914T095956Z
UID:10095753-1761631200-1761633900@synergyhealthworks.com
SUMMARY:Clinical Reformer
DESCRIPTION:
URL:https://synergyhealthworks.com/event/clinical-reformer-39/2025-10-28/
LOCATION:Wagga Wagga | Reformer Studio\, 221 Kincaid Street\, Wagga Wagga\, NSW\, 2650\, Australia
CATEGORIES:Clinical Reformer
END:VEVENT
BEGIN:VEVENT
DTSTART;TZID=Australia/Sydney:20251027T181500
DTEND;TZID=Australia/Sydney:20251027T190000
DTSTAMP:20260424T200930
CREATED:20241204T012422Z
LAST-MODIFIED:20250914T100622Z
UID:10095501-1761588900-1761591600@synergyhealthworks.com
SUMMARY:Fit Reformer
DESCRIPTION:
URL:https://synergyhealthworks.com/event/fit-reformer-7/2025-10-27/
LOCATION:Wagga Wagga | Reformer Studio\, 221 Kincaid Street\, Wagga Wagga\, NSW\, 2650\, Australia
CATEGORIES:Fit Reformer
END:VEVENT
BEGIN:VEVENT
DTSTART;TZID=Australia/Sydney:20251027T171500
DTEND;TZID=Australia/Sydney:20251027T180000
DTSTAMP:20260424T200930
CREATED:20241204T012357Z
LAST-MODIFIED:20250129T031350Z
UID:10095249-1761585300-1761588000@synergyhealthworks.com
SUMMARY:Fit Reformer
DESCRIPTION:
URL:https://synergyhealthworks.com/event/fit-reformer-6/2025-10-27/
LOCATION:Wagga Wagga | Reformer Studio\, 221 Kincaid Street\, Wagga Wagga\, NSW\, 2650\, Australia
CATEGORIES:Fit Reformer
END:VEVENT
BEGIN:VEVENT
DTSTART;TZID=Australia/Sydney:20251024T130000
DTEND;TZID=Australia/Sydney:20251024T134500
DTSTAMP:20260424T200930
CREATED:20241204T020436Z
LAST-MODIFIED:20241204T020436Z
UID:10104297-1761310800-1761313500@synergyhealthworks.com
SUMMARY:Power Reformer
DESCRIPTION:
URL:https://synergyhealthworks.com/event/power-reformer-2/2025-10-24/
LOCATION:Wagga Wagga | Reformer Studio\, 221 Kincaid Street\, Wagga Wagga\, NSW\, 2650\, Australia
CATEGORIES:Power Reformer
END:VEVENT
BEGIN:VEVENT
DTSTART;TZID=Australia/Sydney:20251022T060000
DTEND;TZID=Australia/Sydney:20251022T064500
DTSTAMP:20260424T200930
CREATED:20241204T014429Z
LAST-MODIFIED:20250914T100515Z
UID:10098524-1761112800-1761115500@synergyhealthworks.com
SUMMARY:Fit Reformer
DESCRIPTION:
URL:https://synergyhealthworks.com/event/fit-reformer-8/2025-10-22/
LOCATION:Wagga Wagga | Reformer Studio\, 221 Kincaid Street\, Wagga Wagga\, NSW\, 2650\, Australia
CATEGORIES:Fit Reformer
END:VEVENT
BEGIN:VEVENT
DTSTART;TZID=Australia/Sydney:20251021T070000
DTEND;TZID=Australia/Sydney:20251021T074500
DTSTAMP:20260424T200930
CREATED:20241204T012619Z
LAST-MODIFIED:20250129T031553Z
UID:10096004-1761030000-1761032700@synergyhealthworks.com
SUMMARY:Clinical Reformer
DESCRIPTION:
URL:https://synergyhealthworks.com/event/clinical-reformer-40/2025-10-21/
LOCATION:Wagga Wagga | Reformer Studio\, 221 Kincaid Street\, Wagga Wagga\, NSW\, 2650\, Australia
CATEGORIES:Clinical Reformer
END:VEVENT
BEGIN:VEVENT
DTSTART;TZID=Australia/Sydney:20251021T060000
DTEND;TZID=Australia/Sydney:20251021T064500
DTSTAMP:20260424T200930
CREATED:20241204T012551Z
LAST-MODIFIED:20250914T095956Z
UID:10095752-1761026400-1761029100@synergyhealthworks.com
SUMMARY:Clinical Reformer
DESCRIPTION:
URL:https://synergyhealthworks.com/event/clinical-reformer-39/2025-10-21/
LOCATION:Wagga Wagga | Reformer Studio\, 221 Kincaid Street\, Wagga Wagga\, NSW\, 2650\, Australia
CATEGORIES:Clinical Reformer
END:VEVENT
BEGIN:VEVENT
DTSTART;TZID=Australia/Sydney:20251020T181500
DTEND;TZID=Australia/Sydney:20251020T190000
DTSTAMP:20260424T200930
CREATED:20241204T012422Z
LAST-MODIFIED:20250914T100622Z
UID:10095500-1760984100-1760986800@synergyhealthworks.com
SUMMARY:Fit Reformer
DESCRIPTION:
URL:https://synergyhealthworks.com/event/fit-reformer-7/2025-10-20/
LOCATION:Wagga Wagga | Reformer Studio\, 221 Kincaid Street\, Wagga Wagga\, NSW\, 2650\, Australia
CATEGORIES:Fit Reformer
END:VEVENT
BEGIN:VEVENT
DTSTART;TZID=Australia/Sydney:20251020T171500
DTEND;TZID=Australia/Sydney:20251020T180000
DTSTAMP:20260424T200930
CREATED:20241204T012357Z
LAST-MODIFIED:20250129T031350Z
UID:10095248-1760980500-1760983200@synergyhealthworks.com
SUMMARY:Fit Reformer
DESCRIPTION:
URL:https://synergyhealthworks.com/event/fit-reformer-6/2025-10-20/
LOCATION:Wagga Wagga | Reformer Studio\, 221 Kincaid Street\, Wagga Wagga\, NSW\, 2650\, Australia
CATEGORIES:Fit Reformer
END:VEVENT
BEGIN:VEVENT
DTSTART;TZID=Australia/Sydney:20251017T130000
DTEND;TZID=Australia/Sydney:20251017T134500
DTSTAMP:20260424T200930
CREATED:20241204T020436Z
LAST-MODIFIED:20241204T020436Z
UID:10104296-1760706000-1760708700@synergyhealthworks.com
SUMMARY:Power Reformer
DESCRIPTION:
URL:https://synergyhealthworks.com/event/power-reformer-2/2025-10-17/
LOCATION:Wagga Wagga | Reformer Studio\, 221 Kincaid Street\, Wagga Wagga\, NSW\, 2650\, Australia
CATEGORIES:Power Reformer
END:VEVENT
BEGIN:VEVENT
DTSTART;TZID=Australia/Sydney:20251015T060000
DTEND;TZID=Australia/Sydney:20251015T064500
DTSTAMP:20260424T200930
CREATED:20241204T014429Z
LAST-MODIFIED:20250914T100515Z
UID:10098523-1760508000-1760510700@synergyhealthworks.com
SUMMARY:Fit Reformer
DESCRIPTION:
URL:https://synergyhealthworks.com/event/fit-reformer-8/2025-10-15/
LOCATION:Wagga Wagga | Reformer Studio\, 221 Kincaid Street\, Wagga Wagga\, NSW\, 2650\, Australia
CATEGORIES:Fit Reformer
END:VEVENT
BEGIN:VEVENT
DTSTART;TZID=Australia/Sydney:20251014T070000
DTEND;TZID=Australia/Sydney:20251014T074500
DTSTAMP:20260424T200930
CREATED:20241204T012619Z
LAST-MODIFIED:20250129T031553Z
UID:10096003-1760425200-1760427900@synergyhealthworks.com
SUMMARY:Clinical Reformer
DESCRIPTION:
URL:https://synergyhealthworks.com/event/clinical-reformer-40/2025-10-14/
LOCATION:Wagga Wagga | Reformer Studio\, 221 Kincaid Street\, Wagga Wagga\, NSW\, 2650\, Australia
CATEGORIES:Clinical Reformer
END:VEVENT
BEGIN:VEVENT
DTSTART;TZID=Australia/Sydney:20251014T060000
DTEND;TZID=Australia/Sydney:20251014T064500
DTSTAMP:20260424T200930
CREATED:20241204T012551Z
LAST-MODIFIED:20250914T095956Z
UID:10095751-1760421600-1760424300@synergyhealthworks.com
SUMMARY:Clinical Reformer
DESCRIPTION:
URL:https://synergyhealthworks.com/event/clinical-reformer-39/2025-10-14/
LOCATION:Wagga Wagga | Reformer Studio\, 221 Kincaid Street\, Wagga Wagga\, NSW\, 2650\, Australia
CATEGORIES:Clinical Reformer
END:VEVENT
BEGIN:VEVENT
DTSTART;TZID=Australia/Sydney:20251013T181500
DTEND;TZID=Australia/Sydney:20251013T190000
DTSTAMP:20260424T200930
CREATED:20241204T012422Z
LAST-MODIFIED:20250914T100622Z
UID:10095499-1760379300-1760382000@synergyhealthworks.com
SUMMARY:Fit Reformer
DESCRIPTION:
URL:https://synergyhealthworks.com/event/fit-reformer-7/2025-10-13/
LOCATION:Wagga Wagga | Reformer Studio\, 221 Kincaid Street\, Wagga Wagga\, NSW\, 2650\, Australia
CATEGORIES:Fit Reformer
END:VEVENT
BEGIN:VEVENT
DTSTART;TZID=Australia/Sydney:20251013T171500
DTEND;TZID=Australia/Sydney:20251013T180000
DTSTAMP:20260424T200930
CREATED:20241204T012357Z
LAST-MODIFIED:20250129T031350Z
UID:10095247-1760375700-1760378400@synergyhealthworks.com
SUMMARY:Fit Reformer
DESCRIPTION:
URL:https://synergyhealthworks.com/event/fit-reformer-6/2025-10-13/
LOCATION:Wagga Wagga | Reformer Studio\, 221 Kincaid Street\, Wagga Wagga\, NSW\, 2650\, Australia
CATEGORIES:Fit Reformer
END:VEVENT
BEGIN:VEVENT
DTSTART;TZID=Australia/Sydney:20251010T130000
DTEND;TZID=Australia/Sydney:20251010T134500
DTSTAMP:20260424T200930
CREATED:20241204T020436Z
LAST-MODIFIED:20241204T020436Z
UID:10104295-1760101200-1760103900@synergyhealthworks.com
SUMMARY:Power Reformer
DESCRIPTION:
URL:https://synergyhealthworks.com/event/power-reformer-2/2025-10-10/
LOCATION:Wagga Wagga | Reformer Studio\, 221 Kincaid Street\, Wagga Wagga\, NSW\, 2650\, Australia
CATEGORIES:Power Reformer
END:VEVENT
BEGIN:VEVENT
DTSTART;TZID=Australia/Sydney:20251008T060000
DTEND;TZID=Australia/Sydney:20251008T064500
DTSTAMP:20260424T200930
CREATED:20241204T014429Z
LAST-MODIFIED:20250914T100515Z
UID:10098522-1759903200-1759905900@synergyhealthworks.com
SUMMARY:Fit Reformer
DESCRIPTION:
URL:https://synergyhealthworks.com/event/fit-reformer-8/2025-10-08/
LOCATION:Wagga Wagga | Reformer Studio\, 221 Kincaid Street\, Wagga Wagga\, NSW\, 2650\, Australia
CATEGORIES:Fit Reformer
END:VEVENT
BEGIN:VEVENT
DTSTART;TZID=Australia/Sydney:20251007T070000
DTEND;TZID=Australia/Sydney:20251007T074500
DTSTAMP:20260424T200930
CREATED:20241204T012619Z
LAST-MODIFIED:20250129T031553Z
UID:10096002-1759820400-1759823100@synergyhealthworks.com
SUMMARY:Clinical Reformer
DESCRIPTION:
URL:https://synergyhealthworks.com/event/clinical-reformer-40/2025-10-07/
LOCATION:Wagga Wagga | Reformer Studio\, 221 Kincaid Street\, Wagga Wagga\, NSW\, 2650\, Australia
CATEGORIES:Clinical Reformer
END:VEVENT
BEGIN:VEVENT
DTSTART;TZID=Australia/Sydney:20251007T060000
DTEND;TZID=Australia/Sydney:20251007T064500
DTSTAMP:20260424T200930
CREATED:20241204T012551Z
LAST-MODIFIED:20250914T095956Z
UID:10095750-1759816800-1759819500@synergyhealthworks.com
SUMMARY:Clinical Reformer
DESCRIPTION:
URL:https://synergyhealthworks.com/event/clinical-reformer-39/2025-10-07/
LOCATION:Wagga Wagga | Reformer Studio\, 221 Kincaid Street\, Wagga Wagga\, NSW\, 2650\, Australia
CATEGORIES:Clinical Reformer
END:VEVENT
BEGIN:VEVENT
DTSTART;TZID=Australia/Sydney:20251006T181500
DTEND;TZID=Australia/Sydney:20251006T190000
DTSTAMP:20260424T200930
CREATED:20241204T012422Z
LAST-MODIFIED:20250914T100622Z
UID:10095498-1759774500-1759777200@synergyhealthworks.com
SUMMARY:Fit Reformer
DESCRIPTION:
URL:https://synergyhealthworks.com/event/fit-reformer-7/2025-10-06/
LOCATION:Wagga Wagga | Reformer Studio\, 221 Kincaid Street\, Wagga Wagga\, NSW\, 2650\, Australia
CATEGORIES:Fit Reformer
END:VEVENT
BEGIN:VEVENT
DTSTART;TZID=Australia/Sydney:20251006T171500
DTEND;TZID=Australia/Sydney:20251006T180000
DTSTAMP:20260424T200930
CREATED:20241204T012357Z
LAST-MODIFIED:20250129T031350Z
UID:10095246-1759770900-1759773600@synergyhealthworks.com
SUMMARY:Fit Reformer
DESCRIPTION:
URL:https://synergyhealthworks.com/event/fit-reformer-6/2025-10-06/
LOCATION:Wagga Wagga | Reformer Studio\, 221 Kincaid Street\, Wagga Wagga\, NSW\, 2650\, Australia
CATEGORIES:Fit Reformer
END:VEVENT
END:VCALENDAR