BEGIN:VCALENDAR
VERSION:2.0
PRODID:-//Synergy Healthworks - ECPv6.15.20//NONSGML v1.0//EN
CALSCALE:GREGORIAN
METHOD:PUBLISH
X-WR-CALNAME:Synergy Healthworks
X-ORIGINAL-URL:https://synergyhealthworks.com
X-WR-CALDESC:Events for Synergy Healthworks
REFRESH-INTERVAL;VALUE=DURATION:PT1H
X-Robots-Tag:noindex
X-PUBLISHED-TTL:PT1H
BEGIN:VTIMEZONE
TZID:Australia/Sydney
BEGIN:STANDARD
TZOFFSETFROM:+1100
TZOFFSETTO:+1000
TZNAME:AEST
DTSTART:20240406T160000
END:STANDARD
BEGIN:DAYLIGHT
TZOFFSETFROM:+1000
TZOFFSETTO:+1100
TZNAME:AEDT
DTSTART:20241005T160000
END:DAYLIGHT
BEGIN:STANDARD
TZOFFSETFROM:+1100
TZOFFSETTO:+1000
TZNAME:AEST
DTSTART:20250405T160000
END:STANDARD
BEGIN:DAYLIGHT
TZOFFSETFROM:+1000
TZOFFSETTO:+1100
TZNAME:AEDT
DTSTART:20251004T160000
END:DAYLIGHT
BEGIN:STANDARD
TZOFFSETFROM:+1100
TZOFFSETTO:+1000
TZNAME:AEST
DTSTART:20260404T160000
END:STANDARD
BEGIN:DAYLIGHT
TZOFFSETFROM:+1000
TZOFFSETTO:+1100
TZNAME:AEDT
DTSTART:20261003T160000
END:DAYLIGHT
END:VTIMEZONE
BEGIN:VEVENT
DTSTART;TZID=Australia/Sydney:20251219T130000
DTEND;TZID=Australia/Sydney:20251219T134500
DTSTAMP:20260424T150742
CREATED:20241204T020436Z
LAST-MODIFIED:20241204T020436Z
UID:10104305-1766149200-1766151900@synergyhealthworks.com
SUMMARY:Power Reformer
DESCRIPTION:
URL:https://synergyhealthworks.com/event/power-reformer-2/2025-12-19/
LOCATION:Wagga Wagga | Reformer Studio\, 221 Kincaid Street\, Wagga Wagga\, NSW\, 2650\, Australia
CATEGORIES:Power Reformer
END:VEVENT
BEGIN:VEVENT
DTSTART;TZID=Australia/Sydney:20251217T060000
DTEND;TZID=Australia/Sydney:20251217T064500
DTSTAMP:20260424T150742
CREATED:20241204T014429Z
LAST-MODIFIED:20250914T100515Z
UID:10098532-1765951200-1765953900@synergyhealthworks.com
SUMMARY:Fit Reformer
DESCRIPTION:
URL:https://synergyhealthworks.com/event/fit-reformer-8/2025-12-17/
LOCATION:Wagga Wagga | Reformer Studio\, 221 Kincaid Street\, Wagga Wagga\, NSW\, 2650\, Australia
CATEGORIES:Fit Reformer
END:VEVENT
BEGIN:VEVENT
DTSTART;TZID=Australia/Sydney:20251216T070000
DTEND;TZID=Australia/Sydney:20251216T074500
DTSTAMP:20260424T150742
CREATED:20241204T012619Z
LAST-MODIFIED:20250129T031553Z
UID:10096012-1765868400-1765871100@synergyhealthworks.com
SUMMARY:Clinical Reformer
DESCRIPTION:
URL:https://synergyhealthworks.com/event/clinical-reformer-40/2025-12-16/
LOCATION:Wagga Wagga | Reformer Studio\, 221 Kincaid Street\, Wagga Wagga\, NSW\, 2650\, Australia
CATEGORIES:Clinical Reformer
END:VEVENT
BEGIN:VEVENT
DTSTART;TZID=Australia/Sydney:20251216T060000
DTEND;TZID=Australia/Sydney:20251216T064500
DTSTAMP:20260424T150742
CREATED:20241204T012551Z
LAST-MODIFIED:20250914T095956Z
UID:10095760-1765864800-1765867500@synergyhealthworks.com
SUMMARY:Clinical Reformer
DESCRIPTION:
URL:https://synergyhealthworks.com/event/clinical-reformer-39/2025-12-16/
LOCATION:Wagga Wagga | Reformer Studio\, 221 Kincaid Street\, Wagga Wagga\, NSW\, 2650\, Australia
CATEGORIES:Clinical Reformer
END:VEVENT
BEGIN:VEVENT
DTSTART;TZID=Australia/Sydney:20251215T181500
DTEND;TZID=Australia/Sydney:20251215T190000
DTSTAMP:20260424T150742
CREATED:20241204T012422Z
LAST-MODIFIED:20250914T100622Z
UID:10095508-1765822500-1765825200@synergyhealthworks.com
SUMMARY:Fit Reformer
DESCRIPTION:
URL:https://synergyhealthworks.com/event/fit-reformer-7/2025-12-15/
LOCATION:Wagga Wagga | Reformer Studio\, 221 Kincaid Street\, Wagga Wagga\, NSW\, 2650\, Australia
CATEGORIES:Fit Reformer
END:VEVENT
BEGIN:VEVENT
DTSTART;TZID=Australia/Sydney:20251215T171500
DTEND;TZID=Australia/Sydney:20251215T180000
DTSTAMP:20260424T150742
CREATED:20241204T012357Z
LAST-MODIFIED:20250129T031350Z
UID:10095256-1765818900-1765821600@synergyhealthworks.com
SUMMARY:Fit Reformer
DESCRIPTION:
URL:https://synergyhealthworks.com/event/fit-reformer-6/2025-12-15/
LOCATION:Wagga Wagga | Reformer Studio\, 221 Kincaid Street\, Wagga Wagga\, NSW\, 2650\, Australia
CATEGORIES:Fit Reformer
END:VEVENT
BEGIN:VEVENT
DTSTART;TZID=Australia/Sydney:20251212T130000
DTEND;TZID=Australia/Sydney:20251212T134500
DTSTAMP:20260424T150742
CREATED:20241204T020436Z
LAST-MODIFIED:20241204T020436Z
UID:10104304-1765544400-1765547100@synergyhealthworks.com
SUMMARY:Power Reformer
DESCRIPTION:
URL:https://synergyhealthworks.com/event/power-reformer-2/2025-12-12/
LOCATION:Wagga Wagga | Reformer Studio\, 221 Kincaid Street\, Wagga Wagga\, NSW\, 2650\, Australia
CATEGORIES:Power Reformer
END:VEVENT
BEGIN:VEVENT
DTSTART;TZID=Australia/Sydney:20251210T060000
DTEND;TZID=Australia/Sydney:20251210T064500
DTSTAMP:20260424T150742
CREATED:20241204T014429Z
LAST-MODIFIED:20250914T100515Z
UID:10098531-1765346400-1765349100@synergyhealthworks.com
SUMMARY:Fit Reformer
DESCRIPTION:
URL:https://synergyhealthworks.com/event/fit-reformer-8/2025-12-10/
LOCATION:Wagga Wagga | Reformer Studio\, 221 Kincaid Street\, Wagga Wagga\, NSW\, 2650\, Australia
CATEGORIES:Fit Reformer
END:VEVENT
BEGIN:VEVENT
DTSTART;TZID=Australia/Sydney:20251209T070000
DTEND;TZID=Australia/Sydney:20251209T074500
DTSTAMP:20260424T150742
CREATED:20241204T012619Z
LAST-MODIFIED:20250129T031553Z
UID:10096011-1765263600-1765266300@synergyhealthworks.com
SUMMARY:Clinical Reformer
DESCRIPTION:
URL:https://synergyhealthworks.com/event/clinical-reformer-40/2025-12-09/
LOCATION:Wagga Wagga | Reformer Studio\, 221 Kincaid Street\, Wagga Wagga\, NSW\, 2650\, Australia
CATEGORIES:Clinical Reformer
END:VEVENT
BEGIN:VEVENT
DTSTART;TZID=Australia/Sydney:20251209T060000
DTEND;TZID=Australia/Sydney:20251209T064500
DTSTAMP:20260424T150742
CREATED:20241204T012551Z
LAST-MODIFIED:20250914T095956Z
UID:10095759-1765260000-1765262700@synergyhealthworks.com
SUMMARY:Clinical Reformer
DESCRIPTION:
URL:https://synergyhealthworks.com/event/clinical-reformer-39/2025-12-09/
LOCATION:Wagga Wagga | Reformer Studio\, 221 Kincaid Street\, Wagga Wagga\, NSW\, 2650\, Australia
CATEGORIES:Clinical Reformer
END:VEVENT
BEGIN:VEVENT
DTSTART;TZID=Australia/Sydney:20251208T181500
DTEND;TZID=Australia/Sydney:20251208T190000
DTSTAMP:20260424T150742
CREATED:20241204T012422Z
LAST-MODIFIED:20250914T100622Z
UID:10095507-1765217700-1765220400@synergyhealthworks.com
SUMMARY:Fit Reformer
DESCRIPTION:
URL:https://synergyhealthworks.com/event/fit-reformer-7/2025-12-08/
LOCATION:Wagga Wagga | Reformer Studio\, 221 Kincaid Street\, Wagga Wagga\, NSW\, 2650\, Australia
CATEGORIES:Fit Reformer
END:VEVENT
BEGIN:VEVENT
DTSTART;TZID=Australia/Sydney:20251208T171500
DTEND;TZID=Australia/Sydney:20251208T180000
DTSTAMP:20260424T150742
CREATED:20241204T012357Z
LAST-MODIFIED:20250129T031350Z
UID:10095255-1765214100-1765216800@synergyhealthworks.com
SUMMARY:Fit Reformer
DESCRIPTION:
URL:https://synergyhealthworks.com/event/fit-reformer-6/2025-12-08/
LOCATION:Wagga Wagga | Reformer Studio\, 221 Kincaid Street\, Wagga Wagga\, NSW\, 2650\, Australia
CATEGORIES:Fit Reformer
END:VEVENT
BEGIN:VEVENT
DTSTART;TZID=Australia/Sydney:20251205T130000
DTEND;TZID=Australia/Sydney:20251205T134500
DTSTAMP:20260424T150742
CREATED:20241204T020436Z
LAST-MODIFIED:20241204T020436Z
UID:10104303-1764939600-1764942300@synergyhealthworks.com
SUMMARY:Power Reformer
DESCRIPTION:
URL:https://synergyhealthworks.com/event/power-reformer-2/2025-12-05/
LOCATION:Wagga Wagga | Reformer Studio\, 221 Kincaid Street\, Wagga Wagga\, NSW\, 2650\, Australia
CATEGORIES:Power Reformer
END:VEVENT
BEGIN:VEVENT
DTSTART;TZID=Australia/Sydney:20251203T060000
DTEND;TZID=Australia/Sydney:20251203T064500
DTSTAMP:20260424T150742
CREATED:20241204T014429Z
LAST-MODIFIED:20250914T100515Z
UID:10098530-1764741600-1764744300@synergyhealthworks.com
SUMMARY:Fit Reformer
DESCRIPTION:
URL:https://synergyhealthworks.com/event/fit-reformer-8/2025-12-03/
LOCATION:Wagga Wagga | Reformer Studio\, 221 Kincaid Street\, Wagga Wagga\, NSW\, 2650\, Australia
CATEGORIES:Fit Reformer
END:VEVENT
BEGIN:VEVENT
DTSTART;TZID=Australia/Sydney:20251202T070000
DTEND;TZID=Australia/Sydney:20251202T074500
DTSTAMP:20260424T150742
CREATED:20241204T012619Z
LAST-MODIFIED:20250129T031553Z
UID:10096010-1764658800-1764661500@synergyhealthworks.com
SUMMARY:Clinical Reformer
DESCRIPTION:
URL:https://synergyhealthworks.com/event/clinical-reformer-40/2025-12-02/
LOCATION:Wagga Wagga | Reformer Studio\, 221 Kincaid Street\, Wagga Wagga\, NSW\, 2650\, Australia
CATEGORIES:Clinical Reformer
END:VEVENT
BEGIN:VEVENT
DTSTART;TZID=Australia/Sydney:20251202T060000
DTEND;TZID=Australia/Sydney:20251202T064500
DTSTAMP:20260424T150742
CREATED:20241204T012551Z
LAST-MODIFIED:20250914T095956Z
UID:10095758-1764655200-1764657900@synergyhealthworks.com
SUMMARY:Clinical Reformer
DESCRIPTION:
URL:https://synergyhealthworks.com/event/clinical-reformer-39/2025-12-02/
LOCATION:Wagga Wagga | Reformer Studio\, 221 Kincaid Street\, Wagga Wagga\, NSW\, 2650\, Australia
CATEGORIES:Clinical Reformer
END:VEVENT
BEGIN:VEVENT
DTSTART;TZID=Australia/Sydney:20251201T181500
DTEND;TZID=Australia/Sydney:20251201T190000
DTSTAMP:20260424T150742
CREATED:20241204T012422Z
LAST-MODIFIED:20250914T100622Z
UID:10095506-1764612900-1764615600@synergyhealthworks.com
SUMMARY:Fit Reformer
DESCRIPTION:
URL:https://synergyhealthworks.com/event/fit-reformer-7/2025-12-01/
LOCATION:Wagga Wagga | Reformer Studio\, 221 Kincaid Street\, Wagga Wagga\, NSW\, 2650\, Australia
CATEGORIES:Fit Reformer
END:VEVENT
BEGIN:VEVENT
DTSTART;TZID=Australia/Sydney:20251201T171500
DTEND;TZID=Australia/Sydney:20251201T180000
DTSTAMP:20260424T150742
CREATED:20241204T012357Z
LAST-MODIFIED:20250129T031350Z
UID:10095254-1764609300-1764612000@synergyhealthworks.com
SUMMARY:Fit Reformer
DESCRIPTION:
URL:https://synergyhealthworks.com/event/fit-reformer-6/2025-12-01/
LOCATION:Wagga Wagga | Reformer Studio\, 221 Kincaid Street\, Wagga Wagga\, NSW\, 2650\, Australia
CATEGORIES:Fit Reformer
END:VEVENT
BEGIN:VEVENT
DTSTART;TZID=Australia/Sydney:20251128T130000
DTEND;TZID=Australia/Sydney:20251128T134500
DTSTAMP:20260424T150742
CREATED:20241204T020436Z
LAST-MODIFIED:20241204T020436Z
UID:10104302-1764334800-1764337500@synergyhealthworks.com
SUMMARY:Power Reformer
DESCRIPTION:
URL:https://synergyhealthworks.com/event/power-reformer-2/2025-11-28/
LOCATION:Wagga Wagga | Reformer Studio\, 221 Kincaid Street\, Wagga Wagga\, NSW\, 2650\, Australia
CATEGORIES:Power Reformer
END:VEVENT
BEGIN:VEVENT
DTSTART;TZID=Australia/Sydney:20251126T060000
DTEND;TZID=Australia/Sydney:20251126T064500
DTSTAMP:20260424T150742
CREATED:20241204T014429Z
LAST-MODIFIED:20250914T100515Z
UID:10098529-1764136800-1764139500@synergyhealthworks.com
SUMMARY:Fit Reformer
DESCRIPTION:
URL:https://synergyhealthworks.com/event/fit-reformer-8/2025-11-26/
LOCATION:Wagga Wagga | Reformer Studio\, 221 Kincaid Street\, Wagga Wagga\, NSW\, 2650\, Australia
CATEGORIES:Fit Reformer
END:VEVENT
BEGIN:VEVENT
DTSTART;TZID=Australia/Sydney:20251125T070000
DTEND;TZID=Australia/Sydney:20251125T074500
DTSTAMP:20260424T150742
CREATED:20241204T012619Z
LAST-MODIFIED:20250129T031553Z
UID:10096009-1764054000-1764056700@synergyhealthworks.com
SUMMARY:Clinical Reformer
DESCRIPTION:
URL:https://synergyhealthworks.com/event/clinical-reformer-40/2025-11-25/
LOCATION:Wagga Wagga | Reformer Studio\, 221 Kincaid Street\, Wagga Wagga\, NSW\, 2650\, Australia
CATEGORIES:Clinical Reformer
END:VEVENT
BEGIN:VEVENT
DTSTART;TZID=Australia/Sydney:20251125T060000
DTEND;TZID=Australia/Sydney:20251125T064500
DTSTAMP:20260424T150742
CREATED:20241204T012551Z
LAST-MODIFIED:20250914T095956Z
UID:10095757-1764050400-1764053100@synergyhealthworks.com
SUMMARY:Clinical Reformer
DESCRIPTION:
URL:https://synergyhealthworks.com/event/clinical-reformer-39/2025-11-25/
LOCATION:Wagga Wagga | Reformer Studio\, 221 Kincaid Street\, Wagga Wagga\, NSW\, 2650\, Australia
CATEGORIES:Clinical Reformer
END:VEVENT
BEGIN:VEVENT
DTSTART;TZID=Australia/Sydney:20251124T181500
DTEND;TZID=Australia/Sydney:20251124T190000
DTSTAMP:20260424T150742
CREATED:20241204T012422Z
LAST-MODIFIED:20250914T100622Z
UID:10095505-1764008100-1764010800@synergyhealthworks.com
SUMMARY:Fit Reformer
DESCRIPTION:
URL:https://synergyhealthworks.com/event/fit-reformer-7/2025-11-24/
LOCATION:Wagga Wagga | Reformer Studio\, 221 Kincaid Street\, Wagga Wagga\, NSW\, 2650\, Australia
CATEGORIES:Fit Reformer
END:VEVENT
BEGIN:VEVENT
DTSTART;TZID=Australia/Sydney:20251124T171500
DTEND;TZID=Australia/Sydney:20251124T180000
DTSTAMP:20260424T150742
CREATED:20241204T012357Z
LAST-MODIFIED:20250129T031350Z
UID:10095253-1764004500-1764007200@synergyhealthworks.com
SUMMARY:Fit Reformer
DESCRIPTION:
URL:https://synergyhealthworks.com/event/fit-reformer-6/2025-11-24/
LOCATION:Wagga Wagga | Reformer Studio\, 221 Kincaid Street\, Wagga Wagga\, NSW\, 2650\, Australia
CATEGORIES:Fit Reformer
END:VEVENT
BEGIN:VEVENT
DTSTART;TZID=Australia/Sydney:20251121T130000
DTEND;TZID=Australia/Sydney:20251121T134500
DTSTAMP:20260424T150742
CREATED:20241204T020436Z
LAST-MODIFIED:20241204T020436Z
UID:10104301-1763730000-1763732700@synergyhealthworks.com
SUMMARY:Power Reformer
DESCRIPTION:
URL:https://synergyhealthworks.com/event/power-reformer-2/2025-11-21/
LOCATION:Wagga Wagga | Reformer Studio\, 221 Kincaid Street\, Wagga Wagga\, NSW\, 2650\, Australia
CATEGORIES:Power Reformer
END:VEVENT
BEGIN:VEVENT
DTSTART;TZID=Australia/Sydney:20251119T060000
DTEND;TZID=Australia/Sydney:20251119T064500
DTSTAMP:20260424T150742
CREATED:20241204T014429Z
LAST-MODIFIED:20250914T100515Z
UID:10098528-1763532000-1763534700@synergyhealthworks.com
SUMMARY:Fit Reformer
DESCRIPTION:
URL:https://synergyhealthworks.com/event/fit-reformer-8/2025-11-19/
LOCATION:Wagga Wagga | Reformer Studio\, 221 Kincaid Street\, Wagga Wagga\, NSW\, 2650\, Australia
CATEGORIES:Fit Reformer
END:VEVENT
BEGIN:VEVENT
DTSTART;TZID=Australia/Sydney:20251118T070000
DTEND;TZID=Australia/Sydney:20251118T074500
DTSTAMP:20260424T150742
CREATED:20241204T012619Z
LAST-MODIFIED:20250129T031553Z
UID:10096008-1763449200-1763451900@synergyhealthworks.com
SUMMARY:Clinical Reformer
DESCRIPTION:
URL:https://synergyhealthworks.com/event/clinical-reformer-40/2025-11-18/
LOCATION:Wagga Wagga | Reformer Studio\, 221 Kincaid Street\, Wagga Wagga\, NSW\, 2650\, Australia
CATEGORIES:Clinical Reformer
END:VEVENT
BEGIN:VEVENT
DTSTART;TZID=Australia/Sydney:20251118T060000
DTEND;TZID=Australia/Sydney:20251118T064500
DTSTAMP:20260424T150742
CREATED:20241204T012551Z
LAST-MODIFIED:20250914T095956Z
UID:10095756-1763445600-1763448300@synergyhealthworks.com
SUMMARY:Clinical Reformer
DESCRIPTION:
URL:https://synergyhealthworks.com/event/clinical-reformer-39/2025-11-18/
LOCATION:Wagga Wagga | Reformer Studio\, 221 Kincaid Street\, Wagga Wagga\, NSW\, 2650\, Australia
CATEGORIES:Clinical Reformer
END:VEVENT
BEGIN:VEVENT
DTSTART;TZID=Australia/Sydney:20251117T181500
DTEND;TZID=Australia/Sydney:20251117T190000
DTSTAMP:20260424T150742
CREATED:20241204T012422Z
LAST-MODIFIED:20250914T100622Z
UID:10095504-1763403300-1763406000@synergyhealthworks.com
SUMMARY:Fit Reformer
DESCRIPTION:
URL:https://synergyhealthworks.com/event/fit-reformer-7/2025-11-17/
LOCATION:Wagga Wagga | Reformer Studio\, 221 Kincaid Street\, Wagga Wagga\, NSW\, 2650\, Australia
CATEGORIES:Fit Reformer
END:VEVENT
BEGIN:VEVENT
DTSTART;TZID=Australia/Sydney:20251117T171500
DTEND;TZID=Australia/Sydney:20251117T180000
DTSTAMP:20260424T150742
CREATED:20241204T012357Z
LAST-MODIFIED:20250129T031350Z
UID:10095252-1763399700-1763402400@synergyhealthworks.com
SUMMARY:Fit Reformer
DESCRIPTION:
URL:https://synergyhealthworks.com/event/fit-reformer-6/2025-11-17/
LOCATION:Wagga Wagga | Reformer Studio\, 221 Kincaid Street\, Wagga Wagga\, NSW\, 2650\, Australia
CATEGORIES:Fit Reformer
END:VEVENT
END:VCALENDAR