BEGIN:VCALENDAR
VERSION:2.0
PRODID:-//Synergy Healthworks - ECPv6.15.20//NONSGML v1.0//EN
CALSCALE:GREGORIAN
METHOD:PUBLISH
X-WR-CALNAME:Synergy Healthworks
X-ORIGINAL-URL:https://synergyhealthworks.com
X-WR-CALDESC:Events for Synergy Healthworks
REFRESH-INTERVAL;VALUE=DURATION:PT1H
X-Robots-Tag:noindex
X-PUBLISHED-TTL:PT1H
BEGIN:VTIMEZONE
TZID:Australia/Sydney
BEGIN:STANDARD
TZOFFSETFROM:+1100
TZOFFSETTO:+1000
TZNAME:AEST
DTSTART:20250405T160000
END:STANDARD
BEGIN:DAYLIGHT
TZOFFSETFROM:+1000
TZOFFSETTO:+1100
TZNAME:AEDT
DTSTART:20251004T160000
END:DAYLIGHT
BEGIN:STANDARD
TZOFFSETFROM:+1100
TZOFFSETTO:+1000
TZNAME:AEST
DTSTART:20260404T160000
END:STANDARD
BEGIN:DAYLIGHT
TZOFFSETFROM:+1000
TZOFFSETTO:+1100
TZNAME:AEDT
DTSTART:20261003T160000
END:DAYLIGHT
BEGIN:STANDARD
TZOFFSETFROM:+1100
TZOFFSETTO:+1000
TZNAME:AEST
DTSTART:20270403T160000
END:STANDARD
BEGIN:DAYLIGHT
TZOFFSETFROM:+1000
TZOFFSETTO:+1100
TZNAME:AEDT
DTSTART:20271002T160000
END:DAYLIGHT
END:VTIMEZONE
BEGIN:VEVENT
DTSTART;TZID=Australia/Sydney:20260422T060000
DTEND;TZID=Australia/Sydney:20260422T064500
DTSTAMP:20260423T233920
CREATED:20241204T014429Z
LAST-MODIFIED:20250914T100515Z
UID:10098550-1776837600-1776840300@synergyhealthworks.com
SUMMARY:Fit Reformer
DESCRIPTION:
URL:https://synergyhealthworks.com/event/fit-reformer-8/2026-04-22/
LOCATION:Wagga Wagga | Reformer Studio\, 221 Kincaid Street\, Wagga Wagga\, NSW\, 2650\, Australia
CATEGORIES:Fit Reformer
END:VEVENT
BEGIN:VEVENT
DTSTART;TZID=Australia/Sydney:20260421T070000
DTEND;TZID=Australia/Sydney:20260421T074500
DTSTAMP:20260423T233920
CREATED:20241204T012619Z
LAST-MODIFIED:20250129T031553Z
UID:10096030-1776754800-1776757500@synergyhealthworks.com
SUMMARY:Clinical Reformer
DESCRIPTION:
URL:https://synergyhealthworks.com/event/clinical-reformer-40/2026-04-21/
LOCATION:Wagga Wagga | Reformer Studio\, 221 Kincaid Street\, Wagga Wagga\, NSW\, 2650\, Australia
CATEGORIES:Clinical Reformer
END:VEVENT
BEGIN:VEVENT
DTSTART;TZID=Australia/Sydney:20260421T060000
DTEND;TZID=Australia/Sydney:20260421T064500
DTSTAMP:20260423T233920
CREATED:20241204T012551Z
LAST-MODIFIED:20250914T095956Z
UID:10095778-1776751200-1776753900@synergyhealthworks.com
SUMMARY:Clinical Reformer
DESCRIPTION:
URL:https://synergyhealthworks.com/event/clinical-reformer-39/2026-04-21/
LOCATION:Wagga Wagga | Reformer Studio\, 221 Kincaid Street\, Wagga Wagga\, NSW\, 2650\, Australia
CATEGORIES:Clinical Reformer
END:VEVENT
BEGIN:VEVENT
DTSTART;TZID=Australia/Sydney:20260420T181500
DTEND;TZID=Australia/Sydney:20260420T190000
DTSTAMP:20260423T233920
CREATED:20241204T012422Z
LAST-MODIFIED:20250914T100622Z
UID:10095526-1776708900-1776711600@synergyhealthworks.com
SUMMARY:Fit Reformer
DESCRIPTION:
URL:https://synergyhealthworks.com/event/fit-reformer-7/2026-04-20/
LOCATION:Wagga Wagga | Reformer Studio\, 221 Kincaid Street\, Wagga Wagga\, NSW\, 2650\, Australia
CATEGORIES:Fit Reformer
END:VEVENT
BEGIN:VEVENT
DTSTART;TZID=Australia/Sydney:20260420T171500
DTEND;TZID=Australia/Sydney:20260420T180000
DTSTAMP:20260423T233920
CREATED:20241204T012357Z
LAST-MODIFIED:20250129T031350Z
UID:10095274-1776705300-1776708000@synergyhealthworks.com
SUMMARY:Fit Reformer
DESCRIPTION:
URL:https://synergyhealthworks.com/event/fit-reformer-6/2026-04-20/
LOCATION:Wagga Wagga | Reformer Studio\, 221 Kincaid Street\, Wagga Wagga\, NSW\, 2650\, Australia
CATEGORIES:Fit Reformer
END:VEVENT
BEGIN:VEVENT
DTSTART;TZID=Australia/Sydney:20260417T130000
DTEND;TZID=Australia/Sydney:20260417T134500
DTSTAMP:20260423T233920
CREATED:20241204T020436Z
LAST-MODIFIED:20241204T020436Z
UID:10104322-1776430800-1776433500@synergyhealthworks.com
SUMMARY:Power Reformer
DESCRIPTION:
URL:https://synergyhealthworks.com/event/power-reformer-2/2026-04-17/
LOCATION:Wagga Wagga | Reformer Studio\, 221 Kincaid Street\, Wagga Wagga\, NSW\, 2650\, Australia
CATEGORIES:Power Reformer
END:VEVENT
BEGIN:VEVENT
DTSTART;TZID=Australia/Sydney:20260415T060000
DTEND;TZID=Australia/Sydney:20260415T064500
DTSTAMP:20260423T233920
CREATED:20241204T014429Z
LAST-MODIFIED:20250914T100515Z
UID:10098549-1776232800-1776235500@synergyhealthworks.com
SUMMARY:Fit Reformer
DESCRIPTION:
URL:https://synergyhealthworks.com/event/fit-reformer-8/2026-04-15/
LOCATION:Wagga Wagga | Reformer Studio\, 221 Kincaid Street\, Wagga Wagga\, NSW\, 2650\, Australia
CATEGORIES:Fit Reformer
END:VEVENT
BEGIN:VEVENT
DTSTART;TZID=Australia/Sydney:20260414T070000
DTEND;TZID=Australia/Sydney:20260414T074500
DTSTAMP:20260423T233920
CREATED:20241204T012619Z
LAST-MODIFIED:20250129T031553Z
UID:10096029-1776150000-1776152700@synergyhealthworks.com
SUMMARY:Clinical Reformer
DESCRIPTION:
URL:https://synergyhealthworks.com/event/clinical-reformer-40/2026-04-14/
LOCATION:Wagga Wagga | Reformer Studio\, 221 Kincaid Street\, Wagga Wagga\, NSW\, 2650\, Australia
CATEGORIES:Clinical Reformer
END:VEVENT
BEGIN:VEVENT
DTSTART;TZID=Australia/Sydney:20260414T060000
DTEND;TZID=Australia/Sydney:20260414T064500
DTSTAMP:20260423T233920
CREATED:20241204T012551Z
LAST-MODIFIED:20250914T095956Z
UID:10095777-1776146400-1776149100@synergyhealthworks.com
SUMMARY:Clinical Reformer
DESCRIPTION:
URL:https://synergyhealthworks.com/event/clinical-reformer-39/2026-04-14/
LOCATION:Wagga Wagga | Reformer Studio\, 221 Kincaid Street\, Wagga Wagga\, NSW\, 2650\, Australia
CATEGORIES:Clinical Reformer
END:VEVENT
BEGIN:VEVENT
DTSTART;TZID=Australia/Sydney:20260413T181500
DTEND;TZID=Australia/Sydney:20260413T190000
DTSTAMP:20260423T233920
CREATED:20241204T012422Z
LAST-MODIFIED:20250914T100622Z
UID:10095525-1776104100-1776106800@synergyhealthworks.com
SUMMARY:Fit Reformer
DESCRIPTION:
URL:https://synergyhealthworks.com/event/fit-reformer-7/2026-04-13/
LOCATION:Wagga Wagga | Reformer Studio\, 221 Kincaid Street\, Wagga Wagga\, NSW\, 2650\, Australia
CATEGORIES:Fit Reformer
END:VEVENT
BEGIN:VEVENT
DTSTART;TZID=Australia/Sydney:20260413T171500
DTEND;TZID=Australia/Sydney:20260413T180000
DTSTAMP:20260423T233920
CREATED:20241204T012357Z
LAST-MODIFIED:20250129T031350Z
UID:10095273-1776100500-1776103200@synergyhealthworks.com
SUMMARY:Fit Reformer
DESCRIPTION:
URL:https://synergyhealthworks.com/event/fit-reformer-6/2026-04-13/
LOCATION:Wagga Wagga | Reformer Studio\, 221 Kincaid Street\, Wagga Wagga\, NSW\, 2650\, Australia
CATEGORIES:Fit Reformer
END:VEVENT
BEGIN:VEVENT
DTSTART;TZID=Australia/Sydney:20260410T130000
DTEND;TZID=Australia/Sydney:20260410T134500
DTSTAMP:20260423T233920
CREATED:20241204T020436Z
LAST-MODIFIED:20241204T020436Z
UID:10104321-1775826000-1775828700@synergyhealthworks.com
SUMMARY:Power Reformer
DESCRIPTION:
URL:https://synergyhealthworks.com/event/power-reformer-2/2026-04-10/
LOCATION:Wagga Wagga | Reformer Studio\, 221 Kincaid Street\, Wagga Wagga\, NSW\, 2650\, Australia
CATEGORIES:Power Reformer
END:VEVENT
BEGIN:VEVENT
DTSTART;TZID=Australia/Sydney:20260408T060000
DTEND;TZID=Australia/Sydney:20260408T064500
DTSTAMP:20260423T233920
CREATED:20241204T014429Z
LAST-MODIFIED:20250914T100515Z
UID:10098548-1775628000-1775630700@synergyhealthworks.com
SUMMARY:Fit Reformer
DESCRIPTION:
URL:https://synergyhealthworks.com/event/fit-reformer-8/2026-04-08/
LOCATION:Wagga Wagga | Reformer Studio\, 221 Kincaid Street\, Wagga Wagga\, NSW\, 2650\, Australia
CATEGORIES:Fit Reformer
END:VEVENT
BEGIN:VEVENT
DTSTART;TZID=Australia/Sydney:20260407T070000
DTEND;TZID=Australia/Sydney:20260407T074500
DTSTAMP:20260423T233920
CREATED:20241204T012619Z
LAST-MODIFIED:20250129T031553Z
UID:10096028-1775545200-1775547900@synergyhealthworks.com
SUMMARY:Clinical Reformer
DESCRIPTION:
URL:https://synergyhealthworks.com/event/clinical-reformer-40/2026-04-07/
LOCATION:Wagga Wagga | Reformer Studio\, 221 Kincaid Street\, Wagga Wagga\, NSW\, 2650\, Australia
CATEGORIES:Clinical Reformer
END:VEVENT
BEGIN:VEVENT
DTSTART;TZID=Australia/Sydney:20260407T060000
DTEND;TZID=Australia/Sydney:20260407T064500
DTSTAMP:20260423T233920
CREATED:20241204T012551Z
LAST-MODIFIED:20250914T095956Z
UID:10095776-1775541600-1775544300@synergyhealthworks.com
SUMMARY:Clinical Reformer
DESCRIPTION:
URL:https://synergyhealthworks.com/event/clinical-reformer-39/2026-04-07/
LOCATION:Wagga Wagga | Reformer Studio\, 221 Kincaid Street\, Wagga Wagga\, NSW\, 2650\, Australia
CATEGORIES:Clinical Reformer
END:VEVENT
BEGIN:VEVENT
DTSTART;TZID=Australia/Sydney:20260406T181500
DTEND;TZID=Australia/Sydney:20260406T190000
DTSTAMP:20260423T233920
CREATED:20241204T012422Z
LAST-MODIFIED:20250914T100622Z
UID:10095524-1775499300-1775502000@synergyhealthworks.com
SUMMARY:Fit Reformer
DESCRIPTION:
URL:https://synergyhealthworks.com/event/fit-reformer-7/2026-04-06/
LOCATION:Wagga Wagga | Reformer Studio\, 221 Kincaid Street\, Wagga Wagga\, NSW\, 2650\, Australia
CATEGORIES:Fit Reformer
END:VEVENT
BEGIN:VEVENT
DTSTART;TZID=Australia/Sydney:20260406T171500
DTEND;TZID=Australia/Sydney:20260406T180000
DTSTAMP:20260423T233920
CREATED:20241204T012357Z
LAST-MODIFIED:20250129T031350Z
UID:10095272-1775495700-1775498400@synergyhealthworks.com
SUMMARY:Fit Reformer
DESCRIPTION:
URL:https://synergyhealthworks.com/event/fit-reformer-6/2026-04-06/
LOCATION:Wagga Wagga | Reformer Studio\, 221 Kincaid Street\, Wagga Wagga\, NSW\, 2650\, Australia
CATEGORIES:Fit Reformer
END:VEVENT
BEGIN:VEVENT
DTSTART;TZID=Australia/Sydney:20260403T130000
DTEND;TZID=Australia/Sydney:20260403T134500
DTSTAMP:20260423T233920
CREATED:20241204T020436Z
LAST-MODIFIED:20241204T020436Z
UID:10104320-1775221200-1775223900@synergyhealthworks.com
SUMMARY:Power Reformer
DESCRIPTION:
URL:https://synergyhealthworks.com/event/power-reformer-2/2026-04-03/
LOCATION:Wagga Wagga | Reformer Studio\, 221 Kincaid Street\, Wagga Wagga\, NSW\, 2650\, Australia
CATEGORIES:Power Reformer
END:VEVENT
BEGIN:VEVENT
DTSTART;TZID=Australia/Sydney:20260401T060000
DTEND;TZID=Australia/Sydney:20260401T064500
DTSTAMP:20260423T233920
CREATED:20241204T014429Z
LAST-MODIFIED:20250914T100515Z
UID:10098547-1775023200-1775025900@synergyhealthworks.com
SUMMARY:Fit Reformer
DESCRIPTION:
URL:https://synergyhealthworks.com/event/fit-reformer-8/2026-04-01/
LOCATION:Wagga Wagga | Reformer Studio\, 221 Kincaid Street\, Wagga Wagga\, NSW\, 2650\, Australia
CATEGORIES:Fit Reformer
END:VEVENT
BEGIN:VEVENT
DTSTART;TZID=Australia/Sydney:20260331T070000
DTEND;TZID=Australia/Sydney:20260331T074500
DTSTAMP:20260423T233920
CREATED:20241204T012619Z
LAST-MODIFIED:20250129T031553Z
UID:10096027-1774940400-1774943100@synergyhealthworks.com
SUMMARY:Clinical Reformer
DESCRIPTION:
URL:https://synergyhealthworks.com/event/clinical-reformer-40/2026-03-31/
LOCATION:Wagga Wagga | Reformer Studio\, 221 Kincaid Street\, Wagga Wagga\, NSW\, 2650\, Australia
CATEGORIES:Clinical Reformer
END:VEVENT
BEGIN:VEVENT
DTSTART;TZID=Australia/Sydney:20260331T060000
DTEND;TZID=Australia/Sydney:20260331T064500
DTSTAMP:20260423T233920
CREATED:20241204T012551Z
LAST-MODIFIED:20250914T095956Z
UID:10095775-1774936800-1774939500@synergyhealthworks.com
SUMMARY:Clinical Reformer
DESCRIPTION:
URL:https://synergyhealthworks.com/event/clinical-reformer-39/2026-03-31/
LOCATION:Wagga Wagga | Reformer Studio\, 221 Kincaid Street\, Wagga Wagga\, NSW\, 2650\, Australia
CATEGORIES:Clinical Reformer
END:VEVENT
BEGIN:VEVENT
DTSTART;TZID=Australia/Sydney:20260330T181500
DTEND;TZID=Australia/Sydney:20260330T190000
DTSTAMP:20260423T233920
CREATED:20241204T012422Z
LAST-MODIFIED:20250914T100622Z
UID:10095523-1774894500-1774897200@synergyhealthworks.com
SUMMARY:Fit Reformer
DESCRIPTION:
URL:https://synergyhealthworks.com/event/fit-reformer-7/2026-03-30/
LOCATION:Wagga Wagga | Reformer Studio\, 221 Kincaid Street\, Wagga Wagga\, NSW\, 2650\, Australia
CATEGORIES:Fit Reformer
END:VEVENT
BEGIN:VEVENT
DTSTART;TZID=Australia/Sydney:20260330T171500
DTEND;TZID=Australia/Sydney:20260330T180000
DTSTAMP:20260423T233920
CREATED:20241204T012357Z
LAST-MODIFIED:20250129T031350Z
UID:10095271-1774890900-1774893600@synergyhealthworks.com
SUMMARY:Fit Reformer
DESCRIPTION:
URL:https://synergyhealthworks.com/event/fit-reformer-6/2026-03-30/
LOCATION:Wagga Wagga | Reformer Studio\, 221 Kincaid Street\, Wagga Wagga\, NSW\, 2650\, Australia
CATEGORIES:Fit Reformer
END:VEVENT
BEGIN:VEVENT
DTSTART;TZID=Australia/Sydney:20260327T130000
DTEND;TZID=Australia/Sydney:20260327T134500
DTSTAMP:20260423T233920
CREATED:20241204T020436Z
LAST-MODIFIED:20241204T020436Z
UID:10104319-1774616400-1774619100@synergyhealthworks.com
SUMMARY:Power Reformer
DESCRIPTION:
URL:https://synergyhealthworks.com/event/power-reformer-2/2026-03-27/
LOCATION:Wagga Wagga | Reformer Studio\, 221 Kincaid Street\, Wagga Wagga\, NSW\, 2650\, Australia
CATEGORIES:Power Reformer
END:VEVENT
BEGIN:VEVENT
DTSTART;TZID=Australia/Sydney:20260325T060000
DTEND;TZID=Australia/Sydney:20260325T064500
DTSTAMP:20260423T233920
CREATED:20241204T014429Z
LAST-MODIFIED:20250914T100515Z
UID:10098546-1774418400-1774421100@synergyhealthworks.com
SUMMARY:Fit Reformer
DESCRIPTION:
URL:https://synergyhealthworks.com/event/fit-reformer-8/2026-03-25/
LOCATION:Wagga Wagga | Reformer Studio\, 221 Kincaid Street\, Wagga Wagga\, NSW\, 2650\, Australia
CATEGORIES:Fit Reformer
END:VEVENT
BEGIN:VEVENT
DTSTART;TZID=Australia/Sydney:20260324T070000
DTEND;TZID=Australia/Sydney:20260324T074500
DTSTAMP:20260423T233920
CREATED:20241204T012619Z
LAST-MODIFIED:20250129T031553Z
UID:10096026-1774335600-1774338300@synergyhealthworks.com
SUMMARY:Clinical Reformer
DESCRIPTION:
URL:https://synergyhealthworks.com/event/clinical-reformer-40/2026-03-24/
LOCATION:Wagga Wagga | Reformer Studio\, 221 Kincaid Street\, Wagga Wagga\, NSW\, 2650\, Australia
CATEGORIES:Clinical Reformer
END:VEVENT
BEGIN:VEVENT
DTSTART;TZID=Australia/Sydney:20260324T060000
DTEND;TZID=Australia/Sydney:20260324T064500
DTSTAMP:20260423T233920
CREATED:20241204T012551Z
LAST-MODIFIED:20250914T095956Z
UID:10095774-1774332000-1774334700@synergyhealthworks.com
SUMMARY:Clinical Reformer
DESCRIPTION:
URL:https://synergyhealthworks.com/event/clinical-reformer-39/2026-03-24/
LOCATION:Wagga Wagga | Reformer Studio\, 221 Kincaid Street\, Wagga Wagga\, NSW\, 2650\, Australia
CATEGORIES:Clinical Reformer
END:VEVENT
BEGIN:VEVENT
DTSTART;TZID=Australia/Sydney:20260323T181500
DTEND;TZID=Australia/Sydney:20260323T190000
DTSTAMP:20260423T233920
CREATED:20241204T012422Z
LAST-MODIFIED:20250914T100622Z
UID:10095522-1774289700-1774292400@synergyhealthworks.com
SUMMARY:Fit Reformer
DESCRIPTION:
URL:https://synergyhealthworks.com/event/fit-reformer-7/2026-03-23/
LOCATION:Wagga Wagga | Reformer Studio\, 221 Kincaid Street\, Wagga Wagga\, NSW\, 2650\, Australia
CATEGORIES:Fit Reformer
END:VEVENT
BEGIN:VEVENT
DTSTART;TZID=Australia/Sydney:20260323T171500
DTEND;TZID=Australia/Sydney:20260323T180000
DTSTAMP:20260423T233920
CREATED:20241204T012357Z
LAST-MODIFIED:20250129T031350Z
UID:10095270-1774286100-1774288800@synergyhealthworks.com
SUMMARY:Fit Reformer
DESCRIPTION:
URL:https://synergyhealthworks.com/event/fit-reformer-6/2026-03-23/
LOCATION:Wagga Wagga | Reformer Studio\, 221 Kincaid Street\, Wagga Wagga\, NSW\, 2650\, Australia
CATEGORIES:Fit Reformer
END:VEVENT
BEGIN:VEVENT
DTSTART;TZID=Australia/Sydney:20260320T130000
DTEND;TZID=Australia/Sydney:20260320T134500
DTSTAMP:20260423T233920
CREATED:20241204T020436Z
LAST-MODIFIED:20241204T020436Z
UID:10104318-1774011600-1774014300@synergyhealthworks.com
SUMMARY:Power Reformer
DESCRIPTION:
URL:https://synergyhealthworks.com/event/power-reformer-2/2026-03-20/
LOCATION:Wagga Wagga | Reformer Studio\, 221 Kincaid Street\, Wagga Wagga\, NSW\, 2650\, Australia
CATEGORIES:Power Reformer
END:VEVENT
END:VCALENDAR