BEGIN:VCALENDAR
VERSION:2.0
PRODID:-//Synergy Healthworks - ECPv6.15.20//NONSGML v1.0//EN
CALSCALE:GREGORIAN
METHOD:PUBLISH
X-WR-CALNAME:Synergy Healthworks
X-ORIGINAL-URL:https://synergyhealthworks.com
X-WR-CALDESC:Events for Synergy Healthworks
REFRESH-INTERVAL;VALUE=DURATION:PT1H
X-Robots-Tag:noindex
X-PUBLISHED-TTL:PT1H
BEGIN:VTIMEZONE
TZID:Australia/Sydney
BEGIN:STANDARD
TZOFFSETFROM:+1100
TZOFFSETTO:+1000
TZNAME:AEST
DTSTART:20250405T160000
END:STANDARD
BEGIN:DAYLIGHT
TZOFFSETFROM:+1000
TZOFFSETTO:+1100
TZNAME:AEDT
DTSTART:20251004T160000
END:DAYLIGHT
BEGIN:STANDARD
TZOFFSETFROM:+1100
TZOFFSETTO:+1000
TZNAME:AEST
DTSTART:20260404T160000
END:STANDARD
BEGIN:DAYLIGHT
TZOFFSETFROM:+1000
TZOFFSETTO:+1100
TZNAME:AEDT
DTSTART:20261003T160000
END:DAYLIGHT
BEGIN:STANDARD
TZOFFSETFROM:+1100
TZOFFSETTO:+1000
TZNAME:AEST
DTSTART:20270403T160000
END:STANDARD
BEGIN:DAYLIGHT
TZOFFSETFROM:+1000
TZOFFSETTO:+1100
TZNAME:AEDT
DTSTART:20271002T160000
END:DAYLIGHT
END:VTIMEZONE
BEGIN:VEVENT
DTSTART;TZID=Australia/Sydney:20260506T103000
DTEND;TZID=Australia/Sydney:20260506T111500
DTSTAMP:20260423T214633
CREATED:20241204T014538Z
LAST-MODIFIED:20250129T031828Z
UID:10099054-1778063400-1778066100@synergyhealthworks.com
SUMMARY:Clinical Reformer
DESCRIPTION:
URL:https://synergyhealthworks.com/event/clinical-reformer-48/2026-05-06/
LOCATION:Wagga Wagga | Reformer Studio\, 221 Kincaid Street\, Wagga Wagga\, NSW\, 2650\, Australia
CATEGORIES:Clinical Reformer
END:VEVENT
BEGIN:VEVENT
DTSTART;TZID=Australia/Sydney:20260507T103000
DTEND;TZID=Australia/Sydney:20260507T111500
DTSTAMP:20260423T214633
CREATED:20241204T015241Z
LAST-MODIFIED:20250129T032043Z
UID:10101313-1778149800-1778152500@synergyhealthworks.com
SUMMARY:Clinical Reformer
DESCRIPTION:
URL:https://synergyhealthworks.com/event/clinical-reformer-53/2026-05-07/
LOCATION:Wagga Wagga | Reformer Studio\, 221 Kincaid Street\, Wagga Wagga\, NSW\, 2650\, Australia
CATEGORIES:Clinical Reformer
END:VEVENT
BEGIN:VEVENT
DTSTART;TZID=Australia/Sydney:20260507T113000
DTEND;TZID=Australia/Sydney:20260507T121500
DTSTAMP:20260423T214633
CREATED:20241204T015401Z
LAST-MODIFIED:20250129T032048Z
UID:10101564-1778153400-1778156100@synergyhealthworks.com
SUMMARY:Gentle Reformer
DESCRIPTION:
URL:https://synergyhealthworks.com/event/clinical-reformer-54/2026-05-07/
LOCATION:Wagga Wagga | Reformer Studio\, 221 Kincaid Street\, Wagga Wagga\, NSW\, 2650\, Australia
CATEGORIES:Clinical Reformer
END:VEVENT
BEGIN:VEVENT
DTSTART;TZID=Australia/Sydney:20260507T140000
DTEND;TZID=Australia/Sydney:20260507T144500
DTSTAMP:20260423T214633
CREATED:20241204T015421Z
LAST-MODIFIED:20250617T134742Z
UID:10101815-1778162400-1778165100@synergyhealthworks.com
SUMMARY:Gentle Reformer
DESCRIPTION:
URL:https://synergyhealthworks.com/event/gentle-reformer-11/2026-05-07/
LOCATION:Wagga Wagga | Reformer Studio\, 221 Kincaid Street\, Wagga Wagga\, NSW\, 2650\, Australia
CATEGORIES:Clinical Reformer
END:VEVENT
BEGIN:VEVENT
DTSTART;TZID=Australia/Sydney:20260508T120000
DTEND;TZID=Australia/Sydney:20260508T124500
DTSTAMP:20260423T214633
CREATED:20241204T020404Z
LAST-MODIFIED:20251123T222851Z
UID:10104074-1778241600-1778244300@synergyhealthworks.com
SUMMARY:Clinical Reformer
DESCRIPTION:
URL:https://synergyhealthworks.com/event/clinical-reformer-60/2026-05-08/
LOCATION:Wagga Wagga | Reformer Studio\, 221 Kincaid Street\, Wagga Wagga\, NSW\, 2650\, Australia
CATEGORIES:Clinical Reformer
END:VEVENT
BEGIN:VEVENT
DTSTART;TZID=Australia/Sydney:20260511T063000
DTEND;TZID=Australia/Sydney:20260511T071500
DTSTAMP:20260423T214633
CREATED:20241204T012029Z
LAST-MODIFIED:20250914T100100Z
UID:10093765-1778481000-1778483700@synergyhealthworks.com
SUMMARY:Clinical Reformer
DESCRIPTION:
URL:https://synergyhealthworks.com/event/clinical-reformer-34/2026-05-11/
LOCATION:Wagga Wagga | Reformer Studio\, 221 Kincaid Street\, Wagga Wagga\, NSW\, 2650\, Australia
CATEGORIES:Clinical Reformer
END:VEVENT
BEGIN:VEVENT
DTSTART;TZID=Australia/Sydney:20260512T161500
DTEND;TZID=Australia/Sydney:20260512T170000
DTSTAMP:20260423T214633
CREATED:20241204T013056Z
LAST-MODIFIED:20251123T220534Z
UID:10097797-1778602500-1778605200@synergyhealthworks.com
SUMMARY:Clinical Reformer
DESCRIPTION:
URL:https://synergyhealthworks.com/event/clinical-reformer-44/2026-05-12/
LOCATION:Wagga Wagga | Reformer Studio\, 221 Kincaid Street\, Wagga Wagga\, NSW\, 2650\, Australia
CATEGORIES:Clinical Reformer
END:VEVENT
BEGIN:VEVENT
DTSTART;TZID=Australia/Sydney:20260512T171500
DTEND;TZID=Australia/Sydney:20260512T180000
DTSTAMP:20260423T214633
CREATED:20241204T010835Z
LAST-MODIFIED:20251203T034934Z
UID:10090751-1778606100-1778608800@synergyhealthworks.com
SUMMARY:Matwork Core Class
DESCRIPTION:
URL:https://synergyhealthworks.com/event/matwork-core-class-13/2026-05-12/
LOCATION:Wagga Wagga | Mat Studio\, 221 Kincaid Street\, Wagga Wagga\, NSW\, 2650\, Australia
CATEGORIES:Matwork
END:VEVENT
BEGIN:VEVENT
DTSTART;TZID=Australia/Sydney:20260513T103000
DTEND;TZID=Australia/Sydney:20260513T111500
DTSTAMP:20260423T214633
CREATED:20241204T014538Z
LAST-MODIFIED:20250129T031828Z
UID:10099055-1778668200-1778670900@synergyhealthworks.com
SUMMARY:Clinical Reformer
DESCRIPTION:
URL:https://synergyhealthworks.com/event/clinical-reformer-48/2026-05-13/
LOCATION:Wagga Wagga | Reformer Studio\, 221 Kincaid Street\, Wagga Wagga\, NSW\, 2650\, Australia
CATEGORIES:Clinical Reformer
END:VEVENT
BEGIN:VEVENT
DTSTART;TZID=Australia/Sydney:20260514T103000
DTEND;TZID=Australia/Sydney:20260514T111500
DTSTAMP:20260423T214633
CREATED:20241204T015241Z
LAST-MODIFIED:20250129T032043Z
UID:10101314-1778754600-1778757300@synergyhealthworks.com
SUMMARY:Clinical Reformer
DESCRIPTION:
URL:https://synergyhealthworks.com/event/clinical-reformer-53/2026-05-14/
LOCATION:Wagga Wagga | Reformer Studio\, 221 Kincaid Street\, Wagga Wagga\, NSW\, 2650\, Australia
CATEGORIES:Clinical Reformer
END:VEVENT
BEGIN:VEVENT
DTSTART;TZID=Australia/Sydney:20260514T113000
DTEND;TZID=Australia/Sydney:20260514T121500
DTSTAMP:20260423T214633
CREATED:20241204T015401Z
LAST-MODIFIED:20250129T032048Z
UID:10101565-1778758200-1778760900@synergyhealthworks.com
SUMMARY:Gentle Reformer
DESCRIPTION:
URL:https://synergyhealthworks.com/event/clinical-reformer-54/2026-05-14/
LOCATION:Wagga Wagga | Reformer Studio\, 221 Kincaid Street\, Wagga Wagga\, NSW\, 2650\, Australia
CATEGORIES:Clinical Reformer
END:VEVENT
BEGIN:VEVENT
DTSTART;TZID=Australia/Sydney:20260514T140000
DTEND;TZID=Australia/Sydney:20260514T144500
DTSTAMP:20260423T214633
CREATED:20241204T015421Z
LAST-MODIFIED:20250617T134742Z
UID:10101816-1778767200-1778769900@synergyhealthworks.com
SUMMARY:Gentle Reformer
DESCRIPTION:
URL:https://synergyhealthworks.com/event/gentle-reformer-11/2026-05-14/
LOCATION:Wagga Wagga | Reformer Studio\, 221 Kincaid Street\, Wagga Wagga\, NSW\, 2650\, Australia
CATEGORIES:Clinical Reformer
END:VEVENT
BEGIN:VEVENT
DTSTART;TZID=Australia/Sydney:20260515T120000
DTEND;TZID=Australia/Sydney:20260515T124500
DTSTAMP:20260423T214633
CREATED:20241204T020404Z
LAST-MODIFIED:20251123T222851Z
UID:10104075-1778846400-1778849100@synergyhealthworks.com
SUMMARY:Clinical Reformer
DESCRIPTION:
URL:https://synergyhealthworks.com/event/clinical-reformer-60/2026-05-15/
LOCATION:Wagga Wagga | Reformer Studio\, 221 Kincaid Street\, Wagga Wagga\, NSW\, 2650\, Australia
CATEGORIES:Clinical Reformer
END:VEVENT
BEGIN:VEVENT
DTSTART;TZID=Australia/Sydney:20260518T063000
DTEND;TZID=Australia/Sydney:20260518T071500
DTSTAMP:20260423T214633
CREATED:20241204T012029Z
LAST-MODIFIED:20250914T100100Z
UID:10093766-1779085800-1779088500@synergyhealthworks.com
SUMMARY:Clinical Reformer
DESCRIPTION:
URL:https://synergyhealthworks.com/event/clinical-reformer-34/2026-05-18/
LOCATION:Wagga Wagga | Reformer Studio\, 221 Kincaid Street\, Wagga Wagga\, NSW\, 2650\, Australia
CATEGORIES:Clinical Reformer
END:VEVENT
BEGIN:VEVENT
DTSTART;TZID=Australia/Sydney:20260519T161500
DTEND;TZID=Australia/Sydney:20260519T170000
DTSTAMP:20260423T214633
CREATED:20241204T013056Z
LAST-MODIFIED:20251123T220534Z
UID:10097798-1779207300-1779210000@synergyhealthworks.com
SUMMARY:Clinical Reformer
DESCRIPTION:
URL:https://synergyhealthworks.com/event/clinical-reformer-44/2026-05-19/
LOCATION:Wagga Wagga | Reformer Studio\, 221 Kincaid Street\, Wagga Wagga\, NSW\, 2650\, Australia
CATEGORIES:Clinical Reformer
END:VEVENT
BEGIN:VEVENT
DTSTART;TZID=Australia/Sydney:20260519T171500
DTEND;TZID=Australia/Sydney:20260519T180000
DTSTAMP:20260423T214633
CREATED:20241204T010835Z
LAST-MODIFIED:20251203T034934Z
UID:10090752-1779210900-1779213600@synergyhealthworks.com
SUMMARY:Matwork Core Class
DESCRIPTION:
URL:https://synergyhealthworks.com/event/matwork-core-class-13/2026-05-19/
LOCATION:Wagga Wagga | Mat Studio\, 221 Kincaid Street\, Wagga Wagga\, NSW\, 2650\, Australia
CATEGORIES:Matwork
END:VEVENT
BEGIN:VEVENT
DTSTART;TZID=Australia/Sydney:20260520T103000
DTEND;TZID=Australia/Sydney:20260520T111500
DTSTAMP:20260423T214633
CREATED:20241204T014538Z
LAST-MODIFIED:20250129T031828Z
UID:10099056-1779273000-1779275700@synergyhealthworks.com
SUMMARY:Clinical Reformer
DESCRIPTION:
URL:https://synergyhealthworks.com/event/clinical-reformer-48/2026-05-20/
LOCATION:Wagga Wagga | Reformer Studio\, 221 Kincaid Street\, Wagga Wagga\, NSW\, 2650\, Australia
CATEGORIES:Clinical Reformer
END:VEVENT
BEGIN:VEVENT
DTSTART;TZID=Australia/Sydney:20260521T103000
DTEND;TZID=Australia/Sydney:20260521T111500
DTSTAMP:20260423T214633
CREATED:20241204T015241Z
LAST-MODIFIED:20250129T032043Z
UID:10101315-1779359400-1779362100@synergyhealthworks.com
SUMMARY:Clinical Reformer
DESCRIPTION:
URL:https://synergyhealthworks.com/event/clinical-reformer-53/2026-05-21/
LOCATION:Wagga Wagga | Reformer Studio\, 221 Kincaid Street\, Wagga Wagga\, NSW\, 2650\, Australia
CATEGORIES:Clinical Reformer
END:VEVENT
BEGIN:VEVENT
DTSTART;TZID=Australia/Sydney:20260521T113000
DTEND;TZID=Australia/Sydney:20260521T121500
DTSTAMP:20260423T214633
CREATED:20241204T015401Z
LAST-MODIFIED:20250129T032048Z
UID:10101566-1779363000-1779365700@synergyhealthworks.com
SUMMARY:Gentle Reformer
DESCRIPTION:
URL:https://synergyhealthworks.com/event/clinical-reformer-54/2026-05-21/
LOCATION:Wagga Wagga | Reformer Studio\, 221 Kincaid Street\, Wagga Wagga\, NSW\, 2650\, Australia
CATEGORIES:Clinical Reformer
END:VEVENT
BEGIN:VEVENT
DTSTART;TZID=Australia/Sydney:20260521T140000
DTEND;TZID=Australia/Sydney:20260521T144500
DTSTAMP:20260423T214633
CREATED:20241204T015421Z
LAST-MODIFIED:20250617T134742Z
UID:10101817-1779372000-1779374700@synergyhealthworks.com
SUMMARY:Gentle Reformer
DESCRIPTION:
URL:https://synergyhealthworks.com/event/gentle-reformer-11/2026-05-21/
LOCATION:Wagga Wagga | Reformer Studio\, 221 Kincaid Street\, Wagga Wagga\, NSW\, 2650\, Australia
CATEGORIES:Clinical Reformer
END:VEVENT
BEGIN:VEVENT
DTSTART;TZID=Australia/Sydney:20260522T120000
DTEND;TZID=Australia/Sydney:20260522T124500
DTSTAMP:20260423T214633
CREATED:20241204T020404Z
LAST-MODIFIED:20251123T222851Z
UID:10104076-1779451200-1779453900@synergyhealthworks.com
SUMMARY:Clinical Reformer
DESCRIPTION:
URL:https://synergyhealthworks.com/event/clinical-reformer-60/2026-05-22/
LOCATION:Wagga Wagga | Reformer Studio\, 221 Kincaid Street\, Wagga Wagga\, NSW\, 2650\, Australia
CATEGORIES:Clinical Reformer
END:VEVENT
BEGIN:VEVENT
DTSTART;TZID=Australia/Sydney:20260525T063000
DTEND;TZID=Australia/Sydney:20260525T071500
DTSTAMP:20260423T214633
CREATED:20241204T012029Z
LAST-MODIFIED:20250914T100100Z
UID:10093767-1779690600-1779693300@synergyhealthworks.com
SUMMARY:Clinical Reformer
DESCRIPTION:
URL:https://synergyhealthworks.com/event/clinical-reformer-34/2026-05-25/
LOCATION:Wagga Wagga | Reformer Studio\, 221 Kincaid Street\, Wagga Wagga\, NSW\, 2650\, Australia
CATEGORIES:Clinical Reformer
END:VEVENT
BEGIN:VEVENT
DTSTART;TZID=Australia/Sydney:20260526T161500
DTEND;TZID=Australia/Sydney:20260526T170000
DTSTAMP:20260423T214633
CREATED:20241204T013056Z
LAST-MODIFIED:20251123T220534Z
UID:10097799-1779812100-1779814800@synergyhealthworks.com
SUMMARY:Clinical Reformer
DESCRIPTION:
URL:https://synergyhealthworks.com/event/clinical-reformer-44/2026-05-26/
LOCATION:Wagga Wagga | Reformer Studio\, 221 Kincaid Street\, Wagga Wagga\, NSW\, 2650\, Australia
CATEGORIES:Clinical Reformer
END:VEVENT
BEGIN:VEVENT
DTSTART;TZID=Australia/Sydney:20260526T171500
DTEND;TZID=Australia/Sydney:20260526T180000
DTSTAMP:20260423T214633
CREATED:20241204T010835Z
LAST-MODIFIED:20251203T034934Z
UID:10090753-1779815700-1779818400@synergyhealthworks.com
SUMMARY:Matwork Core Class
DESCRIPTION:
URL:https://synergyhealthworks.com/event/matwork-core-class-13/2026-05-26/
LOCATION:Wagga Wagga | Mat Studio\, 221 Kincaid Street\, Wagga Wagga\, NSW\, 2650\, Australia
CATEGORIES:Matwork
END:VEVENT
BEGIN:VEVENT
DTSTART;TZID=Australia/Sydney:20260527T103000
DTEND;TZID=Australia/Sydney:20260527T111500
DTSTAMP:20260423T214633
CREATED:20241204T014538Z
LAST-MODIFIED:20250129T031828Z
UID:10099057-1779877800-1779880500@synergyhealthworks.com
SUMMARY:Clinical Reformer
DESCRIPTION:
URL:https://synergyhealthworks.com/event/clinical-reformer-48/2026-05-27/
LOCATION:Wagga Wagga | Reformer Studio\, 221 Kincaid Street\, Wagga Wagga\, NSW\, 2650\, Australia
CATEGORIES:Clinical Reformer
END:VEVENT
BEGIN:VEVENT
DTSTART;TZID=Australia/Sydney:20260528T103000
DTEND;TZID=Australia/Sydney:20260528T111500
DTSTAMP:20260423T214633
CREATED:20241204T015241Z
LAST-MODIFIED:20250129T032043Z
UID:10101316-1779964200-1779966900@synergyhealthworks.com
SUMMARY:Clinical Reformer
DESCRIPTION:
URL:https://synergyhealthworks.com/event/clinical-reformer-53/2026-05-28/
LOCATION:Wagga Wagga | Reformer Studio\, 221 Kincaid Street\, Wagga Wagga\, NSW\, 2650\, Australia
CATEGORIES:Clinical Reformer
END:VEVENT
BEGIN:VEVENT
DTSTART;TZID=Australia/Sydney:20260528T113000
DTEND;TZID=Australia/Sydney:20260528T121500
DTSTAMP:20260423T214633
CREATED:20241204T015401Z
LAST-MODIFIED:20250129T032048Z
UID:10101567-1779967800-1779970500@synergyhealthworks.com
SUMMARY:Gentle Reformer
DESCRIPTION:
URL:https://synergyhealthworks.com/event/clinical-reformer-54/2026-05-28/
LOCATION:Wagga Wagga | Reformer Studio\, 221 Kincaid Street\, Wagga Wagga\, NSW\, 2650\, Australia
CATEGORIES:Clinical Reformer
END:VEVENT
BEGIN:VEVENT
DTSTART;TZID=Australia/Sydney:20260528T140000
DTEND;TZID=Australia/Sydney:20260528T144500
DTSTAMP:20260423T214633
CREATED:20241204T015421Z
LAST-MODIFIED:20250617T134742Z
UID:10101818-1779976800-1779979500@synergyhealthworks.com
SUMMARY:Gentle Reformer
DESCRIPTION:
URL:https://synergyhealthworks.com/event/gentle-reformer-11/2026-05-28/
LOCATION:Wagga Wagga | Reformer Studio\, 221 Kincaid Street\, Wagga Wagga\, NSW\, 2650\, Australia
CATEGORIES:Clinical Reformer
END:VEVENT
BEGIN:VEVENT
DTSTART;TZID=Australia/Sydney:20260529T120000
DTEND;TZID=Australia/Sydney:20260529T124500
DTSTAMP:20260423T214633
CREATED:20241204T020404Z
LAST-MODIFIED:20251123T222851Z
UID:10104077-1780056000-1780058700@synergyhealthworks.com
SUMMARY:Clinical Reformer
DESCRIPTION:
URL:https://synergyhealthworks.com/event/clinical-reformer-60/2026-05-29/
LOCATION:Wagga Wagga | Reformer Studio\, 221 Kincaid Street\, Wagga Wagga\, NSW\, 2650\, Australia
CATEGORIES:Clinical Reformer
END:VEVENT
BEGIN:VEVENT
DTSTART;TZID=Australia/Sydney:20260601T063000
DTEND;TZID=Australia/Sydney:20260601T071500
DTSTAMP:20260423T214633
CREATED:20241204T012029Z
LAST-MODIFIED:20250914T100100Z
UID:10093768-1780295400-1780298100@synergyhealthworks.com
SUMMARY:Clinical Reformer
DESCRIPTION:
URL:https://synergyhealthworks.com/event/clinical-reformer-34/2026-06-01/
LOCATION:Wagga Wagga | Reformer Studio\, 221 Kincaid Street\, Wagga Wagga\, NSW\, 2650\, Australia
CATEGORIES:Clinical Reformer
END:VEVENT
END:VCALENDAR