BEGIN:VCALENDAR
VERSION:2.0
PRODID:-//Synergy Healthworks - ECPv6.15.20//NONSGML v1.0//EN
CALSCALE:GREGORIAN
METHOD:PUBLISH
X-ORIGINAL-URL:https://synergyhealthworks.com
X-WR-CALDESC:Events for Synergy Healthworks
REFRESH-INTERVAL;VALUE=DURATION:PT1H
X-Robots-Tag:noindex
X-PUBLISHED-TTL:PT1H
BEGIN:VTIMEZONE
TZID:Australia/Sydney
BEGIN:STANDARD
TZOFFSETFROM:+1100
TZOFFSETTO:+1000
TZNAME:AEST
DTSTART:20280401T160000
END:STANDARD
BEGIN:DAYLIGHT
TZOFFSETFROM:+1000
TZOFFSETTO:+1100
TZNAME:AEDT
DTSTART:20280930T160000
END:DAYLIGHT
BEGIN:STANDARD
TZOFFSETFROM:+1100
TZOFFSETTO:+1000
TZNAME:AEST
DTSTART:20290331T160000
END:STANDARD
BEGIN:DAYLIGHT
TZOFFSETFROM:+1000
TZOFFSETTO:+1100
TZNAME:AEDT
DTSTART:20291006T160000
END:DAYLIGHT
BEGIN:STANDARD
TZOFFSETFROM:+1100
TZOFFSETTO:+1000
TZNAME:AEST
DTSTART:20300406T160000
END:STANDARD
BEGIN:DAYLIGHT
TZOFFSETFROM:+1000
TZOFFSETTO:+1100
TZNAME:AEDT
DTSTART:20301005T160000
END:DAYLIGHT
END:VTIMEZONE
BEGIN:VEVENT
DTSTART;TZID=Australia/Sydney:20291210T070000
DTEND;TZID=Australia/Sydney:20291210T074500
DTSTAMP:20260426T143452
CREATED:20250901T033635Z
LAST-MODIFIED:20250901T033635Z
UID:10125325-1891580400-1891583100@synergyhealthworks.com
SUMMARY:Clinical Reformer
DESCRIPTION:
URL:https://synergyhealthworks.com/event/clinical-reformer-62-2/2029-12-10/
LOCATION:Gundagai\, 114 Sheridan Street\, Gundagai\, NSW\, 2722\, Australia
CATEGORIES:Clinical Reformer
END:VEVENT
BEGIN:VEVENT
DTSTART;TZID=Australia/Sydney:20291210T093000
DTEND;TZID=Australia/Sydney:20291210T101500
DTSTAMP:20260426T143452
CREATED:20250901T033248Z
LAST-MODIFIED:20251212T230425Z
UID:10124485-1891589400-1891592100@synergyhealthworks.com
SUMMARY:Clinical Reformer
DESCRIPTION:
URL:https://synergyhealthworks.com/event/clinical-reformer-61/2029-12-10/
LOCATION:Gundagai\, 114 Sheridan Street\, Gundagai\, NSW\, 2722\, Australia
CATEGORIES:Clinical Reformer
END:VEVENT
BEGIN:VEVENT
DTSTART;TZID=Australia/Sydney:20291212T093000
DTEND;TZID=Australia/Sydney:20291212T101500
DTSTAMP:20260426T143452
CREATED:20241204T014501Z
LAST-MODIFIED:20250618T063327Z
UID:10119562-1891762200-1891764900@synergyhealthworks.com
SUMMARY:Clinical Reformer
DESCRIPTION:
URL:https://synergyhealthworks.com/event/clinical-reformer-47/2029-12-12/
LOCATION:Wagga Wagga | Reformer Studio\, 221 Kincaid Street\, Wagga Wagga\, NSW\, 2650\, Australia
CATEGORIES:Clinical Reformer
END:VEVENT
BEGIN:VEVENT
DTSTART;TZID=Australia/Sydney:20291212T161500
DTEND;TZID=Australia/Sydney:20291212T170000
DTSTAMP:20260426T143452
CREATED:20241204T014718Z
LAST-MODIFIED:20250129T031835Z
UID:10111930-1891786500-1891789200@synergyhealthworks.com
SUMMARY:Clinical Reformer
DESCRIPTION:
URL:https://synergyhealthworks.com/event/clinical-reformer-49/2029-12-12/
LOCATION:Wagga Wagga | Reformer Studio\, 221 Kincaid Street\, Wagga Wagga\, NSW\, 2650\, Australia
CATEGORIES:Clinical Reformer
END:VEVENT
BEGIN:VEVENT
DTSTART;TZID=Australia/Sydney:20291213T110000
DTEND;TZID=Australia/Sydney:20291213T114500
DTSTAMP:20260426T143452
CREATED:20241204T011425Z
LAST-MODIFIED:20251204T222714Z
UID:10128937-1891854000-1891856700@synergyhealthworks.com
SUMMARY:Mums and Bubs Core Class
DESCRIPTION:
URL:https://synergyhealthworks.com/event/mums-and-bubs-core-class-7/2029-12-13/
LOCATION:Wagga Wagga | Mat Studio\, 221 Kincaid Street\, Wagga Wagga\, NSW\, 2650\, Australia
CATEGORIES:Mums and Bubs
END:VEVENT
BEGIN:VEVENT
DTSTART;TZID=Australia/Sydney:20291213T130000
DTEND;TZID=Australia/Sydney:20291213T134500
DTSTAMP:20260426T143452
CREATED:20241204T011507Z
LAST-MODIFIED:20250129T031040Z
UID:10111719-1891861200-1891863900@synergyhealthworks.com
SUMMARY:Parkinson's Group Strength
DESCRIPTION:
URL:https://synergyhealthworks.com/event/parkinsons-group-strength-6/2029-12-13/
LOCATION:Wagga Wagga | Mat Studio\, 221 Kincaid Street\, Wagga Wagga\, NSW\, 2650\, Australia
CATEGORIES:Parkinson's Group Strength
END:VEVENT
BEGIN:VEVENT
DTSTART;TZID=Australia/Sydney:20291213T161500
DTEND;TZID=Australia/Sydney:20291213T170000
DTSTAMP:20260426T143452
CREATED:20241204T015701Z
LAST-MODIFIED:20250129T032111Z
UID:10112010-1891872900-1891875600@synergyhealthworks.com
SUMMARY:Clinical Reformer
DESCRIPTION:
URL:https://synergyhealthworks.com/event/clinical-reformer-55/2029-12-13/
LOCATION:Wagga Wagga | Reformer Studio\, 221 Kincaid Street\, Wagga Wagga\, NSW\, 2650\, Australia
CATEGORIES:Clinical Reformer
END:VEVENT
BEGIN:VEVENT
DTSTART;TZID=Australia/Sydney:20291213T171500
DTEND;TZID=Australia/Sydney:20291213T180000
DTSTAMP:20260426T143452
CREATED:20241204T015723Z
LAST-MODIFIED:20250129T032120Z
UID:10112018-1891876500-1891879200@synergyhealthworks.com
SUMMARY:Clinical Reformer
DESCRIPTION:
URL:https://synergyhealthworks.com/event/clinical-reformer-56/2029-12-13/
LOCATION:Wagga Wagga | Reformer Studio\, 221 Kincaid Street\, Wagga Wagga\, NSW\, 2650\, Australia
CATEGORIES:Clinical Reformer
END:VEVENT
BEGIN:VEVENT
DTSTART;TZID=Australia/Sydney:20291213T181500
DTEND;TZID=Australia/Sydney:20291213T190000
DTSTAMP:20260426T143452
CREATED:20241204T015828Z
LAST-MODIFIED:20250914T095556Z
UID:10112026-1891880100-1891882800@synergyhealthworks.com
SUMMARY:Clinical Reformer
DESCRIPTION:
URL:https://synergyhealthworks.com/event/clinical-reformer-57/2029-12-13/
LOCATION:Wagga Wagga | Reformer Studio\, 221 Kincaid Street\, Wagga Wagga\, NSW\, 2650\, Australia
CATEGORIES:Clinical Reformer
END:VEVENT
BEGIN:VEVENT
DTSTART;TZID=Australia/Sydney:20291214T070000
DTEND;TZID=Australia/Sydney:20291214T074500
DTSTAMP:20260426T143452
CREATED:20241204T020111Z
LAST-MODIFIED:20251123T222717Z
UID:10128491-1891926000-1891928700@synergyhealthworks.com
SUMMARY:Clinical Reformer
DESCRIPTION:
URL:https://synergyhealthworks.com/event/clinical-reformer-59/2029-12-14/
LOCATION:Wagga Wagga | Reformer Studio\, 221 Kincaid Street\, Wagga Wagga\, NSW\, 2650\, Australia
CATEGORIES:Clinical Reformer
END:VEVENT
BEGIN:VEVENT
DTSTART;TZID=Australia/Sydney:20291214T090000
DTEND;TZID=Australia/Sydney:20291214T094500
DTSTAMP:20260426T143452
CREATED:20241204T011816Z
LAST-MODIFIED:20250129T031139Z
UID:10111742-1891933200-1891935900@synergyhealthworks.com
SUMMARY:Matwork Core Class
DESCRIPTION:
URL:https://synergyhealthworks.com/event/matwork-core-class-16/2029-12-14/
LOCATION:Wagga Wagga | Mat Studio\, 221 Kincaid Street\, Wagga Wagga\, NSW\, 2650\, Australia
CATEGORIES:Matwork
END:VEVENT
BEGIN:VEVENT
DTSTART;TZID=Australia/Sydney:20291214T110000
DTEND;TZID=Australia/Sydney:20291214T114500
DTSTAMP:20260426T143452
CREATED:20241204T020337Z
LAST-MODIFIED:20251123T222821Z
UID:10128542-1891940400-1891943100@synergyhealthworks.com
SUMMARY:Mums and Bubs Reformer
DESCRIPTION:
URL:https://synergyhealthworks.com/event/mums-and-bubs-reformer-6/2029-12-14/
LOCATION:Wagga Wagga | Reformer Studio\, 221 Kincaid Street\, Wagga Wagga\, NSW\, 2650\, Australia
CATEGORIES:Mums and Bubs
END:VEVENT
BEGIN:VEVENT
DTSTART;TZID=Australia/Sydney:20291217T070000
DTEND;TZID=Australia/Sydney:20291217T074500
DTSTAMP:20260426T143452
CREATED:20250901T033635Z
LAST-MODIFIED:20250901T033635Z
UID:10125326-1892185200-1892187900@synergyhealthworks.com
SUMMARY:Clinical Reformer
DESCRIPTION:
URL:https://synergyhealthworks.com/event/clinical-reformer-62-2/2029-12-17/
LOCATION:Gundagai\, 114 Sheridan Street\, Gundagai\, NSW\, 2722\, Australia
CATEGORIES:Clinical Reformer
END:VEVENT
BEGIN:VEVENT
DTSTART;TZID=Australia/Sydney:20291217T093000
DTEND;TZID=Australia/Sydney:20291217T101500
DTSTAMP:20260426T143452
CREATED:20250901T033248Z
LAST-MODIFIED:20251212T230425Z
UID:10124486-1892194200-1892196900@synergyhealthworks.com
SUMMARY:Clinical Reformer
DESCRIPTION:
URL:https://synergyhealthworks.com/event/clinical-reformer-61/2029-12-17/
LOCATION:Gundagai\, 114 Sheridan Street\, Gundagai\, NSW\, 2722\, Australia
CATEGORIES:Clinical Reformer
END:VEVENT
BEGIN:VEVENT
DTSTART;TZID=Australia/Sydney:20291219T093000
DTEND;TZID=Australia/Sydney:20291219T101500
DTSTAMP:20260426T143452
CREATED:20241204T014501Z
LAST-MODIFIED:20250618T063327Z
UID:10119563-1892367000-1892369700@synergyhealthworks.com
SUMMARY:Clinical Reformer
DESCRIPTION:
URL:https://synergyhealthworks.com/event/clinical-reformer-47/2029-12-19/
LOCATION:Wagga Wagga | Reformer Studio\, 221 Kincaid Street\, Wagga Wagga\, NSW\, 2650\, Australia
CATEGORIES:Clinical Reformer
END:VEVENT
BEGIN:VEVENT
DTSTART;TZID=Australia/Sydney:20291219T161500
DTEND;TZID=Australia/Sydney:20291219T170000
DTSTAMP:20260426T143452
CREATED:20241204T014718Z
LAST-MODIFIED:20250129T031835Z
UID:10111931-1892391300-1892394000@synergyhealthworks.com
SUMMARY:Clinical Reformer
DESCRIPTION:
URL:https://synergyhealthworks.com/event/clinical-reformer-49/2029-12-19/
LOCATION:Wagga Wagga | Reformer Studio\, 221 Kincaid Street\, Wagga Wagga\, NSW\, 2650\, Australia
CATEGORIES:Clinical Reformer
END:VEVENT
BEGIN:VEVENT
DTSTART;TZID=Australia/Sydney:20291220T110000
DTEND;TZID=Australia/Sydney:20291220T114500
DTSTAMP:20260426T143452
CREATED:20241204T011425Z
LAST-MODIFIED:20251204T222714Z
UID:10128938-1892458800-1892461500@synergyhealthworks.com
SUMMARY:Mums and Bubs Core Class
DESCRIPTION:
URL:https://synergyhealthworks.com/event/mums-and-bubs-core-class-7/2029-12-20/
LOCATION:Wagga Wagga | Mat Studio\, 221 Kincaid Street\, Wagga Wagga\, NSW\, 2650\, Australia
CATEGORIES:Mums and Bubs
END:VEVENT
BEGIN:VEVENT
DTSTART;TZID=Australia/Sydney:20291220T130000
DTEND;TZID=Australia/Sydney:20291220T134500
DTSTAMP:20260426T143452
CREATED:20241204T011507Z
LAST-MODIFIED:20250129T031040Z
UID:10111720-1892466000-1892468700@synergyhealthworks.com
SUMMARY:Parkinson's Group Strength
DESCRIPTION:
URL:https://synergyhealthworks.com/event/parkinsons-group-strength-6/2029-12-20/
LOCATION:Wagga Wagga | Mat Studio\, 221 Kincaid Street\, Wagga Wagga\, NSW\, 2650\, Australia
CATEGORIES:Parkinson's Group Strength
END:VEVENT
BEGIN:VEVENT
DTSTART;TZID=Australia/Sydney:20291220T161500
DTEND;TZID=Australia/Sydney:20291220T170000
DTSTAMP:20260426T143452
CREATED:20241204T015701Z
LAST-MODIFIED:20250129T032111Z
UID:10112011-1892477700-1892480400@synergyhealthworks.com
SUMMARY:Clinical Reformer
DESCRIPTION:
URL:https://synergyhealthworks.com/event/clinical-reformer-55/2029-12-20/
LOCATION:Wagga Wagga | Reformer Studio\, 221 Kincaid Street\, Wagga Wagga\, NSW\, 2650\, Australia
CATEGORIES:Clinical Reformer
END:VEVENT
BEGIN:VEVENT
DTSTART;TZID=Australia/Sydney:20291220T171500
DTEND;TZID=Australia/Sydney:20291220T180000
DTSTAMP:20260426T143452
CREATED:20241204T015723Z
LAST-MODIFIED:20250129T032120Z
UID:10112019-1892481300-1892484000@synergyhealthworks.com
SUMMARY:Clinical Reformer
DESCRIPTION:
URL:https://synergyhealthworks.com/event/clinical-reformer-56/2029-12-20/
LOCATION:Wagga Wagga | Reformer Studio\, 221 Kincaid Street\, Wagga Wagga\, NSW\, 2650\, Australia
CATEGORIES:Clinical Reformer
END:VEVENT
BEGIN:VEVENT
DTSTART;TZID=Australia/Sydney:20291220T181500
DTEND;TZID=Australia/Sydney:20291220T190000
DTSTAMP:20260426T143452
CREATED:20241204T015828Z
LAST-MODIFIED:20250914T095556Z
UID:10112027-1892484900-1892487600@synergyhealthworks.com
SUMMARY:Clinical Reformer
DESCRIPTION:
URL:https://synergyhealthworks.com/event/clinical-reformer-57/2029-12-20/
LOCATION:Wagga Wagga | Reformer Studio\, 221 Kincaid Street\, Wagga Wagga\, NSW\, 2650\, Australia
CATEGORIES:Clinical Reformer
END:VEVENT
BEGIN:VEVENT
DTSTART;TZID=Australia/Sydney:20291221T070000
DTEND;TZID=Australia/Sydney:20291221T074500
DTSTAMP:20260426T143452
CREATED:20241204T020111Z
LAST-MODIFIED:20251123T222717Z
UID:10128492-1892530800-1892533500@synergyhealthworks.com
SUMMARY:Clinical Reformer
DESCRIPTION:
URL:https://synergyhealthworks.com/event/clinical-reformer-59/2029-12-21/
LOCATION:Wagga Wagga | Reformer Studio\, 221 Kincaid Street\, Wagga Wagga\, NSW\, 2650\, Australia
CATEGORIES:Clinical Reformer
END:VEVENT
BEGIN:VEVENT
DTSTART;TZID=Australia/Sydney:20291221T090000
DTEND;TZID=Australia/Sydney:20291221T094500
DTSTAMP:20260426T143452
CREATED:20241204T011816Z
LAST-MODIFIED:20250129T031139Z
UID:10111743-1892538000-1892540700@synergyhealthworks.com
SUMMARY:Matwork Core Class
DESCRIPTION:
URL:https://synergyhealthworks.com/event/matwork-core-class-16/2029-12-21/
LOCATION:Wagga Wagga | Mat Studio\, 221 Kincaid Street\, Wagga Wagga\, NSW\, 2650\, Australia
CATEGORIES:Matwork
END:VEVENT
BEGIN:VEVENT
DTSTART;TZID=Australia/Sydney:20291221T110000
DTEND;TZID=Australia/Sydney:20291221T114500
DTSTAMP:20260426T143452
CREATED:20241204T020337Z
LAST-MODIFIED:20251123T222821Z
UID:10128543-1892545200-1892547900@synergyhealthworks.com
SUMMARY:Mums and Bubs Reformer
DESCRIPTION:
URL:https://synergyhealthworks.com/event/mums-and-bubs-reformer-6/2029-12-21/
LOCATION:Wagga Wagga | Reformer Studio\, 221 Kincaid Street\, Wagga Wagga\, NSW\, 2650\, Australia
CATEGORIES:Mums and Bubs
END:VEVENT
BEGIN:VEVENT
DTSTART;TZID=Australia/Sydney:20291224T070000
DTEND;TZID=Australia/Sydney:20291224T074500
DTSTAMP:20260426T143452
CREATED:20250901T033635Z
LAST-MODIFIED:20250901T033635Z
UID:10125327-1892790000-1892792700@synergyhealthworks.com
SUMMARY:Clinical Reformer
DESCRIPTION:
URL:https://synergyhealthworks.com/event/clinical-reformer-62-2/2029-12-24/
LOCATION:Gundagai\, 114 Sheridan Street\, Gundagai\, NSW\, 2722\, Australia
CATEGORIES:Clinical Reformer
END:VEVENT
BEGIN:VEVENT
DTSTART;TZID=Australia/Sydney:20291224T093000
DTEND;TZID=Australia/Sydney:20291224T101500
DTSTAMP:20260426T143452
CREATED:20250901T033248Z
LAST-MODIFIED:20251212T230425Z
UID:10124487-1892799000-1892801700@synergyhealthworks.com
SUMMARY:Clinical Reformer
DESCRIPTION:
URL:https://synergyhealthworks.com/event/clinical-reformer-61/2029-12-24/
LOCATION:Gundagai\, 114 Sheridan Street\, Gundagai\, NSW\, 2722\, Australia
CATEGORIES:Clinical Reformer
END:VEVENT
BEGIN:VEVENT
DTSTART;TZID=Australia/Sydney:20291226T093000
DTEND;TZID=Australia/Sydney:20291226T101500
DTSTAMP:20260426T143452
CREATED:20241204T014501Z
LAST-MODIFIED:20250618T063327Z
UID:10119564-1892971800-1892974500@synergyhealthworks.com
SUMMARY:Clinical Reformer
DESCRIPTION:
URL:https://synergyhealthworks.com/event/clinical-reformer-47/2029-12-26/
LOCATION:Wagga Wagga | Reformer Studio\, 221 Kincaid Street\, Wagga Wagga\, NSW\, 2650\, Australia
CATEGORIES:Clinical Reformer
END:VEVENT
BEGIN:VEVENT
DTSTART;TZID=Australia/Sydney:20291226T161500
DTEND;TZID=Australia/Sydney:20291226T170000
DTSTAMP:20260426T143452
CREATED:20241204T014718Z
LAST-MODIFIED:20250129T031835Z
UID:10111932-1892996100-1892998800@synergyhealthworks.com
SUMMARY:Clinical Reformer
DESCRIPTION:
URL:https://synergyhealthworks.com/event/clinical-reformer-49/2029-12-26/
LOCATION:Wagga Wagga | Reformer Studio\, 221 Kincaid Street\, Wagga Wagga\, NSW\, 2650\, Australia
CATEGORIES:Clinical Reformer
END:VEVENT
BEGIN:VEVENT
DTSTART;TZID=Australia/Sydney:20291227T110000
DTEND;TZID=Australia/Sydney:20291227T114500
DTSTAMP:20260426T143452
CREATED:20241204T011425Z
LAST-MODIFIED:20251204T222714Z
UID:10128939-1893063600-1893066300@synergyhealthworks.com
SUMMARY:Mums and Bubs Core Class
DESCRIPTION:
URL:https://synergyhealthworks.com/event/mums-and-bubs-core-class-7/2029-12-27/
LOCATION:Wagga Wagga | Mat Studio\, 221 Kincaid Street\, Wagga Wagga\, NSW\, 2650\, Australia
CATEGORIES:Mums and Bubs
END:VEVENT
BEGIN:VEVENT
DTSTART;TZID=Australia/Sydney:20291227T130000
DTEND;TZID=Australia/Sydney:20291227T134500
DTSTAMP:20260426T143452
CREATED:20241204T011507Z
LAST-MODIFIED:20250129T031040Z
UID:10111721-1893070800-1893073500@synergyhealthworks.com
SUMMARY:Parkinson's Group Strength
DESCRIPTION:
URL:https://synergyhealthworks.com/event/parkinsons-group-strength-6/2029-12-27/
LOCATION:Wagga Wagga | Mat Studio\, 221 Kincaid Street\, Wagga Wagga\, NSW\, 2650\, Australia
CATEGORIES:Parkinson's Group Strength
END:VEVENT
END:VCALENDAR