BEGIN:VCALENDAR
VERSION:2.0
PRODID:-//Synergy Healthworks - ECPv6.15.20//NONSGML v1.0//EN
CALSCALE:GREGORIAN
METHOD:PUBLISH
X-WR-CALNAME:Synergy Healthworks
X-ORIGINAL-URL:https://synergyhealthworks.com
X-WR-CALDESC:Events for Synergy Healthworks
REFRESH-INTERVAL;VALUE=DURATION:PT1H
X-Robots-Tag:noindex
X-PUBLISHED-TTL:PT1H
BEGIN:VTIMEZONE
TZID:Australia/Sydney
BEGIN:STANDARD
TZOFFSETFROM:+1100
TZOFFSETTO:+1000
TZNAME:AEST
DTSTART:20280401T160000
END:STANDARD
BEGIN:DAYLIGHT
TZOFFSETFROM:+1000
TZOFFSETTO:+1100
TZNAME:AEDT
DTSTART:20280930T160000
END:DAYLIGHT
BEGIN:STANDARD
TZOFFSETFROM:+1100
TZOFFSETTO:+1000
TZNAME:AEST
DTSTART:20290331T160000
END:STANDARD
BEGIN:DAYLIGHT
TZOFFSETFROM:+1000
TZOFFSETTO:+1100
TZNAME:AEDT
DTSTART:20291006T160000
END:DAYLIGHT
BEGIN:STANDARD
TZOFFSETFROM:+1100
TZOFFSETTO:+1000
TZNAME:AEST
DTSTART:20300406T160000
END:STANDARD
BEGIN:DAYLIGHT
TZOFFSETFROM:+1000
TZOFFSETTO:+1100
TZNAME:AEDT
DTSTART:20301005T160000
END:DAYLIGHT
END:VTIMEZONE
BEGIN:VEVENT
DTSTART;TZID=Australia/Sydney:20291126T070000
DTEND;TZID=Australia/Sydney:20291126T074500
DTSTAMP:20260426T103342
CREATED:20250901T033635Z
LAST-MODIFIED:20250901T033635Z
UID:10125323-1890370800-1890373500@synergyhealthworks.com
SUMMARY:Clinical Reformer
DESCRIPTION:
URL:https://synergyhealthworks.com/event/clinical-reformer-62-2/2029-11-26/
LOCATION:Gundagai\, 114 Sheridan Street\, Gundagai\, NSW\, 2722\, Australia
CATEGORIES:Clinical Reformer
END:VEVENT
BEGIN:VEVENT
DTSTART;TZID=Australia/Sydney:20291126T093000
DTEND;TZID=Australia/Sydney:20291126T101500
DTSTAMP:20260426T103342
CREATED:20250901T033248Z
LAST-MODIFIED:20251212T230425Z
UID:10124483-1890379800-1890382500@synergyhealthworks.com
SUMMARY:Clinical Reformer
DESCRIPTION:
URL:https://synergyhealthworks.com/event/clinical-reformer-61/2029-11-26/
LOCATION:Gundagai\, 114 Sheridan Street\, Gundagai\, NSW\, 2722\, Australia
CATEGORIES:Clinical Reformer
END:VEVENT
BEGIN:VEVENT
DTSTART;TZID=Australia/Sydney:20291128T093000
DTEND;TZID=Australia/Sydney:20291128T101500
DTSTAMP:20260426T103342
CREATED:20241204T014501Z
LAST-MODIFIED:20250618T063327Z
UID:10119560-1890552600-1890555300@synergyhealthworks.com
SUMMARY:Clinical Reformer
DESCRIPTION:
URL:https://synergyhealthworks.com/event/clinical-reformer-47/2029-11-28/
LOCATION:Wagga Wagga | Reformer Studio\, 221 Kincaid Street\, Wagga Wagga\, NSW\, 2650\, Australia
CATEGORIES:Clinical Reformer
END:VEVENT
BEGIN:VEVENT
DTSTART;TZID=Australia/Sydney:20291128T161500
DTEND;TZID=Australia/Sydney:20291128T170000
DTSTAMP:20260426T103342
CREATED:20241204T014718Z
LAST-MODIFIED:20250129T031835Z
UID:10099993-1890576900-1890579600@synergyhealthworks.com
SUMMARY:Clinical Reformer
DESCRIPTION:
URL:https://synergyhealthworks.com/event/clinical-reformer-49/2029-11-28/
LOCATION:Wagga Wagga | Reformer Studio\, 221 Kincaid Street\, Wagga Wagga\, NSW\, 2650\, Australia
CATEGORIES:Clinical Reformer
END:VEVENT
BEGIN:VEVENT
DTSTART;TZID=Australia/Sydney:20291129T110000
DTEND;TZID=Australia/Sydney:20291129T114500
DTSTAMP:20260426T103342
CREATED:20241204T011425Z
LAST-MODIFIED:20251204T222714Z
UID:10128935-1890644400-1890647100@synergyhealthworks.com
SUMMARY:Mums and Bubs Core Class
DESCRIPTION:
URL:https://synergyhealthworks.com/event/mums-and-bubs-core-class-7/2029-11-29/
LOCATION:Wagga Wagga | Mat Studio\, 221 Kincaid Street\, Wagga Wagga\, NSW\, 2650\, Australia
CATEGORIES:Mums and Bubs
END:VEVENT
BEGIN:VEVENT
DTSTART;TZID=Australia/Sydney:20291129T130000
DTEND;TZID=Australia/Sydney:20291129T134500
DTSTAMP:20260426T103342
CREATED:20241204T011507Z
LAST-MODIFIED:20250129T031040Z
UID:10092695-1890651600-1890654300@synergyhealthworks.com
SUMMARY:Parkinson's Group Strength
DESCRIPTION:
URL:https://synergyhealthworks.com/event/parkinsons-group-strength-6/2029-11-29/
LOCATION:Wagga Wagga | Mat Studio\, 221 Kincaid Street\, Wagga Wagga\, NSW\, 2650\, Australia
CATEGORIES:Parkinson's Group Strength
END:VEVENT
BEGIN:VEVENT
DTSTART;TZID=Australia/Sydney:20291129T161500
DTEND;TZID=Australia/Sydney:20291129T170000
DTSTAMP:20260426T103342
CREATED:20241204T015701Z
LAST-MODIFIED:20250129T032111Z
UID:10102503-1890663300-1890666000@synergyhealthworks.com
SUMMARY:Clinical Reformer
DESCRIPTION:
URL:https://synergyhealthworks.com/event/clinical-reformer-55/2029-11-29/
LOCATION:Wagga Wagga | Reformer Studio\, 221 Kincaid Street\, Wagga Wagga\, NSW\, 2650\, Australia
CATEGORIES:Clinical Reformer
END:VEVENT
BEGIN:VEVENT
DTSTART;TZID=Australia/Sydney:20291129T171500
DTEND;TZID=Australia/Sydney:20291129T180000
DTSTAMP:20260426T103342
CREATED:20241204T015723Z
LAST-MODIFIED:20250129T032120Z
UID:10102754-1890666900-1890669600@synergyhealthworks.com
SUMMARY:Clinical Reformer
DESCRIPTION:
URL:https://synergyhealthworks.com/event/clinical-reformer-56/2029-11-29/
LOCATION:Wagga Wagga | Reformer Studio\, 221 Kincaid Street\, Wagga Wagga\, NSW\, 2650\, Australia
CATEGORIES:Clinical Reformer
END:VEVENT
BEGIN:VEVENT
DTSTART;TZID=Australia/Sydney:20291129T181500
DTEND;TZID=Australia/Sydney:20291129T190000
DTSTAMP:20260426T103342
CREATED:20241204T015828Z
LAST-MODIFIED:20250914T095556Z
UID:10103005-1890670500-1890673200@synergyhealthworks.com
SUMMARY:Clinical Reformer
DESCRIPTION:
URL:https://synergyhealthworks.com/event/clinical-reformer-57/2029-11-29/
LOCATION:Wagga Wagga | Reformer Studio\, 221 Kincaid Street\, Wagga Wagga\, NSW\, 2650\, Australia
CATEGORIES:Clinical Reformer
END:VEVENT
BEGIN:VEVENT
DTSTART;TZID=Australia/Sydney:20291130T070000
DTEND;TZID=Australia/Sydney:20291130T074500
DTSTAMP:20260426T103342
CREATED:20241204T020111Z
LAST-MODIFIED:20251123T222717Z
UID:10103507-1890716400-1890719100@synergyhealthworks.com
SUMMARY:Clinical Reformer
DESCRIPTION:
URL:https://synergyhealthworks.com/event/clinical-reformer-59/2029-11-30/
LOCATION:Wagga Wagga | Reformer Studio\, 221 Kincaid Street\, Wagga Wagga\, NSW\, 2650\, Australia
CATEGORIES:Clinical Reformer
END:VEVENT
BEGIN:VEVENT
DTSTART;TZID=Australia/Sydney:20291130T090000
DTEND;TZID=Australia/Sydney:20291130T094500
DTSTAMP:20260426T103342
CREATED:20241204T011816Z
LAST-MODIFIED:20250129T031139Z
UID:10093448-1890723600-1890726300@synergyhealthworks.com
SUMMARY:Matwork Core Class
DESCRIPTION:
URL:https://synergyhealthworks.com/event/matwork-core-class-16/2029-11-30/
LOCATION:Wagga Wagga | Mat Studio\, 221 Kincaid Street\, Wagga Wagga\, NSW\, 2650\, Australia
CATEGORIES:Matwork
END:VEVENT
BEGIN:VEVENT
DTSTART;TZID=Australia/Sydney:20291130T110000
DTEND;TZID=Australia/Sydney:20291130T114500
DTSTAMP:20260426T103342
CREATED:20241204T020337Z
LAST-MODIFIED:20251123T222821Z
UID:10104009-1890730800-1890733500@synergyhealthworks.com
SUMMARY:Mums and Bubs Reformer
DESCRIPTION:
URL:https://synergyhealthworks.com/event/mums-and-bubs-reformer-6/2029-11-30/
LOCATION:Wagga Wagga | Reformer Studio\, 221 Kincaid Street\, Wagga Wagga\, NSW\, 2650\, Australia
CATEGORIES:Mums and Bubs
END:VEVENT
BEGIN:VEVENT
DTSTART;TZID=Australia/Sydney:20291203T070000
DTEND;TZID=Australia/Sydney:20291203T074500
DTSTAMP:20260426T103342
CREATED:20250901T033635Z
LAST-MODIFIED:20250901T033635Z
UID:10125324-1890975600-1890978300@synergyhealthworks.com
SUMMARY:Clinical Reformer
DESCRIPTION:
URL:https://synergyhealthworks.com/event/clinical-reformer-62-2/2029-12-03/
LOCATION:Gundagai\, 114 Sheridan Street\, Gundagai\, NSW\, 2722\, Australia
CATEGORIES:Clinical Reformer
END:VEVENT
BEGIN:VEVENT
DTSTART;TZID=Australia/Sydney:20291203T093000
DTEND;TZID=Australia/Sydney:20291203T101500
DTSTAMP:20260426T103342
CREATED:20250901T033248Z
LAST-MODIFIED:20251212T230425Z
UID:10124484-1890984600-1890987300@synergyhealthworks.com
SUMMARY:Clinical Reformer
DESCRIPTION:
URL:https://synergyhealthworks.com/event/clinical-reformer-61/2029-12-03/
LOCATION:Gundagai\, 114 Sheridan Street\, Gundagai\, NSW\, 2722\, Australia
CATEGORIES:Clinical Reformer
END:VEVENT
BEGIN:VEVENT
DTSTART;TZID=Australia/Sydney:20291205T093000
DTEND;TZID=Australia/Sydney:20291205T101500
DTSTAMP:20260426T103342
CREATED:20241204T014501Z
LAST-MODIFIED:20250618T063327Z
UID:10119561-1891157400-1891160100@synergyhealthworks.com
SUMMARY:Clinical Reformer
DESCRIPTION:
URL:https://synergyhealthworks.com/event/clinical-reformer-47/2029-12-05/
LOCATION:Wagga Wagga | Reformer Studio\, 221 Kincaid Street\, Wagga Wagga\, NSW\, 2650\, Australia
CATEGORIES:Clinical Reformer
END:VEVENT
BEGIN:VEVENT
DTSTART;TZID=Australia/Sydney:20291205T161500
DTEND;TZID=Australia/Sydney:20291205T170000
DTSTAMP:20260426T103342
CREATED:20241204T014718Z
LAST-MODIFIED:20250129T031835Z
UID:10111929-1891181700-1891184400@synergyhealthworks.com
SUMMARY:Clinical Reformer
DESCRIPTION:
URL:https://synergyhealthworks.com/event/clinical-reformer-49/2029-12-05/
LOCATION:Wagga Wagga | Reformer Studio\, 221 Kincaid Street\, Wagga Wagga\, NSW\, 2650\, Australia
CATEGORIES:Clinical Reformer
END:VEVENT
BEGIN:VEVENT
DTSTART;TZID=Australia/Sydney:20291206T110000
DTEND;TZID=Australia/Sydney:20291206T114500
DTSTAMP:20260426T103342
CREATED:20241204T011425Z
LAST-MODIFIED:20251204T222714Z
UID:10128936-1891249200-1891251900@synergyhealthworks.com
SUMMARY:Mums and Bubs Core Class
DESCRIPTION:
URL:https://synergyhealthworks.com/event/mums-and-bubs-core-class-7/2029-12-06/
LOCATION:Wagga Wagga | Mat Studio\, 221 Kincaid Street\, Wagga Wagga\, NSW\, 2650\, Australia
CATEGORIES:Mums and Bubs
END:VEVENT
BEGIN:VEVENT
DTSTART;TZID=Australia/Sydney:20291206T130000
DTEND;TZID=Australia/Sydney:20291206T134500
DTSTAMP:20260426T103342
CREATED:20241204T011507Z
LAST-MODIFIED:20250129T031040Z
UID:10111718-1891256400-1891259100@synergyhealthworks.com
SUMMARY:Parkinson's Group Strength
DESCRIPTION:
URL:https://synergyhealthworks.com/event/parkinsons-group-strength-6/2029-12-06/
LOCATION:Wagga Wagga | Mat Studio\, 221 Kincaid Street\, Wagga Wagga\, NSW\, 2650\, Australia
CATEGORIES:Parkinson's Group Strength
END:VEVENT
BEGIN:VEVENT
DTSTART;TZID=Australia/Sydney:20291206T161500
DTEND;TZID=Australia/Sydney:20291206T170000
DTSTAMP:20260426T103342
CREATED:20241204T015701Z
LAST-MODIFIED:20250129T032111Z
UID:10112009-1891268100-1891270800@synergyhealthworks.com
SUMMARY:Clinical Reformer
DESCRIPTION:
URL:https://synergyhealthworks.com/event/clinical-reformer-55/2029-12-06/
LOCATION:Wagga Wagga | Reformer Studio\, 221 Kincaid Street\, Wagga Wagga\, NSW\, 2650\, Australia
CATEGORIES:Clinical Reformer
END:VEVENT
BEGIN:VEVENT
DTSTART;TZID=Australia/Sydney:20291206T171500
DTEND;TZID=Australia/Sydney:20291206T180000
DTSTAMP:20260426T103342
CREATED:20241204T015723Z
LAST-MODIFIED:20250129T032120Z
UID:10112017-1891271700-1891274400@synergyhealthworks.com
SUMMARY:Clinical Reformer
DESCRIPTION:
URL:https://synergyhealthworks.com/event/clinical-reformer-56/2029-12-06/
LOCATION:Wagga Wagga | Reformer Studio\, 221 Kincaid Street\, Wagga Wagga\, NSW\, 2650\, Australia
CATEGORIES:Clinical Reformer
END:VEVENT
BEGIN:VEVENT
DTSTART;TZID=Australia/Sydney:20291206T181500
DTEND;TZID=Australia/Sydney:20291206T190000
DTSTAMP:20260426T103342
CREATED:20241204T015828Z
LAST-MODIFIED:20250914T095556Z
UID:10112025-1891275300-1891278000@synergyhealthworks.com
SUMMARY:Clinical Reformer
DESCRIPTION:
URL:https://synergyhealthworks.com/event/clinical-reformer-57/2029-12-06/
LOCATION:Wagga Wagga | Reformer Studio\, 221 Kincaid Street\, Wagga Wagga\, NSW\, 2650\, Australia
CATEGORIES:Clinical Reformer
END:VEVENT
BEGIN:VEVENT
DTSTART;TZID=Australia/Sydney:20291207T070000
DTEND;TZID=Australia/Sydney:20291207T074500
DTSTAMP:20260426T103342
CREATED:20241204T020111Z
LAST-MODIFIED:20251123T222717Z
UID:10128490-1891321200-1891323900@synergyhealthworks.com
SUMMARY:Clinical Reformer
DESCRIPTION:
URL:https://synergyhealthworks.com/event/clinical-reformer-59/2029-12-07/
LOCATION:Wagga Wagga | Reformer Studio\, 221 Kincaid Street\, Wagga Wagga\, NSW\, 2650\, Australia
CATEGORIES:Clinical Reformer
END:VEVENT
BEGIN:VEVENT
DTSTART;TZID=Australia/Sydney:20291207T090000
DTEND;TZID=Australia/Sydney:20291207T094500
DTSTAMP:20260426T103342
CREATED:20241204T011816Z
LAST-MODIFIED:20250129T031139Z
UID:10111741-1891328400-1891331100@synergyhealthworks.com
SUMMARY:Matwork Core Class
DESCRIPTION:
URL:https://synergyhealthworks.com/event/matwork-core-class-16/2029-12-07/
LOCATION:Wagga Wagga | Mat Studio\, 221 Kincaid Street\, Wagga Wagga\, NSW\, 2650\, Australia
CATEGORIES:Matwork
END:VEVENT
BEGIN:VEVENT
DTSTART;TZID=Australia/Sydney:20291207T110000
DTEND;TZID=Australia/Sydney:20291207T114500
DTSTAMP:20260426T103342
CREATED:20241204T020337Z
LAST-MODIFIED:20251123T222821Z
UID:10128541-1891335600-1891338300@synergyhealthworks.com
SUMMARY:Mums and Bubs Reformer
DESCRIPTION:
URL:https://synergyhealthworks.com/event/mums-and-bubs-reformer-6/2029-12-07/
LOCATION:Wagga Wagga | Reformer Studio\, 221 Kincaid Street\, Wagga Wagga\, NSW\, 2650\, Australia
CATEGORIES:Mums and Bubs
END:VEVENT
BEGIN:VEVENT
DTSTART;TZID=Australia/Sydney:20291210T070000
DTEND;TZID=Australia/Sydney:20291210T074500
DTSTAMP:20260426T103342
CREATED:20250901T033635Z
LAST-MODIFIED:20250901T033635Z
UID:10125325-1891580400-1891583100@synergyhealthworks.com
SUMMARY:Clinical Reformer
DESCRIPTION:
URL:https://synergyhealthworks.com/event/clinical-reformer-62-2/2029-12-10/
LOCATION:Gundagai\, 114 Sheridan Street\, Gundagai\, NSW\, 2722\, Australia
CATEGORIES:Clinical Reformer
END:VEVENT
BEGIN:VEVENT
DTSTART;TZID=Australia/Sydney:20291210T093000
DTEND;TZID=Australia/Sydney:20291210T101500
DTSTAMP:20260426T103342
CREATED:20250901T033248Z
LAST-MODIFIED:20251212T230425Z
UID:10124485-1891589400-1891592100@synergyhealthworks.com
SUMMARY:Clinical Reformer
DESCRIPTION:
URL:https://synergyhealthworks.com/event/clinical-reformer-61/2029-12-10/
LOCATION:Gundagai\, 114 Sheridan Street\, Gundagai\, NSW\, 2722\, Australia
CATEGORIES:Clinical Reformer
END:VEVENT
BEGIN:VEVENT
DTSTART;TZID=Australia/Sydney:20291212T093000
DTEND;TZID=Australia/Sydney:20291212T101500
DTSTAMP:20260426T103342
CREATED:20241204T014501Z
LAST-MODIFIED:20250618T063327Z
UID:10119562-1891762200-1891764900@synergyhealthworks.com
SUMMARY:Clinical Reformer
DESCRIPTION:
URL:https://synergyhealthworks.com/event/clinical-reformer-47/2029-12-12/
LOCATION:Wagga Wagga | Reformer Studio\, 221 Kincaid Street\, Wagga Wagga\, NSW\, 2650\, Australia
CATEGORIES:Clinical Reformer
END:VEVENT
BEGIN:VEVENT
DTSTART;TZID=Australia/Sydney:20291212T161500
DTEND;TZID=Australia/Sydney:20291212T170000
DTSTAMP:20260426T103342
CREATED:20241204T014718Z
LAST-MODIFIED:20250129T031835Z
UID:10111930-1891786500-1891789200@synergyhealthworks.com
SUMMARY:Clinical Reformer
DESCRIPTION:
URL:https://synergyhealthworks.com/event/clinical-reformer-49/2029-12-12/
LOCATION:Wagga Wagga | Reformer Studio\, 221 Kincaid Street\, Wagga Wagga\, NSW\, 2650\, Australia
CATEGORIES:Clinical Reformer
END:VEVENT
BEGIN:VEVENT
DTSTART;TZID=Australia/Sydney:20291213T110000
DTEND;TZID=Australia/Sydney:20291213T114500
DTSTAMP:20260426T103342
CREATED:20241204T011425Z
LAST-MODIFIED:20251204T222714Z
UID:10128937-1891854000-1891856700@synergyhealthworks.com
SUMMARY:Mums and Bubs Core Class
DESCRIPTION:
URL:https://synergyhealthworks.com/event/mums-and-bubs-core-class-7/2029-12-13/
LOCATION:Wagga Wagga | Mat Studio\, 221 Kincaid Street\, Wagga Wagga\, NSW\, 2650\, Australia
CATEGORIES:Mums and Bubs
END:VEVENT
BEGIN:VEVENT
DTSTART;TZID=Australia/Sydney:20291213T130000
DTEND;TZID=Australia/Sydney:20291213T134500
DTSTAMP:20260426T103342
CREATED:20241204T011507Z
LAST-MODIFIED:20250129T031040Z
UID:10111719-1891861200-1891863900@synergyhealthworks.com
SUMMARY:Parkinson's Group Strength
DESCRIPTION:
URL:https://synergyhealthworks.com/event/parkinsons-group-strength-6/2029-12-13/
LOCATION:Wagga Wagga | Mat Studio\, 221 Kincaid Street\, Wagga Wagga\, NSW\, 2650\, Australia
CATEGORIES:Parkinson's Group Strength
END:VEVENT
END:VCALENDAR